{"text_format":"1","workbook":"xlsx","n_sheets":5,"sheets":["макросы","СВОДНАЯ","Ошибки","Ошибки подгрузки","Списки"],"not_rendered":{"charts":0,"images":0,"macros":1,"external_links":0,"defined_names":13,"comments":0,"pivot_tables":0},"unopened":[],"bounds":{"document_bytes":16777216,"sheet_cells":100000,"rows_first":2000,"rows_last":500,"rows_between":2000,"halvings":0,"cell_chars":16384,"cell_head_chars":4096},"cells_cut":0,"cells_raw":0,"read":"whole","date_system":"1900"}

{"sheet":"макросы","index":0,"n_rows":38,"n_cols":2,"rows_kept":38,"cut":false,"hidden":false,"merged":[]}
["Дата, время загрузки проектной документации в облачное хранилище:","2020-12-31T23:59:00"]
[]
["Как пользоваться этим файлом."]
["Один файл - это проекты одного субъекта РФ."]
["Все проекты субъекта РФ располагаются на одном листе \"СВОДНАЯ\"."]
["Вбивать информацию требуется в желтые ячейки."]
["Другие ячейки заблокированы для изменений, вычисления проводятся автоматически."]
["Файл может содержать до 200 проектов, вводить их следует подряд."]
["Один проект может содержать до 20 мероприятий."]
[]
["Макросы"]
["Некоторые функции данного шаблона реализованы с помощью макросов."]
["Чтобы иметь возможность пользоваться макросами, их надо разрешить."]
["Либо в соответствующем сообщении при открытии файла."]
["Либо в параметрах Excel по управлению безопасностью, Параметры макросов."]
["Чтобы запустить макрос, надо вызвать соответствующее окно: Alt+F8"]
["!Важно. Не удалять и не переименовывать листы \"Сводная\", \"Ошибки\", \"Ошибки подгрузки\""]
[]
["Упрощенная процедура перевода старого формата заполнения в новый"]
["макрос: ПодгрузитьСтарыеДанные"]
["Выполнение макроса позволяет перенести из открытого файла со старым форматом внести данные в данный файл."]
["Так как все доступные данные переносятся из старого формата, рекомендуется начать работу с данного макроса."]
["Запуск макроса предварительно удалит всю имеющуюся информацию в данном файле (\"С чистого листа\")"]
["По результату работы макроса в старом формате могут быть обнаружены недопустимые ошибки."]
["Ошибки отразятся на листе \"Ошибки подгрузки\""]
["!Важно. Новый формат требует ввода данных по некоторым столбцам, которых не было в старом варианте."]
[]
["Организация контроля ввода данных"]
["макрос: ПроверкаЗаполнения"]
["Минсельхоз России осуществляет форматно-логический контроль ввода данных."]
["Часть этой работы делается автоматизировано через указанный макрос."]
["!Настоятельно рекомендуется запускать этот макрос до отправки данных в МСХ."]
["В случае наличия ошибок, они отразятся на листе \"Ошибки\""]
["После правок необходимо снова запустить макрос и т.д., до полного устранения ошибок."]
[]
["Устранение блокировки желтых ячеек"]
["макрос: СнятьЗащитуСЖелтыхЯчеек"]
["В случае, если по какой-то причине ввод данных в указанные ячейки заблокированы."]

{"sheet":"СВОДНАЯ","index":1,"n_rows":4406,"n_cols":102,"rows_kept":562,"cut":true,"hidden":false,"merged":[[1,0,4,0],[1,1,4,1],[1,2,4,2],[1,3,1,9],[1,10,1,70],[1,71,1,94],[1,95,1,99],[1,100,4,100],[1,101,4,101],[2,3,4,3],[2,4,4,4],[2,5,4,5],[2,6,4,6],[2,7,4,7],[2,8,2,9],[2,10,4,10],[2,11,4,11],[2,12,4,12],[2,13,3,14],[2,15,4,15],[2,16,2,20],[2,21,2,25],[2,26,2,29],[2,30,2,32],[2,33,2,47],[2,48,3,49],[2,50,2,53],[2,54,2,70],[2,71,2,73],[2,74,2,76],[2,77,2,79],[2,80,2,82],[2,83,2,85],[2,86,2,88],[2,89,2,91],[2,92,2,94],[2,96,2,98],[3,8,4,8],[3,9,4,9],[3,16,4,16],[3,17,4,17],[3,18,4,18],[3,19,4,19],[3,20,4,20],[3,21,4,21],[3,22,4,22],[3,23,4,23],[3,24,4,24],[3,25,4,25],[3,26,3,27],[3,28,3,29],[3,30,4,30],[3,31,4,31],[3,32,4,32],[3,33,3,37],[3,38,3,42],[3,43,3,47],[3,50,4,50],[3,51,4,51],[3,52,4,52],[3,53,4,53],[3,54,3,56],[3,57,3,59],[3,60,3,62],[3,63,3,67],[3,68,3,70],[3,71,3,73],[3,74,3,76],[3,77,3,79],[3,80,3,82],[3,83,3,85],[3,86,3,88],[3,89,3,91],[3,92,3,94],[3,96,3,98]],"bounds":{"rows_first":250,"rows_last":62,"rows_between":250,"halvings":3}}
[1,2,3,4,5,6,7,8,9,10,11,12,13,14,15,16,17,18,19,20,21,22,23,24,25,26,27,28,29,30,31,32,33,34,35,36,37,38,39,40,41,42,43,44,45,46,47,48,49,50,51,52,53,54,55,56,57,58,59,60,61,62,63,64,65,66,67,68,69,70,71,72,73,74,75,76,77,78,79,80,81,82,83,84,85,86,87,88,89,90,91,92,93,94,95,96,97,98,99,100,101,102]
["№ п/п проекта в субъекте РФ","Код проекта","№ п/п мероприятия в проекте","ХАРАКТЕРИСТИКА ТЕРРИТОРИИ РЕАЛИЗАЦИИ ПРОЕКТА",null,null,null,null,null,null,"ХАРАКТЕРИСТИКА ПРОЕКТА КРСТ",null,null,null,null,null,null,null,null,null,null,null,null,null,null,null,null,null,null,null,null,null,null,null,null,null,null,null,null,null,null,null,null,null,null,null,null,null,null,null,null,null,null,null,null,null,null,null,null,null,null,null,null,null,null,null,null,null,null,null,null,"КРИТЕРИИ РЕАЛИЗУЕМОСТИ",null,null,null,null,null,null,null,null,null,null,null,null,null,null,null,null,null,null,null,null,null,null,null,"КРИТЕРИИ ЦЕННОСТИ",null,null,null,null,"РЕЗУЛЬТАТ (количество баллов, присвоенное проекту)","ФО"]
[null,null,null,"Наименование субъекта Российской Федерации","Наименование проекта","Реализация проекта на территории сельской агломерации  (ДА/НЕТ)","Наименование муниципального образования","ОКТМО","Населенный пункт",null,"Наименование мероприятий","Вид работ в составе мероприятия","Вид объекта в составе мероприятия","Показатели, характеризующие объекты и оборудование в составе мероприятия",null,"Отраслевое направление мероприятия","Период реализации проекта КРСТ",null,null,null,null,"Сведения о проектной документации (ПД)",null,null,null,null,"Сведения о положительных заключениях государственной экспертизы (ГЭ) на проектную документацию (ПД) и на достоверность определения сметной стоимости (ДОСМ)",null,null,null,"Заключение ФОИВ",null,null,"Финансовое обеспечение за период реализации проекта КРСТ",null,null,null,null,null,null,null,null,null,null,null,null,null,null,"Фактический объем финансирования за 2 года,  предшествующих году начала реализации проекта понесенный на разработку ПСД, экспертизы и строительства\n(тыс. рублей)",null,"2021-2023 годы\n(тыс. рублей)",null,null,null,"основные параметры проекта",null,null,null,null,null,null,null,null,null,null,null,null,null,null,null,null,"а1) Доля планируемых внебюджетных средств в общей стоимости проекта комплексного развития сельских территорий (сельских агломераций)                                                                                                                              (Pip)",null,null,"а2) Доля фактически израсходованных в течение 2-х лет, предшествующих году начала реализации проекта, средств из внебюджетных источников на разработку ПСД и экспертизы в общей стоимости проекта                                                           (Pif)",null,null,"б) Продолжительность достижения планируемых результатов реализации проекта комплексного развития сельских территорий (сельских агломераций)                                                                                                                        (Z)",null,null,"в) Доля жителей сельских территорий (сельских агломераций), где планируется реализация проекта комплексного развития сельских территорий (сельских агломераций), поддержавших целесообразность его реализации, по итогам общественного обсуждения в общей численности жителей сельских территорий (сельских агломераций)\n (Wtd)",null,null,"г) Уровень занятости населения, проживающего на сельских территориях (сельских агломерациях), где планируется реализация проекта комплексного развития сельских территорий (сельских агломераций), к общей численности экономически активного населения                                                                                                                   (E)",null,null,"д) Доля трудоспособного населения в общей численности населения сельских территорий (сельских агломераций), где планируется реализация проекта комплексного развития сельских территорий (сельских агломераций)                                                                                                           (K)",null,null,"е) Доля прироста постоянных рабочих мест, планируемых к созданию на сельских территориях (сельских агломерациях) в период реализации государственной программы, к общей численности экономически активного населения                                                                                      (Nwp)",null,null,"ж) Отношение среднемесячных располагаемых ресурсов (доходов) домохозяйств на сельских территориях (сельских агломерациях), где планируется реализация проекта комплексного развития сельских территорий (сельских агломераций) к среднемесячным располагаемым ресурсам (доходам) городских домохозяйств соответствующего субъекта Российской Федерации                                                                                     (Sd)",null,null,"Вклад проектов комплексного развития сельских территорий (сельских агломераций) в сохранение доли сельского населения в общей численности населения Российской Федерации на уровне не менее 25,3% в 2025 году                                                                                          (DCp)","Вклад проектов комплексного развития сельских территорий (сельских агломераций) в достижение соотношения среднемесячных располагаемых ресурсов сельских и городских домохозяйств до 80% в 2025 году                                                                                                                                 (DCr)",null,null,"Вклад мероприятий, входящих в состав проектов комплексного развития сельских территорий (сельских агломераций), в повышение доли общей площади благоустроенных жилых помещений в сельских населенных пунктах до 50% в 2025 году                                                                                                                                         (DCb)"]
[null,null,null,null,null,null,null,null,"Вид","Наименование",null,null,null,null,null,null,"Год начала реализации мероприятий","Год завершения реализации мероприятий","Продолжительность реализации мероприятий (годы)","Отношение территории реализации мероприятий к районам Кр.Севера и Арктической зоне                                             (да - 0,5/ нет - 1)","Скорректированный срок реализации меропритий\n(с учтом Кр. Севера)\n(годы)","ПД предоставлена в составе заявочной документации (ДА/НЕТ)","Реквизиты ПД","Реквизиты решения Минстроя России о признании ПД экономически эффективной","ПД подготовлена на основе типовой экономически эффективной ПД (ДА/НЕТ)","Реквизиты типовой экономически эффективной ПД","на ПД",null,"на ДОСМ",null,"Предоставлено (ДА/НЕТ)","Положительное (ДА/НЕТ)","Реквизиты","Объем финансирования на 2021 год (тыс. рублей)",null,null,null,null,"Объем финансирования на 2022 год (тыс. рублей)",null,null,null,null,"Объем финансирования на 2023 год (тыс. рублей)",null,null,null,null,null,null,"Общий объем финансирования проекта за период реализации","Общий объем финансирования проекта за период реализации за счет внебюджетных источников","Доля планируемых внебюджетных средств в общем объеме финансирования проекта, ед.","Доля фактически профинансированных за счет внебюджетных средств расходов на разработку ПСД, экспертизы и строительство за 2 года, предшествующие году начала реализации проекта в общем объеме финансирования проекта с учетом этих средств, ед. ","Уровень занятости экономически активного населения",null,null,"Уровень поддержки проекта среди жителей ",null,null,"Уровень трудоспособного населения",null,null,"Планируемое создание новых постоянных рабочих мест (ед.)",null,null,null,null,"Среднемесячные располагаемые ресурсы (доходы) сельского и городского домохозяйств",null,null,"- менее 0,01 ед. - 0 баллов;\n- за каждые 0,01 ед. - 1 балл;\n- от 0,1 ед. и более 10 баллов.\n",null,null,"- менее 0,01 ед. - 0 баллов;\n- за каждые 0,01 ед. - 1 балл;\n- от 0,1 ед. и более 10 баллов.\n",null,null,"- длительность 1 год - 9 баллов;\n- длительность 2 года - 6 баллов;\n- длительность 3 года - 3 балла; \n- длительность более 3 лет - 0 баллов;\n",null,null," - менее 0,51 ед. - 0 баллов;\n - от 0,51 ед. до 1 ед. - 10 баллов.\n",null,null," - менее 0,1 ед. - 0 баллов;                                                                                          - за каждые 0,1 ед. - 1 балл;\n - от 0,9 ед. до 1 ед. - 10 баллов.\n",null,null," - менее 0,1 ед. - 0 баллов;                                                                                          - за каждые 0,1 ед. - 1 балл;\n - от 0,6 ед. до 1 ед. - 10 баллов.\n",null,null," - менее 0,05 ед. - 0 баллов;\n- от 0,05 до 0,09 - 1 балл;\n - от 0,1 ед. и более - 10 баллов.\n",null,null," - менее 0,1 ед. - 0 баллов;                                                                                          - за каждые 0,1 ед. - 1 балл;\n - от 0,8 ед. и более - 10 баллов.\n",null,null,"70 баллов – для вида работ «создание», «расширение», «внедрение»\n40 балла – для вида работ «строительство»\n30 балла – для вида работ «реконструкция»\n20 балла – для вида работ «капремонт»\n10 балл – для вида работ «приобретение», «установка»","при значении в столбце 51 от 1 до 10 – 10 балл\nпри значении в столбце 51 от 11 до 50 – 20 балла\nпри значении в столбце 51 от 51 до 100 – 50 баллов\nпри значении в столбце 51 от 101 до 200 – 70 баллов\nпри значении в столбце 51 от 201 до 300 – 90 баллов\nпри значении в столбце 51 от 301 и более – 130 баллов\nПри значении в столбце 11 \"коммунальная структура\" присваивается:\n30 балла – если значение в столбце 9 «строительство»\n20 балла – если значение в столбце 9  «реконструкция»\n10 балла – если значение в столбце 9 «капремонт»",null,null,"При значении в столбце 11 \"коммунальная структура\" присваивается:\n40 балла – если значение в столбце 9 «строительство»\n20 балла – если значение в столбце 9  «реконструкция»\n20 балла – если значение в столбце 9 «капремонт»"]
[null,null,null,null,null,null,null,null,null,null,null,null,null,"Наименование показателей","Значение показателей",null,null,null,null,null,null,null,null,null,null,null,"Заключение предоставлено в составе заявочной документации (ДА/НЕТ)","Реквизиты заключения ГЭ на ПД","Заключение предоставлено в составе заявочной документации (ДА/НЕТ)","Реквизиты заключения ГЭ на ПД",null,null,null,"Всего","федеральный бюджет","бюджет субъекта Российской Федерации","местный бюджет","внебюджетные источники","всего","федеральный бюджет","бюджет субъекта Российской Федерации","местный бюджет","внебюджетные источники","всего","федеральный бюджет","бюджет субъекта Российской Федерации","местный бюджет","внебюджетные источники","за счет бюджетных ассигнований","за счет внебюджетных источников",null,null,null,null,"Численность экономически активного населения (чел.)                                                     ","Численность занятого населения (чел.)","Доля занятого населения в численности экономического активного населения (ед.)","Численность населения возрастом от 16 лет (чел.)","Численность населения в возрасте от 16 лет, поддержавших проект, чел.","Доля населения в возрасте от 16 лет, поддержавших проект в общей численности населения от 16 лет (ед.)","Общая численность населения (чел.)","Численность трудоспособного населения (чел.)","Доля трудоспособного населения в общей численности населения (ед.)","В рамках реализации проекта","В рамках реализации инвестиционных проектов, находящихся в стадии реализации","В рамках планируемых инвестиционных проектов, реализация которых начнется в первый год реализации проекта","Группа                                                (1 - до 10, 2 - до 50, 3 - до 100, 4 - до 200, 5 - до 300, 6 - свыше 300)","Отношение количества вновь созданных постоянных рабочих мест к численности экономического активного населения (ед.)","Среднемесячные располагаемые ресурсы (доходы) домохозяйств на территории реализации проекта (тыс. рублей)","Среднемесячные располагаемые ресурсы (доходы) городских домохозяйств на территории соответствующего субъекта РФ (тыс. рублей)","Соотношение среднемесячных располагаемых ресурсов (доходов) сельского и городского домохозяйств (ед.)","Количество баллов\n(в зависимости от значения в столбце № 53)","Весовой коэффициент","Количество баллов (Mpip)","Количество баллов\n(в зависимости от значения в столбце № 54)","Весовой коэффициент","Количество баллов (Mpif)","Количество баллов \n(в зависимости от значения в столбце № 21)","Весовой коэффициент","Количество баллов (Mz)","Количество баллов\n(в зависимости от значения в столбце № 60)","Весовой коэффициент","Количество баллов (Mwtd)","Количество баллов\n(в зависимости от значения в столбце № 57)","Весовой коэффициент","Количество баллов (Me)","Количество баллов\n(в зависимости от значения в столбце № 63)","Весовой коэффициент","Количество баллов (Mk)","Количество баллов\n(в зависимости от значения в столбце № 68)","Весовой коэффициент","Количество баллов (MNwp)","Количество баллов\n(в зависимости от значения в столбце № 71)","Весовой коэффициент","Количество баллов\n(MSgd)","Количество баллов\n (в зависимости от значения в столбце № 12)","DCrr баллы (новые рабочие места)\n(в зависимости от значения\n в столбце № 64-66)","DCrb баллы (на коммунальную инфраструктуру)\n(в зависимости от значения в столбцах № 12 и № 16)","Количество баллов\n(DCr)","Количество баллов\n(в зависимости от значения в столбцах № 12 и № 16)"]
[1,2,3,4,5,6,7,8,9,10,11,12,13,14,15,16,17,18,19,20,21,22,23,24,25,26,27,28,29,30,31,32,33,34,35,36,37,38,39,40,41,42,43,44,45,46,47,48,49,50,51,52,53,54,55,56,57,58,59,60,61,62,63,64,65,66,67,68,69,70,71,72,73,74,75,76,77,78,79,80,81,82,83,84,85,86,87,88,89,90,91,92,93,94,95,96,97,98,99,100,101,102]
[1,null,{"$f":"COUNTA(G8:G28)","v":0},"Приморский край",null,"НЕТ",null,null,null,null,null,null,null,null,null,null,{"$f":"MIN(Q8:Q28)","v":0},{"$f":"MAX(R8:R28)","v":0},{"$f":"MAX(S8:S28)","v":0},null,{"$f":"MAX(U8:U28)","v":0},null,null,null,null,null,{"$f":"IF(COUNTIF(AA8:AA28,\"НЕТ\")>0,\"ПД!\",\"ок\")","v":"ок"},null,{"$f":"IF(COUNTIF(AC8:AC28,\"НЕТ\")>0,\"ДОСМ!\",\"ок\")","v":"ок"},null,{"$f":"IF(COUNTIF(AE8:AE28,\"НЕТ\")>0,\"ФОИВ!\",\"ок\")","v":"ок"},{"$f":"IF(COUNTIF(AF8:AF28,\"НЕТ\")>0,\"ФОИВ!\",\"ок\")","v":"ок"},null,{"$f":"SUM(AH8:AH28)","v":0},{"$f":"SUM(AI8:AI28)","v":0},{"$f":"SUM(AJ8:AJ28)","v":0},{"$f":"SUM(AK8:AK28)","v":0},{"$f":"SUM(AL8:AL28)","v":0},{"$f":"SUM(AM8:AM28)","v":0},{"$f":"SUM(AN8:AN28)","v":0},{"$f":"SUM(AO8:AO28)","v":0},{"$f":"SUM(AP8:AP28)","v":0},{"$f":"SUM(AQ8:AQ28)","v":0},{"$f":"SUM(AR8:AR28)","v":0},{"$f":"SUM(AS8:AS28)","v":0},{"$f":"SUM(AT8:AT28)","v":0},{"$f":"SUM(AU8:AU28)","v":0},{"$f":"SUM(AV8:AV28)","v":0},{"$f":"SUM(AW8:AW28)","v":0},{"$f":"SUM(AX8:AX28)","v":0},{"$f":"SUM(AH7,AM7,AR7)","v":0},{"$f":"AL7+AQ7+AV7","v":0},{"$f":"IF(AY7=0,0,AZ7/AY7)","v":0},{"$f":"IF((AY7+AX7)=0,0,AX7/(AX7+AY7))","v":0},null,null,{"$f":"IFERROR(BD7/BC7,0)","v":0},null,null,{"$f":"IFERROR(BG7/BF7,0)","v":0},null,null,{"$f":"IFERROR(BJ7/BI7,0)","v":0},null,null,null,{"$f":"(SUM(BL7:BN7)>0)*1+(SUM(BL7:BN7)>=10)*1+(SUM(BL7:BN7)>=50)*1+(SUM(BL7:BN7)>=100)*1+(SUM(BL7:BN7)>=200)*1+(SUM(BL7:BN7)>=300)*1","v":0},{"$f":"IFERROR(SUM(BL7:BN7)/BC7,0)","v":0},null,null,{"$f":"IFERROR(BQ7/BR7,0)","v":0},{"$f":"IF(BA7<0.01,0,IF(BA7>=0.1,10,ROUNDDOWN(BA7/0.01,0)))","v":0},8,{"$f":"BT7*BU7","v":0},{"$f":"IF(BB7<0.01,0,IF(BB7>=0.1,10,ROUNDDOWN(BB7/0.01,0)))","v":0},8,{"$f":"BW7*BX7","v":0},{"$f":"IF(U7<=1,9,IF(U7<=2,6,IF(U7<=3,3,0)))*(C7>0)","v":0},6,{"$f":"BZ7*CA7","v":0},{"$f":"IF(BH7<0.51,0,10)","v":0},7,{"$f":"CC7*CD7","v":0},{"$f":"IF(BE7<0.1,0,IF(BE7>=0.9,10,ROUNDDOWN(BE7/0.1,0)))","v":0},10,{"$f":"CF7*CG7","v":0},{"$f":"IF(BK7<0.1,0,IF(BK7>=0.6,10,ROUNDDOWN(BK7/0.1,0)))","v":0},8,{"$f":"CI7*CJ7","v":0},{"$f":"IF(BP7<0.05,0,IF(BP7>=0.1,10,1))","v":0},10,{"$f":"CL7*CM7","v":0},{"$f":"IF(BS7<0.1,0,IF(BS7>=0.8,10,ROUNDDOWN(BS7/0.1,0)))","v":0},10,{"$f":"CP7*CO7","v":0},{"$f":"ROUND(IF(C7=0,0,SUM(CR8:CR28)/C7),1)","v":0},{"$f":"((SUM(BL7:BN7)>=1)*1+(SUM(BL7:BN7)>=11)*1+(SUM(BL7:BN7)>=51)*3+(SUM(BL7:BN7)>=101)*2+(SUM(BL7:BN7)>=201)*2+(SUM(BL7:BN7)>=301)*4)*10","v":0},{"$f":"IFERROR(ROUND(SUM(CT8:CT28)/COUNTIF(P8:P28,\"коммунальная инфраструктура\"),1),0)","v":0},{"$f":"CS7+CT7","v":0},{"$f":"IFERROR(ROUND(SUM(CV8:CV28)/COUNTIF(P8:P28,\"коммунальная инфраструктура\"),1),0)","v":0},{"$f":"SUM(BV7,BY7,CB7,CE7,CH7,CK7,CN7,CQ7,CR7,CU7,CV7)","v":0},{"$f":"VLOOKUP(D7,РегионыФО,2,0)","v":"ДФО"}]
[null,null,1,{"$f":"IF(AND(D7<>\"\",G8<>\"\"),D7,\"\")","v":""},{"$f":"IF(AND(E7<>\"\",G8<>\"\"),E7,\"\")","v":""},null,null,null,null,null,null,null,null,null,null,null,null,null,{"$f":"IF(Q8>=2020,R8-Q8+1,\"\")","v":""},null,{"$f":"IF(Q8>=2020,ROUNDUP(S8*T8,0),\"\")","v":""},null,null,null,null,null,null,null,null,null,null,null,null,{"$f":"SUM(AI8:AL8)","v":0},null,null,null,null,{"$f":"SUM(AN8:AQ8)","v":0},null,null,null,null,{"$f":"SUM(AS8:AV8)","v":0},null,null,null,null,null,null,{"$f":"SUM(AH8,AM8,AR8)","v":0},{"$f":"SUM(AL8,AQ8,AV8)","v":0},{"$f":"IF(AY8=0,0,AZ8/AY8)","v":0},{"$f":"IF((AY8+AX8)=0,0,AX8/(AX8+AY8))","v":0},null,null,null,null,null,null,null,null,null,null,null,null,null,null,null,null,null,null,null,null,null,null,null,null,null,null,null,null,null,null,null,null,null,null,null,null,null,null,null,null,null,{"$f":"((L8=\"создание\")*7+(L8=\"расширение\")*7 +(L8=\"внедрение\")*7+(L8=\"строительство\")*4+(L8=\"реконструкция\")*3+(L8=\"капремонт\")*2 +(L8=\"приобретение\")*1+(L8=\"установка\")*1)*10","v":0},null,{"$f":"IF(P8=\"коммунальная инфраструктура\",(L8=\"строительство\")*3+(L8=\"реконструкция\")*2+(L8=\"капремонт\")*1,0)*10","v":0},null,{"$f":"IF(P8=\"коммунальная инфраструктура\",(L8=\"строительство\")*4+(L8=\"реконструкция\")*3+(L8=\"капремонт\")*2,0)*10","v":0}]
[null,null,2,{"$f":"IF(AND(D7<>\"\",G9<>\"\"),D7,\"\")","v":""},{"$f":"IF(AND(E7<>\"\",G9<>\"\"),E7,\"\")","v":""},null,null,null,null,null,null,null,null,null,null,null,null,null,{"$f":"IF(Q9>=2020,R9-Q9+1,\"\")","v":""},null,{"$f":"IF(Q9>=2020,S9*T9,\"\")","v":""},null,null,null,null,null,null,null,null,null,null,null,null,{"$f":"SUM(AI9:AL9)","v":0},null,null,null,null,{"$f":"SUM(AN9:AQ9)","v":0},null,null,null,null,{"$f":"SUM(AS9:AV9)","v":0},null,null,null,null,null,null,{"$f":"SUM(AH9,AM9,AR9)","v":0},{"$f":"SUM(AL9,AQ9,AV9)","v":0},{"$f":"IF(AY9=0,0,AZ9/AY9)","v":0},{"$f":"IF((AY9+AX9)=0,0,AX9/(AX9+AY9))","v":0},null,null,null,null,null,null,null,null,null,null,null,null,null,null,null,null,null,null,null,null,null,null,null,null,null,null,null,null,null,null,null,null,null,null,null,null,null,null,null,null,null,{"$f":"((L9=\"создание\")*7+(L9=\"расширение\")*7 +(L9=\"внедрение\")*7+(L9=\"строительство\")*4+(L9=\"реконструкция\")*3+(L9=\"капремонт\")*2 +(L9=\"приобретение\")*1+(L9=\"установка\")*1)*10","v":0},null,{"$f":"IF(P9=\"коммунальная инфраструктура\",(L9=\"строительство\")*3+(L9=\"реконструкция\")*2+(L9=\"капремонт\")*1,0)*10","v":0},null,{"$f":"IF(P9=\"коммунальная инфраструктура\",(L9=\"строительство\")*4+(L9=\"реконструкция\")*3+(L9=\"капремонт\")*2,0)*10","v":0}]
[null,null,3,{"$f":"IF(AND(D7<>\"\",G10<>\"\"),D7,\"\")","v":""},{"$f":"IF(AND(E7<>\"\",G10<>\"\"),E7,\"\")","v":""},null,null,null,null,null,null,null,null,null,null,null,null,null,{"$f":"IF(Q10>=2020,R10-Q10+1,\"\")","v":""},null,{"$f":"IF(Q10>=2020,S10*T10,\"\")","v":""},null,null,null,null,null,null,null,null,null,null,null,null,{"$f":"SUM(AI10:AL10)","v":0},null,null,null,null,{"$f":"SUM(AN10:AQ10)","v":0},null,null,null,null,{"$f":"SUM(AS10:AV10)","v":0},null,null,null,null,null,null,{"$f":"SUM(AH10,AM10,AR10)","v":0},{"$f":"SUM(AL10,AQ10,AV10)","v":0},{"$f":"IF(AY10=0,0,AZ10/AY10)","v":0},{"$f":"IF((AY10+AX10)=0,0,AX10/(AX10+AY10))","v":0},null,null,null,null,null,null,null,null,null,null,null,null,null,null,null,null,null,null,null,null,null,null,null,null,null,null,null,null,null,null,null,null,null,null,null,null,null,null,null,null,null,{"$f":"((L10=\"создание\")*7+(L10=\"расширение\")*7 +(L10=\"внедрение\")*7+(L10=\"строительство\")*4+(L10=\"реконструкция\")*3+(L10=\"капремонт\")*2 +(L10=\"приобретение\")*1+(L10=\"установка\")*1)*10","v":0},null,{"$f":"IF(P10=\"коммунальная инфраструктура\",(L10=\"строительство\")*3+(L10=\"реконструкция\")*2+(L10=\"капремонт\")*1,0)*10","v":0},null,{"$f":"IF(P10=\"коммунальная инфраструктура\",(L10=\"строительство\")*4+(L10=\"реконструкция\")*3+(L10=\"капремонт\")*2,0)*10","v":0}]
[null,null,4,{"$f":"IF(AND(D7<>\"\",G11<>\"\"),D7,\"\")","v":""},{"$f":"IF(AND(E7<>\"\",G11<>\"\"),E7,\"\")","v":""},null,null,null,null,null,null,null,null,null,null,null,null,null,{"$f":"IF(Q11>=2020,R11-Q11+1,\"\")","v":""},null,{"$f":"IF(Q11>=2020,S11*T11,\"\")","v":""},null,null,null,null,null,null,null,null,null,null,null,null,{"$f":"SUM(AI11:AL11)","v":0},null,null,null,null,{"$f":"SUM(AN11:AQ11)","v":0},null,null,null,null,{"$f":"SUM(AS11:AV11)","v":0},null,null,null,null,null,null,{"$f":"SUM(AH11,AM11,AR11)","v":0},{"$f":"SUM(AL11,AQ11,AV11)","v":0},{"$f":"IF(AY11=0,0,AZ11/AY11)","v":0},{"$f":"IF((AY11+AX11)=0,0,AX11/(AX11+AY11))","v":0},null,null,null,null,null,null,null,null,null,null,null,null,null,null,null,null,null,null,null,null,null,null,null,null,null,null,null,null,null,null,null,null,null,null,null,null,null,null,null,null,null,{"$f":"((L11=\"создание\")*7+(L11=\"расширение\")*7 +(L11=\"внедрение\")*7+(L11=\"строительство\")*4+(L11=\"реконструкция\")*3+(L11=\"капремонт\")*2 +(L11=\"приобретение\")*1+(L11=\"установка\")*1)*10","v":0},null,{"$f":"IF(P11=\"коммунальная инфраструктура\",(L11=\"строительство\")*3+(L11=\"реконструкция\")*2+(L11=\"капремонт\")*1,0)*10","v":0},null,{"$f":"IF(P11=\"коммунальная инфраструктура\",(L11=\"строительство\")*4+(L11=\"реконструкция\")*3+(L11=\"капремонт\")*2,0)*10","v":0}]
[null,null,5,{"$f":"IF(AND(D7<>\"\",G12<>\"\"),D7,\"\")","v":""},{"$f":"IF(AND(E7<>\"\",G12<>\"\"),E7,\"\")","v":""},null,null,null,null,null,null,null,null,null,null,null,null,null,{"$f":"IF(Q12>=2020,R12-Q12+1,\"\")","v":""},null,{"$f":"IF(Q12>=2020,S12*T12,\"\")","v":""},null,null,null,null,null,null,null,null,null,null,null,null,{"$f":"SUM(AI12:AL12)","v":0},null,null,null,null,{"$f":"SUM(AN12:AQ12)","v":0},null,null,null,null,{"$f":"SUM(AS12:AV12)","v":0},null,null,null,null,null,null,{"$f":"SUM(AH12,AM12,AR12)","v":0},{"$f":"SUM(AL12,AQ12,AV12)","v":0},{"$f":"IF(AY12=0,0,AZ12/AY12)","v":0},{"$f":"IF((AY12+AX12)=0,0,AX12/(AX12+AY12))","v":0},null,null,null,null,null,null,null,null,null,null,null,null,null,null,null,null,null,null,null,null,null,null,null,null,null,null,null,null,null,null,null,null,null,null,null,null,null,null,null,null,null,{"$f":"((L12=\"создание\")*7+(L12=\"расширение\")*7 +(L12=\"внедрение\")*7+(L12=\"строительство\")*4+(L12=\"реконструкция\")*3+(L12=\"капремонт\")*2 +(L12=\"приобретение\")*1+(L12=\"установка\")*1)*10","v":0},null,{"$f":"IF(P12=\"коммунальная инфраструктура\",(L12=\"строительство\")*3+(L12=\"реконструкция\")*2+(L12=\"капремонт\")*1,0)*10","v":0},null,{"$f":"IF(P12=\"коммунальная инфраструктура\",(L12=\"строительство\")*4+(L12=\"реконструкция\")*3+(L12=\"капремонт\")*2,0)*10","v":0}]
[null,null,6,{"$f":"IF(AND(D7<>\"\",G13<>\"\"),D7,\"\")","v":""},{"$f":"IF(AND(E7<>\"\",G13<>\"\"),E7,\"\")","v":""},null,null,null,null,null,null,null,null,null,null,null,null,null,{"$f":"IF(Q13>=2020,R13-Q13+1,\"\")","v":""},null,{"$f":"IF(Q13>=2020,S13*T13,\"\")","v":""},null,null,null,null,null,null,null,null,null,null,null,null,{"$f":"SUM(AI13:AL13)","v":0},null,null,null,null,{"$f":"SUM(AN13:AQ13)","v":0},null,null,null,null,{"$f":"SUM(AS13:AV13)","v":0},null,null,null,null,null,null,{"$f":"SUM(AH13,AM13,AR13)","v":0},{"$f":"SUM(AL13,AQ13,AV13)","v":0},{"$f":"IF(AY13=0,0,AZ13/AY13)","v":0},{"$f":"IF((AY13+AX13)=0,0,AX13/(AX13+AY13))","v":0},null,null,null,null,null,null,null,null,null,null,null,null,null,null,null,null,null,null,null,null,null,null,null,null,null,null,null,null,null,null,null,null,null,null,null,null,null,null,null,null,null,{"$f":"((L13=\"создание\")*7+(L13=\"расширение\")*7 +(L13=\"внедрение\")*7+(L13=\"строительство\")*4+(L13=\"реконструкция\")*3+(L13=\"капремонт\")*2 +(L13=\"приобретение\")*1+(L13=\"установка\")*1)*10","v":0},null,{"$f":"IF(P13=\"коммунальная инфраструктура\",(L13=\"строительство\")*3+(L13=\"реконструкция\")*2+(L13=\"капремонт\")*1,0)*10","v":0},null,{"$f":"IF(P13=\"коммунальная инфраструктура\",(L13=\"строительство\")*4+(L13=\"реконструкция\")*3+(L13=\"капремонт\")*2,0)*10","v":0}]
[null,null,7,{"$f":"IF(AND(D7<>\"\",G14<>\"\"),D7,\"\")","v":""},{"$f":"IF(AND(E7<>\"\",G14<>\"\"),E7,\"\")","v":""},null,null,null,null,null,null,null,null,null,null,null,null,null,{"$f":"IF(Q14>=2020,R14-Q14+1,\"\")","v":""},null,{"$f":"IF(Q14>=2020,S14*T14,\"\")","v":""},null,null,null,null,null,null,null,null,null,null,null,null,{"$f":"SUM(AI14:AL14)","v":0},null,null,null,null,{"$f":"SUM(AN14:AQ14)","v":0},null,null,null,null,{"$f":"SUM(AS14:AV14)","v":0},null,null,null,null,null,null,{"$f":"SUM(AH14,AM14,AR14)","v":0},{"$f":"SUM(AL14,AQ14,AV14)","v":0},{"$f":"IF(AY14=0,0,AZ14/AY14)","v":0},{"$f":"IF((AY14+AX14)=0,0,AX14/(AX14+AY14))","v":0},null,null,null,null,null,null,null,null,null,null,null,null,null,null,null,null,null,null,null,null,null,null,null,null,null,null,null,null,null,null,null,null,null,null,null,null,null,null,null,null,null,{"$f":"((L14=\"создание\")*7+(L14=\"расширение\")*7 +(L14=\"внедрение\")*7+(L14=\"строительство\")*4+(L14=\"реконструкция\")*3+(L14=\"капремонт\")*2 +(L14=\"приобретение\")*1+(L14=\"установка\")*1)*10","v":0},null,{"$f":"IF(P14=\"коммунальная инфраструктура\",(L14=\"строительство\")*3+(L14=\"реконструкция\")*2+(L14=\"капремонт\")*1,0)*10","v":0},null,{"$f":"IF(P14=\"коммунальная инфраструктура\",(L14=\"строительство\")*4+(L14=\"реконструкция\")*3+(L14=\"капремонт\")*2,0)*10","v":0}]
[null,null,8,{"$f":"IF(AND(D7<>\"\",G15<>\"\"),D7,\"\")","v":""},{"$f":"IF(AND(E7<>\"\",G15<>\"\"),E7,\"\")","v":""},null,null,null,null,null,null,null,null,null,null,null,null,null,{"$f":"IF(Q15>=2020,R15-Q15+1,\"\")","v":""},null,{"$f":"IF(Q15>=2020,S15*T15,\"\")","v":""},null,null,null,null,null,null,null,null,null,null,null,null,{"$f":"SUM(AI15:AL15)","v":0},null,null,null,null,{"$f":"SUM(AN15:AQ15)","v":0},null,null,null,null,{"$f":"SUM(AS15:AV15)","v":0},null,null,null,null,null,null,{"$f":"SUM(AH15,AM15,AR15)","v":0},{"$f":"SUM(AL15,AQ15,AV15)","v":0},{"$f":"IF(AY15=0,0,AZ15/AY15)","v":0},{"$f":"IF((AY15+AX15)=0,0,AX15/(AX15+AY15))","v":0},null,null,null,null,null,null,null,null,null,null,null,null,null,null,null,null,null,null,null,null,null,null,null,null,null,null,null,null,null,null,null,null,null,null,null,null,null,null,null,null,null,{"$f":"((L15=\"создание\")*7+(L15=\"расширение\")*7 +(L15=\"внедрение\")*7+(L15=\"строительство\")*4+(L15=\"реконструкция\")*3+(L15=\"капремонт\")*2 +(L15=\"приобретение\")*1+(L15=\"установка\")*1)*10","v":0},null,{"$f":"IF(P15=\"коммунальная инфраструктура\",(L15=\"строительство\")*3+(L15=\"реконструкция\")*2+(L15=\"капремонт\")*1,0)*10","v":0},null,{"$f":"IF(P15=\"коммунальная инфраструктура\",(L15=\"строительство\")*4+(L15=\"реконструкция\")*3+(L15=\"капремонт\")*2,0)*10","v":0}]
[null,null,9,{"$f":"IF(AND(D7<>\"\",G16<>\"\"),D7,\"\")","v":""},{"$f":"IF(AND(E7<>\"\",G16<>\"\"),E7,\"\")","v":""},null,null,null,null,null,null,null,null,null,null,null,null,null,{"$f":"IF(Q16>=2020,R16-Q16+1,\"\")","v":""},null,{"$f":"IF(Q16>=2020,S16*T16,\"\")","v":""},null,null,null,null,null,null,null,null,null,null,null,null,{"$f":"SUM(AI16:AL16)","v":0},null,null,null,null,{"$f":"SUM(AN16:AQ16)","v":0},null,null,null,null,{"$f":"SUM(AS16:AV16)","v":0},null,null,null,null,null,null,{"$f":"SUM(AH16,AM16,AR16)","v":0},{"$f":"SUM(AL16,AQ16,AV16)","v":0},{"$f":"IF(AY16=0,0,AZ16/AY16)","v":0},{"$f":"IF((AY16+AX16)=0,0,AX16/(AX16+AY16))","v":0},null,null,null,null,null,null,null,null,null,null,null,null,null,null,null,null,null,null,null,null,null,null,null,null,null,null,null,null,null,null,null,null,null,null,null,null,null,null,null,null,null,{"$f":"((L16=\"создание\")*7+(L16=\"расширение\")*7 +(L16=\"внедрение\")*7+(L16=\"строительство\")*4+(L16=\"реконструкция\")*3+(L16=\"капремонт\")*2 +(L16=\"приобретение\")*1+(L16=\"установка\")*1)*10","v":0},null,{"$f":"IF(P16=\"коммунальная инфраструктура\",(L16=\"строительство\")*3+(L16=\"реконструкция\")*2+(L16=\"капремонт\")*1,0)*10","v":0},null,{"$f":"IF(P16=\"коммунальная инфраструктура\",(L16=\"строительство\")*4+(L16=\"реконструкция\")*3+(L16=\"капремонт\")*2,0)*10","v":0}]
[null,null,10,{"$f":"IF(AND(D7<>\"\",G17<>\"\"),D7,\"\")","v":""},{"$f":"IF(AND(E7<>\"\",G17<>\"\"),E7,\"\")","v":""},null,null,null,null,null,null,null,null,null,null,null,null,null,{"$f":"IF(Q17>=2020,R17-Q17+1,\"\")","v":""},null,{"$f":"IF(Q17>=2020,S17*T17,\"\")","v":""},null,null,null,null,null,null,null,null,null,null,null,null,{"$f":"SUM(AI17:AL17)","v":0},null,null,null,null,{"$f":"SUM(AN17:AQ17)","v":0},null,null,null,null,{"$f":"SUM(AS17:AV17)","v":0},null,null,null,null,null,null,{"$f":"SUM(AH17,AM17,AR17)","v":0},{"$f":"SUM(AL17,AQ17,AV17)","v":0},{"$f":"IF(AY17=0,0,AZ17/AY17)","v":0},{"$f":"IF((AY17+AX17)=0,0,AX17/(AX17+AY17))","v":0},null,null,null,null,null,null,null,null,null,null,null,null,null,null,null,null,null,null,null,null,null,null,null,null,null,null,null,null,null,null,null,null,null,null,null,null,null,null,null,null,null,{"$f":"((L17=\"создание\")*7+(L17=\"расширение\")*7 +(L17=\"внедрение\")*7+(L17=\"строительство\")*4+(L17=\"реконструкция\")*3+(L17=\"капремонт\")*2 +(L17=\"приобретение\")*1+(L17=\"установка\")*1)*10","v":0},null,{"$f":"IF(P17=\"коммунальная инфраструктура\",(L17=\"строительство\")*3+(L17=\"реконструкция\")*2+(L17=\"капремонт\")*1,0)*10","v":0},null,{"$f":"IF(P17=\"коммунальная инфраструктура\",(L17=\"строительство\")*4+(L17=\"реконструкция\")*3+(L17=\"капремонт\")*2,0)*10","v":0}]
[null,null,11,{"$f":"IF(AND(D7<>\"\",G18<>\"\"),D7,\"\")","v":""},{"$f":"IF(AND(E7<>\"\",G18<>\"\"),E7,\"\")","v":""},null,null,null,null,null,null,null,null,null,null,null,null,null,{"$f":"IF(Q18>=2020,R18-Q18+1,\"\")","v":""},null,{"$f":"IF(Q18>=2020,S18*T18,\"\")","v":""},null,null,null,null,null,null,null,null,null,null,null,null,{"$f":"SUM(AI18:AL18)","v":0},null,null,null,null,{"$f":"SUM(AN18:AQ18)","v":0},null,null,null,null,{"$f":"SUM(AS18:AV18)","v":0},null,null,null,null,null,null,{"$f":"SUM(AH18,AM18,AR18)","v":0},{"$f":"SUM(AL18,AQ18,AV18)","v":0},{"$f":"IF(AY18=0,0,AZ18/AY18)","v":0},{"$f":"IF((AY18+AX18)=0,0,AX18/(AX18+AY18))","v":0},null,null,null,null,null,null,null,null,null,null,null,null,null,null,null,null,null,null,null,null,null,null,null,null,null,null,null,null,null,null,null,null,null,null,null,null,null,null,null,null,null,{"$f":"((L18=\"создание\")*7+(L18=\"расширение\")*7 +(L18=\"внедрение\")*7+(L18=\"строительство\")*4+(L18=\"реконструкция\")*3+(L18=\"капремонт\")*2 +(L18=\"приобретение\")*1+(L18=\"установка\")*1)*10","v":0},null,{"$f":"IF(P18=\"коммунальная инфраструктура\",(L18=\"строительство\")*3+(L18=\"реконструкция\")*2+(L18=\"капремонт\")*1,0)*10","v":0},null,{"$f":"IF(P18=\"коммунальная инфраструктура\",(L18=\"строительство\")*4+(L18=\"реконструкция\")*3+(L18=\"капремонт\")*2,0)*10","v":0}]
[null,null,12,{"$f":"IF(AND(D7<>\"\",G19<>\"\"),D7,\"\")","v":""},{"$f":"IF(AND(E7<>\"\",G19<>\"\"),E7,\"\")","v":""},null,null,null,null,null,null,null,null,null,null,null,null,null,{"$f":"IF(Q19>=2020,R19-Q19+1,\"\")","v":""},null,{"$f":"IF(Q19>=2020,S19*T19,\"\")","v":""},null,null,null,null,null,null,null,null,null,null,null,null,{"$f":"SUM(AI19:AL19)","v":0},null,null,null,null,{"$f":"SUM(AN19:AQ19)","v":0},null,null,null,null,{"$f":"SUM(AS19:AV19)","v":0},null,null,null,null,null,null,{"$f":"SUM(AH19,AM19,AR19)","v":0},{"$f":"SUM(AL19,AQ19,AV19)","v":0},{"$f":"IF(AY19=0,0,AZ19/AY19)","v":0},{"$f":"IF((AY19+AX19)=0,0,AX19/(AX19+AY19))","v":0},null,null,null,null,null,null,null,null,null,null,null,null,null,null,null,null,null,null,null,null,null,null,null,null,null,null,null,null,null,null,null,null,null,null,null,null,null,null,null,null,null,{"$f":"((L19=\"создание\")*7+(L19=\"расширение\")*7 +(L19=\"внедрение\")*7+(L19=\"строительство\")*4+(L19=\"реконструкция\")*3+(L19=\"капремонт\")*2 +(L19=\"приобретение\")*1+(L19=\"установка\")*1)*10","v":0},null,{"$f":"IF(P19=\"коммунальная инфраструктура\",(L19=\"строительство\")*3+(L19=\"реконструкция\")*2+(L19=\"капремонт\")*1,0)*10","v":0},null,{"$f":"IF(P19=\"коммунальная инфраструктура\",(L19=\"строительство\")*4+(L19=\"реконструкция\")*3+(L19=\"капремонт\")*2,0)*10","v":0}]
[null,null,13,{"$f":"IF(AND(D7<>\"\",G20<>\"\"),D7,\"\")","v":""},{"$f":"IF(AND(E7<>\"\",G20<>\"\"),E7,\"\")","v":""},null,null,null,null,null,null,null,null,null,null,null,null,null,{"$f":"IF(Q20>=2020,R20-Q20+1,\"\")","v":""},null,{"$f":"IF(Q20>=2020,S20*T20,\"\")","v":""},null,null,null,null,null,null,null,null,null,null,null,null,{"$f":"SUM(AI20:AL20)","v":0},null,null,null,null,{"$f":"SUM(AN20:AQ20)","v":0},null,null,null,null,{"$f":"SUM(AS20:AV20)","v":0},null,null,null,null,null,null,{"$f":"SUM(AH20,AM20,AR20)","v":0},{"$f":"SUM(AL20,AQ20,AV20)","v":0},{"$f":"IF(AY20=0,0,AZ20/AY20)","v":0},{"$f":"IF((AY20+AX20)=0,0,AX20/(AX20+AY20))","v":0},null,null,null,null,null,null,null,null,null,null,null,null,null,null,null,null,null,null,null,null,null,null,null,null,null,null,null,null,null,null,null,null,null,null,null,null,null,null,null,null,null,{"$f":"((L20=\"создание\")*7+(L20=\"расширение\")*7 +(L20=\"внедрение\")*7+(L20=\"строительство\")*4+(L20=\"реконструкция\")*3+(L20=\"капремонт\")*2 +(L20=\"приобретение\")*1+(L20=\"установка\")*1)*10","v":0},null,{"$f":"IF(P20=\"коммунальная инфраструктура\",(L20=\"строительство\")*3+(L20=\"реконструкция\")*2+(L20=\"капремонт\")*1,0)*10","v":0},null,{"$f":"IF(P20=\"коммунальная инфраструктура\",(L20=\"строительство\")*4+(L20=\"реконструкция\")*3+(L20=\"капремонт\")*2,0)*10","v":0}]
[null,null,14,{"$f":"IF(AND(D7<>\"\",G21<>\"\"),D7,\"\")","v":""},{"$f":"IF(AND(E7<>\"\",G21<>\"\"),E7,\"\")","v":""},null,null,null,null,null,null,null,null,null,null,null,null,null,{"$f":"IF(Q21>=2020,R21-Q21+1,\"\")","v":""},null,{"$f":"IF(Q21>=2020,S21*T21,\"\")","v":""},null,null,null,null,null,null,null,null,null,null,null,null,{"$f":"SUM(AI21:AL21)","v":0},null,null,null,null,{"$f":"SUM(AN21:AQ21)","v":0},null,null,null,null,{"$f":"SUM(AS21:AV21)","v":0},null,null,null,null,null,null,{"$f":"SUM(AH21,AM21,AR21)","v":0},{"$f":"SUM(AL21,AQ21,AV21)","v":0},{"$f":"IF(AY21=0,0,AZ21/AY21)","v":0},{"$f":"IF((AY21+AX21)=0,0,AX21/(AX21+AY21))","v":0},null,null,null,null,null,null,null,null,null,null,null,null,null,null,null,null,null,null,null,null,null,null,null,null,null,null,null,null,null,null,null,null,null,null,null,null,null,null,null,null,null,{"$f":"((L21=\"создание\")*7+(L21=\"расширение\")*7 +(L21=\"внедрение\")*7+(L21=\"строительство\")*4+(L21=\"реконструкция\")*3+(L21=\"капремонт\")*2 +(L21=\"приобретение\")*1+(L21=\"установка\")*1)*10","v":0},null,{"$f":"IF(P21=\"коммунальная инфраструктура\",(L21=\"строительство\")*3+(L21=\"реконструкция\")*2+(L21=\"капремонт\")*1,0)*10","v":0},null,{"$f":"IF(P21=\"коммунальная инфраструктура\",(L21=\"строительство\")*4+(L21=\"реконструкция\")*3+(L21=\"капремонт\")*2,0)*10","v":0}]
[null,null,15,{"$f":"IF(AND(D7<>\"\",G22<>\"\"),D7,\"\")","v":""},{"$f":"IF(AND(E7<>\"\",G22<>\"\"),E7,\"\")","v":""},null,null,null,null,null,null,null,null,null,null,null,null,null,{"$f":"IF(Q22>=2020,R22-Q22+1,\"\")","v":""},null,{"$f":"IF(Q22>=2020,S22*T22,\"\")","v":""},null,null,null,null,null,null,null,null,null,null,null,null,{"$f":"SUM(AI22:AL22)","v":0},null,null,null,null,{"$f":"SUM(AN22:AQ22)","v":0},null,null,null,null,{"$f":"SUM(AS22:AV22)","v":0},null,null,null,null,null,null,{"$f":"SUM(AH22,AM22,AR22)","v":0},{"$f":"SUM(AL22,AQ22,AV22)","v":0},{"$f":"IF(AY22=0,0,AZ22/AY22)","v":0},{"$f":"IF((AY22+AX22)=0,0,AX22/(AX22+AY22))","v":0},null,null,null,null,null,null,null,null,null,null,null,null,null,null,null,null,null,null,null,null,null,null,null,null,null,null,null,null,null,null,null,null,null,null,null,null,null,null,null,null,null,{"$f":"((L22=\"создание\")*7+(L22=\"расширение\")*7 +(L22=\"внедрение\")*7+(L22=\"строительство\")*4+(L22=\"реконструкция\")*3+(L22=\"капремонт\")*2 +(L22=\"приобретение\")*1+(L22=\"установка\")*1)*10","v":0},null,{"$f":"IF(P22=\"коммунальная инфраструктура\",(L22=\"строительство\")*3+(L22=\"реконструкция\")*2+(L22=\"капремонт\")*1,0)*10","v":0},null,{"$f":"IF(P22=\"коммунальная инфраструктура\",(L22=\"строительство\")*4+(L22=\"реконструкция\")*3+(L22=\"капремонт\")*2,0)*10","v":0}]
[null,null,16,{"$f":"IF(AND(D7<>\"\",G23<>\"\"),D7,\"\")","v":""},{"$f":"IF(AND(E7<>\"\",G23<>\"\"),E7,\"\")","v":""},null,null,null,null,null,null,null,null,null,null,null,null,null,{"$f":"IF(Q23>=2020,R23-Q23+1,\"\")","v":""},null,{"$f":"IF(Q23>=2020,S23*T23,\"\")","v":""},null,null,null,null,null,null,null,null,null,null,null,null,{"$f":"SUM(AI23:AL23)","v":0},null,null,null,null,{"$f":"SUM(AN23:AQ23)","v":0},null,null,null,null,{"$f":"SUM(AS23:AV23)","v":0},null,null,null,null,null,null,{"$f":"SUM(AH23,AM23,AR23)","v":0},{"$f":"SUM(AL23,AQ23,AV23)","v":0},{"$f":"IF(AY23=0,0,AZ23/AY23)","v":0},{"$f":"IF((AY23+AX23)=0,0,AX23/(AX23+AY23))","v":0},null,null,null,null,null,null,null,null,null,null,null,null,null,null,null,null,null,null,null,null,null,null,null,null,null,null,null,null,null,null,null,null,null,null,null,null,null,null,null,null,null,{"$f":"((L23=\"создание\")*7+(L23=\"расширение\")*7 +(L23=\"внедрение\")*7+(L23=\"строительство\")*4+(L23=\"реконструкция\")*3+(L23=\"капремонт\")*2 +(L23=\"приобретение\")*1+(L23=\"установка\")*1)*10","v":0},null,{"$f":"IF(P23=\"коммунальная инфраструктура\",(L23=\"строительство\")*3+(L23=\"реконструкция\")*2+(L23=\"капремонт\")*1,0)*10","v":0},null,{"$f":"IF(P23=\"коммунальная инфраструктура\",(L23=\"строительство\")*4+(L23=\"реконструкция\")*3+(L23=\"капремонт\")*2,0)*10","v":0}]
[null,null,17,{"$f":"IF(AND(D7<>\"\",G24<>\"\"),D7,\"\")","v":""},{"$f":"IF(AND(E7<>\"\",G24<>\"\"),E7,\"\")","v":""},null,null,null,null,null,null,null,null,null,null,null,null,null,{"$f":"IF(Q24>=2020,R24-Q24+1,\"\")","v":""},null,{"$f":"IF(Q24>=2020,S24*T24,\"\")","v":""},null,null,null,null,null,null,null,null,null,null,null,null,{"$f":"SUM(AI24:AL24)","v":0},null,null,null,null,{"$f":"SUM(AN24:AQ24)","v":0},null,null,null,null,{"$f":"SUM(AS24:AV24)","v":0},null,null,null,null,null,null,{"$f":"SUM(AH24,AM24,AR24)","v":0},{"$f":"SUM(AL24,AQ24,AV24)","v":0},{"$f":"IF(AY24=0,0,AZ24/AY24)","v":0},{"$f":"IF((AY24+AX24)=0,0,AX24/(AX24+AY24))","v":0},null,null,null,null,null,null,null,null,null,null,null,null,null,null,null,null,null,null,null,null,null,null,null,null,null,null,null,null,null,null,null,null,null,null,null,null,null,null,null,null,null,{"$f":"((L24=\"создание\")*7+(L24=\"расширение\")*7 +(L24=\"внедрение\")*7+(L24=\"строительство\")*4+(L24=\"реконструкция\")*3+(L24=\"капремонт\")*2 +(L24=\"приобретение\")*1+(L24=\"установка\")*1)*10","v":0},null,{"$f":"IF(P24=\"коммунальная инфраструктура\",(L24=\"строительство\")*3+(L24=\"реконструкция\")*2+(L24=\"капремонт\")*1,0)*10","v":0},null,{"$f":"IF(P24=\"коммунальная инфраструктура\",(L24=\"строительство\")*4+(L24=\"реконструкция\")*3+(L24=\"капремонт\")*2,0)*10","v":0}]
[null,null,18,{"$f":"IF(AND(D7<>\"\",G25<>\"\"),D7,\"\")","v":""},{"$f":"IF(AND(E7<>\"\",G25<>\"\"),E7,\"\")","v":""},null,null,null,null,null,null,null,null,null,null,null,null,null,{"$f":"IF(Q25>=2020,R25-Q25+1,\"\")","v":""},null,{"$f":"IF(Q25>=2020,S25*T25,\"\")","v":""},null,null,null,null,null,null,null,null,null,null,null,null,{"$f":"SUM(AI25:AL25)","v":0},null,null,null,null,{"$f":"SUM(AN25:AQ25)","v":0},null,null,null,null,{"$f":"SUM(AS25:AV25)","v":0},null,null,null,null,null,null,{"$f":"SUM(AH25,AM25,AR25)","v":0},{"$f":"SUM(AL25,AQ25,AV25)","v":0},{"$f":"IF(AY25=0,0,AZ25/AY25)","v":0},{"$f":"IF((AY25+AX25)=0,0,AX25/(AX25+AY25))","v":0},null,null,null,null,null,null,null,null,null,null,null,null,null,null,null,null,null,null,null,null,null,null,null,null,null,null,null,null,null,null,null,null,null,null,null,null,null,null,null,null,null,{"$f":"((L25=\"создание\")*7+(L25=\"расширение\")*7 +(L25=\"внедрение\")*7+(L25=\"строительство\")*4+(L25=\"реконструкция\")*3+(L25=\"капремонт\")*2 +(L25=\"приобретение\")*1+(L25=\"установка\")*1)*10","v":0},null,{"$f":"IF(P25=\"коммунальная инфраструктура\",(L25=\"строительство\")*3+(L25=\"реконструкция\")*2+(L25=\"капремонт\")*1,0)*10","v":0},null,{"$f":"IF(P25=\"коммунальная инфраструктура\",(L25=\"строительство\")*4+(L25=\"реконструкция\")*3+(L25=\"капремонт\")*2,0)*10","v":0}]
[null,null,19,{"$f":"IF(AND(D7<>\"\",G26<>\"\"),D7,\"\")","v":""},{"$f":"IF(AND(E7<>\"\",G26<>\"\"),E7,\"\")","v":""},null,null,null,null,null,null,null,null,null,null,null,null,null,{"$f":"IF(Q26>=2020,R26-Q26+1,\"\")","v":""},null,{"$f":"IF(Q26>=2020,S26*T26,\"\")","v":""},null,null,null,null,null,null,null,null,null,null,null,null,{"$f":"SUM(AI26:AL26)","v":0},null,null,null,null,{"$f":"SUM(AN26:AQ26)","v":0},null,null,null,null,{"$f":"SUM(AS26:AV26)","v":0},null,null,null,null,null,null,{"$f":"SUM(AH26,AM26,AR26)","v":0},{"$f":"SUM(AL26,AQ26,AV26)","v":0},{"$f":"IF(AY26=0,0,AZ26/AY26)","v":0},{"$f":"IF((AY26+AX26)=0,0,AX26/(AX26+AY26))","v":0},null,null,null,null,null,null,null,null,null,null,null,null,null,null,null,null,null,null,null,null,null,null,null,null,null,null,null,null,null,null,null,null,null,null,null,null,null,null,null,null,null,{"$f":"((L26=\"создание\")*7+(L26=\"расширение\")*7 +(L26=\"внедрение\")*7+(L26=\"строительство\")*4+(L26=\"реконструкция\")*3+(L26=\"капремонт\")*2 +(L26=\"приобретение\")*1+(L26=\"установка\")*1)*10","v":0},null,{"$f":"IF(P26=\"коммунальная инфраструктура\",(L26=\"строительство\")*3+(L26=\"реконструкция\")*2+(L26=\"капремонт\")*1,0)*10","v":0},null,{"$f":"IF(P26=\"коммунальная инфраструктура\",(L26=\"строительство\")*4+(L26=\"реконструкция\")*3+(L26=\"капремонт\")*2,0)*10","v":0}]
[null,null,20,{"$f":"IF(AND(D7<>\"\",G27<>\"\"),D7,\"\")","v":""},{"$f":"IF(AND(E7<>\"\",G27<>\"\"),E7,\"\")","v":""},null,null,null,null,null,null,null,null,null,null,null,null,null,{"$f":"IF(Q27>=2020,R27-Q27+1,\"\")","v":""},null,{"$f":"IF(Q27>=2020,S27*T27,\"\")","v":""},null,null,null,null,null,null,null,null,null,null,null,null,{"$f":"SUM(AI27:AL27)","v":0},null,null,null,null,{"$f":"SUM(AN27:AQ27)","v":0},null,null,null,null,{"$f":"SUM(AS27:AV27)","v":0},null,null,null,null,null,null,{"$f":"SUM(AH27,AM27,AR27)","v":0},{"$f":"SUM(AL27,AQ27,AV27)","v":0},{"$f":"IF(AY27=0,0,AZ27/AY27)","v":0},{"$f":"IF((AY27+AX27)=0,0,AX27/(AX27+AY27))","v":0},null,null,null,null,null,null,null,null,null,null,null,null,null,null,null,null,null,null,null,null,null,null,null,null,null,null,null,null,null,null,null,null,null,null,null,null,null,null,null,null,null,{"$f":"((L27=\"создание\")*7+(L27=\"расширение\")*7 +(L27=\"внедрение\")*7+(L27=\"строительство\")*4+(L27=\"реконструкция\")*3+(L27=\"капремонт\")*2 +(L27=\"приобретение\")*1+(L27=\"установка\")*1)*10","v":0},null,{"$f":"IF(P27=\"коммунальная инфраструктура\",(L27=\"строительство\")*3+(L27=\"реконструкция\")*2+(L27=\"капремонт\")*1,0)*10","v":0},null,{"$f":"IF(P27=\"коммунальная инфраструктура\",(L27=\"строительство\")*4+(L27=\"реконструкция\")*3+(L27=\"капремонт\")*2,0)*10","v":0}]
[null,null,"…",{"$f":"IF(AND(D7<>\"\",G28<>\"\"),D7,\"\")","v":""},{"$f":"IF(AND(E7<>\"\",G28<>\"\"),E7,\"\")","v":""},null,null,null,null,null,null,null,null,null,null,null,null,null,{"$f":"IF(Q28>=2020,R28-Q28+1,\"\")","v":""},null,{"$f":"IF(Q28>=2020,S28*T28,\"\")","v":""},null,null,null,null,null,null,null,null,null,null,null,null,{"$f":"SUM(AI28:AL28)","v":0},null,null,null,null,{"$f":"SUM(AN28:AQ28)","v":0},null,null,null,null,{"$f":"SUM(AS28:AV28)","v":0},null,null,null,null,null,null,{"$f":"SUM(AH28,AM28,AR28)","v":0},{"$f":"SUM(AL28,AQ28,AV28)","v":0},{"$f":"IF(AY28=0,0,AZ28/AY28)","v":0},{"$f":"IF((AY28+AX28)=0,0,AX28/(AX28+AY28))","v":0},null,null,null,null,null,null,null,null,null,null,null,null,null,null,null,null,null,null,null,null,null,null,null,null,null,null,null,null,null,null,null,null,null,null,null,null,null,null,null,null,null,{"$f":"((L28=\"создание\")*7+(L28=\"расширение\")*7 +(L28=\"внедрение\")*7+(L28=\"строительство\")*4+(L28=\"реконструкция\")*3+(L28=\"капремонт\")*2 +(L28=\"приобретение\")*1+(L28=\"установка\")*1)*10","v":0},null,{"$f":"IF(P28=\"коммунальная инфраструктура\",(L28=\"строительство\")*3+(L28=\"реконструкция\")*2+(L28=\"капремонт\")*1,0)*10","v":0},null,{"$f":"IF(P28=\"коммунальная инфраструктура\",(L28=\"строительство\")*4+(L28=\"реконструкция\")*3+(L28=\"капремонт\")*2,0)*10","v":0}]
[2,null,{"$f":"COUNTA(G30:G50)","v":0},null,null,null,null,null,null,null,null,null,null,null,null,null,{"$f":"MIN(Q30:Q50)","v":0},{"$f":"MAX(R30:R50)","v":0},{"$f":"MAX(S30:S50)","v":0},null,{"$f":"MAX(U30:U50)","v":0},null,null,null,null,null,{"$f":"IF(COUNTIF(AA30:AA50,\"НЕТ\")>0,\"ПД!\",\"ок\")","v":"ок"},null,{"$f":"IF(COUNTIF(AC30:AC50,\"НЕТ\")>0,\"ДОСМ!\",\"ок\")","v":"ок"},null,{"$f":"IF(COUNTIF(AE30:AE50,\"НЕТ\")>0,\"ФОИВ!\",\"ок\")","v":"ок"},{"$f":"IF(COUNTIF(AF30:AF50,\"НЕТ\")>0,\"ФОИВ!\",\"ок\")","v":"ок"},null,{"$f":"SUM(AH30:AH50)","v":0},{"$f":"SUM(AI30:AI50)","v":0},{"$f":"SUM(AJ30:AJ50)","v":0},{"$f":"SUM(AK30:AK50)","v":0},{"$f":"SUM(AL30:AL50)","v":0},{"$f":"SUM(AM30:AM50)","v":0},{"$f":"SUM(AN30:AN50)","v":0},{"$f":"SUM(AO30:AO50)","v":0},{"$f":"SUM(AP30:AP50)","v":0},{"$f":"SUM(AQ30:AQ50)","v":0},{"$f":"SUM(AR30:AR50)","v":0},{"$f":"SUM(AS30:AS50)","v":0},{"$f":"SUM(AT30:AT50)","v":0},{"$f":"SUM(AU30:AU50)","v":0},{"$f":"SUM(AV30:AV50)","v":0},{"$f":"SUM(AW30:AW50)","v":0},{"$f":"SUM(AX30:AX50)","v":0},{"$f":"SUM(AH29,AM29,AR29)","v":0},{"$f":"AL29+AQ29+AV29","v":0},{"$f":"IF(AY29=0,0,AZ29/AY29)","v":0},{"$f":"IF((AY29+AX29)=0,0,AX29/(AX29+AY29))","v":0},null,null,{"$f":"IFERROR(BD29/BC29,0)","v":0},null,null,{"$f":"IFERROR(BG29/BF29,0)","v":0},null,null,{"$f":"IFERROR(BJ29/BI29,0)","v":0},null,null,null,{"$f":"(SUM(BL29:BN29)>0)*1+(SUM(BL29:BN29)>=10)*1+(SUM(BL29:BN29)>=50)*1+(SUM(BL29:BN29)>=100)*1+(SUM(BL29:BN29)>=200)*1+(SUM(BL29:BN29)>=300)*1","v":0},{"$f":"IFERROR(SUM(BL29:BN29)/BC29,0)","v":0},null,null,{"$f":"IFERROR(BQ29/BR29,0)","v":0},{"$f":"IF(BA29<0.01,0,IF(BA29>=0.1,10,ROUNDDOWN(BA29/0.01,0)))","v":0},8,{"$f":"BT29*BU29","v":0},{"$f":"IF(BB29<0.01,0,IF(BB29>=0.1,10,ROUNDDOWN(BB29/0.01,0)))","v":0},8,{"$f":"BW29*BX29","v":0},{"$f":"IF(U29<=1,9,IF(U29<=2,6,IF(U29<=3,3,0)))*(C29>0)","v":0},6,{"$f":"BZ29*CA29","v":0},{"$f":"IF(BH29<0.51,0,10)","v":0},7,{"$f":"CC29*CD29","v":0},{"$f":"IF(BE29<0.1,0,IF(BE29>=0.9,10,ROUNDDOWN(BE29/0.1,0)))","v":0},10,{"$f":"CF29*CG29","v":0},{"$f":"IF(BK29<0.1,0,IF(BK29>=0.6,10,ROUNDDOWN(BK29/0.1,0)))","v":0},8,{"$f":"CI29*CJ29","v":0},{"$f":"IF(BP29<0.05,0,IF(BP29>=0.1,10,1))","v":0},10,{"$f":"CL29*CM29","v":0},{"$f":"IF(BS29<0.1,0,IF(BS29>=0.8,10,ROUNDDOWN(BS29/0.1,0)))","v":0},10,{"$f":"CP29*CO29","v":0},{"$f":"ROUND(IF(C29=0,0,SUM(CR30:CR50)/C29),1)","v":0},{"$f":"((SUM(BL29:BN29)>=1)*1+(SUM(BL29:BN29)>=11)*1+(SUM(BL29:BN29)>=51)*3+(SUM(BL29:BN29)>=101)*2+(SUM(BL29:BN29)>=201)*2+(SUM(BL29:BN29)>=301)*4)*10","v":0},{"$f":"IFERROR(ROUND(SUM(CT30:CT50)/COUNTIF(P30:P50,\"коммунальная инфраструктура\"),1),0)","v":0},{"$f":"CS29+CT29","v":0},{"$f":"IFERROR(ROUND(SUM(CV30:CV50)/COUNTIF(P30:P50,\"коммунальная инфраструктура\"),1),0)","v":0},{"$f":"SUM(BV29,BY29,CB29,CE29,CH29,CK29,CN29,CQ29,CR29,CU29,CV29)","v":0},{"$f":"VLOOKUP(D29,РегионыФО,2,0)","v":{"$error":"#N/A"}}]
[null,null,1,{"$f":"IF(AND(D29<>\"\",G30<>\"\"),D29,\"\")","v":""},{"$f":"IF(AND(E29<>\"\",G30<>\"\"),E29,\"\")","v":""},null,null,null,null,null,null,null,null,null,null,null,null,null,{"$f":"IF(Q30>=2020,R30-Q30+1,\"\")","v":""},null,{"$f":"IF(Q30>=2020,ROUNDUP(S30*T30,0),\"\")","v":""},null,null,null,null,null,null,null,null,null,null,null,null,{"$f":"SUM(AI30:AL30)","v":0},null,null,null,null,{"$f":"SUM(AN30:AQ30)","v":0},null,null,null,null,{"$f":"SUM(AS30:AV30)","v":0},null,null,null,null,null,null,{"$f":"SUM(AH30,AM30,AR30)","v":0},{"$f":"SUM(AL30,AQ30,AV30)","v":0},{"$f":"IF(AY30=0,0,AZ30/AY30)","v":0},{"$f":"IF((AY30+AX30)=0,0,AX30/(AX30+AY30))","v":0},null,null,null,null,null,null,null,null,null,null,null,null,null,null,null,null,null,null,null,null,null,null,null,null,null,null,null,null,null,null,null,null,null,null,null,null,null,null,null,null,null,{"$f":"((L30=\"создание\")*7+(L30=\"расширение\")*7 +(L30=\"внедрение\")*7+(L30=\"строительство\")*4+(L30=\"реконструкция\")*3+(L30=\"капремонт\")*2 +(L30=\"приобретение\")*1+(L30=\"установка\")*1)*10","v":0},null,{"$f":"IF(P30=\"коммунальная инфраструктура\",(L30=\"строительство\")*3+(L30=\"реконструкция\")*2+(L30=\"капремонт\")*1,0)*10","v":0},null,{"$f":"IF(P30=\"коммунальная инфраструктура\",(L30=\"строительство\")*4+(L30=\"реконструкция\")*3+(L30=\"капремонт\")*2,0)*10","v":0}]
[null,null,2,{"$f":"IF(AND(D29<>\"\",G31<>\"\"),D29,\"\")","v":""},{"$f":"IF(AND(E29<>\"\",G31<>\"\"),E29,\"\")","v":""},null,null,null,null,null,null,null,null,null,null,null,null,null,{"$f":"IF(Q31>=2020,R31-Q31+1,\"\")","v":""},null,{"$f":"IF(Q31>=2020,S31*T31,\"\")","v":""},null,null,null,null,null,null,null,null,null,null,null,null,{"$f":"SUM(AI31:AL31)","v":0},null,null,null,null,{"$f":"SUM(AN31:AQ31)","v":0},null,null,null,null,{"$f":"SUM(AS31:AV31)","v":0},null,null,null,null,null,null,{"$f":"SUM(AH31,AM31,AR31)","v":0},{"$f":"SUM(AL31,AQ31,AV31)","v":0},{"$f":"IF(AY31=0,0,AZ31/AY31)","v":0},{"$f":"IF((AY31+AX31)=0,0,AX31/(AX31+AY31))","v":0},null,null,null,null,null,null,null,null,null,null,null,null,null,null,null,null,null,null,null,null,null,null,null,null,null,null,null,null,null,null,null,null,null,null,null,null,null,null,null,null,null,{"$f":"((L31=\"создание\")*7+(L31=\"расширение\")*7 +(L31=\"внедрение\")*7+(L31=\"строительство\")*4+(L31=\"реконструкция\")*3+(L31=\"капремонт\")*2 +(L31=\"приобретение\")*1+(L31=\"установка\")*1)*10","v":0},null,{"$f":"IF(P31=\"коммунальная инфраструктура\",(L31=\"строительство\")*3+(L31=\"реконструкция\")*2+(L31=\"капремонт\")*1,0)*10","v":0},null,{"$f":"IF(P31=\"коммунальная инфраструктура\",(L31=\"строительство\")*4+(L31=\"реконструкция\")*3+(L31=\"капремонт\")*2,0)*10","v":0}]
[null,null,3,{"$f":"IF(AND(D29<>\"\",G32<>\"\"),D29,\"\")","v":""},{"$f":"IF(AND(E29<>\"\",G32<>\"\"),E29,\"\")","v":""},null,null,null,null,null,null,null,null,null,null,null,null,null,{"$f":"IF(Q32>=2020,R32-Q32+1,\"\")","v":""},null,{"$f":"IF(Q32>=2020,S32*T32,\"\")","v":""},null,null,null,null,null,null,null,null,null,null,null,null,{"$f":"SUM(AI32:AL32)","v":0},null,null,null,null,{"$f":"SUM(AN32:AQ32)","v":0},null,null,null,null,{"$f":"SUM(AS32:AV32)","v":0},null,null,null,null,null,null,{"$f":"SUM(AH32,AM32,AR32)","v":0},{"$f":"SUM(AL32,AQ32,AV32)","v":0},{"$f":"IF(AY32=0,0,AZ32/AY32)","v":0},{"$f":"IF((AY32+AX32)=0,0,AX32/(AX32+AY32))","v":0},null,null,null,null,null,null,null,null,null,null,null,null,null,null,null,null,null,null,null,null,null,null,null,null,null,null,null,null,null,null,null,null,null,null,null,null,null,null,null,null,null,{"$f":"((L32=\"создание\")*7+(L32=\"расширение\")*7 +(L32=\"внедрение\")*7+(L32=\"строительство\")*4+(L32=\"реконструкция\")*3+(L32=\"капремонт\")*2 +(L32=\"приобретение\")*1+(L32=\"установка\")*1)*10","v":0},null,{"$f":"IF(P32=\"коммунальная инфраструктура\",(L32=\"строительство\")*3+(L32=\"реконструкция\")*2+(L32=\"капремонт\")*1,0)*10","v":0},null,{"$f":"IF(P32=\"коммунальная инфраструктура\",(L32=\"строительство\")*4+(L32=\"реконструкция\")*3+(L32=\"капремонт\")*2,0)*10","v":0}]
[null,null,4,{"$f":"IF(AND(D29<>\"\",G33<>\"\"),D29,\"\")","v":""},{"$f":"IF(AND(E29<>\"\",G33<>\"\"),E29,\"\")","v":""},null,null,null,null,null,null,null,null,null,null,null,null,null,{"$f":"IF(Q33>=2020,R33-Q33+1,\"\")","v":""},null,{"$f":"IF(Q33>=2020,S33*T33,\"\")","v":""},null,null,null,null,null,null,null,null,null,null,null,null,{"$f":"SUM(AI33:AL33)","v":0},null,null,null,null,{"$f":"SUM(AN33:AQ33)","v":0},null,null,null,null,{"$f":"SUM(AS33:AV33)","v":0},null,null,null,null,null,null,{"$f":"SUM(AH33,AM33,AR33)","v":0},{"$f":"SUM(AL33,AQ33,AV33)","v":0},{"$f":"IF(AY33=0,0,AZ33/AY33)","v":0},{"$f":"IF((AY33+AX33)=0,0,AX33/(AX33+AY33))","v":0},null,null,null,null,null,null,null,null,null,null,null,null,null,null,null,null,null,null,null,null,null,null,null,null,null,null,null,null,null,null,null,null,null,null,null,null,null,null,null,null,null,{"$f":"((L33=\"создание\")*7+(L33=\"расширение\")*7 +(L33=\"внедрение\")*7+(L33=\"строительство\")*4+(L33=\"реконструкция\")*3+(L33=\"капремонт\")*2 +(L33=\"приобретение\")*1+(L33=\"установка\")*1)*10","v":0},null,{"$f":"IF(P33=\"коммунальная инфраструктура\",(L33=\"строительство\")*3+(L33=\"реконструкция\")*2+(L33=\"капремонт\")*1,0)*10","v":0},null,{"$f":"IF(P33=\"коммунальная инфраструктура\",(L33=\"строительство\")*4+(L33=\"реконструкция\")*3+(L33=\"капремонт\")*2,0)*10","v":0}]
[null,null,5,{"$f":"IF(AND(D29<>\"\",G34<>\"\"),D29,\"\")","v":""},{"$f":"IF(AND(E29<>\"\",G34<>\"\"),E29,\"\")","v":""},null,null,null,null,null,null,null,null,null,null,null,null,null,{"$f":"IF(Q34>=2020,R34-Q34+1,\"\")","v":""},null,{"$f":"IF(Q34>=2020,S34*T34,\"\")","v":""},null,null,null,null,null,null,null,null,null,null,null,null,{"$f":"SUM(AI34:AL34)","v":0},null,null,null,null,{"$f":"SUM(AN34:AQ34)","v":0},null,null,null,null,{"$f":"SUM(AS34:AV34)","v":0},null,null,null,null,null,null,{"$f":"SUM(AH34,AM34,AR34)","v":0},{"$f":"SUM(AL34,AQ34,AV34)","v":0},{"$f":"IF(AY34=0,0,AZ34/AY34)","v":0},{"$f":"IF((AY34+AX34)=0,0,AX34/(AX34+AY34))","v":0},null,null,null,null,null,null,null,null,null,null,null,null,null,null,null,null,null,null,null,null,null,null,null,null,null,null,null,null,null,null,null,null,null,null,null,null,null,null,null,null,null,{"$f":"((L34=\"создание\")*7+(L34=\"расширение\")*7 +(L34=\"внедрение\")*7+(L34=\"строительство\")*4+(L34=\"реконструкция\")*3+(L34=\"капремонт\")*2 +(L34=\"приобретение\")*1+(L34=\"установка\")*1)*10","v":0},null,{"$f":"IF(P34=\"коммунальная инфраструктура\",(L34=\"строительство\")*3+(L34=\"реконструкция\")*2+(L34=\"капремонт\")*1,0)*10","v":0},null,{"$f":"IF(P34=\"коммунальная инфраструктура\",(L34=\"строительство\")*4+(L34=\"реконструкция\")*3+(L34=\"капремонт\")*2,0)*10","v":0}]
[null,null,6,{"$f":"IF(AND(D29<>\"\",G35<>\"\"),D29,\"\")","v":""},{"$f":"IF(AND(E29<>\"\",G35<>\"\"),E29,\"\")","v":""},null,null,null,null,null,null,null,null,null,null,null,null,null,{"$f":"IF(Q35>=2020,R35-Q35+1,\"\")","v":""},null,{"$f":"IF(Q35>=2020,S35*T35,\"\")","v":""},null,null,null,null,null,null,null,null,null,null,null,null,{"$f":"SUM(AI35:AL35)","v":0},null,null,null,null,{"$f":"SUM(AN35:AQ35)","v":0},null,null,null,null,{"$f":"SUM(AS35:AV35)","v":0},null,null,null,null,null,null,{"$f":"SUM(AH35,AM35,AR35)","v":0},{"$f":"SUM(AL35,AQ35,AV35)","v":0},{"$f":"IF(AY35=0,0,AZ35/AY35)","v":0},{"$f":"IF((AY35+AX35)=0,0,AX35/(AX35+AY35))","v":0},null,null,null,null,null,null,null,null,null,null,null,null,null,null,null,null,null,null,null,null,null,null,null,null,null,null,null,null,null,null,null,null,null,null,null,null,null,null,null,null,null,{"$f":"((L35=\"создание\")*7+(L35=\"расширение\")*7 +(L35=\"внедрение\")*7+(L35=\"строительство\")*4+(L35=\"реконструкция\")*3+(L35=\"капремонт\")*2 +(L35=\"приобретение\")*1+(L35=\"установка\")*1)*10","v":0},null,{"$f":"IF(P35=\"коммунальная инфраструктура\",(L35=\"строительство\")*3+(L35=\"реконструкция\")*2+(L35=\"капремонт\")*1,0)*10","v":0},null,{"$f":"IF(P35=\"коммунальная инфраструктура\",(L35=\"строительство\")*4+(L35=\"реконструкция\")*3+(L35=\"капремонт\")*2,0)*10","v":0}]
[null,null,7,{"$f":"IF(AND(D29<>\"\",G36<>\"\"),D29,\"\")","v":""},{"$f":"IF(AND(E29<>\"\",G36<>\"\"),E29,\"\")","v":""},null,null,null,null,null,null,null,null,null,null,null,null,null,{"$f":"IF(Q36>=2020,R36-Q36+1,\"\")","v":""},null,{"$f":"IF(Q36>=2020,S36*T36,\"\")","v":""},null,null,null,null,null,null,null,null,null,null,null,null,{"$f":"SUM(AI36:AL36)","v":0},null,null,null,null,{"$f":"SUM(AN36:AQ36)","v":0},null,null,null,null,{"$f":"SUM(AS36:AV36)","v":0},null,null,null,null,null,null,{"$f":"SUM(AH36,AM36,AR36)","v":0},{"$f":"SUM(AL36,AQ36,AV36)","v":0},{"$f":"IF(AY36=0,0,AZ36/AY36)","v":0},{"$f":"IF((AY36+AX36)=0,0,AX36/(AX36+AY36))","v":0},null,null,null,null,null,null,null,null,null,null,null,null,null,null,null,null,null,null,null,null,null,null,null,null,null,null,null,null,null,null,null,null,null,null,null,null,null,null,null,null,null,{"$f":"((L36=\"создание\")*7+(L36=\"расширение\")*7 +(L36=\"внедрение\")*7+(L36=\"строительство\")*4+(L36=\"реконструкция\")*3+(L36=\"капремонт\")*2 +(L36=\"приобретение\")*1+(L36=\"установка\")*1)*10","v":0},null,{"$f":"IF(P36=\"коммунальная инфраструктура\",(L36=\"строительство\")*3+(L36=\"реконструкция\")*2+(L36=\"капремонт\")*1,0)*10","v":0},null,{"$f":"IF(P36=\"коммунальная инфраструктура\",(L36=\"строительство\")*4+(L36=\"реконструкция\")*3+(L36=\"капремонт\")*2,0)*10","v":0}]
[null,null,8,{"$f":"IF(AND(D29<>\"\",G37<>\"\"),D29,\"\")","v":""},{"$f":"IF(AND(E29<>\"\",G37<>\"\"),E29,\"\")","v":""},null,null,null,null,null,null,null,null,null,null,null,null,null,{"$f":"IF(Q37>=2020,R37-Q37+1,\"\")","v":""},null,{"$f":"IF(Q37>=2020,S37*T37,\"\")","v":""},null,null,null,null,null,null,null,null,null,null,null,null,{"$f":"SUM(AI37:AL37)","v":0},null,null,null,null,{"$f":"SUM(AN37:AQ37)","v":0},null,null,null,null,{"$f":"SUM(AS37:AV37)","v":0},null,null,null,null,null,null,{"$f":"SUM(AH37,AM37,AR37)","v":0},{"$f":"SUM(AL37,AQ37,AV37)","v":0},{"$f":"IF(AY37=0,0,AZ37/AY37)","v":0},{"$f":"IF((AY37+AX37)=0,0,AX37/(AX37+AY37))","v":0},null,null,null,null,null,null,null,null,null,null,null,null,null,null,null,null,null,null,null,null,null,null,null,null,null,null,null,null,null,null,null,null,null,null,null,null,null,null,null,null,null,{"$f":"((L37=\"создание\")*7+(L37=\"расширение\")*7 +(L37=\"внедрение\")*7+(L37=\"строительство\")*4+(L37=\"реконструкция\")*3+(L37=\"капремонт\")*2 +(L37=\"приобретение\")*1+(L37=\"установка\")*1)*10","v":0},null,{"$f":"IF(P37=\"коммунальная инфраструктура\",(L37=\"строительство\")*3+(L37=\"реконструкция\")*2+(L37=\"капремонт\")*1,0)*10","v":0},null,{"$f":"IF(P37=\"коммунальная инфраструктура\",(L37=\"строительство\")*4+(L37=\"реконструкция\")*3+(L37=\"капремонт\")*2,0)*10","v":0}]
[null,null,9,{"$f":"IF(AND(D29<>\"\",G38<>\"\"),D29,\"\")","v":""},{"$f":"IF(AND(E29<>\"\",G38<>\"\"),E29,\"\")","v":""},null,null,null,null,null,null,null,null,null,null,null,null,null,{"$f":"IF(Q38>=2020,R38-Q38+1,\"\")","v":""},null,{"$f":"IF(Q38>=2020,S38*T38,\"\")","v":""},null,null,null,null,null,null,null,null,null,null,null,null,{"$f":"SUM(AI38:AL38)","v":0},null,null,null,null,{"$f":"SUM(AN38:AQ38)","v":0},null,null,null,null,{"$f":"SUM(AS38:AV38)","v":0},null,null,null,null,null,null,{"$f":"SUM(AH38,AM38,AR38)","v":0},{"$f":"SUM(AL38,AQ38,AV38)","v":0},{"$f":"IF(AY38=0,0,AZ38/AY38)","v":0},{"$f":"IF((AY38+AX38)=0,0,AX38/(AX38+AY38))","v":0},null,null,null,null,null,null,null,null,null,null,null,null,null,null,null,null,null,null,null,null,null,null,null,null,null,null,null,null,null,null,null,null,null,null,null,null,null,null,null,null,null,{"$f":"((L38=\"создание\")*7+(L38=\"расширение\")*7 +(L38=\"внедрение\")*7+(L38=\"строительство\")*4+(L38=\"реконструкция\")*3+(L38=\"капремонт\")*2 +(L38=\"приобретение\")*1+(L38=\"установка\")*1)*10","v":0},null,{"$f":"IF(P38=\"коммунальная инфраструктура\",(L38=\"строительство\")*3+(L38=\"реконструкция\")*2+(L38=\"капремонт\")*1,0)*10","v":0},null,{"$f":"IF(P38=\"коммунальная инфраструктура\",(L38=\"строительство\")*4+(L38=\"реконструкция\")*3+(L38=\"капремонт\")*2,0)*10","v":0}]
[null,null,10,{"$f":"IF(AND(D29<>\"\",G39<>\"\"),D29,\"\")","v":""},{"$f":"IF(AND(E29<>\"\",G39<>\"\"),E29,\"\")","v":""},null,null,null,null,null,null,null,null,null,null,null,null,null,{"$f":"IF(Q39>=2020,R39-Q39+1,\"\")","v":""},null,{"$f":"IF(Q39>=2020,S39*T39,\"\")","v":""},null,null,null,null,null,null,null,null,null,null,null,null,{"$f":"SUM(AI39:AL39)","v":0},null,null,null,null,{"$f":"SUM(AN39:AQ39)","v":0},null,null,null,null,{"$f":"SUM(AS39:AV39)","v":0},null,null,null,null,null,null,{"$f":"SUM(AH39,AM39,AR39)","v":0},{"$f":"SUM(AL39,AQ39,AV39)","v":0},{"$f":"IF(AY39=0,0,AZ39/AY39)","v":0},{"$f":"IF((AY39+AX39)=0,0,AX39/(AX39+AY39))","v":0},null,null,null,null,null,null,null,null,null,null,null,null,null,null,null,null,null,null,null,null,null,null,null,null,null,null,null,null,null,null,null,null,null,null,null,null,null,null,null,null,null,{"$f":"((L39=\"создание\")*7+(L39=\"расширение\")*7 +(L39=\"внедрение\")*7+(L39=\"строительство\")*4+(L39=\"реконструкция\")*3+(L39=\"капремонт\")*2 +(L39=\"приобретение\")*1+(L39=\"установка\")*1)*10","v":0},null,{"$f":"IF(P39=\"коммунальная инфраструктура\",(L39=\"строительство\")*3+(L39=\"реконструкция\")*2+(L39=\"капремонт\")*1,0)*10","v":0},null,{"$f":"IF(P39=\"коммунальная инфраструктура\",(L39=\"строительство\")*4+(L39=\"реконструкция\")*3+(L39=\"капремонт\")*2,0)*10","v":0}]
[null,null,11,{"$f":"IF(AND(D29<>\"\",G40<>\"\"),D29,\"\")","v":""},{"$f":"IF(AND(E29<>\"\",G40<>\"\"),E29,\"\")","v":""},null,null,null,null,null,null,null,null,null,null,null,null,null,{"$f":"IF(Q40>=2020,R40-Q40+1,\"\")","v":""},null,{"$f":"IF(Q40>=2020,S40*T40,\"\")","v":""},null,null,null,null,null,null,null,null,null,null,null,null,{"$f":"SUM(AI40:AL40)","v":0},null,null,null,null,{"$f":"SUM(AN40:AQ40)","v":0},null,null,null,null,{"$f":"SUM(AS40:AV40)","v":0},null,null,null,null,null,null,{"$f":"SUM(AH40,AM40,AR40)","v":0},{"$f":"SUM(AL40,AQ40,AV40)","v":0},{"$f":"IF(AY40=0,0,AZ40/AY40)","v":0},{"$f":"IF((AY40+AX40)=0,0,AX40/(AX40+AY40))","v":0},null,null,null,null,null,null,null,null,null,null,null,null,null,null,null,null,null,null,null,null,null,null,null,null,null,null,null,null,null,null,null,null,null,null,null,null,null,null,null,null,null,{"$f":"((L40=\"создание\")*7+(L40=\"расширение\")*7 +(L40=\"внедрение\")*7+(L40=\"строительство\")*4+(L40=\"реконструкция\")*3+(L40=\"капремонт\")*2 +(L40=\"приобретение\")*1+(L40=\"установка\")*1)*10","v":0},null,{"$f":"IF(P40=\"коммунальная инфраструктура\",(L40=\"строительство\")*3+(L40=\"реконструкция\")*2+(L40=\"капремонт\")*1,0)*10","v":0},null,{"$f":"IF(P40=\"коммунальная инфраструктура\",(L40=\"строительство\")*4+(L40=\"реконструкция\")*3+(L40=\"капремонт\")*2,0)*10","v":0}]
[null,null,12,{"$f":"IF(AND(D29<>\"\",G41<>\"\"),D29,\"\")","v":""},{"$f":"IF(AND(E29<>\"\",G41<>\"\"),E29,\"\")","v":""},null,null,null,null,null,null,null,null,null,null,null,null,null,{"$f":"IF(Q41>=2020,R41-Q41+1,\"\")","v":""},null,{"$f":"IF(Q41>=2020,S41*T41,\"\")","v":""},null,null,null,null,null,null,null,null,null,null,null,null,{"$f":"SUM(AI41:AL41)","v":0},null,null,null,null,{"$f":"SUM(AN41:AQ41)","v":0},null,null,null,null,{"$f":"SUM(AS41:AV41)","v":0},null,null,null,null,null,null,{"$f":"SUM(AH41,AM41,AR41)","v":0},{"$f":"SUM(AL41,AQ41,AV41)","v":0},{"$f":"IF(AY41=0,0,AZ41/AY41)","v":0},{"$f":"IF((AY41+AX41)=0,0,AX41/(AX41+AY41))","v":0},null,null,null,null,null,null,null,null,null,null,null,null,null,null,null,null,null,null,null,null,null,null,null,null,null,null,null,null,null,null,null,null,null,null,null,null,null,null,null,null,null,{"$f":"((L41=\"создание\")*7+(L41=\"расширение\")*7 +(L41=\"внедрение\")*7+(L41=\"строительство\")*4+(L41=\"реконструкция\")*3+(L41=\"капремонт\")*2 +(L41=\"приобретение\")*1+(L41=\"установка\")*1)*10","v":0},null,{"$f":"IF(P41=\"коммунальная инфраструктура\",(L41=\"строительство\")*3+(L41=\"реконструкция\")*2+(L41=\"капремонт\")*1,0)*10","v":0},null,{"$f":"IF(P41=\"коммунальная инфраструктура\",(L41=\"строительство\")*4+(L41=\"реконструкция\")*3+(L41=\"капремонт\")*2,0)*10","v":0}]
[null,null,13,{"$f":"IF(AND(D29<>\"\",G42<>\"\"),D29,\"\")","v":""},{"$f":"IF(AND(E29<>\"\",G42<>\"\"),E29,\"\")","v":""},null,null,null,null,null,null,null,null,null,null,null,null,null,{"$f":"IF(Q42>=2020,R42-Q42+1,\"\")","v":""},null,{"$f":"IF(Q42>=2020,S42*T42,\"\")","v":""},null,null,null,null,null,null,null,null,null,null,null,null,{"$f":"SUM(AI42:AL42)","v":0},null,null,null,null,{"$f":"SUM(AN42:AQ42)","v":0},null,null,null,null,{"$f":"SUM(AS42:AV42)","v":0},null,null,null,null,null,null,{"$f":"SUM(AH42,AM42,AR42)","v":0},{"$f":"SUM(AL42,AQ42,AV42)","v":0},{"$f":"IF(AY42=0,0,AZ42/AY42)","v":0},{"$f":"IF((AY42+AX42)=0,0,AX42/(AX42+AY42))","v":0},null,null,null,null,null,null,null,null,null,null,null,null,null,null,null,null,null,null,null,null,null,null,null,null,null,null,null,null,null,null,null,null,null,null,null,null,null,null,null,null,null,{"$f":"((L42=\"создание\")*7+(L42=\"расширение\")*7 +(L42=\"внедрение\")*7+(L42=\"строительство\")*4+(L42=\"реконструкция\")*3+(L42=\"капремонт\")*2 +(L42=\"приобретение\")*1+(L42=\"установка\")*1)*10","v":0},null,{"$f":"IF(P42=\"коммунальная инфраструктура\",(L42=\"строительство\")*3+(L42=\"реконструкция\")*2+(L42=\"капремонт\")*1,0)*10","v":0},null,{"$f":"IF(P42=\"коммунальная инфраструктура\",(L42=\"строительство\")*4+(L42=\"реконструкция\")*3+(L42=\"капремонт\")*2,0)*10","v":0}]
[null,null,14,{"$f":"IF(AND(D29<>\"\",G43<>\"\"),D29,\"\")","v":""},{"$f":"IF(AND(E29<>\"\",G43<>\"\"),E29,\"\")","v":""},null,null,null,null,null,null,null,null,null,null,null,null,null,{"$f":"IF(Q43>=2020,R43-Q43+1,\"\")","v":""},null,{"$f":"IF(Q43>=2020,S43*T43,\"\")","v":""},null,null,null,null,null,null,null,null,null,null,null,null,{"$f":"SUM(AI43:AL43)","v":0},null,null,null,null,{"$f":"SUM(AN43:AQ43)","v":0},null,null,null,null,{"$f":"SUM(AS43:AV43)","v":0},null,null,null,null,null,null,{"$f":"SUM(AH43,AM43,AR43)","v":0},{"$f":"SUM(AL43,AQ43,AV43)","v":0},{"$f":"IF(AY43=0,0,AZ43/AY43)","v":0},{"$f":"IF((AY43+AX43)=0,0,AX43/(AX43+AY43))","v":0},null,null,null,null,null,null,null,null,null,null,null,null,null,null,null,null,null,null,null,null,null,null,null,null,null,null,null,null,null,null,null,null,null,null,null,null,null,null,null,null,null,{"$f":"((L43=\"создание\")*7+(L43=\"расширение\")*7 +(L43=\"внедрение\")*7+(L43=\"строительство\")*4+(L43=\"реконструкция\")*3+(L43=\"капремонт\")*2 +(L43=\"приобретение\")*1+(L43=\"установка\")*1)*10","v":0},null,{"$f":"IF(P43=\"коммунальная инфраструктура\",(L43=\"строительство\")*3+(L43=\"реконструкция\")*2+(L43=\"капремонт\")*1,0)*10","v":0},null,{"$f":"IF(P43=\"коммунальная инфраструктура\",(L43=\"строительство\")*4+(L43=\"реконструкция\")*3+(L43=\"капремонт\")*2,0)*10","v":0}]
[null,null,15,{"$f":"IF(AND(D29<>\"\",G44<>\"\"),D29,\"\")","v":""},{"$f":"IF(AND(E29<>\"\",G44<>\"\"),E29,\"\")","v":""},null,null,null,null,null,null,null,null,null,null,null,null,null,{"$f":"IF(Q44>=2020,R44-Q44+1,\"\")","v":""},null,{"$f":"IF(Q44>=2020,S44*T44,\"\")","v":""},null,null,null,null,null,null,null,null,null,null,null,null,{"$f":"SUM(AI44:AL44)","v":0},null,null,null,null,{"$f":"SUM(AN44:AQ44)","v":0},null,null,null,null,{"$f":"SUM(AS44:AV44)","v":0},null,null,null,null,null,null,{"$f":"SUM(AH44,AM44,AR44)","v":0},{"$f":"SUM(AL44,AQ44,AV44)","v":0},{"$f":"IF(AY44=0,0,AZ44/AY44)","v":0},{"$f":"IF((AY44+AX44)=0,0,AX44/(AX44+AY44))","v":0},null,null,null,null,null,null,null,null,null,null,null,null,null,null,null,null,null,null,null,null,null,null,null,null,null,null,null,null,null,null,null,null,null,null,null,null,null,null,null,null,null,{"$f":"((L44=\"создание\")*7+(L44=\"расширение\")*7 +(L44=\"внедрение\")*7+(L44=\"строительство\")*4+(L44=\"реконструкция\")*3+(L44=\"капремонт\")*2 +(L44=\"приобретение\")*1+(L44=\"установка\")*1)*10","v":0},null,{"$f":"IF(P44=\"коммунальная инфраструктура\",(L44=\"строительство\")*3+(L44=\"реконструкция\")*2+(L44=\"капремонт\")*1,0)*10","v":0},null,{"$f":"IF(P44=\"коммунальная инфраструктура\",(L44=\"строительство\")*4+(L44=\"реконструкция\")*3+(L44=\"капремонт\")*2,0)*10","v":0}]
[null,null,16,{"$f":"IF(AND(D29<>\"\",G45<>\"\"),D29,\"\")","v":""},{"$f":"IF(AND(E29<>\"\",G45<>\"\"),E29,\"\")","v":""},null,null,null,null,null,null,null,null,null,null,null,null,null,{"$f":"IF(Q45>=2020,R45-Q45+1,\"\")","v":""},null,{"$f":"IF(Q45>=2020,S45*T45,\"\")","v":""},null,null,null,null,null,null,null,null,null,null,null,null,{"$f":"SUM(AI45:AL45)","v":0},null,null,null,null,{"$f":"SUM(AN45:AQ45)","v":0},null,null,null,null,{"$f":"SUM(AS45:AV45)","v":0},null,null,null,null,null,null,{"$f":"SUM(AH45,AM45,AR45)","v":0},{"$f":"SUM(AL45,AQ45,AV45)","v":0},{"$f":"IF(AY45=0,0,AZ45/AY45)","v":0},{"$f":"IF((AY45+AX45)=0,0,AX45/(AX45+AY45))","v":0},null,null,null,null,null,null,null,null,null,null,null,null,null,null,null,null,null,null,null,null,null,null,null,null,null,null,null,null,null,null,null,null,null,null,null,null,null,null,null,null,null,{"$f":"((L45=\"создание\")*7+(L45=\"расширение\")*7 +(L45=\"внедрение\")*7+(L45=\"строительство\")*4+(L45=\"реконструкция\")*3+(L45=\"капремонт\")*2 +(L45=\"приобретение\")*1+(L45=\"установка\")*1)*10","v":0},null,{"$f":"IF(P45=\"коммунальная инфраструктура\",(L45=\"строительство\")*3+(L45=\"реконструкция\")*2+(L45=\"капремонт\")*1,0)*10","v":0},null,{"$f":"IF(P45=\"коммунальная инфраструктура\",(L45=\"строительство\")*4+(L45=\"реконструкция\")*3+(L45=\"капремонт\")*2,0)*10","v":0}]
[null,null,17,{"$f":"IF(AND(D29<>\"\",G46<>\"\"),D29,\"\")","v":""},{"$f":"IF(AND(E29<>\"\",G46<>\"\"),E29,\"\")","v":""},null,null,null,null,null,null,null,null,null,null,null,null,null,{"$f":"IF(Q46>=2020,R46-Q46+1,\"\")","v":""},null,{"$f":"IF(Q46>=2020,S46*T46,\"\")","v":""},null,null,null,null,null,null,null,null,null,null,null,null,{"$f":"SUM(AI46:AL46)","v":0},null,null,null,null,{"$f":"SUM(AN46:AQ46)","v":0},null,null,null,null,{"$f":"SUM(AS46:AV46)","v":0},null,null,null,null,null,null,{"$f":"SUM(AH46,AM46,AR46)","v":0},{"$f":"SUM(AL46,AQ46,AV46)","v":0},{"$f":"IF(AY46=0,0,AZ46/AY46)","v":0},{"$f":"IF((AY46+AX46)=0,0,AX46/(AX46+AY46))","v":0},null,null,null,null,null,null,null,null,null,null,null,null,null,null,null,null,null,null,null,null,null,null,null,null,null,null,null,null,null,null,null,null,null,null,null,null,null,null,null,null,null,{"$f":"((L46=\"создание\")*7+(L46=\"расширение\")*7 +(L46=\"внедрение\")*7+(L46=\"строительство\")*4+(L46=\"реконструкция\")*3+(L46=\"капремонт\")*2 +(L46=\"приобретение\")*1+(L46=\"установка\")*1)*10","v":0},null,{"$f":"IF(P46=\"коммунальная инфраструктура\",(L46=\"строительство\")*3+(L46=\"реконструкция\")*2+(L46=\"капремонт\")*1,0)*10","v":0},null,{"$f":"IF(P46=\"коммунальная инфраструктура\",(L46=\"строительство\")*4+(L46=\"реконструкция\")*3+(L46=\"капремонт\")*2,0)*10","v":0}]
[null,null,18,{"$f":"IF(AND(D29<>\"\",G47<>\"\"),D29,\"\")","v":""},{"$f":"IF(AND(E29<>\"\",G47<>\"\"),E29,\"\")","v":""},null,null,null,null,null,null,null,null,null,null,null,null,null,{"$f":"IF(Q47>=2020,R47-Q47+1,\"\")","v":""},null,{"$f":"IF(Q47>=2020,S47*T47,\"\")","v":""},null,null,null,null,null,null,null,null,null,null,null,null,{"$f":"SUM(AI47:AL47)","v":0},null,null,null,null,{"$f":"SUM(AN47:AQ47)","v":0},null,null,null,null,{"$f":"SUM(AS47:AV47)","v":0},null,null,null,null,null,null,{"$f":"SUM(AH47,AM47,AR47)","v":0},{"$f":"SUM(AL47,AQ47,AV47)","v":0},{"$f":"IF(AY47=0,0,AZ47/AY47)","v":0},{"$f":"IF((AY47+AX47)=0,0,AX47/(AX47+AY47))","v":0},null,null,null,null,null,null,null,null,null,null,null,null,null,null,null,null,null,null,null,null,null,null,null,null,null,null,null,null,null,null,null,null,null,null,null,null,null,null,null,null,null,{"$f":"((L47=\"создание\")*7+(L47=\"расширение\")*7 +(L47=\"внедрение\")*7+(L47=\"строительство\")*4+(L47=\"реконструкция\")*3+(L47=\"капремонт\")*2 +(L47=\"приобретение\")*1+(L47=\"установка\")*1)*10","v":0},null,{"$f":"IF(P47=\"коммунальная инфраструктура\",(L47=\"строительство\")*3+(L47=\"реконструкция\")*2+(L47=\"капремонт\")*1,0)*10","v":0},null,{"$f":"IF(P47=\"коммунальная инфраструктура\",(L47=\"строительство\")*4+(L47=\"реконструкция\")*3+(L47=\"капремонт\")*2,0)*10","v":0}]
[null,null,19,{"$f":"IF(AND(D29<>\"\",G48<>\"\"),D29,\"\")","v":""},{"$f":"IF(AND(E29<>\"\",G48<>\"\"),E29,\"\")","v":""},null,null,null,null,null,null,null,null,null,null,null,null,null,{"$f":"IF(Q48>=2020,R48-Q48+1,\"\")","v":""},null,{"$f":"IF(Q48>=2020,S48*T48,\"\")","v":""},null,null,null,null,null,null,null,null,null,null,null,null,{"$f":"SUM(AI48:AL48)","v":0},null,null,null,null,{"$f":"SUM(AN48:AQ48)","v":0},null,null,null,null,{"$f":"SUM(AS48:AV48)","v":0},null,null,null,null,null,null,{"$f":"SUM(AH48,AM48,AR48)","v":0},{"$f":"SUM(AL48,AQ48,AV48)","v":0},{"$f":"IF(AY48=0,0,AZ48/AY48)","v":0},{"$f":"IF((AY48+AX48)=0,0,AX48/(AX48+AY48))","v":0},null,null,null,null,null,null,null,null,null,null,null,null,null,null,null,null,null,null,null,null,null,null,null,null,null,null,null,null,null,null,null,null,null,null,null,null,null,null,null,null,null,{"$f":"((L48=\"создание\")*7+(L48=\"расширение\")*7 +(L48=\"внедрение\")*7+(L48=\"строительство\")*4+(L48=\"реконструкция\")*3+(L48=\"капремонт\")*2 +(L48=\"приобретение\")*1+(L48=\"установка\")*1)*10","v":0},null,{"$f":"IF(P48=\"коммунальная инфраструктура\",(L48=\"строительство\")*3+(L48=\"реконструкция\")*2+(L48=\"капремонт\")*1,0)*10","v":0},null,{"$f":"IF(P48=\"коммунальная инфраструктура\",(L48=\"строительство\")*4+(L48=\"реконструкция\")*3+(L48=\"капремонт\")*2,0)*10","v":0}]
[null,null,20,{"$f":"IF(AND(D29<>\"\",G49<>\"\"),D29,\"\")","v":""},{"$f":"IF(AND(E29<>\"\",G49<>\"\"),E29,\"\")","v":""},null,null,null,null,null,null,null,null,null,null,null,null,null,{"$f":"IF(Q49>=2020,R49-Q49+1,\"\")","v":""},null,{"$f":"IF(Q49>=2020,S49*T49,\"\")","v":""},null,null,null,null,null,null,null,null,null,null,null,null,{"$f":"SUM(AI49:AL49)","v":0},null,null,null,null,{"$f":"SUM(AN49:AQ49)","v":0},null,null,null,null,{"$f":"SUM(AS49:AV49)","v":0},null,null,null,null,null,null,{"$f":"SUM(AH49,AM49,AR49)","v":0},{"$f":"SUM(AL49,AQ49,AV49)","v":0},{"$f":"IF(AY49=0,0,AZ49/AY49)","v":0},{"$f":"IF((AY49+AX49)=0,0,AX49/(AX49+AY49))","v":0},null,null,null,null,null,null,null,null,null,null,null,null,null,null,null,null,null,null,null,null,null,null,null,null,null,null,null,null,null,null,null,null,null,null,null,null,null,null,null,null,null,{"$f":"((L49=\"создание\")*7+(L49=\"расширение\")*7 +(L49=\"внедрение\")*7+(L49=\"строительство\")*4+(L49=\"реконструкция\")*3+(L49=\"капремонт\")*2 +(L49=\"приобретение\")*1+(L49=\"установка\")*1)*10","v":0},null,{"$f":"IF(P49=\"коммунальная инфраструктура\",(L49=\"строительство\")*3+(L49=\"реконструкция\")*2+(L49=\"капремонт\")*1,0)*10","v":0},null,{"$f":"IF(P49=\"коммунальная инфраструктура\",(L49=\"строительство\")*4+(L49=\"реконструкция\")*3+(L49=\"капремонт\")*2,0)*10","v":0}]
[null,null,"…",{"$f":"IF(AND(D29<>\"\",G50<>\"\"),D29,\"\")","v":""},{"$f":"IF(AND(E29<>\"\",G50<>\"\"),E29,\"\")","v":""},null,null,null,null,null,null,null,null,null,null,null,null,null,{"$f":"IF(Q50>=2020,R50-Q50+1,\"\")","v":""},null,{"$f":"IF(Q50>=2020,S50*T50,\"\")","v":""},null,null,null,null,null,null,null,null,null,null,null,null,{"$f":"SUM(AI50:AL50)","v":0},null,null,null,null,{"$f":"SUM(AN50:AQ50)","v":0},null,null,null,null,{"$f":"SUM(AS50:AV50)","v":0},null,null,null,null,null,null,{"$f":"SUM(AH50,AM50,AR50)","v":0},{"$f":"SUM(AL50,AQ50,AV50)","v":0},{"$f":"IF(AY50=0,0,AZ50/AY50)","v":0},{"$f":"IF((AY50+AX50)=0,0,AX50/(AX50+AY50))","v":0},null,null,null,null,null,null,null,null,null,null,null,null,null,null,null,null,null,null,null,null,null,null,null,null,null,null,null,null,null,null,null,null,null,null,null,null,null,null,null,null,null,{"$f":"((L50=\"создание\")*7+(L50=\"расширение\")*7 +(L50=\"внедрение\")*7+(L50=\"строительство\")*4+(L50=\"реконструкция\")*3+(L50=\"капремонт\")*2 +(L50=\"приобретение\")*1+(L50=\"установка\")*1)*10","v":0},null,{"$f":"IF(P50=\"коммунальная инфраструктура\",(L50=\"строительство\")*3+(L50=\"реконструкция\")*2+(L50=\"капремонт\")*1,0)*10","v":0},null,{"$f":"IF(P50=\"коммунальная инфраструктура\",(L50=\"строительство\")*4+(L50=\"реконструкция\")*3+(L50=\"капремонт\")*2,0)*10","v":0}]
[3,null,{"$f":"COUNTA(G52:G72)","v":0},null,null,null,null,null,null,null,null,null,null,null,null,null,{"$f":"MIN(Q52:Q72)","v":0},{"$f":"MAX(R52:R72)","v":0},{"$f":"MAX(S52:S72)","v":0},null,{"$f":"MAX(U52:U72)","v":0},null,null,null,null,null,{"$f":"IF(COUNTIF(AA52:AA72,\"НЕТ\")>0,\"ПД!\",\"ок\")","v":"ок"},null,{"$f":"IF(COUNTIF(AC52:AC72,\"НЕТ\")>0,\"ДОСМ!\",\"ок\")","v":"ок"},null,{"$f":"IF(COUNTIF(AE52:AE72,\"НЕТ\")>0,\"ФОИВ!\",\"ок\")","v":"ок"},{"$f":"IF(COUNTIF(AF52:AF72,\"НЕТ\")>0,\"ФОИВ!\",\"ок\")","v":"ок"},null,{"$f":"SUM(AH52:AH72)","v":0},{"$f":"SUM(AI52:AI72)","v":0},{"$f":"SUM(AJ52:AJ72)","v":0},{"$f":"SUM(AK52:AK72)","v":0},{"$f":"SUM(AL52:AL72)","v":0},{"$f":"SUM(AM52:AM72)","v":0},{"$f":"SUM(AN52:AN72)","v":0},{"$f":"SUM(AO52:AO72)","v":0},{"$f":"SUM(AP52:AP72)","v":0},{"$f":"SUM(AQ52:AQ72)","v":0},{"$f":"SUM(AR52:AR72)","v":0},{"$f":"SUM(AS52:AS72)","v":0},{"$f":"SUM(AT52:AT72)","v":0},{"$f":"SUM(AU52:AU72)","v":0},{"$f":"SUM(AV52:AV72)","v":0},{"$f":"SUM(AW52:AW72)","v":0},{"$f":"SUM(AX52:AX72)","v":0},{"$f":"SUM(AH51,AM51,AR51)","v":0},{"$f":"AL51+AQ51+AV51","v":0},{"$f":"IF(AY51=0,0,AZ51/AY51)","v":0},{"$f":"IF((AY51+AX51)=0,0,AX51/(AX51+AY51))","v":0},null,null,{"$f":"IFERROR(BD51/BC51,0)","v":0},null,null,{"$f":"IFERROR(BG51/BF51,0)","v":0},null,null,{"$f":"IFERROR(BJ51/BI51,0)","v":0},null,null,null,{"$f":"(SUM(BL51:BN51)>0)*1+(SUM(BL51:BN51)>=10)*1+(SUM(BL51:BN51)>=50)*1+(SUM(BL51:BN51)>=100)*1+(SUM(BL51:BN51)>=200)*1+(SUM(BL51:BN51)>=300)*1","v":0},{"$f":"IFERROR(SUM(BL51:BN51)/BC51,0)","v":0},null,null,{"$f":"IFERROR(BQ51/BR51,0)","v":0},{"$f":"IF(BA51<0.01,0,IF(BA51>=0.1,10,ROUNDDOWN(BA51/0.01,0)))","v":0},8,{"$f":"BT51*BU51","v":0},{"$f":"IF(BB51<0.01,0,IF(BB51>=0.1,10,ROUNDDOWN(BB51/0.01,0)))","v":0},8,{"$f":"BW51*BX51","v":0},{"$f":"IF(U51<=1,9,IF(U51<=2,6,IF(U51<=3,3,0)))*(C51>0)","v":0},6,{"$f":"BZ51*CA51","v":0},{"$f":"IF(BH51<0.51,0,10)","v":0},7,{"$f":"CC51*CD51","v":0},{"$f":"IF(BE51<0.1,0,IF(BE51>=0.9,10,ROUNDDOWN(BE51/0.1,0)))","v":0},10,{"$f":"CF51*CG51","v":0},{"$f":"IF(BK51<0.1,0,IF(BK51>=0.6,10,ROUNDDOWN(BK51/0.1,0)))","v":0},8,{"$f":"CI51*CJ51","v":0},{"$f":"IF(BP51<0.05,0,IF(BP51>=0.1,10,1))","v":0},10,{"$f":"CL51*CM51","v":0},{"$f":"IF(BS51<0.1,0,IF(BS51>=0.8,10,ROUNDDOWN(BS51/0.1,0)))","v":0},10,{"$f":"CP51*CO51","v":0},{"$f":"ROUND(IF(C51=0,0,SUM(CR52:CR72)/C51),1)","v":0},{"$f":"((SUM(BL51:BN51)>=1)*1+(SUM(BL51:BN51)>=11)*1+(SUM(BL51:BN51)>=51)*3+(SUM(BL51:BN51)>=101)*2+(SUM(BL51:BN51)>=201)*2+(SUM(BL51:BN51)>=301)*4)*10","v":0},{"$f":"IFERROR(ROUND(SUM(CT52:CT72)/COUNTIF(P52:P72,\"коммунальная инфраструктура\"),1),0)","v":0},{"$f":"CS51+CT51","v":0},{"$f":"IFERROR(ROUND(SUM(CV52:CV72)/COUNTIF(P52:P72,\"коммунальная инфраструктура\"),1),0)","v":0},{"$f":"SUM(BV51,BY51,CB51,CE51,CH51,CK51,CN51,CQ51,CR51,CU51,CV51)","v":0},{"$f":"VLOOKUP(D51,РегионыФО,2,0)","v":{"$error":"#N/A"}}]
[null,null,1,{"$f":"IF(AND(D51<>\"\",G52<>\"\"),D51,\"\")","v":""},{"$f":"IF(AND(E51<>\"\",G52<>\"\"),E51,\"\")","v":""},null,null,null,null,null,null,null,null,null,null,null,null,null,{"$f":"IF(Q52>=2020,R52-Q52+1,\"\")","v":""},null,{"$f":"IF(Q52>=2020,ROUNDUP(S52*T52,0),\"\")","v":""},null,null,null,null,null,null,null,null,null,null,null,null,{"$f":"SUM(AI52:AL52)","v":0},null,null,null,null,{"$f":"SUM(AN52:AQ52)","v":0},null,null,null,null,{"$f":"SUM(AS52:AV52)","v":0},null,null,null,null,null,null,{"$f":"SUM(AH52,AM52,AR52)","v":0},{"$f":"SUM(AL52,AQ52,AV52)","v":0},{"$f":"IF(AY52=0,0,AZ52/AY52)","v":0},{"$f":"IF((AY52+AX52)=0,0,AX52/(AX52+AY52))","v":0},null,null,null,null,null,null,null,null,null,null,null,null,null,null,null,null,null,null,null,null,null,null,null,null,null,null,null,null,null,null,null,null,null,null,null,null,null,null,null,null,null,{"$f":"((L52=\"создание\")*7+(L52=\"расширение\")*7 +(L52=\"внедрение\")*7+(L52=\"строительство\")*4+(L52=\"реконструкция\")*3+(L52=\"капремонт\")*2 +(L52=\"приобретение\")*1+(L52=\"установка\")*1)*10","v":0},null,{"$f":"IF(P52=\"коммунальная инфраструктура\",(L52=\"строительство\")*3+(L52=\"реконструкция\")*2+(L52=\"капремонт\")*1,0)*10","v":0},null,{"$f":"IF(P52=\"коммунальная инфраструктура\",(L52=\"строительство\")*4+(L52=\"реконструкция\")*3+(L52=\"капремонт\")*2,0)*10","v":0}]
[null,null,2,{"$f":"IF(AND(D51<>\"\",G53<>\"\"),D51,\"\")","v":""},{"$f":"IF(AND(E51<>\"\",G53<>\"\"),E51,\"\")","v":""},null,null,null,null,null,null,null,null,null,null,null,null,null,{"$f":"IF(Q53>=2020,R53-Q53+1,\"\")","v":""},null,{"$f":"IF(Q53>=2020,S53*T53,\"\")","v":""},null,null,null,null,null,null,null,null,null,null,null,null,{"$f":"SUM(AI53:AL53)","v":0},null,null,null,null,{"$f":"SUM(AN53:AQ53)","v":0},null,null,null,null,{"$f":"SUM(AS53:AV53)","v":0},null,null,null,null,null,null,{"$f":"SUM(AH53,AM53,AR53)","v":0},{"$f":"SUM(AL53,AQ53,AV53)","v":0},{"$f":"IF(AY53=0,0,AZ53/AY53)","v":0},{"$f":"IF((AY53+AX53)=0,0,AX53/(AX53+AY53))","v":0},null,null,null,null,null,null,null,null,null,null,null,null,null,null,null,null,null,null,null,null,null,null,null,null,null,null,null,null,null,null,null,null,null,null,null,null,null,null,null,null,null,{"$f":"((L53=\"создание\")*7+(L53=\"расширение\")*7 +(L53=\"внедрение\")*7+(L53=\"строительство\")*4+(L53=\"реконструкция\")*3+(L53=\"капремонт\")*2 +(L53=\"приобретение\")*1+(L53=\"установка\")*1)*10","v":0},null,{"$f":"IF(P53=\"коммунальная инфраструктура\",(L53=\"строительство\")*3+(L53=\"реконструкция\")*2+(L53=\"капремонт\")*1,0)*10","v":0},null,{"$f":"IF(P53=\"коммунальная инфраструктура\",(L53=\"строительство\")*4+(L53=\"реконструкция\")*3+(L53=\"капремонт\")*2,0)*10","v":0}]
[null,null,3,{"$f":"IF(AND(D51<>\"\",G54<>\"\"),D51,\"\")","v":""},{"$f":"IF(AND(E51<>\"\",G54<>\"\"),E51,\"\")","v":""},null,null,null,null,null,null,null,null,null,null,null,null,null,{"$f":"IF(Q54>=2020,R54-Q54+1,\"\")","v":""},null,{"$f":"IF(Q54>=2020,S54*T54,\"\")","v":""},null,null,null,null,null,null,null,null,null,null,null,null,{"$f":"SUM(AI54:AL54)","v":0},null,null,null,null,{"$f":"SUM(AN54:AQ54)","v":0},null,null,null,null,{"$f":"SUM(AS54:AV54)","v":0},null,null,null,null,null,null,{"$f":"SUM(AH54,AM54,AR54)","v":0},{"$f":"SUM(AL54,AQ54,AV54)","v":0},{"$f":"IF(AY54=0,0,AZ54/AY54)","v":0},{"$f":"IF((AY54+AX54)=0,0,AX54/(AX54+AY54))","v":0},null,null,null,null,null,null,null,null,null,null,null,null,null,null,null,null,null,null,null,null,null,null,null,null,null,null,null,null,null,null,null,null,null,null,null,null,null,null,null,null,null,{"$f":"((L54=\"создание\")*7+(L54=\"расширение\")*7 +(L54=\"внедрение\")*7+(L54=\"строительство\")*4+(L54=\"реконструкция\")*3+(L54=\"капремонт\")*2 +(L54=\"приобретение\")*1+(L54=\"установка\")*1)*10","v":0},null,{"$f":"IF(P54=\"коммунальная инфраструктура\",(L54=\"строительство\")*3+(L54=\"реконструкция\")*2+(L54=\"капремонт\")*1,0)*10","v":0},null,{"$f":"IF(P54=\"коммунальная инфраструктура\",(L54=\"строительство\")*4+(L54=\"реконструкция\")*3+(L54=\"капремонт\")*2,0)*10","v":0}]
[null,null,4,{"$f":"IF(AND(D51<>\"\",G55<>\"\"),D51,\"\")","v":""},{"$f":"IF(AND(E51<>\"\",G55<>\"\"),E51,\"\")","v":""},null,null,null,null,null,null,null,null,null,null,null,null,null,{"$f":"IF(Q55>=2020,R55-Q55+1,\"\")","v":""},null,{"$f":"IF(Q55>=2020,S55*T55,\"\")","v":""},null,null,null,null,null,null,null,null,null,null,null,null,{"$f":"SUM(AI55:AL55)","v":0},null,null,null,null,{"$f":"SUM(AN55:AQ55)","v":0},null,null,null,null,{"$f":"SUM(AS55:AV55)","v":0},null,null,null,null,null,null,{"$f":"SUM(AH55,AM55,AR55)","v":0},{"$f":"SUM(AL55,AQ55,AV55)","v":0},{"$f":"IF(AY55=0,0,AZ55/AY55)","v":0},{"$f":"IF((AY55+AX55)=0,0,AX55/(AX55+AY55))","v":0},null,null,null,null,null,null,null,null,null,null,null,null,null,null,null,null,null,null,null,null,null,null,null,null,null,null,null,null,null,null,null,null,null,null,null,null,null,null,null,null,null,{"$f":"((L55=\"создание\")*7+(L55=\"расширение\")*7 +(L55=\"внедрение\")*7+(L55=\"строительство\")*4+(L55=\"реконструкция\")*3+(L55=\"капремонт\")*2 +(L55=\"приобретение\")*1+(L55=\"установка\")*1)*10","v":0},null,{"$f":"IF(P55=\"коммунальная инфраструктура\",(L55=\"строительство\")*3+(L55=\"реконструкция\")*2+(L55=\"капремонт\")*1,0)*10","v":0},null,{"$f":"IF(P55=\"коммунальная инфраструктура\",(L55=\"строительство\")*4+(L55=\"реконструкция\")*3+(L55=\"капремонт\")*2,0)*10","v":0}]
[null,null,5,{"$f":"IF(AND(D51<>\"\",G56<>\"\"),D51,\"\")","v":""},{"$f":"IF(AND(E51<>\"\",G56<>\"\"),E51,\"\")","v":""},null,null,null,null,null,null,null,null,null,null,null,null,null,{"$f":"IF(Q56>=2020,R56-Q56+1,\"\")","v":""},null,{"$f":"IF(Q56>=2020,S56*T56,\"\")","v":""},null,null,null,null,null,null,null,null,null,null,null,null,{"$f":"SUM(AI56:AL56)","v":0},null,null,null,null,{"$f":"SUM(AN56:AQ56)","v":0},null,null,null,null,{"$f":"SUM(AS56:AV56)","v":0},null,null,null,null,null,null,{"$f":"SUM(AH56,AM56,AR56)","v":0},{"$f":"SUM(AL56,AQ56,AV56)","v":0},{"$f":"IF(AY56=0,0,AZ56/AY56)","v":0},{"$f":"IF((AY56+AX56)=0,0,AX56/(AX56+AY56))","v":0},null,null,null,null,null,null,null,null,null,null,null,null,null,null,null,null,null,null,null,null,null,null,null,null,null,null,null,null,null,null,null,null,null,null,null,null,null,null,null,null,null,{"$f":"((L56=\"создание\")*7+(L56=\"расширение\")*7 +(L56=\"внедрение\")*7+(L56=\"строительство\")*4+(L56=\"реконструкция\")*3+(L56=\"капремонт\")*2 +(L56=\"приобретение\")*1+(L56=\"установка\")*1)*10","v":0},null,{"$f":"IF(P56=\"коммунальная инфраструктура\",(L56=\"строительство\")*3+(L56=\"реконструкция\")*2+(L56=\"капремонт\")*1,0)*10","v":0},null,{"$f":"IF(P56=\"коммунальная инфраструктура\",(L56=\"строительство\")*4+(L56=\"реконструкция\")*3+(L56=\"капремонт\")*2,0)*10","v":0}]
[null,null,6,{"$f":"IF(AND(D51<>\"\",G57<>\"\"),D51,\"\")","v":""},{"$f":"IF(AND(E51<>\"\",G57<>\"\"),E51,\"\")","v":""},null,null,null,null,null,null,null,null,null,null,null,null,null,{"$f":"IF(Q57>=2020,R57-Q57+1,\"\")","v":""},null,{"$f":"IF(Q57>=2020,S57*T57,\"\")","v":""},null,null,null,null,null,null,null,null,null,null,null,null,{"$f":"SUM(AI57:AL57)","v":0},null,null,null,null,{"$f":"SUM(AN57:AQ57)","v":0},null,null,null,null,{"$f":"SUM(AS57:AV57)","v":0},null,null,null,null,null,null,{"$f":"SUM(AH57,AM57,AR57)","v":0},{"$f":"SUM(AL57,AQ57,AV57)","v":0},{"$f":"IF(AY57=0,0,AZ57/AY57)","v":0},{"$f":"IF((AY57+AX57)=0,0,AX57/(AX57+AY57))","v":0},null,null,null,null,null,null,null,null,null,null,null,null,null,null,null,null,null,null,null,null,null,null,null,null,null,null,null,null,null,null,null,null,null,null,null,null,null,null,null,null,null,{"$f":"((L57=\"создание\")*7+(L57=\"расширение\")*7 +(L57=\"внедрение\")*7+(L57=\"строительство\")*4+(L57=\"реконструкция\")*3+(L57=\"капремонт\")*2 +(L57=\"приобретение\")*1+(L57=\"установка\")*1)*10","v":0},null,{"$f":"IF(P57=\"коммунальная инфраструктура\",(L57=\"строительство\")*3+(L57=\"реконструкция\")*2+(L57=\"капремонт\")*1,0)*10","v":0},null,{"$f":"IF(P57=\"коммунальная инфраструктура\",(L57=\"строительство\")*4+(L57=\"реконструкция\")*3+(L57=\"капремонт\")*2,0)*10","v":0}]
[null,null,7,{"$f":"IF(AND(D51<>\"\",G58<>\"\"),D51,\"\")","v":""},{"$f":"IF(AND(E51<>\"\",G58<>\"\"),E51,\"\")","v":""},null,null,null,null,null,null,null,null,null,null,null,null,null,{"$f":"IF(Q58>=2020,R58-Q58+1,\"\")","v":""},null,{"$f":"IF(Q58>=2020,S58*T58,\"\")","v":""},null,null,null,null,null,null,null,null,null,null,null,null,{"$f":"SUM(AI58:AL58)","v":0},null,null,null,null,{"$f":"SUM(AN58:AQ58)","v":0},null,null,null,null,{"$f":"SUM(AS58:AV58)","v":0},null,null,null,null,null,null,{"$f":"SUM(AH58,AM58,AR58)","v":0},{"$f":"SUM(AL58,AQ58,AV58)","v":0},{"$f":"IF(AY58=0,0,AZ58/AY58)","v":0},{"$f":"IF((AY58+AX58)=0,0,AX58/(AX58+AY58))","v":0},null,null,null,null,null,null,null,null,null,null,null,null,null,null,null,null,null,null,null,null,null,null,null,null,null,null,null,null,null,null,null,null,null,null,null,null,null,null,null,null,null,{"$f":"((L58=\"создание\")*7+(L58=\"расширение\")*7 +(L58=\"внедрение\")*7+(L58=\"строительство\")*4+(L58=\"реконструкция\")*3+(L58=\"капремонт\")*2 +(L58=\"приобретение\")*1+(L58=\"установка\")*1)*10","v":0},null,{"$f":"IF(P58=\"коммунальная инфраструктура\",(L58=\"строительство\")*3+(L58=\"реконструкция\")*2+(L58=\"капремонт\")*1,0)*10","v":0},null,{"$f":"IF(P58=\"коммунальная инфраструктура\",(L58=\"строительство\")*4+(L58=\"реконструкция\")*3+(L58=\"капремонт\")*2,0)*10","v":0}]
[null,null,8,{"$f":"IF(AND(D51<>\"\",G59<>\"\"),D51,\"\")","v":""},{"$f":"IF(AND(E51<>\"\",G59<>\"\"),E51,\"\")","v":""},null,null,null,null,null,null,null,null,null,null,null,null,null,{"$f":"IF(Q59>=2020,R59-Q59+1,\"\")","v":""},null,{"$f":"IF(Q59>=2020,S59*T59,\"\")","v":""},null,null,null,null,null,null,null,null,null,null,null,null,{"$f":"SUM(AI59:AL59)","v":0},null,null,null,null,{"$f":"SUM(AN59:AQ59)","v":0},null,null,null,null,{"$f":"SUM(AS59:AV59)","v":0},null,null,null,null,null,null,{"$f":"SUM(AH59,AM59,AR59)","v":0},{"$f":"SUM(AL59,AQ59,AV59)","v":0},{"$f":"IF(AY59=0,0,AZ59/AY59)","v":0},{"$f":"IF((AY59+AX59)=0,0,AX59/(AX59+AY59))","v":0},null,null,null,null,null,null,null,null,null,null,null,null,null,null,null,null,null,null,null,null,null,null,null,null,null,null,null,null,null,null,null,null,null,null,null,null,null,null,null,null,null,{"$f":"((L59=\"создание\")*7+(L59=\"расширение\")*7 +(L59=\"внедрение\")*7+(L59=\"строительство\")*4+(L59=\"реконструкция\")*3+(L59=\"капремонт\")*2 +(L59=\"приобретение\")*1+(L59=\"установка\")*1)*10","v":0},null,{"$f":"IF(P59=\"коммунальная инфраструктура\",(L59=\"строительство\")*3+(L59=\"реконструкция\")*2+(L59=\"капремонт\")*1,0)*10","v":0},null,{"$f":"IF(P59=\"коммунальная инфраструктура\",(L59=\"строительство\")*4+(L59=\"реконструкция\")*3+(L59=\"капремонт\")*2,0)*10","v":0}]
[null,null,9,{"$f":"IF(AND(D51<>\"\",G60<>\"\"),D51,\"\")","v":""},{"$f":"IF(AND(E51<>\"\",G60<>\"\"),E51,\"\")","v":""},null,null,null,null,null,null,null,null,null,null,null,null,null,{"$f":"IF(Q60>=2020,R60-Q60+1,\"\")","v":""},null,{"$f":"IF(Q60>=2020,S60*T60,\"\")","v":""},null,null,null,null,null,null,null,null,null,null,null,null,{"$f":"SUM(AI60:AL60)","v":0},null,null,null,null,{"$f":"SUM(AN60:AQ60)","v":0},null,null,null,null,{"$f":"SUM(AS60:AV60)","v":0},null,null,null,null,null,null,{"$f":"SUM(AH60,AM60,AR60)","v":0},{"$f":"SUM(AL60,AQ60,AV60)","v":0},{"$f":"IF(AY60=0,0,AZ60/AY60)","v":0},{"$f":"IF((AY60+AX60)=0,0,AX60/(AX60+AY60))","v":0},null,null,null,null,null,null,null,null,null,null,null,null,null,null,null,null,null,null,null,null,null,null,null,null,null,null,null,null,null,null,null,null,null,null,null,null,null,null,null,null,null,{"$f":"((L60=\"создание\")*7+(L60=\"расширение\")*7 +(L60=\"внедрение\")*7+(L60=\"строительство\")*4+(L60=\"реконструкция\")*3+(L60=\"капремонт\")*2 +(L60=\"приобретение\")*1+(L60=\"установка\")*1)*10","v":0},null,{"$f":"IF(P60=\"коммунальная инфраструктура\",(L60=\"строительство\")*3+(L60=\"реконструкция\")*2+(L60=\"капремонт\")*1,0)*10","v":0},null,{"$f":"IF(P60=\"коммунальная инфраструктура\",(L60=\"строительство\")*4+(L60=\"реконструкция\")*3+(L60=\"капремонт\")*2,0)*10","v":0}]
[null,null,10,{"$f":"IF(AND(D51<>\"\",G61<>\"\"),D51,\"\")","v":""},{"$f":"IF(AND(E51<>\"\",G61<>\"\"),E51,\"\")","v":""},null,null,null,null,null,null,null,null,null,null,null,null,null,{"$f":"IF(Q61>=2020,R61-Q61+1,\"\")","v":""},null,{"$f":"IF(Q61>=2020,S61*T61,\"\")","v":""},null,null,null,null,null,null,null,null,null,null,null,null,{"$f":"SUM(AI61:AL61)","v":0},null,null,null,null,{"$f":"SUM(AN61:AQ61)","v":0},null,null,null,null,{"$f":"SUM(AS61:AV61)","v":0},null,null,null,null,null,null,{"$f":"SUM(AH61,AM61,AR61)","v":0},{"$f":"SUM(AL61,AQ61,AV61)","v":0},{"$f":"IF(AY61=0,0,AZ61/AY61)","v":0},{"$f":"IF((AY61+AX61)=0,0,AX61/(AX61+AY61))","v":0},null,null,null,null,null,null,null,null,null,null,null,null,null,null,null,null,null,null,null,null,null,null,null,null,null,null,null,null,null,null,null,null,null,null,null,null,null,null,null,null,null,{"$f":"((L61=\"создание\")*7+(L61=\"расширение\")*7 +(L61=\"внедрение\")*7+(L61=\"строительство\")*4+(L61=\"реконструкция\")*3+(L61=\"капремонт\")*2 +(L61=\"приобретение\")*1+(L61=\"установка\")*1)*10","v":0},null,{"$f":"IF(P61=\"коммунальная инфраструктура\",(L61=\"строительство\")*3+(L61=\"реконструкция\")*2+(L61=\"капремонт\")*1,0)*10","v":0},null,{"$f":"IF(P61=\"коммунальная инфраструктура\",(L61=\"строительство\")*4+(L61=\"реконструкция\")*3+(L61=\"капремонт\")*2,0)*10","v":0}]
[null,null,11,{"$f":"IF(AND(D51<>\"\",G62<>\"\"),D51,\"\")","v":""},{"$f":"IF(AND(E51<>\"\",G62<>\"\"),E51,\"\")","v":""},null,null,null,null,null,null,null,null,null,null,null,null,null,{"$f":"IF(Q62>=2020,R62-Q62+1,\"\")","v":""},null,{"$f":"IF(Q62>=2020,S62*T62,\"\")","v":""},null,null,null,null,null,null,null,null,null,null,null,null,{"$f":"SUM(AI62:AL62)","v":0},null,null,null,null,{"$f":"SUM(AN62:AQ62)","v":0},null,null,null,null,{"$f":"SUM(AS62:AV62)","v":0},null,null,null,null,null,null,{"$f":"SUM(AH62,AM62,AR62)","v":0},{"$f":"SUM(AL62,AQ62,AV62)","v":0},{"$f":"IF(AY62=0,0,AZ62/AY62)","v":0},{"$f":"IF((AY62+AX62)=0,0,AX62/(AX62+AY62))","v":0},null,null,null,null,null,null,null,null,null,null,null,null,null,null,null,null,null,null,null,null,null,null,null,null,null,null,null,null,null,null,null,null,null,null,null,null,null,null,null,null,null,{"$f":"((L62=\"создание\")*7+(L62=\"расширение\")*7 +(L62=\"внедрение\")*7+(L62=\"строительство\")*4+(L62=\"реконструкция\")*3+(L62=\"капремонт\")*2 +(L62=\"приобретение\")*1+(L62=\"установка\")*1)*10","v":0},null,{"$f":"IF(P62=\"коммунальная инфраструктура\",(L62=\"строительство\")*3+(L62=\"реконструкция\")*2+(L62=\"капремонт\")*1,0)*10","v":0},null,{"$f":"IF(P62=\"коммунальная инфраструктура\",(L62=\"строительство\")*4+(L62=\"реконструкция\")*3+(L62=\"капремонт\")*2,0)*10","v":0}]
[null,null,12,{"$f":"IF(AND(D51<>\"\",G63<>\"\"),D51,\"\")","v":""},{"$f":"IF(AND(E51<>\"\",G63<>\"\"),E51,\"\")","v":""},null,null,null,null,null,null,null,null,null,null,null,null,null,{"$f":"IF(Q63>=2020,R63-Q63+1,\"\")","v":""},null,{"$f":"IF(Q63>=2020,S63*T63,\"\")","v":""},null,null,null,null,null,null,null,null,null,null,null,null,{"$f":"SUM(AI63:AL63)","v":0},null,null,null,null,{"$f":"SUM(AN63:AQ63)","v":0},null,null,null,null,{"$f":"SUM(AS63:AV63)","v":0},null,null,null,null,null,null,{"$f":"SUM(AH63,AM63,AR63)","v":0},{"$f":"SUM(AL63,AQ63,AV63)","v":0},{"$f":"IF(AY63=0,0,AZ63/AY63)","v":0},{"$f":"IF((AY63+AX63)=0,0,AX63/(AX63+AY63))","v":0},null,null,null,null,null,null,null,null,null,null,null,null,null,null,null,null,null,null,null,null,null,null,null,null,null,null,null,null,null,null,null,null,null,null,null,null,null,null,null,null,null,{"$f":"((L63=\"создание\")*7+(L63=\"расширение\")*7 +(L63=\"внедрение\")*7+(L63=\"строительство\")*4+(L63=\"реконструкция\")*3+(L63=\"капремонт\")*2 +(L63=\"приобретение\")*1+(L63=\"установка\")*1)*10","v":0},null,{"$f":"IF(P63=\"коммунальная инфраструктура\",(L63=\"строительство\")*3+(L63=\"реконструкция\")*2+(L63=\"капремонт\")*1,0)*10","v":0},null,{"$f":"IF(P63=\"коммунальная инфраструктура\",(L63=\"строительство\")*4+(L63=\"реконструкция\")*3+(L63=\"капремонт\")*2,0)*10","v":0}]
[null,null,13,{"$f":"IF(AND(D51<>\"\",G64<>\"\"),D51,\"\")","v":""},{"$f":"IF(AND(E51<>\"\",G64<>\"\"),E51,\"\")","v":""},null,null,null,null,null,null,null,null,null,null,null,null,null,{"$f":"IF(Q64>=2020,R64-Q64+1,\"\")","v":""},null,{"$f":"IF(Q64>=2020,S64*T64,\"\")","v":""},null,null,null,null,null,null,null,null,null,null,null,null,{"$f":"SUM(AI64:AL64)","v":0},null,null,null,null,{"$f":"SUM(AN64:AQ64)","v":0},null,null,null,null,{"$f":"SUM(AS64:AV64)","v":0},null,null,null,null,null,null,{"$f":"SUM(AH64,AM64,AR64)","v":0},{"$f":"SUM(AL64,AQ64,AV64)","v":0},{"$f":"IF(AY64=0,0,AZ64/AY64)","v":0},{"$f":"IF((AY64+AX64)=0,0,AX64/(AX64+AY64))","v":0},null,null,null,null,null,null,null,null,null,null,null,null,null,null,null,null,null,null,null,null,null,null,null,null,null,null,null,null,null,null,null,null,null,null,null,null,null,null,null,null,null,{"$f":"((L64=\"создание\")*7+(L64=\"расширение\")*7 +(L64=\"внедрение\")*7+(L64=\"строительство\")*4+(L64=\"реконструкция\")*3+(L64=\"капремонт\")*2 +(L64=\"приобретение\")*1+(L64=\"установка\")*1)*10","v":0},null,{"$f":"IF(P64=\"коммунальная инфраструктура\",(L64=\"строительство\")*3+(L64=\"реконструкция\")*2+(L64=\"капремонт\")*1,0)*10","v":0},null,{"$f":"IF(P64=\"коммунальная инфраструктура\",(L64=\"строительство\")*4+(L64=\"реконструкция\")*3+(L64=\"капремонт\")*2,0)*10","v":0}]
[null,null,14,{"$f":"IF(AND(D51<>\"\",G65<>\"\"),D51,\"\")","v":""},{"$f":"IF(AND(E51<>\"\",G65<>\"\"),E51,\"\")","v":""},null,null,null,null,null,null,null,null,null,null,null,null,null,{"$f":"IF(Q65>=2020,R65-Q65+1,\"\")","v":""},null,{"$f":"IF(Q65>=2020,S65*T65,\"\")","v":""},null,null,null,null,null,null,null,null,null,null,null,null,{"$f":"SUM(AI65:AL65)","v":0},null,null,null,null,{"$f":"SUM(AN65:AQ65)","v":0},null,null,null,null,{"$f":"SUM(AS65:AV65)","v":0},null,null,null,null,null,null,{"$f":"SUM(AH65,AM65,AR65)","v":0},{"$f":"SUM(AL65,AQ65,AV65)","v":0},{"$f":"IF(AY65=0,0,AZ65/AY65)","v":0},{"$f":"IF((AY65+AX65)=0,0,AX65/(AX65+AY65))","v":0},null,null,null,null,null,null,null,null,null,null,null,null,null,null,null,null,null,null,null,null,null,null,null,null,null,null,null,null,null,null,null,null,null,null,null,null,null,null,null,null,null,{"$f":"((L65=\"создание\")*7+(L65=\"расширение\")*7 +(L65=\"внедрение\")*7+(L65=\"строительство\")*4+(L65=\"реконструкция\")*3+(L65=\"капремонт\")*2 +(L65=\"приобретение\")*1+(L65=\"установка\")*1)*10","v":0},null,{"$f":"IF(P65=\"коммунальная инфраструктура\",(L65=\"строительство\")*3+(L65=\"реконструкция\")*2+(L65=\"капремонт\")*1,0)*10","v":0},null,{"$f":"IF(P65=\"коммунальная инфраструктура\",(L65=\"строительство\")*4+(L65=\"реконструкция\")*3+(L65=\"капремонт\")*2,0)*10","v":0}]
[null,null,15,{"$f":"IF(AND(D51<>\"\",G66<>\"\"),D51,\"\")","v":""},{"$f":"IF(AND(E51<>\"\",G66<>\"\"),E51,\"\")","v":""},null,null,null,null,null,null,null,null,null,null,null,null,null,{"$f":"IF(Q66>=2020,R66-Q66+1,\"\")","v":""},null,{"$f":"IF(Q66>=2020,S66*T66,\"\")","v":""},null,null,null,null,null,null,null,null,null,null,null,null,{"$f":"SUM(AI66:AL66)","v":0},null,null,null,null,{"$f":"SUM(AN66:AQ66)","v":0},null,null,null,null,{"$f":"SUM(AS66:AV66)","v":0},null,null,null,null,null,null,{"$f":"SUM(AH66,AM66,AR66)","v":0},{"$f":"SUM(AL66,AQ66,AV66)","v":0},{"$f":"IF(AY66=0,0,AZ66/AY66)","v":0},{"$f":"IF((AY66+AX66)=0,0,AX66/(AX66+AY66))","v":0},null,null,null,null,null,null,null,null,null,null,null,null,null,null,null,null,null,null,null,null,null,null,null,null,null,null,null,null,null,null,null,null,null,null,null,null,null,null,null,null,null,{"$f":"((L66=\"создание\")*7+(L66=\"расширение\")*7 +(L66=\"внедрение\")*7+(L66=\"строительство\")*4+(L66=\"реконструкция\")*3+(L66=\"капремонт\")*2 +(L66=\"приобретение\")*1+(L66=\"установка\")*1)*10","v":0},null,{"$f":"IF(P66=\"коммунальная инфраструктура\",(L66=\"строительство\")*3+(L66=\"реконструкция\")*2+(L66=\"капремонт\")*1,0)*10","v":0},null,{"$f":"IF(P66=\"коммунальная инфраструктура\",(L66=\"строительство\")*4+(L66=\"реконструкция\")*3+(L66=\"капремонт\")*2,0)*10","v":0}]
[null,null,16,{"$f":"IF(AND(D51<>\"\",G67<>\"\"),D51,\"\")","v":""},{"$f":"IF(AND(E51<>\"\",G67<>\"\"),E51,\"\")","v":""},null,null,null,null,null,null,null,null,null,null,null,null,null,{"$f":"IF(Q67>=2020,R67-Q67+1,\"\")","v":""},null,{"$f":"IF(Q67>=2020,S67*T67,\"\")","v":""},null,null,null,null,null,null,null,null,null,null,null,null,{"$f":"SUM(AI67:AL67)","v":0},null,null,null,null,{"$f":"SUM(AN67:AQ67)","v":0},null,null,null,null,{"$f":"SUM(AS67:AV67)","v":0},null,null,null,null,null,null,{"$f":"SUM(AH67,AM67,AR67)","v":0},{"$f":"SUM(AL67,AQ67,AV67)","v":0},{"$f":"IF(AY67=0,0,AZ67/AY67)","v":0},{"$f":"IF((AY67+AX67)=0,0,AX67/(AX67+AY67))","v":0},null,null,null,null,null,null,null,null,null,null,null,null,null,null,null,null,null,null,null,null,null,null,null,null,null,null,null,null,null,null,null,null,null,null,null,null,null,null,null,null,null,{"$f":"((L67=\"создание\")*7+(L67=\"расширение\")*7 +(L67=\"внедрение\")*7+(L67=\"строительство\")*4+(L67=\"реконструкция\")*3+(L67=\"капремонт\")*2 +(L67=\"приобретение\")*1+(L67=\"установка\")*1)*10","v":0},null,{"$f":"IF(P67=\"коммунальная инфраструктура\",(L67=\"строительство\")*3+(L67=\"реконструкция\")*2+(L67=\"капремонт\")*1,0)*10","v":0},null,{"$f":"IF(P67=\"коммунальная инфраструктура\",(L67=\"строительство\")*4+(L67=\"реконструкция\")*3+(L67=\"капремонт\")*2,0)*10","v":0}]
[null,null,17,{"$f":"IF(AND(D51<>\"\",G68<>\"\"),D51,\"\")","v":""},{"$f":"IF(AND(E51<>\"\",G68<>\"\"),E51,\"\")","v":""},null,null,null,null,null,null,null,null,null,null,null,null,null,{"$f":"IF(Q68>=2020,R68-Q68+1,\"\")","v":""},null,{"$f":"IF(Q68>=2020,S68*T68,\"\")","v":""},null,null,null,null,null,null,null,null,null,null,null,null,{"$f":"SUM(AI68:AL68)","v":0},null,null,null,null,{"$f":"SUM(AN68:AQ68)","v":0},null,null,null,null,{"$f":"SUM(AS68:AV68)","v":0},null,null,null,null,null,null,{"$f":"SUM(AH68,AM68,AR68)","v":0},{"$f":"SUM(AL68,AQ68,AV68)","v":0},{"$f":"IF(AY68=0,0,AZ68/AY68)","v":0},{"$f":"IF((AY68+AX68)=0,0,AX68/(AX68+AY68))","v":0},null,null,null,null,null,null,null,null,null,null,null,null,null,null,null,null,null,null,null,null,null,null,null,null,null,null,null,null,null,null,null,null,null,null,null,null,null,null,null,null,null,{"$f":"((L68=\"создание\")*7+(L68=\"расширение\")*7 +(L68=\"внедрение\")*7+(L68=\"строительство\")*4+(L68=\"реконструкция\")*3+(L68=\"капремонт\")*2 +(L68=\"приобретение\")*1+(L68=\"установка\")*1)*10","v":0},null,{"$f":"IF(P68=\"коммунальная инфраструктура\",(L68=\"строительство\")*3+(L68=\"реконструкция\")*2+(L68=\"капремонт\")*1,0)*10","v":0},null,{"$f":"IF(P68=\"коммунальная инфраструктура\",(L68=\"строительство\")*4+(L68=\"реконструкция\")*3+(L68=\"капремонт\")*2,0)*10","v":0}]
[null,null,18,{"$f":"IF(AND(D51<>\"\",G69<>\"\"),D51,\"\")","v":""},{"$f":"IF(AND(E51<>\"\",G69<>\"\"),E51,\"\")","v":""},null,null,null,null,null,null,null,null,null,null,null,null,null,{"$f":"IF(Q69>=2020,R69-Q69+1,\"\")","v":""},null,{"$f":"IF(Q69>=2020,S69*T69,\"\")","v":""},null,null,null,null,null,null,null,null,null,null,null,null,{"$f":"SUM(AI69:AL69)","v":0},null,null,null,null,{"$f":"SUM(AN69:AQ69)","v":0},null,null,null,null,{"$f":"SUM(AS69:AV69)","v":0},null,null,null,null,null,null,{"$f":"SUM(AH69,AM69,AR69)","v":0},{"$f":"SUM(AL69,AQ69,AV69)","v":0},{"$f":"IF(AY69=0,0,AZ69/AY69)","v":0},{"$f":"IF((AY69+AX69)=0,0,AX69/(AX69+AY69))","v":0},null,null,null,null,null,null,null,null,null,null,null,null,null,null,null,null,null,null,null,null,null,null,null,null,null,null,null,null,null,null,null,null,null,null,null,null,null,null,null,null,null,{"$f":"((L69=\"создание\")*7+(L69=\"расширение\")*7 +(L69=\"внедрение\")*7+(L69=\"строительство\")*4+(L69=\"реконструкция\")*3+(L69=\"капремонт\")*2 +(L69=\"приобретение\")*1+(L69=\"установка\")*1)*10","v":0},null,{"$f":"IF(P69=\"коммунальная инфраструктура\",(L69=\"строительство\")*3+(L69=\"реконструкция\")*2+(L69=\"капремонт\")*1,0)*10","v":0},null,{"$f":"IF(P69=\"коммунальная инфраструктура\",(L69=\"строительство\")*4+(L69=\"реконструкция\")*3+(L69=\"капремонт\")*2,0)*10","v":0}]
[null,null,19,{"$f":"IF(AND(D51<>\"\",G70<>\"\"),D51,\"\")","v":""},{"$f":"IF(AND(E51<>\"\",G70<>\"\"),E51,\"\")","v":""},null,null,null,null,null,null,null,null,null,null,null,null,null,{"$f":"IF(Q70>=2020,R70-Q70+1,\"\")","v":""},null,{"$f":"IF(Q70>=2020,S70*T70,\"\")","v":""},null,null,null,null,null,null,null,null,null,null,null,null,{"$f":"SUM(AI70:AL70)","v":0},null,null,null,null,{"$f":"SUM(AN70:AQ70)","v":0},null,null,null,null,{"$f":"SUM(AS70:AV70)","v":0},null,null,null,null,null,null,{"$f":"SUM(AH70,AM70,AR70)","v":0},{"$f":"SUM(AL70,AQ70,AV70)","v":0},{"$f":"IF(AY70=0,0,AZ70/AY70)","v":0},{"$f":"IF((AY70+AX70)=0,0,AX70/(AX70+AY70))","v":0},null,null,null,null,null,null,null,null,null,null,null,null,null,null,null,null,null,null,null,null,null,null,null,null,null,null,null,null,null,null,null,null,null,null,null,null,null,null,null,null,null,{"$f":"((L70=\"создание\")*7+(L70=\"расширение\")*7 +(L70=\"внедрение\")*7+(L70=\"строительство\")*4+(L70=\"реконструкция\")*3+(L70=\"капремонт\")*2 +(L70=\"приобретение\")*1+(L70=\"установка\")*1)*10","v":0},null,{"$f":"IF(P70=\"коммунальная инфраструктура\",(L70=\"строительство\")*3+(L70=\"реконструкция\")*2+(L70=\"капремонт\")*1,0)*10","v":0},null,{"$f":"IF(P70=\"коммунальная инфраструктура\",(L70=\"строительство\")*4+(L70=\"реконструкция\")*3+(L70=\"капремонт\")*2,0)*10","v":0}]
[null,null,20,{"$f":"IF(AND(D51<>\"\",G71<>\"\"),D51,\"\")","v":""},{"$f":"IF(AND(E51<>\"\",G71<>\"\"),E51,\"\")","v":""},null,null,null,null,null,null,null,null,null,null,null,null,null,{"$f":"IF(Q71>=2020,R71-Q71+1,\"\")","v":""},null,{"$f":"IF(Q71>=2020,S71*T71,\"\")","v":""},null,null,null,null,null,null,null,null,null,null,null,null,{"$f":"SUM(AI71:AL71)","v":0},null,null,null,null,{"$f":"SUM(AN71:AQ71)","v":0},null,null,null,null,{"$f":"SUM(AS71:AV71)","v":0},null,null,null,null,null,null,{"$f":"SUM(AH71,AM71,AR71)","v":0},{"$f":"SUM(AL71,AQ71,AV71)","v":0},{"$f":"IF(AY71=0,0,AZ71/AY71)","v":0},{"$f":"IF((AY71+AX71)=0,0,AX71/(AX71+AY71))","v":0},null,null,null,null,null,null,null,null,null,null,null,null,null,null,null,null,null,null,null,null,null,null,null,null,null,null,null,null,null,null,null,null,null,null,null,null,null,null,null,null,null,{"$f":"((L71=\"создание\")*7+(L71=\"расширение\")*7 +(L71=\"внедрение\")*7+(L71=\"строительство\")*4+(L71=\"реконструкция\")*3+(L71=\"капремонт\")*2 +(L71=\"приобретение\")*1+(L71=\"установка\")*1)*10","v":0},null,{"$f":"IF(P71=\"коммунальная инфраструктура\",(L71=\"строительство\")*3+(L71=\"реконструкция\")*2+(L71=\"капремонт\")*1,0)*10","v":0},null,{"$f":"IF(P71=\"коммунальная инфраструктура\",(L71=\"строительство\")*4+(L71=\"реконструкция\")*3+(L71=\"капремонт\")*2,0)*10","v":0}]
[null,null,"…",{"$f":"IF(AND(D51<>\"\",G72<>\"\"),D51,\"\")","v":""},{"$f":"IF(AND(E51<>\"\",G72<>\"\"),E51,\"\")","v":""},null,null,null,null,null,null,null,null,null,null,null,null,null,{"$f":"IF(Q72>=2020,R72-Q72+1,\"\")","v":""},null,{"$f":"IF(Q72>=2020,S72*T72,\"\")","v":""},null,null,null,null,null,null,null,null,null,null,null,null,{"$f":"SUM(AI72:AL72)","v":0},null,null,null,null,{"$f":"SUM(AN72:AQ72)","v":0},null,null,null,null,{"$f":"SUM(AS72:AV72)","v":0},null,null,null,null,null,null,{"$f":"SUM(AH72,AM72,AR72)","v":0},{"$f":"SUM(AL72,AQ72,AV72)","v":0},{"$f":"IF(AY72=0,0,AZ72/AY72)","v":0},{"$f":"IF((AY72+AX72)=0,0,AX72/(AX72+AY72))","v":0},null,null,null,null,null,null,null,null,null,null,null,null,null,null,null,null,null,null,null,null,null,null,null,null,null,null,null,null,null,null,null,null,null,null,null,null,null,null,null,null,null,{"$f":"((L72=\"создание\")*7+(L72=\"расширение\")*7 +(L72=\"внедрение\")*7+(L72=\"строительство\")*4+(L72=\"реконструкция\")*3+(L72=\"капремонт\")*2 +(L72=\"приобретение\")*1+(L72=\"установка\")*1)*10","v":0},null,{"$f":"IF(P72=\"коммунальная инфраструктура\",(L72=\"строительство\")*3+(L72=\"реконструкция\")*2+(L72=\"капремонт\")*1,0)*10","v":0},null,{"$f":"IF(P72=\"коммунальная инфраструктура\",(L72=\"строительство\")*4+(L72=\"реконструкция\")*3+(L72=\"капремонт\")*2,0)*10","v":0}]
[4,null,{"$f":"COUNTA(G74:G94)","v":0},null,null,null,null,null,null,null,null,null,null,null,null,null,{"$f":"MIN(Q74:Q94)","v":0},{"$f":"MAX(R74:R94)","v":0},{"$f":"MAX(S74:S94)","v":0},null,{"$f":"MAX(U74:U94)","v":0},null,null,null,null,null,{"$f":"IF(COUNTIF(AA74:AA94,\"НЕТ\")>0,\"ПД!\",\"ок\")","v":"ок"},null,{"$f":"IF(COUNTIF(AC74:AC94,\"НЕТ\")>0,\"ДОСМ!\",\"ок\")","v":"ок"},null,{"$f":"IF(COUNTIF(AE74:AE94,\"НЕТ\")>0,\"ФОИВ!\",\"ок\")","v":"ок"},{"$f":"IF(COUNTIF(AF74:AF94,\"НЕТ\")>0,\"ФОИВ!\",\"ок\")","v":"ок"},null,{"$f":"SUM(AH74:AH94)","v":0},{"$f":"SUM(AI74:AI94)","v":0},{"$f":"SUM(AJ74:AJ94)","v":0},{"$f":"SUM(AK74:AK94)","v":0},{"$f":"SUM(AL74:AL94)","v":0},{"$f":"SUM(AM74:AM94)","v":0},{"$f":"SUM(AN74:AN94)","v":0},{"$f":"SUM(AO74:AO94)","v":0},{"$f":"SUM(AP74:AP94)","v":0},{"$f":"SUM(AQ74:AQ94)","v":0},{"$f":"SUM(AR74:AR94)","v":0},{"$f":"SUM(AS74:AS94)","v":0},{"$f":"SUM(AT74:AT94)","v":0},{"$f":"SUM(AU74:AU94)","v":0},{"$f":"SUM(AV74:AV94)","v":0},{"$f":"SUM(AW74:AW94)","v":0},{"$f":"SUM(AX74:AX94)","v":0},{"$f":"SUM(AH73,AM73,AR73)","v":0},{"$f":"AL73+AQ73+AV73","v":0},{"$f":"IF(AY73=0,0,AZ73/AY73)","v":0},{"$f":"IF((AY73+AX73)=0,0,AX73/(AX73+AY73))","v":0},null,null,{"$f":"IFERROR(BD73/BC73,0)","v":0},null,null,{"$f":"IFERROR(BG73/BF73,0)","v":0},null,null,{"$f":"IFERROR(BJ73/BI73,0)","v":0},null,null,null,{"$f":"(SUM(BL73:BN73)>0)*1+(SUM(BL73:BN73)>=10)*1+(SUM(BL73:BN73)>=50)*1+(SUM(BL73:BN73)>=100)*1+(SUM(BL73:BN73)>=200)*1+(SUM(BL73:BN73)>=300)*1","v":0},{"$f":"IFERROR(SUM(BL73:BN73)/BC73,0)","v":0},null,null,{"$f":"IFERROR(BQ73/BR73,0)","v":0},{"$f":"IF(BA73<0.01,0,IF(BA73>=0.1,10,ROUNDDOWN(BA73/0.01,0)))","v":0},8,{"$f":"BT73*BU73","v":0},{"$f":"IF(BB73<0.01,0,IF(BB73>=0.1,10,ROUNDDOWN(BB73/0.01,0)))","v":0},8,{"$f":"BW73*BX73","v":0},{"$f":"IF(U73<=1,9,IF(U73<=2,6,IF(U73<=3,3,0)))*(C73>0)","v":0},6,{"$f":"BZ73*CA73","v":0},{"$f":"IF(BH73<0.51,0,10)","v":0},7,{"$f":"CC73*CD73","v":0},{"$f":"IF(BE73<0.1,0,IF(BE73>=0.9,10,ROUNDDOWN(BE73/0.1,0)))","v":0},10,{"$f":"CF73*CG73","v":0},{"$f":"IF(BK73<0.1,0,IF(BK73>=0.6,10,ROUNDDOWN(BK73/0.1,0)))","v":0},8,{"$f":"CI73*CJ73","v":0},{"$f":"IF(BP73<0.05,0,IF(BP73>=0.1,10,1))","v":0},10,{"$f":"CL73*CM73","v":0},{"$f":"IF(BS73<0.1,0,IF(BS73>=0.8,10,ROUNDDOWN(BS73/0.1,0)))","v":0},10,{"$f":"CP73*CO73","v":0},{"$f":"ROUND(IF(C73=0,0,SUM(CR74:CR94)/C73),1)","v":0},{"$f":"((SUM(BL73:BN73)>=1)*1+(SUM(BL73:BN73)>=11)*1+(SUM(BL73:BN73)>=51)*3+(SUM(BL73:BN73)>=101)*2+(SUM(BL73:BN73)>=201)*2+(SUM(BL73:BN73)>=301)*4)*10","v":0},{"$f":"IFERROR(ROUND(SUM(CT74:CT94)/COUNTIF(P74:P94,\"коммунальная инфраструктура\"),1),0)","v":0},{"$f":"CS73+CT73","v":0},{"$f":"IFERROR(ROUND(SUM(CV74:CV94)/COUNTIF(P74:P94,\"коммунальная инфраструктура\"),1),0)","v":0},{"$f":"SUM(BV73,BY73,CB73,CE73,CH73,CK73,CN73,CQ73,CR73,CU73,CV73)","v":0},{"$f":"VLOOKUP(D73,РегионыФО,2,0)","v":{"$error":"#N/A"}}]
[null,null,1,{"$f":"IF(AND(D73<>\"\",G74<>\"\"),D73,\"\")","v":""},{"$f":"IF(AND(E73<>\"\",G74<>\"\"),E73,\"\")","v":""},null,null,null,null,null,null,null,null,null,null,null,null,null,{"$f":"IF(Q74>=2020,R74-Q74+1,\"\")","v":""},null,{"$f":"IF(Q74>=2020,ROUNDUP(S74*T74,0),\"\")","v":""},null,null,null,null,null,null,null,null,null,null,null,null,{"$f":"SUM(AI74:AL74)","v":0},null,null,null,null,{"$f":"SUM(AN74:AQ74)","v":0},null,null,null,null,{"$f":"SUM(AS74:AV74)","v":0},null,null,null,null,null,null,{"$f":"SUM(AH74,AM74,AR74)","v":0},{"$f":"SUM(AL74,AQ74,AV74)","v":0},{"$f":"IF(AY74=0,0,AZ74/AY74)","v":0},{"$f":"IF((AY74+AX74)=0,0,AX74/(AX74+AY74))","v":0},null,null,null,null,null,null,null,null,null,null,null,null,null,null,null,null,null,null,null,null,null,null,null,null,null,null,null,null,null,null,null,null,null,null,null,null,null,null,null,null,null,{"$f":"((L74=\"создание\")*7+(L74=\"расширение\")*7 +(L74=\"внедрение\")*7+(L74=\"строительство\")*4+(L74=\"реконструкция\")*3+(L74=\"капремонт\")*2 +(L74=\"приобретение\")*1+(L74=\"установка\")*1)*10","v":0},null,{"$f":"IF(P74=\"коммунальная инфраструктура\",(L74=\"строительство\")*3+(L74=\"реконструкция\")*2+(L74=\"капремонт\")*1,0)*10","v":0},null,{"$f":"IF(P74=\"коммунальная инфраструктура\",(L74=\"строительство\")*4+(L74=\"реконструкция\")*3+(L74=\"капремонт\")*2,0)*10","v":0}]
[null,null,2,{"$f":"IF(AND(D73<>\"\",G75<>\"\"),D73,\"\")","v":""},{"$f":"IF(AND(E73<>\"\",G75<>\"\"),E73,\"\")","v":""},null,null,null,null,null,null,null,null,null,null,null,null,null,{"$f":"IF(Q75>=2020,R75-Q75+1,\"\")","v":""},null,{"$f":"IF(Q75>=2020,S75*T75,\"\")","v":""},null,null,null,null,null,null,null,null,null,null,null,null,{"$f":"SUM(AI75:AL75)","v":0},null,null,null,null,{"$f":"SUM(AN75:AQ75)","v":0},null,null,null,null,{"$f":"SUM(AS75:AV75)","v":0},null,null,null,null,null,null,{"$f":"SUM(AH75,AM75,AR75)","v":0},{"$f":"SUM(AL75,AQ75,AV75)","v":0},{"$f":"IF(AY75=0,0,AZ75/AY75)","v":0},{"$f":"IF((AY75+AX75)=0,0,AX75/(AX75+AY75))","v":0},null,null,null,null,null,null,null,null,null,null,null,null,null,null,null,null,null,null,null,null,null,null,null,null,null,null,null,null,null,null,null,null,null,null,null,null,null,null,null,null,null,{"$f":"((L75=\"создание\")*7+(L75=\"расширение\")*7 +(L75=\"внедрение\")*7+(L75=\"строительство\")*4+(L75=\"реконструкция\")*3+(L75=\"капремонт\")*2 +(L75=\"приобретение\")*1+(L75=\"установка\")*1)*10","v":0},null,{"$f":"IF(P75=\"коммунальная инфраструктура\",(L75=\"строительство\")*3+(L75=\"реконструкция\")*2+(L75=\"капремонт\")*1,0)*10","v":0},null,{"$f":"IF(P75=\"коммунальная инфраструктура\",(L75=\"строительство\")*4+(L75=\"реконструкция\")*3+(L75=\"капремонт\")*2,0)*10","v":0}]
[null,null,3,{"$f":"IF(AND(D73<>\"\",G76<>\"\"),D73,\"\")","v":""},{"$f":"IF(AND(E73<>\"\",G76<>\"\"),E73,\"\")","v":""},null,null,null,null,null,null,null,null,null,null,null,null,null,{"$f":"IF(Q76>=2020,R76-Q76+1,\"\")","v":""},null,{"$f":"IF(Q76>=2020,S76*T76,\"\")","v":""},null,null,null,null,null,null,null,null,null,null,null,null,{"$f":"SUM(AI76:AL76)","v":0},null,null,null,null,{"$f":"SUM(AN76:AQ76)","v":0},null,null,null,null,{"$f":"SUM(AS76:AV76)","v":0},null,null,null,null,null,null,{"$f":"SUM(AH76,AM76,AR76)","v":0},{"$f":"SUM(AL76,AQ76,AV76)","v":0},{"$f":"IF(AY76=0,0,AZ76/AY76)","v":0},{"$f":"IF((AY76+AX76)=0,0,AX76/(AX76+AY76))","v":0},null,null,null,null,null,null,null,null,null,null,null,null,null,null,null,null,null,null,null,null,null,null,null,null,null,null,null,null,null,null,null,null,null,null,null,null,null,null,null,null,null,{"$f":"((L76=\"создание\")*7+(L76=\"расширение\")*7 +(L76=\"внедрение\")*7+(L76=\"строительство\")*4+(L76=\"реконструкция\")*3+(L76=\"капремонт\")*2 +(L76=\"приобретение\")*1+(L76=\"установка\")*1)*10","v":0},null,{"$f":"IF(P76=\"коммунальная инфраструктура\",(L76=\"строительство\")*3+(L76=\"реконструкция\")*2+(L76=\"капремонт\")*1,0)*10","v":0},null,{"$f":"IF(P76=\"коммунальная инфраструктура\",(L76=\"строительство\")*4+(L76=\"реконструкция\")*3+(L76=\"капремонт\")*2,0)*10","v":0}]
[null,null,4,{"$f":"IF(AND(D73<>\"\",G77<>\"\"),D73,\"\")","v":""},{"$f":"IF(AND(E73<>\"\",G77<>\"\"),E73,\"\")","v":""},null,null,null,null,null,null,null,null,null,null,null,null,null,{"$f":"IF(Q77>=2020,R77-Q77+1,\"\")","v":""},null,{"$f":"IF(Q77>=2020,S77*T77,\"\")","v":""},null,null,null,null,null,null,null,null,null,null,null,null,{"$f":"SUM(AI77:AL77)","v":0},null,null,null,null,{"$f":"SUM(AN77:AQ77)","v":0},null,null,null,null,{"$f":"SUM(AS77:AV77)","v":0},null,null,null,null,null,null,{"$f":"SUM(AH77,AM77,AR77)","v":0},{"$f":"SUM(AL77,AQ77,AV77)","v":0},{"$f":"IF(AY77=0,0,AZ77/AY77)","v":0},{"$f":"IF((AY77+AX77)=0,0,AX77/(AX77+AY77))","v":0},null,null,null,null,null,null,null,null,null,null,null,null,null,null,null,null,null,null,null,null,null,null,null,null,null,null,null,null,null,null,null,null,null,null,null,null,null,null,null,null,null,{"$f":"((L77=\"создание\")*7+(L77=\"расширение\")*7 +(L77=\"внедрение\")*7+(L77=\"строительство\")*4+(L77=\"реконструкция\")*3+(L77=\"капремонт\")*2 +(L77=\"приобретение\")*1+(L77=\"установка\")*1)*10","v":0},null,{"$f":"IF(P77=\"коммунальная инфраструктура\",(L77=\"строительство\")*3+(L77=\"реконструкция\")*2+(L77=\"капремонт\")*1,0)*10","v":0},null,{"$f":"IF(P77=\"коммунальная инфраструктура\",(L77=\"строительство\")*4+(L77=\"реконструкция\")*3+(L77=\"капремонт\")*2,0)*10","v":0}]
[null,null,5,{"$f":"IF(AND(D73<>\"\",G78<>\"\"),D73,\"\")","v":""},{"$f":"IF(AND(E73<>\"\",G78<>\"\"),E73,\"\")","v":""},null,null,null,null,null,null,null,null,null,null,null,null,null,{"$f":"IF(Q78>=2020,R78-Q78+1,\"\")","v":""},null,{"$f":"IF(Q78>=2020,S78*T78,\"\")","v":""},null,null,null,null,null,null,null,null,null,null,null,null,{"$f":"SUM(AI78:AL78)","v":0},null,null,null,null,{"$f":"SUM(AN78:AQ78)","v":0},null,null,null,null,{"$f":"SUM(AS78:AV78)","v":0},null,null,null,null,null,null,{"$f":"SUM(AH78,AM78,AR78)","v":0},{"$f":"SUM(AL78,AQ78,AV78)","v":0},{"$f":"IF(AY78=0,0,AZ78/AY78)","v":0},{"$f":"IF((AY78+AX78)=0,0,AX78/(AX78+AY78))","v":0},null,null,null,null,null,null,null,null,null,null,null,null,null,null,null,null,null,null,null,null,null,null,null,null,null,null,null,null,null,null,null,null,null,null,null,null,null,null,null,null,null,{"$f":"((L78=\"создание\")*7+(L78=\"расширение\")*7 +(L78=\"внедрение\")*7+(L78=\"строительство\")*4+(L78=\"реконструкция\")*3+(L78=\"капремонт\")*2 +(L78=\"приобретение\")*1+(L78=\"установка\")*1)*10","v":0},null,{"$f":"IF(P78=\"коммунальная инфраструктура\",(L78=\"строительство\")*3+(L78=\"реконструкция\")*2+(L78=\"капремонт\")*1,0)*10","v":0},null,{"$f":"IF(P78=\"коммунальная инфраструктура\",(L78=\"строительство\")*4+(L78=\"реконструкция\")*3+(L78=\"капремонт\")*2,0)*10","v":0}]
[null,null,6,{"$f":"IF(AND(D73<>\"\",G79<>\"\"),D73,\"\")","v":""},{"$f":"IF(AND(E73<>\"\",G79<>\"\"),E73,\"\")","v":""},null,null,null,null,null,null,null,null,null,null,null,null,null,{"$f":"IF(Q79>=2020,R79-Q79+1,\"\")","v":""},null,{"$f":"IF(Q79>=2020,S79*T79,\"\")","v":""},null,null,null,null,null,null,null,null,null,null,null,null,{"$f":"SUM(AI79:AL79)","v":0},null,null,null,null,{"$f":"SUM(AN79:AQ79)","v":0},null,null,null,null,{"$f":"SUM(AS79:AV79)","v":0},null,null,null,null,null,null,{"$f":"SUM(AH79,AM79,AR79)","v":0},{"$f":"SUM(AL79,AQ79,AV79)","v":0},{"$f":"IF(AY79=0,0,AZ79/AY79)","v":0},{"$f":"IF((AY79+AX79)=0,0,AX79/(AX79+AY79))","v":0},null,null,null,null,null,null,null,null,null,null,null,null,null,null,null,null,null,null,null,null,null,null,null,null,null,null,null,null,null,null,null,null,null,null,null,null,null,null,null,null,null,{"$f":"((L79=\"создание\")*7+(L79=\"расширение\")*7 +(L79=\"внедрение\")*7+(L79=\"строительство\")*4+(L79=\"реконструкция\")*3+(L79=\"капремонт\")*2 +(L79=\"приобретение\")*1+(L79=\"установка\")*1)*10","v":0},null,{"$f":"IF(P79=\"коммунальная инфраструктура\",(L79=\"строительство\")*3+(L79=\"реконструкция\")*2+(L79=\"капремонт\")*1,0)*10","v":0},null,{"$f":"IF(P79=\"коммунальная инфраструктура\",(L79=\"строительство\")*4+(L79=\"реконструкция\")*3+(L79=\"капремонт\")*2,0)*10","v":0}]
[null,null,7,{"$f":"IF(AND(D73<>\"\",G80<>\"\"),D73,\"\")","v":""},{"$f":"IF(AND(E73<>\"\",G80<>\"\"),E73,\"\")","v":""},null,null,null,null,null,null,null,null,null,null,null,null,null,{"$f":"IF(Q80>=2020,R80-Q80+1,\"\")","v":""},null,{"$f":"IF(Q80>=2020,S80*T80,\"\")","v":""},null,null,null,null,null,null,null,null,null,null,null,null,{"$f":"SUM(AI80:AL80)","v":0},null,null,null,null,{"$f":"SUM(AN80:AQ80)","v":0},null,null,null,null,{"$f":"SUM(AS80:AV80)","v":0},null,null,null,null,null,null,{"$f":"SUM(AH80,AM80,AR80)","v":0},{"$f":"SUM(AL80,AQ80,AV80)","v":0},{"$f":"IF(AY80=0,0,AZ80/AY80)","v":0},{"$f":"IF((AY80+AX80)=0,0,AX80/(AX80+AY80))","v":0},null,null,null,null,null,null,null,null,null,null,null,null,null,null,null,null,null,null,null,null,null,null,null,null,null,null,null,null,null,null,null,null,null,null,null,null,null,null,null,null,null,{"$f":"((L80=\"создание\")*7+(L80=\"расширение\")*7 +(L80=\"внедрение\")*7+(L80=\"строительство\")*4+(L80=\"реконструкция\")*3+(L80=\"капремонт\")*2 +(L80=\"приобретение\")*1+(L80=\"установка\")*1)*10","v":0},null,{"$f":"IF(P80=\"коммунальная инфраструктура\",(L80=\"строительство\")*3+(L80=\"реконструкция\")*2+(L80=\"капремонт\")*1,0)*10","v":0},null,{"$f":"IF(P80=\"коммунальная инфраструктура\",(L80=\"строительство\")*4+(L80=\"реконструкция\")*3+(L80=\"капремонт\")*2,0)*10","v":0}]
[null,null,8,{"$f":"IF(AND(D73<>\"\",G81<>\"\"),D73,\"\")","v":""},{"$f":"IF(AND(E73<>\"\",G81<>\"\"),E73,\"\")","v":""},null,null,null,null,null,null,null,null,null,null,null,null,null,{"$f":"IF(Q81>=2020,R81-Q81+1,\"\")","v":""},null,{"$f":"IF(Q81>=2020,S81*T81,\"\")","v":""},null,null,null,null,null,null,null,null,null,null,null,null,{"$f":"SUM(AI81:AL81)","v":0},null,null,null,null,{"$f":"SUM(AN81:AQ81)","v":0},null,null,null,null,{"$f":"SUM(AS81:AV81)","v":0},null,null,null,null,null,null,{"$f":"SUM(AH81,AM81,AR81)","v":0},{"$f":"SUM(AL81,AQ81,AV81)","v":0},{"$f":"IF(AY81=0,0,AZ81/AY81)","v":0},{"$f":"IF((AY81+AX81)=0,0,AX81/(AX81+AY81))","v":0},null,null,null,null,null,null,null,null,null,null,null,null,null,null,null,null,null,null,null,null,null,null,null,null,null,null,null,null,null,null,null,null,null,null,null,null,null,null,null,null,null,{"$f":"((L81=\"создание\")*7+(L81=\"расширение\")*7 +(L81=\"внедрение\")*7+(L81=\"строительство\")*4+(L81=\"реконструкция\")*3+(L81=\"капремонт\")*2 +(L81=\"приобретение\")*1+(L81=\"установка\")*1)*10","v":0},null,{"$f":"IF(P81=\"коммунальная инфраструктура\",(L81=\"строительство\")*3+(L81=\"реконструкция\")*2+(L81=\"капремонт\")*1,0)*10","v":0},null,{"$f":"IF(P81=\"коммунальная инфраструктура\",(L81=\"строительство\")*4+(L81=\"реконструкция\")*3+(L81=\"капремонт\")*2,0)*10","v":0}]
[null,null,9,{"$f":"IF(AND(D73<>\"\",G82<>\"\"),D73,\"\")","v":""},{"$f":"IF(AND(E73<>\"\",G82<>\"\"),E73,\"\")","v":""},null,null,null,null,null,null,null,null,null,null,null,null,null,{"$f":"IF(Q82>=2020,R82-Q82+1,\"\")","v":""},null,{"$f":"IF(Q82>=2020,S82*T82,\"\")","v":""},null,null,null,null,null,null,null,null,null,null,null,null,{"$f":"SUM(AI82:AL82)","v":0},null,null,null,null,{"$f":"SUM(AN82:AQ82)","v":0},null,null,null,null,{"$f":"SUM(AS82:AV82)","v":0},null,null,null,null,null,null,{"$f":"SUM(AH82,AM82,AR82)","v":0},{"$f":"SUM(AL82,AQ82,AV82)","v":0},{"$f":"IF(AY82=0,0,AZ82/AY82)","v":0},{"$f":"IF((AY82+AX82)=0,0,AX82/(AX82+AY82))","v":0},null,null,null,null,null,null,null,null,null,null,null,null,null,null,null,null,null,null,null,null,null,null,null,null,null,null,null,null,null,null,null,null,null,null,null,null,null,null,null,null,null,{"$f":"((L82=\"создание\")*7+(L82=\"расширение\")*7 +(L82=\"внедрение\")*7+(L82=\"строительство\")*4+(L82=\"реконструкция\")*3+(L82=\"капремонт\")*2 +(L82=\"приобретение\")*1+(L82=\"установка\")*1)*10","v":0},null,{"$f":"IF(P82=\"коммунальная инфраструктура\",(L82=\"строительство\")*3+(L82=\"реконструкция\")*2+(L82=\"капремонт\")*1,0)*10","v":0},null,{"$f":"IF(P82=\"коммунальная инфраструктура\",(L82=\"строительство\")*4+(L82=\"реконструкция\")*3+(L82=\"капремонт\")*2,0)*10","v":0}]
[null,null,10,{"$f":"IF(AND(D73<>\"\",G83<>\"\"),D73,\"\")","v":""},{"$f":"IF(AND(E73<>\"\",G83<>\"\"),E73,\"\")","v":""},null,null,null,null,null,null,null,null,null,null,null,null,null,{"$f":"IF(Q83>=2020,R83-Q83+1,\"\")","v":""},null,{"$f":"IF(Q83>=2020,S83*T83,\"\")","v":""},null,null,null,null,null,null,null,null,null,null,null,null,{"$f":"SUM(AI83:AL83)","v":0},null,null,null,null,{"$f":"SUM(AN83:AQ83)","v":0},null,null,null,null,{"$f":"SUM(AS83:AV83)","v":0},null,null,null,null,null,null,{"$f":"SUM(AH83,AM83,AR83)","v":0},{"$f":"SUM(AL83,AQ83,AV83)","v":0},{"$f":"IF(AY83=0,0,AZ83/AY83)","v":0},{"$f":"IF((AY83+AX83)=0,0,AX83/(AX83+AY83))","v":0},null,null,null,null,null,null,null,null,null,null,null,null,null,null,null,null,null,null,null,null,null,null,null,null,null,null,null,null,null,null,null,null,null,null,null,null,null,null,null,null,null,{"$f":"((L83=\"создание\")*7+(L83=\"расширение\")*7 +(L83=\"внедрение\")*7+(L83=\"строительство\")*4+(L83=\"реконструкция\")*3+(L83=\"капремонт\")*2 +(L83=\"приобретение\")*1+(L83=\"установка\")*1)*10","v":0},null,{"$f":"IF(P83=\"коммунальная инфраструктура\",(L83=\"строительство\")*3+(L83=\"реконструкция\")*2+(L83=\"капремонт\")*1,0)*10","v":0},null,{"$f":"IF(P83=\"коммунальная инфраструктура\",(L83=\"строительство\")*4+(L83=\"реконструкция\")*3+(L83=\"капремонт\")*2,0)*10","v":0}]
[null,null,11,{"$f":"IF(AND(D73<>\"\",G84<>\"\"),D73,\"\")","v":""},{"$f":"IF(AND(E73<>\"\",G84<>\"\"),E73,\"\")","v":""},null,null,null,null,null,null,null,null,null,null,null,null,null,{"$f":"IF(Q84>=2020,R84-Q84+1,\"\")","v":""},null,{"$f":"IF(Q84>=2020,S84*T84,\"\")","v":""},null,null,null,null,null,null,null,null,null,null,null,null,{"$f":"SUM(AI84:AL84)","v":0},null,null,null,null,{"$f":"SUM(AN84:AQ84)","v":0},null,null,null,null,{"$f":"SUM(AS84:AV84)","v":0},null,null,null,null,null,null,{"$f":"SUM(AH84,AM84,AR84)","v":0},{"$f":"SUM(AL84,AQ84,AV84)","v":0},{"$f":"IF(AY84=0,0,AZ84/AY84)","v":0},{"$f":"IF((AY84+AX84)=0,0,AX84/(AX84+AY84))","v":0},null,null,null,null,null,null,null,null,null,null,null,null,null,null,null,null,null,null,null,null,null,null,null,null,null,null,null,null,null,null,null,null,null,null,null,null,null,null,null,null,null,{"$f":"((L84=\"создание\")*7+(L84=\"расширение\")*7 +(L84=\"внедрение\")*7+(L84=\"строительство\")*4+(L84=\"реконструкция\")*3+(L84=\"капремонт\")*2 +(L84=\"приобретение\")*1+(L84=\"установка\")*1)*10","v":0},null,{"$f":"IF(P84=\"коммунальная инфраструктура\",(L84=\"строительство\")*3+(L84=\"реконструкция\")*2+(L84=\"капремонт\")*1,0)*10","v":0},null,{"$f":"IF(P84=\"коммунальная инфраструктура\",(L84=\"строительство\")*4+(L84=\"реконструкция\")*3+(L84=\"капремонт\")*2,0)*10","v":0}]
[null,null,12,{"$f":"IF(AND(D73<>\"\",G85<>\"\"),D73,\"\")","v":""},{"$f":"IF(AND(E73<>\"\",G85<>\"\"),E73,\"\")","v":""},null,null,null,null,null,null,null,null,null,null,null,null,null,{"$f":"IF(Q85>=2020,R85-Q85+1,\"\")","v":""},null,{"$f":"IF(Q85>=2020,S85*T85,\"\")","v":""},null,null,null,null,null,null,null,null,null,null,null,null,{"$f":"SUM(AI85:AL85)","v":0},null,null,null,null,{"$f":"SUM(AN85:AQ85)","v":0},null,null,null,null,{"$f":"SUM(AS85:AV85)","v":0},null,null,null,null,null,null,{"$f":"SUM(AH85,AM85,AR85)","v":0},{"$f":"SUM(AL85,AQ85,AV85)","v":0},{"$f":"IF(AY85=0,0,AZ85/AY85)","v":0},{"$f":"IF((AY85+AX85)=0,0,AX85/(AX85+AY85))","v":0},null,null,null,null,null,null,null,null,null,null,null,null,null,null,null,null,null,null,null,null,null,null,null,null,null,null,null,null,null,null,null,null,null,null,null,null,null,null,null,null,null,{"$f":"((L85=\"создание\")*7+(L85=\"расширение\")*7 +(L85=\"внедрение\")*7+(L85=\"строительство\")*4+(L85=\"реконструкция\")*3+(L85=\"капремонт\")*2 +(L85=\"приобретение\")*1+(L85=\"установка\")*1)*10","v":0},null,{"$f":"IF(P85=\"коммунальная инфраструктура\",(L85=\"строительство\")*3+(L85=\"реконструкция\")*2+(L85=\"капремонт\")*1,0)*10","v":0},null,{"$f":"IF(P85=\"коммунальная инфраструктура\",(L85=\"строительство\")*4+(L85=\"реконструкция\")*3+(L85=\"капремонт\")*2,0)*10","v":0}]
[null,null,13,{"$f":"IF(AND(D73<>\"\",G86<>\"\"),D73,\"\")","v":""},{"$f":"IF(AND(E73<>\"\",G86<>\"\"),E73,\"\")","v":""},null,null,null,null,null,null,null,null,null,null,null,null,null,{"$f":"IF(Q86>=2020,R86-Q86+1,\"\")","v":""},null,{"$f":"IF(Q86>=2020,S86*T86,\"\")","v":""},null,null,null,null,null,null,null,null,null,null,null,null,{"$f":"SUM(AI86:AL86)","v":0},null,null,null,null,{"$f":"SUM(AN86:AQ86)","v":0},null,null,null,null,{"$f":"SUM(AS86:AV86)","v":0},null,null,null,null,null,null,{"$f":"SUM(AH86,AM86,AR86)","v":0},{"$f":"SUM(AL86,AQ86,AV86)","v":0},{"$f":"IF(AY86=0,0,AZ86/AY86)","v":0},{"$f":"IF((AY86+AX86)=0,0,AX86/(AX86+AY86))","v":0},null,null,null,null,null,null,null,null,null,null,null,null,null,null,null,null,null,null,null,null,null,null,null,null,null,null,null,null,null,null,null,null,null,null,null,null,null,null,null,null,null,{"$f":"((L86=\"создание\")*7+(L86=\"расширение\")*7 +(L86=\"внедрение\")*7+(L86=\"строительство\")*4+(L86=\"реконструкция\")*3+(L86=\"капремонт\")*2 +(L86=\"приобретение\")*1+(L86=\"установка\")*1)*10","v":0},null,{"$f":"IF(P86=\"коммунальная инфраструктура\",(L86=\"строительство\")*3+(L86=\"реконструкция\")*2+(L86=\"капремонт\")*1,0)*10","v":0},null,{"$f":"IF(P86=\"коммунальная инфраструктура\",(L86=\"строительство\")*4+(L86=\"реконструкция\")*3+(L86=\"капремонт\")*2,0)*10","v":0}]
[null,null,14,{"$f":"IF(AND(D73<>\"\",G87<>\"\"),D73,\"\")","v":""},{"$f":"IF(AND(E73<>\"\",G87<>\"\"),E73,\"\")","v":""},null,null,null,null,null,null,null,null,null,null,null,null,null,{"$f":"IF(Q87>=2020,R87-Q87+1,\"\")","v":""},null,{"$f":"IF(Q87>=2020,S87*T87,\"\")","v":""},null,null,null,null,null,null,null,null,null,null,null,null,{"$f":"SUM(AI87:AL87)","v":0},null,null,null,null,{"$f":"SUM(AN87:AQ87)","v":0},null,null,null,null,{"$f":"SUM(AS87:AV87)","v":0},null,null,null,null,null,null,{"$f":"SUM(AH87,AM87,AR87)","v":0},{"$f":"SUM(AL87,AQ87,AV87)","v":0},{"$f":"IF(AY87=0,0,AZ87/AY87)","v":0},{"$f":"IF((AY87+AX87)=0,0,AX87/(AX87+AY87))","v":0},null,null,null,null,null,null,null,null,null,null,null,null,null,null,null,null,null,null,null,null,null,null,null,null,null,null,null,null,null,null,null,null,null,null,null,null,null,null,null,null,null,{"$f":"((L87=\"создание\")*7+(L87=\"расширение\")*7 +(L87=\"внедрение\")*7+(L87=\"строительство\")*4+(L87=\"реконструкция\")*3+(L87=\"капремонт\")*2 +(L87=\"приобретение\")*1+(L87=\"установка\")*1)*10","v":0},null,{"$f":"IF(P87=\"коммунальная инфраструктура\",(L87=\"строительство\")*3+(L87=\"реконструкция\")*2+(L87=\"капремонт\")*1,0)*10","v":0},null,{"$f":"IF(P87=\"коммунальная инфраструктура\",(L87=\"строительство\")*4+(L87=\"реконструкция\")*3+(L87=\"капремонт\")*2,0)*10","v":0}]
[null,null,15,{"$f":"IF(AND(D73<>\"\",G88<>\"\"),D73,\"\")","v":""},{"$f":"IF(AND(E73<>\"\",G88<>\"\"),E73,\"\")","v":""},null,null,null,null,null,null,null,null,null,null,null,null,null,{"$f":"IF(Q88>=2020,R88-Q88+1,\"\")","v":""},null,{"$f":"IF(Q88>=2020,S88*T88,\"\")","v":""},null,null,null,null,null,null,null,null,null,null,null,null,{"$f":"SUM(AI88:AL88)","v":0},null,null,null,null,{"$f":"SUM(AN88:AQ88)","v":0},null,null,null,null,{"$f":"SUM(AS88:AV88)","v":0},null,null,null,null,null,null,{"$f":"SUM(AH88,AM88,AR88)","v":0},{"$f":"SUM(AL88,AQ88,AV88)","v":0},{"$f":"IF(AY88=0,0,AZ88/AY88)","v":0},{"$f":"IF((AY88+AX88)=0,0,AX88/(AX88+AY88))","v":0},null,null,null,null,null,null,null,null,null,null,null,null,null,null,null,null,null,null,null,null,null,null,null,null,null,null,null,null,null,null,null,null,null,null,null,null,null,null,null,null,null,{"$f":"((L88=\"создание\")*7+(L88=\"расширение\")*7 +(L88=\"внедрение\")*7+(L88=\"строительство\")*4+(L88=\"реконструкция\")*3+(L88=\"капремонт\")*2 +(L88=\"приобретение\")*1+(L88=\"установка\")*1)*10","v":0},null,{"$f":"IF(P88=\"коммунальная инфраструктура\",(L88=\"строительство\")*3+(L88=\"реконструкция\")*2+(L88=\"капремонт\")*1,0)*10","v":0},null,{"$f":"IF(P88=\"коммунальная инфраструктура\",(L88=\"строительство\")*4+(L88=\"реконструкция\")*3+(L88=\"капремонт\")*2,0)*10","v":0}]
[null,null,16,{"$f":"IF(AND(D73<>\"\",G89<>\"\"),D73,\"\")","v":""},{"$f":"IF(AND(E73<>\"\",G89<>\"\"),E73,\"\")","v":""},null,null,null,null,null,null,null,null,null,null,null,null,null,{"$f":"IF(Q89>=2020,R89-Q89+1,\"\")","v":""},null,{"$f":"IF(Q89>=2020,S89*T89,\"\")","v":""},null,null,null,null,null,null,null,null,null,null,null,null,{"$f":"SUM(AI89:AL89)","v":0},null,null,null,null,{"$f":"SUM(AN89:AQ89)","v":0},null,null,null,null,{"$f":"SUM(AS89:AV89)","v":0},null,null,null,null,null,null,{"$f":"SUM(AH89,AM89,AR89)","v":0},{"$f":"SUM(AL89,AQ89,AV89)","v":0},{"$f":"IF(AY89=0,0,AZ89/AY89)","v":0},{"$f":"IF((AY89+AX89)=0,0,AX89/(AX89+AY89))","v":0},null,null,null,null,null,null,null,null,null,null,null,null,null,null,null,null,null,null,null,null,null,null,null,null,null,null,null,null,null,null,null,null,null,null,null,null,null,null,null,null,null,{"$f":"((L89=\"создание\")*7+(L89=\"расширение\")*7 +(L89=\"внедрение\")*7+(L89=\"строительство\")*4+(L89=\"реконструкция\")*3+(L89=\"капремонт\")*2 +(L89=\"приобретение\")*1+(L89=\"установка\")*1)*10","v":0},null,{"$f":"IF(P89=\"коммунальная инфраструктура\",(L89=\"строительство\")*3+(L89=\"реконструкция\")*2+(L89=\"капремонт\")*1,0)*10","v":0},null,{"$f":"IF(P89=\"коммунальная инфраструктура\",(L89=\"строительство\")*4+(L89=\"реконструкция\")*3+(L89=\"капремонт\")*2,0)*10","v":0}]
[null,null,17,{"$f":"IF(AND(D73<>\"\",G90<>\"\"),D73,\"\")","v":""},{"$f":"IF(AND(E73<>\"\",G90<>\"\"),E73,\"\")","v":""},null,null,null,null,null,null,null,null,null,null,null,null,null,{"$f":"IF(Q90>=2020,R90-Q90+1,\"\")","v":""},null,{"$f":"IF(Q90>=2020,S90*T90,\"\")","v":""},null,null,null,null,null,null,null,null,null,null,null,null,{"$f":"SUM(AI90:AL90)","v":0},null,null,null,null,{"$f":"SUM(AN90:AQ90)","v":0},null,null,null,null,{"$f":"SUM(AS90:AV90)","v":0},null,null,null,null,null,null,{"$f":"SUM(AH90,AM90,AR90)","v":0},{"$f":"SUM(AL90,AQ90,AV90)","v":0},{"$f":"IF(AY90=0,0,AZ90/AY90)","v":0},{"$f":"IF((AY90+AX90)=0,0,AX90/(AX90+AY90))","v":0},null,null,null,null,null,null,null,null,null,null,null,null,null,null,null,null,null,null,null,null,null,null,null,null,null,null,null,null,null,null,null,null,null,null,null,null,null,null,null,null,null,{"$f":"((L90=\"создание\")*7+(L90=\"расширение\")*7 +(L90=\"внедрение\")*7+(L90=\"строительство\")*4+(L90=\"реконструкция\")*3+(L90=\"капремонт\")*2 +(L90=\"приобретение\")*1+(L90=\"установка\")*1)*10","v":0},null,{"$f":"IF(P90=\"коммунальная инфраструктура\",(L90=\"строительство\")*3+(L90=\"реконструкция\")*2+(L90=\"капремонт\")*1,0)*10","v":0},null,{"$f":"IF(P90=\"коммунальная инфраструктура\",(L90=\"строительство\")*4+(L90=\"реконструкция\")*3+(L90=\"капремонт\")*2,0)*10","v":0}]
[null,null,18,{"$f":"IF(AND(D73<>\"\",G91<>\"\"),D73,\"\")","v":""},{"$f":"IF(AND(E73<>\"\",G91<>\"\"),E73,\"\")","v":""},null,null,null,null,null,null,null,null,null,null,null,null,null,{"$f":"IF(Q91>=2020,R91-Q91+1,\"\")","v":""},null,{"$f":"IF(Q91>=2020,S91*T91,\"\")","v":""},null,null,null,null,null,null,null,null,null,null,null,null,{"$f":"SUM(AI91:AL91)","v":0},null,null,null,null,{"$f":"SUM(AN91:AQ91)","v":0},null,null,null,null,{"$f":"SUM(AS91:AV91)","v":0},null,null,null,null,null,null,{"$f":"SUM(AH91,AM91,AR91)","v":0},{"$f":"SUM(AL91,AQ91,AV91)","v":0},{"$f":"IF(AY91=0,0,AZ91/AY91)","v":0},{"$f":"IF((AY91+AX91)=0,0,AX91/(AX91+AY91))","v":0},null,null,null,null,null,null,null,null,null,null,null,null,null,null,null,null,null,null,null,null,null,null,null,null,null,null,null,null,null,null,null,null,null,null,null,null,null,null,null,null,null,{"$f":"((L91=\"создание\")*7+(L91=\"расширение\")*7 +(L91=\"внедрение\")*7+(L91=\"строительство\")*4+(L91=\"реконструкция\")*3+(L91=\"капремонт\")*2 +(L91=\"приобретение\")*1+(L91=\"установка\")*1)*10","v":0},null,{"$f":"IF(P91=\"коммунальная инфраструктура\",(L91=\"строительство\")*3+(L91=\"реконструкция\")*2+(L91=\"капремонт\")*1,0)*10","v":0},null,{"$f":"IF(P91=\"коммунальная инфраструктура\",(L91=\"строительство\")*4+(L91=\"реконструкция\")*3+(L91=\"капремонт\")*2,0)*10","v":0}]
[null,null,19,{"$f":"IF(AND(D73<>\"\",G92<>\"\"),D73,\"\")","v":""},{"$f":"IF(AND(E73<>\"\",G92<>\"\"),E73,\"\")","v":""},null,null,null,null,null,null,null,null,null,null,null,null,null,{"$f":"IF(Q92>=2020,R92-Q92+1,\"\")","v":""},null,{"$f":"IF(Q92>=2020,S92*T92,\"\")","v":""},null,null,null,null,null,null,null,null,null,null,null,null,{"$f":"SUM(AI92:AL92)","v":0},null,null,null,null,{"$f":"SUM(AN92:AQ92)","v":0},null,null,null,null,{"$f":"SUM(AS92:AV92)","v":0},null,null,null,null,null,null,{"$f":"SUM(AH92,AM92,AR92)","v":0},{"$f":"SUM(AL92,AQ92,AV92)","v":0},{"$f":"IF(AY92=0,0,AZ92/AY92)","v":0},{"$f":"IF((AY92+AX92)=0,0,AX92/(AX92+AY92))","v":0},null,null,null,null,null,null,null,null,null,null,null,null,null,null,null,null,null,null,null,null,null,null,null,null,null,null,null,null,null,null,null,null,null,null,null,null,null,null,null,null,null,{"$f":"((L92=\"создание\")*7+(L92=\"расширение\")*7 +(L92=\"внедрение\")*7+(L92=\"строительство\")*4+(L92=\"реконструкция\")*3+(L92=\"капремонт\")*2 +(L92=\"приобретение\")*1+(L92=\"установка\")*1)*10","v":0},null,{"$f":"IF(P92=\"коммунальная инфраструктура\",(L92=\"строительство\")*3+(L92=\"реконструкция\")*2+(L92=\"капремонт\")*1,0)*10","v":0},null,{"$f":"IF(P92=\"коммунальная инфраструктура\",(L92=\"строительство\")*4+(L92=\"реконструкция\")*3+(L92=\"капремонт\")*2,0)*10","v":0}]
[null,null,20,{"$f":"IF(AND(D73<>\"\",G93<>\"\"),D73,\"\")","v":""},{"$f":"IF(AND(E73<>\"\",G93<>\"\"),E73,\"\")","v":""},null,null,null,null,null,null,null,null,null,null,null,null,null,{"$f":"IF(Q93>=2020,R93-Q93+1,\"\")","v":""},null,{"$f":"IF(Q93>=2020,S93*T93,\"\")","v":""},null,null,null,null,null,null,null,null,null,null,null,null,{"$f":"SUM(AI93:AL93)","v":0},null,null,null,null,{"$f":"SUM(AN93:AQ93)","v":0},null,null,null,null,{"$f":"SUM(AS93:AV93)","v":0},null,null,null,null,null,null,{"$f":"SUM(AH93,AM93,AR93)","v":0},{"$f":"SUM(AL93,AQ93,AV93)","v":0},{"$f":"IF(AY93=0,0,AZ93/AY93)","v":0},{"$f":"IF((AY93+AX93)=0,0,AX93/(AX93+AY93))","v":0},null,null,null,null,null,null,null,null,null,null,null,null,null,null,null,null,null,null,null,null,null,null,null,null,null,null,null,null,null,null,null,null,null,null,null,null,null,null,null,null,null,{"$f":"((L93=\"создание\")*7+(L93=\"расширение\")*7 +(L93=\"внедрение\")*7+(L93=\"строительство\")*4+(L93=\"реконструкция\")*3+(L93=\"капремонт\")*2 +(L93=\"приобретение\")*1+(L93=\"установка\")*1)*10","v":0},null,{"$f":"IF(P93=\"коммунальная инфраструктура\",(L93=\"строительство\")*3+(L93=\"реконструкция\")*2+(L93=\"капремонт\")*1,0)*10","v":0},null,{"$f":"IF(P93=\"коммунальная инфраструктура\",(L93=\"строительство\")*4+(L93=\"реконструкция\")*3+(L93=\"капремонт\")*2,0)*10","v":0}]
[null,null,"…",{"$f":"IF(AND(D73<>\"\",G94<>\"\"),D73,\"\")","v":""},{"$f":"IF(AND(E73<>\"\",G94<>\"\"),E73,\"\")","v":""},null,null,null,null,null,null,null,null,null,null,null,null,null,{"$f":"IF(Q94>=2020,R94-Q94+1,\"\")","v":""},null,{"$f":"IF(Q94>=2020,S94*T94,\"\")","v":""},null,null,null,null,null,null,null,null,null,null,null,null,{"$f":"SUM(AI94:AL94)","v":0},null,null,null,null,{"$f":"SUM(AN94:AQ94)","v":0},null,null,null,null,{"$f":"SUM(AS94:AV94)","v":0},null,null,null,null,null,null,{"$f":"SUM(AH94,AM94,AR94)","v":0},{"$f":"SUM(AL94,AQ94,AV94)","v":0},{"$f":"IF(AY94=0,0,AZ94/AY94)","v":0},{"$f":"IF((AY94+AX94)=0,0,AX94/(AX94+AY94))","v":0},null,null,null,null,null,null,null,null,null,null,null,null,null,null,null,null,null,null,null,null,null,null,null,null,null,null,null,null,null,null,null,null,null,null,null,null,null,null,null,null,null,{"$f":"((L94=\"создание\")*7+(L94=\"расширение\")*7 +(L94=\"внедрение\")*7+(L94=\"строительство\")*4+(L94=\"реконструкция\")*3+(L94=\"капремонт\")*2 +(L94=\"приобретение\")*1+(L94=\"установка\")*1)*10","v":0},null,{"$f":"IF(P94=\"коммунальная инфраструктура\",(L94=\"строительство\")*3+(L94=\"реконструкция\")*2+(L94=\"капремонт\")*1,0)*10","v":0},null,{"$f":"IF(P94=\"коммунальная инфраструктура\",(L94=\"строительство\")*4+(L94=\"реконструкция\")*3+(L94=\"капремонт\")*2,0)*10","v":0}]
[5,null,{"$f":"COUNTA(G96:G116)","v":0},null,null,null,null,null,null,null,null,null,null,null,null,null,{"$f":"MIN(Q96:Q116)","v":0},{"$f":"MAX(R96:R116)","v":0},{"$f":"MAX(S96:S116)","v":0},null,{"$f":"MAX(U96:U116)","v":0},null,null,null,null,null,{"$f":"IF(COUNTIF(AA96:AA116,\"НЕТ\")>0,\"ПД!\",\"ок\")","v":"ок"},null,{"$f":"IF(COUNTIF(AC96:AC116,\"НЕТ\")>0,\"ДОСМ!\",\"ок\")","v":"ок"},null,{"$f":"IF(COUNTIF(AE96:AE116,\"НЕТ\")>0,\"ФОИВ!\",\"ок\")","v":"ок"},{"$f":"IF(COUNTIF(AF96:AF116,\"НЕТ\")>0,\"ФОИВ!\",\"ок\")","v":"ок"},null,{"$f":"SUM(AH96:AH116)","v":0},{"$f":"SUM(AI96:AI116)","v":0},{"$f":"SUM(AJ96:AJ116)","v":0},{"$f":"SUM(AK96:AK116)","v":0},{"$f":"SUM(AL96:AL116)","v":0},{"$f":"SUM(AM96:AM116)","v":0},{"$f":"SUM(AN96:AN116)","v":0},{"$f":"SUM(AO96:AO116)","v":0},{"$f":"SUM(AP96:AP116)","v":0},{"$f":"SUM(AQ96:AQ116)","v":0},{"$f":"SUM(AR96:AR116)","v":0},{"$f":"SUM(AS96:AS116)","v":0},{"$f":"SUM(AT96:AT116)","v":0},{"$f":"SUM(AU96:AU116)","v":0},{"$f":"SUM(AV96:AV116)","v":0},{"$f":"SUM(AW96:AW116)","v":0},{"$f":"SUM(AX96:AX116)","v":0},{"$f":"SUM(AH95,AM95,AR95)","v":0},{"$f":"AL95+AQ95+AV95","v":0},{"$f":"IF(AY95=0,0,AZ95/AY95)","v":0},{"$f":"IF((AY95+AX95)=0,0,AX95/(AX95+AY95))","v":0},null,null,{"$f":"IFERROR(BD95/BC95,0)","v":0},null,null,{"$f":"IFERROR(BG95/BF95,0)","v":0},null,null,{"$f":"IFERROR(BJ95/BI95,0)","v":0},null,null,null,{"$f":"(SUM(BL95:BN95)>0)*1+(SUM(BL95:BN95)>=10)*1+(SUM(BL95:BN95)>=50)*1+(SUM(BL95:BN95)>=100)*1+(SUM(BL95:BN95)>=200)*1+(SUM(BL95:BN95)>=300)*1","v":0},{"$f":"IFERROR(SUM(BL95:BN95)/BC95,0)","v":0},null,null,{"$f":"IFERROR(BQ95/BR95,0)","v":0},{"$f":"IF(BA95<0.01,0,IF(BA95>=0.1,10,ROUNDDOWN(BA95/0.01,0)))","v":0},8,{"$f":"BT95*BU95","v":0},{"$f":"IF(BB95<0.01,0,IF(BB95>=0.1,10,ROUNDDOWN(BB95/0.01,0)))","v":0},8,{"$f":"BW95*BX95","v":0},{"$f":"IF(U95<=1,9,IF(U95<=2,6,IF(U95<=3,3,0)))*(C95>0)","v":0},6,{"$f":"BZ95*CA95","v":0},{"$f":"IF(BH95<0.51,0,10)","v":0},7,{"$f":"CC95*CD95","v":0},{"$f":"IF(BE95<0.1,0,IF(BE95>=0.9,10,ROUNDDOWN(BE95/0.1,0)))","v":0},10,{"$f":"CF95*CG95","v":0},{"$f":"IF(BK95<0.1,0,IF(BK95>=0.6,10,ROUNDDOWN(BK95/0.1,0)))","v":0},8,{"$f":"CI95*CJ95","v":0},{"$f":"IF(BP95<0.05,0,IF(BP95>=0.1,10,1))","v":0},10,{"$f":"CL95*CM95","v":0},{"$f":"IF(BS95<0.1,0,IF(BS95>=0.8,10,ROUNDDOWN(BS95/0.1,0)))","v":0},10,{"$f":"CP95*CO95","v":0},{"$f":"ROUND(IF(C95=0,0,SUM(CR96:CR116)/C95),1)","v":0},{"$f":"((SUM(BL95:BN95)>=1)*1+(SUM(BL95:BN95)>=11)*1+(SUM(BL95:BN95)>=51)*3+(SUM(BL95:BN95)>=101)*2+(SUM(BL95:BN95)>=201)*2+(SUM(BL95:BN95)>=301)*4)*10","v":0},{"$f":"IFERROR(ROUND(SUM(CT96:CT116)/COUNTIF(P96:P116,\"коммунальная инфраструктура\"),1),0)","v":0},{"$f":"CS95+CT95","v":0},{"$f":"IFERROR(ROUND(SUM(CV96:CV116)/COUNTIF(P96:P116,\"коммунальная инфраструктура\"),1),0)","v":0},{"$f":"SUM(BV95,BY95,CB95,CE95,CH95,CK95,CN95,CQ95,CR95,CU95,CV95)","v":0},{"$f":"VLOOKUP(D95,РегионыФО,2,0)","v":{"$error":"#N/A"}}]
[null,null,1,{"$f":"IF(AND(D95<>\"\",G96<>\"\"),D95,\"\")","v":""},{"$f":"IF(AND(E95<>\"\",G96<>\"\"),E95,\"\")","v":""},null,null,null,null,null,null,null,null,null,null,null,null,null,{"$f":"IF(Q96>=2020,R96-Q96+1,\"\")","v":""},null,{"$f":"IF(Q96>=2020,ROUNDUP(S96*T96,0),\"\")","v":""},null,null,null,null,null,null,null,null,null,null,null,null,{"$f":"SUM(AI96:AL96)","v":0},null,null,null,null,{"$f":"SUM(AN96:AQ96)","v":0},null,null,null,null,{"$f":"SUM(AS96:AV96)","v":0},null,null,null,null,null,null,{"$f":"SUM(AH96,AM96,AR96)","v":0},{"$f":"SUM(AL96,AQ96,AV96)","v":0},{"$f":"IF(AY96=0,0,AZ96/AY96)","v":0},{"$f":"IF((AY96+AX96)=0,0,AX96/(AX96+AY96))","v":0},null,null,null,null,null,null,null,null,null,null,null,null,null,null,null,null,null,null,null,null,null,null,null,null,null,null,null,null,null,null,null,null,null,null,null,null,null,null,null,null,null,{"$f":"((L96=\"создание\")*7+(L96=\"расширение\")*7 +(L96=\"внедрение\")*7+(L96=\"строительство\")*4+(L96=\"реконструкция\")*3+(L96=\"капремонт\")*2 +(L96=\"приобретение\")*1+(L96=\"установка\")*1)*10","v":0},null,{"$f":"IF(P96=\"коммунальная инфраструктура\",(L96=\"строительство\")*3+(L96=\"реконструкция\")*2+(L96=\"капремонт\")*1,0)*10","v":0},null,{"$f":"IF(P96=\"коммунальная инфраструктура\",(L96=\"строительство\")*4+(L96=\"реконструкция\")*3+(L96=\"капремонт\")*2,0)*10","v":0}]
[null,null,2,{"$f":"IF(AND(D95<>\"\",G97<>\"\"),D95,\"\")","v":""},{"$f":"IF(AND(E95<>\"\",G97<>\"\"),E95,\"\")","v":""},null,null,null,null,null,null,null,null,null,null,null,null,null,{"$f":"IF(Q97>=2020,R97-Q97+1,\"\")","v":""},null,{"$f":"IF(Q97>=2020,S97*T97,\"\")","v":""},null,null,null,null,null,null,null,null,null,null,null,null,{"$f":"SUM(AI97:AL97)","v":0},null,null,null,null,{"$f":"SUM(AN97:AQ97)","v":0},null,null,null,null,{"$f":"SUM(AS97:AV97)","v":0},null,null,null,null,null,null,{"$f":"SUM(AH97,AM97,AR97)","v":0},{"$f":"SUM(AL97,AQ97,AV97)","v":0},{"$f":"IF(AY97=0,0,AZ97/AY97)","v":0},{"$f":"IF((AY97+AX97)=0,0,AX97/(AX97+AY97))","v":0},null,null,null,null,null,null,null,null,null,null,null,null,null,null,null,null,null,null,null,null,null,null,null,null,null,null,null,null,null,null,null,null,null,null,null,null,null,null,null,null,null,{"$f":"((L97=\"создание\")*7+(L97=\"расширение\")*7 +(L97=\"внедрение\")*7+(L97=\"строительство\")*4+(L97=\"реконструкция\")*3+(L97=\"капремонт\")*2 +(L97=\"приобретение\")*1+(L97=\"установка\")*1)*10","v":0},null,{"$f":"IF(P97=\"коммунальная инфраструктура\",(L97=\"строительство\")*3+(L97=\"реконструкция\")*2+(L97=\"капремонт\")*1,0)*10","v":0},null,{"$f":"IF(P97=\"коммунальная инфраструктура\",(L97=\"строительство\")*4+(L97=\"реконструкция\")*3+(L97=\"капремонт\")*2,0)*10","v":0}]
[null,null,3,{"$f":"IF(AND(D95<>\"\",G98<>\"\"),D95,\"\")","v":""},{"$f":"IF(AND(E95<>\"\",G98<>\"\"),E95,\"\")","v":""},null,null,null,null,null,null,null,null,null,null,null,null,null,{"$f":"IF(Q98>=2020,R98-Q98+1,\"\")","v":""},null,{"$f":"IF(Q98>=2020,S98*T98,\"\")","v":""},null,null,null,null,null,null,null,null,null,null,null,null,{"$f":"SUM(AI98:AL98)","v":0},null,null,null,null,{"$f":"SUM(AN98:AQ98)","v":0},null,null,null,null,{"$f":"SUM(AS98:AV98)","v":0},null,null,null,null,null,null,{"$f":"SUM(AH98,AM98,AR98)","v":0},{"$f":"SUM(AL98,AQ98,AV98)","v":0},{"$f":"IF(AY98=0,0,AZ98/AY98)","v":0},{"$f":"IF((AY98+AX98)=0,0,AX98/(AX98+AY98))","v":0},null,null,null,null,null,null,null,null,null,null,null,null,null,null,null,null,null,null,null,null,null,null,null,null,null,null,null,null,null,null,null,null,null,null,null,null,null,null,null,null,null,{"$f":"((L98=\"создание\")*7+(L98=\"расширение\")*7 +(L98=\"внедрение\")*7+(L98=\"строительство\")*4+(L98=\"реконструкция\")*3+(L98=\"капремонт\")*2 +(L98=\"приобретение\")*1+(L98=\"установка\")*1)*10","v":0},null,{"$f":"IF(P98=\"коммунальная инфраструктура\",(L98=\"строительство\")*3+(L98=\"реконструкция\")*2+(L98=\"капремонт\")*1,0)*10","v":0},null,{"$f":"IF(P98=\"коммунальная инфраструктура\",(L98=\"строительство\")*4+(L98=\"реконструкция\")*3+(L98=\"капремонт\")*2,0)*10","v":0}]
[null,null,4,{"$f":"IF(AND(D95<>\"\",G99<>\"\"),D95,\"\")","v":""},{"$f":"IF(AND(E95<>\"\",G99<>\"\"),E95,\"\")","v":""},null,null,null,null,null,null,null,null,null,null,null,null,null,{"$f":"IF(Q99>=2020,R99-Q99+1,\"\")","v":""},null,{"$f":"IF(Q99>=2020,S99*T99,\"\")","v":""},null,null,null,null,null,null,null,null,null,null,null,null,{"$f":"SUM(AI99:AL99)","v":0},null,null,null,null,{"$f":"SUM(AN99:AQ99)","v":0},null,null,null,null,{"$f":"SUM(AS99:AV99)","v":0},null,null,null,null,null,null,{"$f":"SUM(AH99,AM99,AR99)","v":0},{"$f":"SUM(AL99,AQ99,AV99)","v":0},{"$f":"IF(AY99=0,0,AZ99/AY99)","v":0},{"$f":"IF((AY99+AX99)=0,0,AX99/(AX99+AY99))","v":0},null,null,null,null,null,null,null,null,null,null,null,null,null,null,null,null,null,null,null,null,null,null,null,null,null,null,null,null,null,null,null,null,null,null,null,null,null,null,null,null,null,{"$f":"((L99=\"создание\")*7+(L99=\"расширение\")*7 +(L99=\"внедрение\")*7+(L99=\"строительство\")*4+(L99=\"реконструкция\")*3+(L99=\"капремонт\")*2 +(L99=\"приобретение\")*1+(L99=\"установка\")*1)*10","v":0},null,{"$f":"IF(P99=\"коммунальная инфраструктура\",(L99=\"строительство\")*3+(L99=\"реконструкция\")*2+(L99=\"капремонт\")*1,0)*10","v":0},null,{"$f":"IF(P99=\"коммунальная инфраструктура\",(L99=\"строительство\")*4+(L99=\"реконструкция\")*3+(L99=\"капремонт\")*2,0)*10","v":0}]
[null,null,5,{"$f":"IF(AND(D95<>\"\",G100<>\"\"),D95,\"\")","v":""},{"$f":"IF(AND(E95<>\"\",G100<>\"\"),E95,\"\")","v":""},null,null,null,null,null,null,null,null,null,null,null,null,null,{"$f":"IF(Q100>=2020,R100-Q100+1,\"\")","v":""},null,{"$f":"IF(Q100>=2020,S100*T100,\"\")","v":""},null,null,null,null,null,null,null,null,null,null,null,null,{"$f":"SUM(AI100:AL100)","v":0},null,null,null,null,{"$f":"SUM(AN100:AQ100)","v":0},null,null,null,null,{"$f":"SUM(AS100:AV100)","v":0},null,null,null,null,null,null,{"$f":"SUM(AH100,AM100,AR100)","v":0},{"$f":"SUM(AL100,AQ100,AV100)","v":0},{"$f":"IF(AY100=0,0,AZ100/AY100)","v":0},{"$f":"IF((AY100+AX100)=0,0,AX100/(AX100+AY100))","v":0},null,null,null,null,null,null,null,null,null,null,null,null,null,null,null,null,null,null,null,null,null,null,null,null,null,null,null,null,null,null,null,null,null,null,null,null,null,null,null,null,null,{"$f":"((L100=\"создание\")*7+(L100=\"расширение\")*7 +(L100=\"внедрение\")*7+(L100=\"строительство\")*4+(L100=\"реконструкция\")*3+(L100=\"капремонт\")*2 +(L100=\"приобретение\")*1+(L100=\"установка\")*1)*10","v":0},null,{"$f":"IF(P100=\"коммунальная инфраструктура\",(L100=\"строительство\")*3+(L100=\"реконструкция\")*2+(L100=\"капремонт\")*1,0)*10","v":0},null,{"$f":"IF(P100=\"коммунальная инфраструктура\",(L100=\"строительство\")*4+(L100=\"реконструкция\")*3+(L100=\"капремонт\")*2,0)*10","v":0}]
[null,null,6,{"$f":"IF(AND(D95<>\"\",G101<>\"\"),D95,\"\")","v":""},{"$f":"IF(AND(E95<>\"\",G101<>\"\"),E95,\"\")","v":""},null,null,null,null,null,null,null,null,null,null,null,null,null,{"$f":"IF(Q101>=2020,R101-Q101+1,\"\")","v":""},null,{"$f":"IF(Q101>=2020,S101*T101,\"\")","v":""},null,null,null,null,null,null,null,null,null,null,null,null,{"$f":"SUM(AI101:AL101)","v":0},null,null,null,null,{"$f":"SUM(AN101:AQ101)","v":0},null,null,null,null,{"$f":"SUM(AS101:AV101)","v":0},null,null,null,null,null,null,{"$f":"SUM(AH101,AM101,AR101)","v":0},{"$f":"SUM(AL101,AQ101,AV101)","v":0},{"$f":"IF(AY101=0,0,AZ101/AY101)","v":0},{"$f":"IF((AY101+AX101)=0,0,AX101/(AX101+AY101))","v":0},null,null,null,null,null,null,null,null,null,null,null,null,null,null,null,null,null,null,null,null,null,null,null,null,null,null,null,null,null,null,null,null,null,null,null,null,null,null,null,null,null,{"$f":"((L101=\"создание\")*7+(L101=\"расширение\")*7 +(L101=\"внедрение\")*7+(L101=\"строительство\")*4+(L101=\"реконструкция\")*3+(L101=\"капремонт\")*2 +(L101=\"приобретение\")*1+(L101=\"установка\")*1)*10","v":0},null,{"$f":"IF(P101=\"коммунальная инфраструктура\",(L101=\"строительство\")*3+(L101=\"реконструкция\")*2+(L101=\"капремонт\")*1,0)*10","v":0},null,{"$f":"IF(P101=\"коммунальная инфраструктура\",(L101=\"строительство\")*4+(L101=\"реконструкция\")*3+(L101=\"капремонт\")*2,0)*10","v":0}]
[null,null,7,{"$f":"IF(AND(D95<>\"\",G102<>\"\"),D95,\"\")","v":""},{"$f":"IF(AND(E95<>\"\",G102<>\"\"),E95,\"\")","v":""},null,null,null,null,null,null,null,null,null,null,null,null,null,{"$f":"IF(Q102>=2020,R102-Q102+1,\"\")","v":""},null,{"$f":"IF(Q102>=2020,S102*T102,\"\")","v":""},null,null,null,null,null,null,null,null,null,null,null,null,{"$f":"SUM(AI102:AL102)","v":0},null,null,null,null,{"$f":"SUM(AN102:AQ102)","v":0},null,null,null,null,{"$f":"SUM(AS102:AV102)","v":0},null,null,null,null,null,null,{"$f":"SUM(AH102,AM102,AR102)","v":0},{"$f":"SUM(AL102,AQ102,AV102)","v":0},{"$f":"IF(AY102=0,0,AZ102/AY102)","v":0},{"$f":"IF((AY102+AX102)=0,0,AX102/(AX102+AY102))","v":0},null,null,null,null,null,null,null,null,null,null,null,null,null,null,null,null,null,null,null,null,null,null,null,null,null,null,null,null,null,null,null,null,null,null,null,null,null,null,null,null,null,{"$f":"((L102=\"создание\")*7+(L102=\"расширение\")*7 +(L102=\"внедрение\")*7+(L102=\"строительство\")*4+(L102=\"реконструкция\")*3+(L102=\"капремонт\")*2 +(L102=\"приобретение\")*1+(L102=\"установка\")*1)*10","v":0},null,{"$f":"IF(P102=\"коммунальная инфраструктура\",(L102=\"строительство\")*3+(L102=\"реконструкция\")*2+(L102=\"капремонт\")*1,0)*10","v":0},null,{"$f":"IF(P102=\"коммунальная инфраструктура\",(L102=\"строительство\")*4+(L102=\"реконструкция\")*3+(L102=\"капремонт\")*2,0)*10","v":0}]
[null,null,8,{"$f":"IF(AND(D95<>\"\",G103<>\"\"),D95,\"\")","v":""},{"$f":"IF(AND(E95<>\"\",G103<>\"\"),E95,\"\")","v":""},null,null,null,null,null,null,null,null,null,null,null,null,null,{"$f":"IF(Q103>=2020,R103-Q103+1,\"\")","v":""},null,{"$f":"IF(Q103>=2020,S103*T103,\"\")","v":""},null,null,null,null,null,null,null,null,null,null,null,null,{"$f":"SUM(AI103:AL103)","v":0},null,null,null,null,{"$f":"SUM(AN103:AQ103)","v":0},null,null,null,null,{"$f":"SUM(AS103:AV103)","v":0},null,null,null,null,null,null,{"$f":"SUM(AH103,AM103,AR103)","v":0},{"$f":"SUM(AL103,AQ103,AV103)","v":0},{"$f":"IF(AY103=0,0,AZ103/AY103)","v":0},{"$f":"IF((AY103+AX103)=0,0,AX103/(AX103+AY103))","v":0},null,null,null,null,null,null,null,null,null,null,null,null,null,null,null,null,null,null,null,null,null,null,null,null,null,null,null,null,null,null,null,null,null,null,null,null,null,null,null,null,null,{"$f":"((L103=\"создание\")*7+(L103=\"расширение\")*7 +(L103=\"внедрение\")*7+(L103=\"строительство\")*4+(L103=\"реконструкция\")*3+(L103=\"капремонт\")*2 +(L103=\"приобретение\")*1+(L103=\"установка\")*1)*10","v":0},null,{"$f":"IF(P103=\"коммунальная инфраструктура\",(L103=\"строительство\")*3+(L103=\"реконструкция\")*2+(L103=\"капремонт\")*1,0)*10","v":0},null,{"$f":"IF(P103=\"коммунальная инфраструктура\",(L103=\"строительство\")*4+(L103=\"реконструкция\")*3+(L103=\"капремонт\")*2,0)*10","v":0}]
[null,null,9,{"$f":"IF(AND(D95<>\"\",G104<>\"\"),D95,\"\")","v":""},{"$f":"IF(AND(E95<>\"\",G104<>\"\"),E95,\"\")","v":""},null,null,null,null,null,null,null,null,null,null,null,null,null,{"$f":"IF(Q104>=2020,R104-Q104+1,\"\")","v":""},null,{"$f":"IF(Q104>=2020,S104*T104,\"\")","v":""},null,null,null,null,null,null,null,null,null,null,null,null,{"$f":"SUM(AI104:AL104)","v":0},null,null,null,null,{"$f":"SUM(AN104:AQ104)","v":0},null,null,null,null,{"$f":"SUM(AS104:AV104)","v":0},null,null,null,null,null,null,{"$f":"SUM(AH104,AM104,AR104)","v":0},{"$f":"SUM(AL104,AQ104,AV104)","v":0},{"$f":"IF(AY104=0,0,AZ104/AY104)","v":0},{"$f":"IF((AY104+AX104)=0,0,AX104/(AX104+AY104))","v":0},null,null,null,null,null,null,null,null,null,null,null,null,null,null,null,null,null,null,null,null,null,null,null,null,null,null,null,null,null,null,null,null,null,null,null,null,null,null,null,null,null,{"$f":"((L104=\"создание\")*7+(L104=\"расширение\")*7 +(L104=\"внедрение\")*7+(L104=\"строительство\")*4+(L104=\"реконструкция\")*3+(L104=\"капремонт\")*2 +(L104=\"приобретение\")*1+(L104=\"установка\")*1)*10","v":0},null,{"$f":"IF(P104=\"коммунальная инфраструктура\",(L104=\"строительство\")*3+(L104=\"реконструкция\")*2+(L104=\"капремонт\")*1,0)*10","v":0},null,{"$f":"IF(P104=\"коммунальная инфраструктура\",(L104=\"строительство\")*4+(L104=\"реконструкция\")*3+(L104=\"капремонт\")*2,0)*10","v":0}]
[null,null,10,{"$f":"IF(AND(D95<>\"\",G105<>\"\"),D95,\"\")","v":""},{"$f":"IF(AND(E95<>\"\",G105<>\"\"),E95,\"\")","v":""},null,null,null,null,null,null,null,null,null,null,null,null,null,{"$f":"IF(Q105>=2020,R105-Q105+1,\"\")","v":""},null,{"$f":"IF(Q105>=2020,S105*T105,\"\")","v":""},null,null,null,null,null,null,null,null,null,null,null,null,{"$f":"SUM(AI105:AL105)","v":0},null,null,null,null,{"$f":"SUM(AN105:AQ105)","v":0},null,null,null,null,{"$f":"SUM(AS105:AV105)","v":0},null,null,null,null,null,null,{"$f":"SUM(AH105,AM105,AR105)","v":0},{"$f":"SUM(AL105,AQ105,AV105)","v":0},{"$f":"IF(AY105=0,0,AZ105/AY105)","v":0},{"$f":"IF((AY105+AX105)=0,0,AX105/(AX105+AY105))","v":0},null,null,null,null,null,null,null,null,null,null,null,null,null,null,null,null,null,null,null,null,null,null,null,null,null,null,null,null,null,null,null,null,null,null,null,null,null,null,null,null,null,{"$f":"((L105=\"создание\")*7+(L105=\"расширение\")*7 +(L105=\"внедрение\")*7+(L105=\"строительство\")*4+(L105=\"реконструкция\")*3+(L105=\"капремонт\")*2 +(L105=\"приобретение\")*1+(L105=\"установка\")*1)*10","v":0},null,{"$f":"IF(P105=\"коммунальная инфраструктура\",(L105=\"строительство\")*3+(L105=\"реконструкция\")*2+(L105=\"капремонт\")*1,0)*10","v":0},null,{"$f":"IF(P105=\"коммунальная инфраструктура\",(L105=\"строительство\")*4+(L105=\"реконструкция\")*3+(L105=\"капремонт\")*2,0)*10","v":0}]
[null,null,11,{"$f":"IF(AND(D95<>\"\",G106<>\"\"),D95,\"\")","v":""},{"$f":"IF(AND(E95<>\"\",G106<>\"\"),E95,\"\")","v":""},null,null,null,null,null,null,null,null,null,null,null,null,null,{"$f":"IF(Q106>=2020,R106-Q106+1,\"\")","v":""},null,{"$f":"IF(Q106>=2020,S106*T106,\"\")","v":""},null,null,null,null,null,null,null,null,null,null,null,null,{"$f":"SUM(AI106:AL106)","v":0},null,null,null,null,{"$f":"SUM(AN106:AQ106)","v":0},null,null,null,null,{"$f":"SUM(AS106:AV106)","v":0},null,null,null,null,null,null,{"$f":"SUM(AH106,AM106,AR106)","v":0},{"$f":"SUM(AL106,AQ106,AV106)","v":0},{"$f":"IF(AY106=0,0,AZ106/AY106)","v":0},{"$f":"IF((AY106+AX106)=0,0,AX106/(AX106+AY106))","v":0},null,null,null,null,null,null,null,null,null,null,null,null,null,null,null,null,null,null,null,null,null,null,null,null,null,null,null,null,null,null,null,null,null,null,null,null,null,null,null,null,null,{"$f":"((L106=\"создание\")*7+(L106=\"расширение\")*7 +(L106=\"внедрение\")*7+(L106=\"строительство\")*4+(L106=\"реконструкция\")*3+(L106=\"капремонт\")*2 +(L106=\"приобретение\")*1+(L106=\"установка\")*1)*10","v":0},null,{"$f":"IF(P106=\"коммунальная инфраструктура\",(L106=\"строительство\")*3+(L106=\"реконструкция\")*2+(L106=\"капремонт\")*1,0)*10","v":0},null,{"$f":"IF(P106=\"коммунальная инфраструктура\",(L106=\"строительство\")*4+(L106=\"реконструкция\")*3+(L106=\"капремонт\")*2,0)*10","v":0}]
[null,null,12,{"$f":"IF(AND(D95<>\"\",G107<>\"\"),D95,\"\")","v":""},{"$f":"IF(AND(E95<>\"\",G107<>\"\"),E95,\"\")","v":""},null,null,null,null,null,null,null,null,null,null,null,null,null,{"$f":"IF(Q107>=2020,R107-Q107+1,\"\")","v":""},null,{"$f":"IF(Q107>=2020,S107*T107,\"\")","v":""},null,null,null,null,null,null,null,null,null,null,null,null,{"$f":"SUM(AI107:AL107)","v":0},null,null,null,null,{"$f":"SUM(AN107:AQ107)","v":0},null,null,null,null,{"$f":"SUM(AS107:AV107)","v":0},null,null,null,null,null,null,{"$f":"SUM(AH107,AM107,AR107)","v":0},{"$f":"SUM(AL107,AQ107,AV107)","v":0},{"$f":"IF(AY107=0,0,AZ107/AY107)","v":0},{"$f":"IF((AY107+AX107)=0,0,AX107/(AX107+AY107))","v":0},null,null,null,null,null,null,null,null,null,null,null,null,null,null,null,null,null,null,null,null,null,null,null,null,null,null,null,null,null,null,null,null,null,null,null,null,null,null,null,null,null,{"$f":"((L107=\"создание\")*7+(L107=\"расширение\")*7 +(L107=\"внедрение\")*7+(L107=\"строительство\")*4+(L107=\"реконструкция\")*3+(L107=\"капремонт\")*2 +(L107=\"приобретение\")*1+(L107=\"установка\")*1)*10","v":0},null,{"$f":"IF(P107=\"коммунальная инфраструктура\",(L107=\"строительство\")*3+(L107=\"реконструкция\")*2+(L107=\"капремонт\")*1,0)*10","v":0},null,{"$f":"IF(P107=\"коммунальная инфраструктура\",(L107=\"строительство\")*4+(L107=\"реконструкция\")*3+(L107=\"капремонт\")*2,0)*10","v":0}]
[null,null,13,{"$f":"IF(AND(D95<>\"\",G108<>\"\"),D95,\"\")","v":""},{"$f":"IF(AND(E95<>\"\",G108<>\"\"),E95,\"\")","v":""},null,null,null,null,null,null,null,null,null,null,null,null,null,{"$f":"IF(Q108>=2020,R108-Q108+1,\"\")","v":""},null,{"$f":"IF(Q108>=2020,S108*T108,\"\")","v":""},null,null,null,null,null,null,null,null,null,null,null,null,{"$f":"SUM(AI108:AL108)","v":0},null,null,null,null,{"$f":"SUM(AN108:AQ108)","v":0},null,null,null,null,{"$f":"SUM(AS108:AV108)","v":0},null,null,null,null,null,null,{"$f":"SUM(AH108,AM108,AR108)","v":0},{"$f":"SUM(AL108,AQ108,AV108)","v":0},{"$f":"IF(AY108=0,0,AZ108/AY108)","v":0},{"$f":"IF((AY108+AX108)=0,0,AX108/(AX108+AY108))","v":0},null,null,null,null,null,null,null,null,null,null,null,null,null,null,null,null,null,null,null,null,null,null,null,null,null,null,null,null,null,null,null,null,null,null,null,null,null,null,null,null,null,{"$f":"((L108=\"создание\")*7+(L108=\"расширение\")*7 +(L108=\"внедрение\")*7+(L108=\"строительство\")*4+(L108=\"реконструкция\")*3+(L108=\"капремонт\")*2 +(L108=\"приобретение\")*1+(L108=\"установка\")*1)*10","v":0},null,{"$f":"IF(P108=\"коммунальная инфраструктура\",(L108=\"строительство\")*3+(L108=\"реконструкция\")*2+(L108=\"капремонт\")*1,0)*10","v":0},null,{"$f":"IF(P108=\"коммунальная инфраструктура\",(L108=\"строительство\")*4+(L108=\"реконструкция\")*3+(L108=\"капремонт\")*2,0)*10","v":0}]
[null,null,14,{"$f":"IF(AND(D95<>\"\",G109<>\"\"),D95,\"\")","v":""},{"$f":"IF(AND(E95<>\"\",G109<>\"\"),E95,\"\")","v":""},null,null,null,null,null,null,null,null,null,null,null,null,null,{"$f":"IF(Q109>=2020,R109-Q109+1,\"\")","v":""},null,{"$f":"IF(Q109>=2020,S109*T109,\"\")","v":""},null,null,null,null,null,null,null,null,null,null,null,null,{"$f":"SUM(AI109:AL109)","v":0},null,null,null,null,{"$f":"SUM(AN109:AQ109)","v":0},null,null,null,null,{"$f":"SUM(AS109:AV109)","v":0},null,null,null,null,null,null,{"$f":"SUM(AH109,AM109,AR109)","v":0},{"$f":"SUM(AL109,AQ109,AV109)","v":0},{"$f":"IF(AY109=0,0,AZ109/AY109)","v":0},{"$f":"IF((AY109+AX109)=0,0,AX109/(AX109+AY109))","v":0},null,null,null,null,null,null,null,null,null,null,null,null,null,null,null,null,null,null,null,null,null,null,null,null,null,null,null,null,null,null,null,null,null,null,null,null,null,null,null,null,null,{"$f":"((L109=\"создание\")*7+(L109=\"расширение\")*7 +(L109=\"внедрение\")*7+(L109=\"строительство\")*4+(L109=\"реконструкция\")*3+(L109=\"капремонт\")*2 +(L109=\"приобретение\")*1+(L109=\"установка\")*1)*10","v":0},null,{"$f":"IF(P109=\"коммунальная инфраструктура\",(L109=\"строительство\")*3+(L109=\"реконструкция\")*2+(L109=\"капремонт\")*1,0)*10","v":0},null,{"$f":"IF(P109=\"коммунальная инфраструктура\",(L109=\"строительство\")*4+(L109=\"реконструкция\")*3+(L109=\"капремонт\")*2,0)*10","v":0}]
[null,null,15,{"$f":"IF(AND(D95<>\"\",G110<>\"\"),D95,\"\")","v":""},{"$f":"IF(AND(E95<>\"\",G110<>\"\"),E95,\"\")","v":""},null,null,null,null,null,null,null,null,null,null,null,null,null,{"$f":"IF(Q110>=2020,R110-Q110+1,\"\")","v":""},null,{"$f":"IF(Q110>=2020,S110*T110,\"\")","v":""},null,null,null,null,null,null,null,null,null,null,null,null,{"$f":"SUM(AI110:AL110)","v":0},null,null,null,null,{"$f":"SUM(AN110:AQ110)","v":0},null,null,null,null,{"$f":"SUM(AS110:AV110)","v":0},null,null,null,null,null,null,{"$f":"SUM(AH110,AM110,AR110)","v":0},{"$f":"SUM(AL110,AQ110,AV110)","v":0},{"$f":"IF(AY110=0,0,AZ110/AY110)","v":0},{"$f":"IF((AY110+AX110)=0,0,AX110/(AX110+AY110))","v":0},null,null,null,null,null,null,null,null,null,null,null,null,null,null,null,null,null,null,null,null,null,null,null,null,null,null,null,null,null,null,null,null,null,null,null,null,null,null,null,null,null,{"$f":"((L110=\"создание\")*7+(L110=\"расширение\")*7 +(L110=\"внедрение\")*7+(L110=\"строительство\")*4+(L110=\"реконструкция\")*3+(L110=\"капремонт\")*2 +(L110=\"приобретение\")*1+(L110=\"установка\")*1)*10","v":0},null,{"$f":"IF(P110=\"коммунальная инфраструктура\",(L110=\"строительство\")*3+(L110=\"реконструкция\")*2+(L110=\"капремонт\")*1,0)*10","v":0},null,{"$f":"IF(P110=\"коммунальная инфраструктура\",(L110=\"строительство\")*4+(L110=\"реконструкция\")*3+(L110=\"капремонт\")*2,0)*10","v":0}]
[null,null,16,{"$f":"IF(AND(D95<>\"\",G111<>\"\"),D95,\"\")","v":""},{"$f":"IF(AND(E95<>\"\",G111<>\"\"),E95,\"\")","v":""},null,null,null,null,null,null,null,null,null,null,null,null,null,{"$f":"IF(Q111>=2020,R111-Q111+1,\"\")","v":""},null,{"$f":"IF(Q111>=2020,S111*T111,\"\")","v":""},null,null,null,null,null,null,null,null,null,null,null,null,{"$f":"SUM(AI111:AL111)","v":0},null,null,null,null,{"$f":"SUM(AN111:AQ111)","v":0},null,null,null,null,{"$f":"SUM(AS111:AV111)","v":0},null,null,null,null,null,null,{"$f":"SUM(AH111,AM111,AR111)","v":0},{"$f":"SUM(AL111,AQ111,AV111)","v":0},{"$f":"IF(AY111=0,0,AZ111/AY111)","v":0},{"$f":"IF((AY111+AX111)=0,0,AX111/(AX111+AY111))","v":0},null,null,null,null,null,null,null,null,null,null,null,null,null,null,null,null,null,null,null,null,null,null,null,null,null,null,null,null,null,null,null,null,null,null,null,null,null,null,null,null,null,{"$f":"((L111=\"создание\")*7+(L111=\"расширение\")*7 +(L111=\"внедрение\")*7+(L111=\"строительство\")*4+(L111=\"реконструкция\")*3+(L111=\"капремонт\")*2 +(L111=\"приобретение\")*1+(L111=\"установка\")*1)*10","v":0},null,{"$f":"IF(P111=\"коммунальная инфраструктура\",(L111=\"строительство\")*3+(L111=\"реконструкция\")*2+(L111=\"капремонт\")*1,0)*10","v":0},null,{"$f":"IF(P111=\"коммунальная инфраструктура\",(L111=\"строительство\")*4+(L111=\"реконструкция\")*3+(L111=\"капремонт\")*2,0)*10","v":0}]
[null,null,17,{"$f":"IF(AND(D95<>\"\",G112<>\"\"),D95,\"\")","v":""},{"$f":"IF(AND(E95<>\"\",G112<>\"\"),E95,\"\")","v":""},null,null,null,null,null,null,null,null,null,null,null,null,null,{"$f":"IF(Q112>=2020,R112-Q112+1,\"\")","v":""},null,{"$f":"IF(Q112>=2020,S112*T112,\"\")","v":""},null,null,null,null,null,null,null,null,null,null,null,null,{"$f":"SUM(AI112:AL112)","v":0},null,null,null,null,{"$f":"SUM(AN112:AQ112)","v":0},null,null,null,null,{"$f":"SUM(AS112:AV112)","v":0},null,null,null,null,null,null,{"$f":"SUM(AH112,AM112,AR112)","v":0},{"$f":"SUM(AL112,AQ112,AV112)","v":0},{"$f":"IF(AY112=0,0,AZ112/AY112)","v":0},{"$f":"IF((AY112+AX112)=0,0,AX112/(AX112+AY112))","v":0},null,null,null,null,null,null,null,null,null,null,null,null,null,null,null,null,null,null,null,null,null,null,null,null,null,null,null,null,null,null,null,null,null,null,null,null,null,null,null,null,null,{"$f":"((L112=\"создание\")*7+(L112=\"расширение\")*7 +(L112=\"внедрение\")*7+(L112=\"строительство\")*4+(L112=\"реконструкция\")*3+(L112=\"капремонт\")*2 +(L112=\"приобретение\")*1+(L112=\"установка\")*1)*10","v":0},null,{"$f":"IF(P112=\"коммунальная инфраструктура\",(L112=\"строительство\")*3+(L112=\"реконструкция\")*2+(L112=\"капремонт\")*1,0)*10","v":0},null,{"$f":"IF(P112=\"коммунальная инфраструктура\",(L112=\"строительство\")*4+(L112=\"реконструкция\")*3+(L112=\"капремонт\")*2,0)*10","v":0}]
[null,null,18,{"$f":"IF(AND(D95<>\"\",G113<>\"\"),D95,\"\")","v":""},{"$f":"IF(AND(E95<>\"\",G113<>\"\"),E95,\"\")","v":""},null,null,null,null,null,null,null,null,null,null,null,null,null,{"$f":"IF(Q113>=2020,R113-Q113+1,\"\")","v":""},null,{"$f":"IF(Q113>=2020,S113*T113,\"\")","v":""},null,null,null,null,null,null,null,null,null,null,null,null,{"$f":"SUM(AI113:AL113)","v":0},null,null,null,null,{"$f":"SUM(AN113:AQ113)","v":0},null,null,null,null,{"$f":"SUM(AS113:AV113)","v":0},null,null,null,null,null,null,{"$f":"SUM(AH113,AM113,AR113)","v":0},{"$f":"SUM(AL113,AQ113,AV113)","v":0},{"$f":"IF(AY113=0,0,AZ113/AY113)","v":0},{"$f":"IF((AY113+AX113)=0,0,AX113/(AX113+AY113))","v":0},null,null,null,null,null,null,null,null,null,null,null,null,null,null,null,null,null,null,null,null,null,null,null,null,null,null,null,null,null,null,null,null,null,null,null,null,null,null,null,null,null,{"$f":"((L113=\"создание\")*7+(L113=\"расширение\")*7 +(L113=\"внедрение\")*7+(L113=\"строительство\")*4+(L113=\"реконструкция\")*3+(L113=\"капремонт\")*2 +(L113=\"приобретение\")*1+(L113=\"установка\")*1)*10","v":0},null,{"$f":"IF(P113=\"коммунальная инфраструктура\",(L113=\"строительство\")*3+(L113=\"реконструкция\")*2+(L113=\"капремонт\")*1,0)*10","v":0},null,{"$f":"IF(P113=\"коммунальная инфраструктура\",(L113=\"строительство\")*4+(L113=\"реконструкция\")*3+(L113=\"капремонт\")*2,0)*10","v":0}]
[null,null,19,{"$f":"IF(AND(D95<>\"\",G114<>\"\"),D95,\"\")","v":""},{"$f":"IF(AND(E95<>\"\",G114<>\"\"),E95,\"\")","v":""},null,null,null,null,null,null,null,null,null,null,null,null,null,{"$f":"IF(Q114>=2020,R114-Q114+1,\"\")","v":""},null,{"$f":"IF(Q114>=2020,S114*T114,\"\")","v":""},null,null,null,null,null,null,null,null,null,null,null,null,{"$f":"SUM(AI114:AL114)","v":0},null,null,null,null,{"$f":"SUM(AN114:AQ114)","v":0},null,null,null,null,{"$f":"SUM(AS114:AV114)","v":0},null,null,null,null,null,null,{"$f":"SUM(AH114,AM114,AR114)","v":0},{"$f":"SUM(AL114,AQ114,AV114)","v":0},{"$f":"IF(AY114=0,0,AZ114/AY114)","v":0},{"$f":"IF((AY114+AX114)=0,0,AX114/(AX114+AY114))","v":0},null,null,null,null,null,null,null,null,null,null,null,null,null,null,null,null,null,null,null,null,null,null,null,null,null,null,null,null,null,null,null,null,null,null,null,null,null,null,null,null,null,{"$f":"((L114=\"создание\")*7+(L114=\"расширение\")*7 +(L114=\"внедрение\")*7+(L114=\"строительство\")*4+(L114=\"реконструкция\")*3+(L114=\"капремонт\")*2 +(L114=\"приобретение\")*1+(L114=\"установка\")*1)*10","v":0},null,{"$f":"IF(P114=\"коммунальная инфраструктура\",(L114=\"строительство\")*3+(L114=\"реконструкция\")*2+(L114=\"капремонт\")*1,0)*10","v":0},null,{"$f":"IF(P114=\"коммунальная инфраструктура\",(L114=\"строительство\")*4+(L114=\"реконструкция\")*3+(L114=\"капремонт\")*2,0)*10","v":0}]
[null,null,20,{"$f":"IF(AND(D95<>\"\",G115<>\"\"),D95,\"\")","v":""},{"$f":"IF(AND(E95<>\"\",G115<>\"\"),E95,\"\")","v":""},null,null,null,null,null,null,null,null,null,null,null,null,null,{"$f":"IF(Q115>=2020,R115-Q115+1,\"\")","v":""},null,{"$f":"IF(Q115>=2020,S115*T115,\"\")","v":""},null,null,null,null,null,null,null,null,null,null,null,null,{"$f":"SUM(AI115:AL115)","v":0},null,null,null,null,{"$f":"SUM(AN115:AQ115)","v":0},null,null,null,null,{"$f":"SUM(AS115:AV115)","v":0},null,null,null,null,null,null,{"$f":"SUM(AH115,AM115,AR115)","v":0},{"$f":"SUM(AL115,AQ115,AV115)","v":0},{"$f":"IF(AY115=0,0,AZ115/AY115)","v":0},{"$f":"IF((AY115+AX115)=0,0,AX115/(AX115+AY115))","v":0},null,null,null,null,null,null,null,null,null,null,null,null,null,null,null,null,null,null,null,null,null,null,null,null,null,null,null,null,null,null,null,null,null,null,null,null,null,null,null,null,null,{"$f":"((L115=\"создание\")*7+(L115=\"расширение\")*7 +(L115=\"внедрение\")*7+(L115=\"строительство\")*4+(L115=\"реконструкция\")*3+(L115=\"капремонт\")*2 +(L115=\"приобретение\")*1+(L115=\"установка\")*1)*10","v":0},null,{"$f":"IF(P115=\"коммунальная инфраструктура\",(L115=\"строительство\")*3+(L115=\"реконструкция\")*2+(L115=\"капремонт\")*1,0)*10","v":0},null,{"$f":"IF(P115=\"коммунальная инфраструктура\",(L115=\"строительство\")*4+(L115=\"реконструкция\")*3+(L115=\"капремонт\")*2,0)*10","v":0}]
[null,null,"…",{"$f":"IF(AND(D95<>\"\",G116<>\"\"),D95,\"\")","v":""},{"$f":"IF(AND(E95<>\"\",G116<>\"\"),E95,\"\")","v":""},null,null,null,null,null,null,null,null,null,null,null,null,null,{"$f":"IF(Q116>=2020,R116-Q116+1,\"\")","v":""},null,{"$f":"IF(Q116>=2020,S116*T116,\"\")","v":""},null,null,null,null,null,null,null,null,null,null,null,null,{"$f":"SUM(AI116:AL116)","v":0},null,null,null,null,{"$f":"SUM(AN116:AQ116)","v":0},null,null,null,null,{"$f":"SUM(AS116:AV116)","v":0},null,null,null,null,null,null,{"$f":"SUM(AH116,AM116,AR116)","v":0},{"$f":"SUM(AL116,AQ116,AV116)","v":0},{"$f":"IF(AY116=0,0,AZ116/AY116)","v":0},{"$f":"IF((AY116+AX116)=0,0,AX116/(AX116+AY116))","v":0},null,null,null,null,null,null,null,null,null,null,null,null,null,null,null,null,null,null,null,null,null,null,null,null,null,null,null,null,null,null,null,null,null,null,null,null,null,null,null,null,null,{"$f":"((L116=\"создание\")*7+(L116=\"расширение\")*7 +(L116=\"внедрение\")*7+(L116=\"строительство\")*4+(L116=\"реконструкция\")*3+(L116=\"капремонт\")*2 +(L116=\"приобретение\")*1+(L116=\"установка\")*1)*10","v":0},null,{"$f":"IF(P116=\"коммунальная инфраструктура\",(L116=\"строительство\")*3+(L116=\"реконструкция\")*2+(L116=\"капремонт\")*1,0)*10","v":0},null,{"$f":"IF(P116=\"коммунальная инфраструктура\",(L116=\"строительство\")*4+(L116=\"реконструкция\")*3+(L116=\"капремонт\")*2,0)*10","v":0}]
[6,null,{"$f":"COUNTA(G118:G138)","v":0},null,null,null,null,null,null,null,null,null,null,null,null,null,{"$f":"MIN(Q118:Q138)","v":0},{"$f":"MAX(R118:R138)","v":0},{"$f":"MAX(S118:S138)","v":0},null,{"$f":"MAX(U118:U138)","v":0},null,null,null,null,null,{"$f":"IF(COUNTIF(AA118:AA138,\"НЕТ\")>0,\"ПД!\",\"ок\")","v":"ок"},null,{"$f":"IF(COUNTIF(AC118:AC138,\"НЕТ\")>0,\"ДОСМ!\",\"ок\")","v":"ок"},null,{"$f":"IF(COUNTIF(AE118:AE138,\"НЕТ\")>0,\"ФОИВ!\",\"ок\")","v":"ок"},{"$f":"IF(COUNTIF(AF118:AF138,\"НЕТ\")>0,\"ФОИВ!\",\"ок\")","v":"ок"},null,{"$f":"SUM(AH118:AH138)","v":0},{"$f":"SUM(AI118:AI138)","v":0},{"$f":"SUM(AJ118:AJ138)","v":0},{"$f":"SUM(AK118:AK138)","v":0},{"$f":"SUM(AL118:AL138)","v":0},{"$f":"SUM(AM118:AM138)","v":0},{"$f":"SUM(AN118:AN138)","v":0},{"$f":"SUM(AO118:AO138)","v":0},{"$f":"SUM(AP118:AP138)","v":0},{"$f":"SUM(AQ118:AQ138)","v":0},{"$f":"SUM(AR118:AR138)","v":0},{"$f":"SUM(AS118:AS138)","v":0},{"$f":"SUM(AT118:AT138)","v":0},{"$f":"SUM(AU118:AU138)","v":0},{"$f":"SUM(AV118:AV138)","v":0},{"$f":"SUM(AW118:AW138)","v":0},{"$f":"SUM(AX118:AX138)","v":0},{"$f":"SUM(AH117,AM117,AR117)","v":0},{"$f":"AL117+AQ117+AV117","v":0},{"$f":"IF(AY117=0,0,AZ117/AY117)","v":0},{"$f":"IF((AY117+AX117)=0,0,AX117/(AX117+AY117))","v":0},null,null,{"$f":"IFERROR(BD117/BC117,0)","v":0},null,null,{"$f":"IFERROR(BG117/BF117,0)","v":0},null,null,{"$f":"IFERROR(BJ117/BI117,0)","v":0},null,null,null,{"$f":"(SUM(BL117:BN117)>0)*1+(SUM(BL117:BN117)>=10)*1+(SUM(BL117:BN117)>=50)*1+(SUM(BL117:BN117)>=100)*1+(SUM(BL117:BN117)>=200)*1+(SUM(BL117:BN117)>=300)*1","v":0},{"$f":"IFERROR(SUM(BL117:BN117)/BC117,0)","v":0},null,null,{"$f":"IFERROR(BQ117/BR117,0)","v":0},{"$f":"IF(BA117<0.01,0,IF(BA117>=0.1,10,ROUNDDOWN(BA117/0.01,0)))","v":0},8,{"$f":"BT117*BU117","v":0},{"$f":"IF(BB117<0.01,0,IF(BB117>=0.1,10,ROUNDDOWN(BB117/0.01,0)))","v":0},8,{"$f":"BW117*BX117","v":0},{"$f":"IF(U117<=1,9,IF(U117<=2,6,IF(U117<=3,3,0)))*(C117>0)","v":0},6,{"$f":"BZ117*CA117","v":0},{"$f":"IF(BH117<0.51,0,10)","v":0},7,{"$f":"CC117*CD117","v":0},{"$f":"IF(BE117<0.1,0,IF(BE117>=0.9,10,ROUNDDOWN(BE117/0.1,0)))","v":0},10,{"$f":"CF117*CG117","v":0},{"$f":"IF(BK117<0.1,0,IF(BK117>=0.6,10,ROUNDDOWN(BK117/0.1,0)))","v":0},8,{"$f":"CI117*CJ117","v":0},{"$f":"IF(BP117<0.05,0,IF(BP117>=0.1,10,1))","v":0},10,{"$f":"CL117*CM117","v":0},{"$f":"IF(BS117<0.1,0,IF(BS117>=0.8,10,ROUNDDOWN(BS117/0.1,0)))","v":0},10,{"$f":"CP117*CO117","v":0},{"$f":"ROUND(IF(C117=0,0,SUM(CR118:CR138)/C117),1)","v":0},{"$f":"((SUM(BL117:BN117)>=1)*1+(SUM(BL117:BN117)>=11)*1+(SUM(BL117:BN117)>=51)*3+(SUM(BL117:BN117)>=101)*2+(SUM(BL117:BN117)>=201)*2+(SUM(BL117:BN117)>=301)*4)*10","v":0},{"$f":"IFERROR(ROUND(SUM(CT118:CT138)/COUNTIF(P118:P138,\"коммунальная инфраструктура\"),1),0)","v":0},{"$f":"CS117+CT117","v":0},{"$f":"IFERROR(ROUND(SUM(CV118:CV138)/COUNTIF(P118:P138,\"коммунальная инфраструктура\"),1),0)","v":0},{"$f":"SUM(BV117,BY117,CB117,CE117,CH117,CK117,CN117,CQ117,CR117,CU117,CV117)","v":0},{"$f":"VLOOKUP(D117,РегионыФО,2,0)","v":{"$error":"#N/A"}}]
[null,null,1,{"$f":"IF(AND(D117<>\"\",G118<>\"\"),D117,\"\")","v":""},{"$f":"IF(AND(E117<>\"\",G118<>\"\"),E117,\"\")","v":""},null,null,null,null,null,null,null,null,null,null,null,null,null,{"$f":"IF(Q118>=2020,R118-Q118+1,\"\")","v":""},null,{"$f":"IF(Q118>=2020,ROUNDUP(S118*T118,0),\"\")","v":""},null,null,null,null,null,null,null,null,null,null,null,null,{"$f":"SUM(AI118:AL118)","v":0},null,null,null,null,{"$f":"SUM(AN118:AQ118)","v":0},null,null,null,null,{"$f":"SUM(AS118:AV118)","v":0},null,null,null,null,null,null,{"$f":"SUM(AH118,AM118,AR118)","v":0},{"$f":"SUM(AL118,AQ118,AV118)","v":0},{"$f":"IF(AY118=0,0,AZ118/AY118)","v":0},{"$f":"IF((AY118+AX118)=0,0,AX118/(AX118+AY118))","v":0},null,null,null,null,null,null,null,null,null,null,null,null,null,null,null,null,null,null,null,null,null,null,null,null,null,null,null,null,null,null,null,null,null,null,null,null,null,null,null,null,null,{"$f":"((L118=\"создание\")*7+(L118=\"расширение\")*7 +(L118=\"внедрение\")*7+(L118=\"строительство\")*4+(L118=\"реконструкция\")*3+(L118=\"капремонт\")*2 +(L118=\"приобретение\")*1+(L118=\"установка\")*1)*10","v":0},null,{"$f":"IF(P118=\"коммунальная инфраструктура\",(L118=\"строительство\")*3+(L118=\"реконструкция\")*2+(L118=\"капремонт\")*1,0)*10","v":0},null,{"$f":"IF(P118=\"коммунальная инфраструктура\",(L118=\"строительство\")*4+(L118=\"реконструкция\")*3+(L118=\"капремонт\")*2,0)*10","v":0}]
[null,null,2,{"$f":"IF(AND(D117<>\"\",G119<>\"\"),D117,\"\")","v":""},{"$f":"IF(AND(E117<>\"\",G119<>\"\"),E117,\"\")","v":""},null,null,null,null,null,null,null,null,null,null,null,null,null,{"$f":"IF(Q119>=2020,R119-Q119+1,\"\")","v":""},null,{"$f":"IF(Q119>=2020,S119*T119,\"\")","v":""},null,null,null,null,null,null,null,null,null,null,null,null,{"$f":"SUM(AI119:AL119)","v":0},null,null,null,null,{"$f":"SUM(AN119:AQ119)","v":0},null,null,null,null,{"$f":"SUM(AS119:AV119)","v":0},null,null,null,null,null,null,{"$f":"SUM(AH119,AM119,AR119)","v":0},{"$f":"SUM(AL119,AQ119,AV119)","v":0},{"$f":"IF(AY119=0,0,AZ119/AY119)","v":0},{"$f":"IF((AY119+AX119)=0,0,AX119/(AX119+AY119))","v":0},null,null,null,null,null,null,null,null,null,null,null,null,null,null,null,null,null,null,null,null,null,null,null,null,null,null,null,null,null,null,null,null,null,null,null,null,null,null,null,null,null,{"$f":"((L119=\"создание\")*7+(L119=\"расширение\")*7 +(L119=\"внедрение\")*7+(L119=\"строительство\")*4+(L119=\"реконструкция\")*3+(L119=\"капремонт\")*2 +(L119=\"приобретение\")*1+(L119=\"установка\")*1)*10","v":0},null,{"$f":"IF(P119=\"коммунальная инфраструктура\",(L119=\"строительство\")*3+(L119=\"реконструкция\")*2+(L119=\"капремонт\")*1,0)*10","v":0},null,{"$f":"IF(P119=\"коммунальная инфраструктура\",(L119=\"строительство\")*4+(L119=\"реконструкция\")*3+(L119=\"капремонт\")*2,0)*10","v":0}]
[null,null,3,{"$f":"IF(AND(D117<>\"\",G120<>\"\"),D117,\"\")","v":""},{"$f":"IF(AND(E117<>\"\",G120<>\"\"),E117,\"\")","v":""},null,null,null,null,null,null,null,null,null,null,null,null,null,{"$f":"IF(Q120>=2020,R120-Q120+1,\"\")","v":""},null,{"$f":"IF(Q120>=2020,S120*T120,\"\")","v":""},null,null,null,null,null,null,null,null,null,null,null,null,{"$f":"SUM(AI120:AL120)","v":0},null,null,null,null,{"$f":"SUM(AN120:AQ120)","v":0},null,null,null,null,{"$f":"SUM(AS120:AV120)","v":0},null,null,null,null,null,null,{"$f":"SUM(AH120,AM120,AR120)","v":0},{"$f":"SUM(AL120,AQ120,AV120)","v":0},{"$f":"IF(AY120=0,0,AZ120/AY120)","v":0},{"$f":"IF((AY120+AX120)=0,0,AX120/(AX120+AY120))","v":0},null,null,null,null,null,null,null,null,null,null,null,null,null,null,null,null,null,null,null,null,null,null,null,null,null,null,null,null,null,null,null,null,null,null,null,null,null,null,null,null,null,{"$f":"((L120=\"создание\")*7+(L120=\"расширение\")*7 +(L120=\"внедрение\")*7+(L120=\"строительство\")*4+(L120=\"реконструкция\")*3+(L120=\"капремонт\")*2 +(L120=\"приобретение\")*1+(L120=\"установка\")*1)*10","v":0},null,{"$f":"IF(P120=\"коммунальная инфраструктура\",(L120=\"строительство\")*3+(L120=\"реконструкция\")*2+(L120=\"капремонт\")*1,0)*10","v":0},null,{"$f":"IF(P120=\"коммунальная инфраструктура\",(L120=\"строительство\")*4+(L120=\"реконструкция\")*3+(L120=\"капремонт\")*2,0)*10","v":0}]
[null,null,4,{"$f":"IF(AND(D117<>\"\",G121<>\"\"),D117,\"\")","v":""},{"$f":"IF(AND(E117<>\"\",G121<>\"\"),E117,\"\")","v":""},null,null,null,null,null,null,null,null,null,null,null,null,null,{"$f":"IF(Q121>=2020,R121-Q121+1,\"\")","v":""},null,{"$f":"IF(Q121>=2020,S121*T121,\"\")","v":""},null,null,null,null,null,null,null,null,null,null,null,null,{"$f":"SUM(AI121:AL121)","v":0},null,null,null,null,{"$f":"SUM(AN121:AQ121)","v":0},null,null,null,null,{"$f":"SUM(AS121:AV121)","v":0},null,null,null,null,null,null,{"$f":"SUM(AH121,AM121,AR121)","v":0},{"$f":"SUM(AL121,AQ121,AV121)","v":0},{"$f":"IF(AY121=0,0,AZ121/AY121)","v":0},{"$f":"IF((AY121+AX121)=0,0,AX121/(AX121+AY121))","v":0},null,null,null,null,null,null,null,null,null,null,null,null,null,null,null,null,null,null,null,null,null,null,null,null,null,null,null,null,null,null,null,null,null,null,null,null,null,null,null,null,null,{"$f":"((L121=\"создание\")*7+(L121=\"расширение\")*7 +(L121=\"внедрение\")*7+(L121=\"строительство\")*4+(L121=\"реконструкция\")*3+(L121=\"капремонт\")*2 +(L121=\"приобретение\")*1+(L121=\"установка\")*1)*10","v":0},null,{"$f":"IF(P121=\"коммунальная инфраструктура\",(L121=\"строительство\")*3+(L121=\"реконструкция\")*2+(L121=\"капремонт\")*1,0)*10","v":0},null,{"$f":"IF(P121=\"коммунальная инфраструктура\",(L121=\"строительство\")*4+(L121=\"реконструкция\")*3+(L121=\"капремонт\")*2,0)*10","v":0}]
[null,null,5,{"$f":"IF(AND(D117<>\"\",G122<>\"\"),D117,\"\")","v":""},{"$f":"IF(AND(E117<>\"\",G122<>\"\"),E117,\"\")","v":""},null,null,null,null,null,null,null,null,null,null,null,null,null,{"$f":"IF(Q122>=2020,R122-Q122+1,\"\")","v":""},null,{"$f":"IF(Q122>=2020,S122*T122,\"\")","v":""},null,null,null,null,null,null,null,null,null,null,null,null,{"$f":"SUM(AI122:AL122)","v":0},null,null,null,null,{"$f":"SUM(AN122:AQ122)","v":0},null,null,null,null,{"$f":"SUM(AS122:AV122)","v":0},null,null,null,null,null,null,{"$f":"SUM(AH122,AM122,AR122)","v":0},{"$f":"SUM(AL122,AQ122,AV122)","v":0},{"$f":"IF(AY122=0,0,AZ122/AY122)","v":0},{"$f":"IF((AY122+AX122)=0,0,AX122/(AX122+AY122))","v":0},null,null,null,null,null,null,null,null,null,null,null,null,null,null,null,null,null,null,null,null,null,null,null,null,null,null,null,null,null,null,null,null,null,null,null,null,null,null,null,null,null,{"$f":"((L122=\"создание\")*7+(L122=\"расширение\")*7 +(L122=\"внедрение\")*7+(L122=\"строительство\")*4+(L122=\"реконструкция\")*3+(L122=\"капремонт\")*2 +(L122=\"приобретение\")*1+(L122=\"установка\")*1)*10","v":0},null,{"$f":"IF(P122=\"коммунальная инфраструктура\",(L122=\"строительство\")*3+(L122=\"реконструкция\")*2+(L122=\"капремонт\")*1,0)*10","v":0},null,{"$f":"IF(P122=\"коммунальная инфраструктура\",(L122=\"строительство\")*4+(L122=\"реконструкция\")*3+(L122=\"капремонт\")*2,0)*10","v":0}]
[null,null,6,{"$f":"IF(AND(D117<>\"\",G123<>\"\"),D117,\"\")","v":""},{"$f":"IF(AND(E117<>\"\",G123<>\"\"),E117,\"\")","v":""},null,null,null,null,null,null,null,null,null,null,null,null,null,{"$f":"IF(Q123>=2020,R123-Q123+1,\"\")","v":""},null,{"$f":"IF(Q123>=2020,S123*T123,\"\")","v":""},null,null,null,null,null,null,null,null,null,null,null,null,{"$f":"SUM(AI123:AL123)","v":0},null,null,null,null,{"$f":"SUM(AN123:AQ123)","v":0},null,null,null,null,{"$f":"SUM(AS123:AV123)","v":0},null,null,null,null,null,null,{"$f":"SUM(AH123,AM123,AR123)","v":0},{"$f":"SUM(AL123,AQ123,AV123)","v":0},{"$f":"IF(AY123=0,0,AZ123/AY123)","v":0},{"$f":"IF((AY123+AX123)=0,0,AX123/(AX123+AY123))","v":0},null,null,null,null,null,null,null,null,null,null,null,null,null,null,null,null,null,null,null,null,null,null,null,null,null,null,null,null,null,null,null,null,null,null,null,null,null,null,null,null,null,{"$f":"((L123=\"создание\")*7+(L123=\"расширение\")*7 +(L123=\"внедрение\")*7+(L123=\"строительство\")*4+(L123=\"реконструкция\")*3+(L123=\"капремонт\")*2 +(L123=\"приобретение\")*1+(L123=\"установка\")*1)*10","v":0},null,{"$f":"IF(P123=\"коммунальная инфраструктура\",(L123=\"строительство\")*3+(L123=\"реконструкция\")*2+(L123=\"капремонт\")*1,0)*10","v":0},null,{"$f":"IF(P123=\"коммунальная инфраструктура\",(L123=\"строительство\")*4+(L123=\"реконструкция\")*3+(L123=\"капремонт\")*2,0)*10","v":0}]
[null,null,7,{"$f":"IF(AND(D117<>\"\",G124<>\"\"),D117,\"\")","v":""},{"$f":"IF(AND(E117<>\"\",G124<>\"\"),E117,\"\")","v":""},null,null,null,null,null,null,null,null,null,null,null,null,null,{"$f":"IF(Q124>=2020,R124-Q124+1,\"\")","v":""},null,{"$f":"IF(Q124>=2020,S124*T124,\"\")","v":""},null,null,null,null,null,null,null,null,null,null,null,null,{"$f":"SUM(AI124:AL124)","v":0},null,null,null,null,{"$f":"SUM(AN124:AQ124)","v":0},null,null,null,null,{"$f":"SUM(AS124:AV124)","v":0},null,null,null,null,null,null,{"$f":"SUM(AH124,AM124,AR124)","v":0},{"$f":"SUM(AL124,AQ124,AV124)","v":0},{"$f":"IF(AY124=0,0,AZ124/AY124)","v":0},{"$f":"IF((AY124+AX124)=0,0,AX124/(AX124+AY124))","v":0},null,null,null,null,null,null,null,null,null,null,null,null,null,null,null,null,null,null,null,null,null,null,null,null,null,null,null,null,null,null,null,null,null,null,null,null,null,null,null,null,null,{"$f":"((L124=\"создание\")*7+(L124=\"расширение\")*7 +(L124=\"внедрение\")*7+(L124=\"строительство\")*4+(L124=\"реконструкция\")*3+(L124=\"капремонт\")*2 +(L124=\"приобретение\")*1+(L124=\"установка\")*1)*10","v":0},null,{"$f":"IF(P124=\"коммунальная инфраструктура\",(L124=\"строительство\")*3+(L124=\"реконструкция\")*2+(L124=\"капремонт\")*1,0)*10","v":0},null,{"$f":"IF(P124=\"коммунальная инфраструктура\",(L124=\"строительство\")*4+(L124=\"реконструкция\")*3+(L124=\"капремонт\")*2,0)*10","v":0}]
[null,null,8,{"$f":"IF(AND(D117<>\"\",G125<>\"\"),D117,\"\")","v":""},{"$f":"IF(AND(E117<>\"\",G125<>\"\"),E117,\"\")","v":""},null,null,null,null,null,null,null,null,null,null,null,null,null,{"$f":"IF(Q125>=2020,R125-Q125+1,\"\")","v":""},null,{"$f":"IF(Q125>=2020,S125*T125,\"\")","v":""},null,null,null,null,null,null,null,null,null,null,null,null,{"$f":"SUM(AI125:AL125)","v":0},null,null,null,null,{"$f":"SUM(AN125:AQ125)","v":0},null,null,null,null,{"$f":"SUM(AS125:AV125)","v":0},null,null,null,null,null,null,{"$f":"SUM(AH125,AM125,AR125)","v":0},{"$f":"SUM(AL125,AQ125,AV125)","v":0},{"$f":"IF(AY125=0,0,AZ125/AY125)","v":0},{"$f":"IF((AY125+AX125)=0,0,AX125/(AX125+AY125))","v":0},null,null,null,null,null,null,null,null,null,null,null,null,null,null,null,null,null,null,null,null,null,null,null,null,null,null,null,null,null,null,null,null,null,null,null,null,null,null,null,null,null,{"$f":"((L125=\"создание\")*7+(L125=\"расширение\")*7 +(L125=\"внедрение\")*7+(L125=\"строительство\")*4+(L125=\"реконструкция\")*3+(L125=\"капремонт\")*2 +(L125=\"приобретение\")*1+(L125=\"установка\")*1)*10","v":0},null,{"$f":"IF(P125=\"коммунальная инфраструктура\",(L125=\"строительство\")*3+(L125=\"реконструкция\")*2+(L125=\"капремонт\")*1,0)*10","v":0},null,{"$f":"IF(P125=\"коммунальная инфраструктура\",(L125=\"строительство\")*4+(L125=\"реконструкция\")*3+(L125=\"капремонт\")*2,0)*10","v":0}]
[null,null,9,{"$f":"IF(AND(D117<>\"\",G126<>\"\"),D117,\"\")","v":""},{"$f":"IF(AND(E117<>\"\",G126<>\"\"),E117,\"\")","v":""},null,null,null,null,null,null,null,null,null,null,null,null,null,{"$f":"IF(Q126>=2020,R126-Q126+1,\"\")","v":""},null,{"$f":"IF(Q126>=2020,S126*T126,\"\")","v":""},null,null,null,null,null,null,null,null,null,null,null,null,{"$f":"SUM(AI126:AL126)","v":0},null,null,null,null,{"$f":"SUM(AN126:AQ126)","v":0},null,null,null,null,{"$f":"SUM(AS126:AV126)","v":0},null,null,null,null,null,null,{"$f":"SUM(AH126,AM126,AR126)","v":0},{"$f":"SUM(AL126,AQ126,AV126)","v":0},{"$f":"IF(AY126=0,0,AZ126/AY126)","v":0},{"$f":"IF((AY126+AX126)=0,0,AX126/(AX126+AY126))","v":0},null,null,null,null,null,null,null,null,null,null,null,null,null,null,null,null,null,null,null,null,null,null,null,null,null,null,null,null,null,null,null,null,null,null,null,null,null,null,null,null,null,{"$f":"((L126=\"создание\")*7+(L126=\"расширение\")*7 +(L126=\"внедрение\")*7+(L126=\"строительство\")*4+(L126=\"реконструкция\")*3+(L126=\"капремонт\")*2 +(L126=\"приобретение\")*1+(L126=\"установка\")*1)*10","v":0},null,{"$f":"IF(P126=\"коммунальная инфраструктура\",(L126=\"строительство\")*3+(L126=\"реконструкция\")*2+(L126=\"капремонт\")*1,0)*10","v":0},null,{"$f":"IF(P126=\"коммунальная инфраструктура\",(L126=\"строительство\")*4+(L126=\"реконструкция\")*3+(L126=\"капремонт\")*2,0)*10","v":0}]
[null,null,10,{"$f":"IF(AND(D117<>\"\",G127<>\"\"),D117,\"\")","v":""},{"$f":"IF(AND(E117<>\"\",G127<>\"\"),E117,\"\")","v":""},null,null,null,null,null,null,null,null,null,null,null,null,null,{"$f":"IF(Q127>=2020,R127-Q127+1,\"\")","v":""},null,{"$f":"IF(Q127>=2020,S127*T127,\"\")","v":""},null,null,null,null,null,null,null,null,null,null,null,null,{"$f":"SUM(AI127:AL127)","v":0},null,null,null,null,{"$f":"SUM(AN127:AQ127)","v":0},null,null,null,null,{"$f":"SUM(AS127:AV127)","v":0},null,null,null,null,null,null,{"$f":"SUM(AH127,AM127,AR127)","v":0},{"$f":"SUM(AL127,AQ127,AV127)","v":0},{"$f":"IF(AY127=0,0,AZ127/AY127)","v":0},{"$f":"IF((AY127+AX127)=0,0,AX127/(AX127+AY127))","v":0},null,null,null,null,null,null,null,null,null,null,null,null,null,null,null,null,null,null,null,null,null,null,null,null,null,null,null,null,null,null,null,null,null,null,null,null,null,null,null,null,null,{"$f":"((L127=\"создание\")*7+(L127=\"расширение\")*7 +(L127=\"внедрение\")*7+(L127=\"строительство\")*4+(L127=\"реконструкция\")*3+(L127=\"капремонт\")*2 +(L127=\"приобретение\")*1+(L127=\"установка\")*1)*10","v":0},null,{"$f":"IF(P127=\"коммунальная инфраструктура\",(L127=\"строительство\")*3+(L127=\"реконструкция\")*2+(L127=\"капремонт\")*1,0)*10","v":0},null,{"$f":"IF(P127=\"коммунальная инфраструктура\",(L127=\"строительство\")*4+(L127=\"реконструкция\")*3+(L127=\"капремонт\")*2,0)*10","v":0}]
[null,null,11,{"$f":"IF(AND(D117<>\"\",G128<>\"\"),D117,\"\")","v":""},{"$f":"IF(AND(E117<>\"\",G128<>\"\"),E117,\"\")","v":""},null,null,null,null,null,null,null,null,null,null,null,null,null,{"$f":"IF(Q128>=2020,R128-Q128+1,\"\")","v":""},null,{"$f":"IF(Q128>=2020,S128*T128,\"\")","v":""},null,null,null,null,null,null,null,null,null,null,null,null,{"$f":"SUM(AI128:AL128)","v":0},null,null,null,null,{"$f":"SUM(AN128:AQ128)","v":0},null,null,null,null,{"$f":"SUM(AS128:AV128)","v":0},null,null,null,null,null,null,{"$f":"SUM(AH128,AM128,AR128)","v":0},{"$f":"SUM(AL128,AQ128,AV128)","v":0},{"$f":"IF(AY128=0,0,AZ128/AY128)","v":0},{"$f":"IF((AY128+AX128)=0,0,AX128/(AX128+AY128))","v":0},null,null,null,null,null,null,null,null,null,null,null,null,null,null,null,null,null,null,null,null,null,null,null,null,null,null,null,null,null,null,null,null,null,null,null,null,null,null,null,null,null,{"$f":"((L128=\"создание\")*7+(L128=\"расширение\")*7 +(L128=\"внедрение\")*7+(L128=\"строительство\")*4+(L128=\"реконструкция\")*3+(L128=\"капремонт\")*2 +(L128=\"приобретение\")*1+(L128=\"установка\")*1)*10","v":0},null,{"$f":"IF(P128=\"коммунальная инфраструктура\",(L128=\"строительство\")*3+(L128=\"реконструкция\")*2+(L128=\"капремонт\")*1,0)*10","v":0},null,{"$f":"IF(P128=\"коммунальная инфраструктура\",(L128=\"строительство\")*4+(L128=\"реконструкция\")*3+(L128=\"капремонт\")*2,0)*10","v":0}]
[null,null,12,{"$f":"IF(AND(D117<>\"\",G129<>\"\"),D117,\"\")","v":""},{"$f":"IF(AND(E117<>\"\",G129<>\"\"),E117,\"\")","v":""},null,null,null,null,null,null,null,null,null,null,null,null,null,{"$f":"IF(Q129>=2020,R129-Q129+1,\"\")","v":""},null,{"$f":"IF(Q129>=2020,S129*T129,\"\")","v":""},null,null,null,null,null,null,null,null,null,null,null,null,{"$f":"SUM(AI129:AL129)","v":0},null,null,null,null,{"$f":"SUM(AN129:AQ129)","v":0},null,null,null,null,{"$f":"SUM(AS129:AV129)","v":0},null,null,null,null,null,null,{"$f":"SUM(AH129,AM129,AR129)","v":0},{"$f":"SUM(AL129,AQ129,AV129)","v":0},{"$f":"IF(AY129=0,0,AZ129/AY129)","v":0},{"$f":"IF((AY129+AX129)=0,0,AX129/(AX129+AY129))","v":0},null,null,null,null,null,null,null,null,null,null,null,null,null,null,null,null,null,null,null,null,null,null,null,null,null,null,null,null,null,null,null,null,null,null,null,null,null,null,null,null,null,{"$f":"((L129=\"создание\")*7+(L129=\"расширение\")*7 +(L129=\"внедрение\")*7+(L129=\"строительство\")*4+(L129=\"реконструкция\")*3+(L129=\"капремонт\")*2 +(L129=\"приобретение\")*1+(L129=\"установка\")*1)*10","v":0},null,{"$f":"IF(P129=\"коммунальная инфраструктура\",(L129=\"строительство\")*3+(L129=\"реконструкция\")*2+(L129=\"капремонт\")*1,0)*10","v":0},null,{"$f":"IF(P129=\"коммунальная инфраструктура\",(L129=\"строительство\")*4+(L129=\"реконструкция\")*3+(L129=\"капремонт\")*2,0)*10","v":0}]
[null,null,13,{"$f":"IF(AND(D117<>\"\",G130<>\"\"),D117,\"\")","v":""},{"$f":"IF(AND(E117<>\"\",G130<>\"\"),E117,\"\")","v":""},null,null,null,null,null,null,null,null,null,null,null,null,null,{"$f":"IF(Q130>=2020,R130-Q130+1,\"\")","v":""},null,{"$f":"IF(Q130>=2020,S130*T130,\"\")","v":""},null,null,null,null,null,null,null,null,null,null,null,null,{"$f":"SUM(AI130:AL130)","v":0},null,null,null,null,{"$f":"SUM(AN130:AQ130)","v":0},null,null,null,null,{"$f":"SUM(AS130:AV130)","v":0},null,null,null,null,null,null,{"$f":"SUM(AH130,AM130,AR130)","v":0},{"$f":"SUM(AL130,AQ130,AV130)","v":0},{"$f":"IF(AY130=0,0,AZ130/AY130)","v":0},{"$f":"IF((AY130+AX130)=0,0,AX130/(AX130+AY130))","v":0},null,null,null,null,null,null,null,null,null,null,null,null,null,null,null,null,null,null,null,null,null,null,null,null,null,null,null,null,null,null,null,null,null,null,null,null,null,null,null,null,null,{"$f":"((L130=\"создание\")*7+(L130=\"расширение\")*7 +(L130=\"внедрение\")*7+(L130=\"строительство\")*4+(L130=\"реконструкция\")*3+(L130=\"капремонт\")*2 +(L130=\"приобретение\")*1+(L130=\"установка\")*1)*10","v":0},null,{"$f":"IF(P130=\"коммунальная инфраструктура\",(L130=\"строительство\")*3+(L130=\"реконструкция\")*2+(L130=\"капремонт\")*1,0)*10","v":0},null,{"$f":"IF(P130=\"коммунальная инфраструктура\",(L130=\"строительство\")*4+(L130=\"реконструкция\")*3+(L130=\"капремонт\")*2,0)*10","v":0}]
[null,null,14,{"$f":"IF(AND(D117<>\"\",G131<>\"\"),D117,\"\")","v":""},{"$f":"IF(AND(E117<>\"\",G131<>\"\"),E117,\"\")","v":""},null,null,null,null,null,null,null,null,null,null,null,null,null,{"$f":"IF(Q131>=2020,R131-Q131+1,\"\")","v":""},null,{"$f":"IF(Q131>=2020,S131*T131,\"\")","v":""},null,null,null,null,null,null,null,null,null,null,null,null,{"$f":"SUM(AI131:AL131)","v":0},null,null,null,null,{"$f":"SUM(AN131:AQ131)","v":0},null,null,null,null,{"$f":"SUM(AS131:AV131)","v":0},null,null,null,null,null,null,{"$f":"SUM(AH131,AM131,AR131)","v":0},{"$f":"SUM(AL131,AQ131,AV131)","v":0},{"$f":"IF(AY131=0,0,AZ131/AY131)","v":0},{"$f":"IF((AY131+AX131)=0,0,AX131/(AX131+AY131))","v":0},null,null,null,null,null,null,null,null,null,null,null,null,null,null,null,null,null,null,null,null,null,null,null,null,null,null,null,null,null,null,null,null,null,null,null,null,null,null,null,null,null,{"$f":"((L131=\"создание\")*7+(L131=\"расширение\")*7 +(L131=\"внедрение\")*7+(L131=\"строительство\")*4+(L131=\"реконструкция\")*3+(L131=\"капремонт\")*2 +(L131=\"приобретение\")*1+(L131=\"установка\")*1)*10","v":0},null,{"$f":"IF(P131=\"коммунальная инфраструктура\",(L131=\"строительство\")*3+(L131=\"реконструкция\")*2+(L131=\"капремонт\")*1,0)*10","v":0},null,{"$f":"IF(P131=\"коммунальная инфраструктура\",(L131=\"строительство\")*4+(L131=\"реконструкция\")*3+(L131=\"капремонт\")*2,0)*10","v":0}]
[null,null,15,{"$f":"IF(AND(D117<>\"\",G132<>\"\"),D117,\"\")","v":""},{"$f":"IF(AND(E117<>\"\",G132<>\"\"),E117,\"\")","v":""},null,null,null,null,null,null,null,null,null,null,null,null,null,{"$f":"IF(Q132>=2020,R132-Q132+1,\"\")","v":""},null,{"$f":"IF(Q132>=2020,S132*T132,\"\")","v":""},null,null,null,null,null,null,null,null,null,null,null,null,{"$f":"SUM(AI132:AL132)","v":0},null,null,null,null,{"$f":"SUM(AN132:AQ132)","v":0},null,null,null,null,{"$f":"SUM(AS132:AV132)","v":0},null,null,null,null,null,null,{"$f":"SUM(AH132,AM132,AR132)","v":0},{"$f":"SUM(AL132,AQ132,AV132)","v":0},{"$f":"IF(AY132=0,0,AZ132/AY132)","v":0},{"$f":"IF((AY132+AX132)=0,0,AX132/(AX132+AY132))","v":0},null,null,null,null,null,null,null,null,null,null,null,null,null,null,null,null,null,null,null,null,null,null,null,null,null,null,null,null,null,null,null,null,null,null,null,null,null,null,null,null,null,{"$f":"((L132=\"создание\")*7+(L132=\"расширение\")*7 +(L132=\"внедрение\")*7+(L132=\"строительство\")*4+(L132=\"реконструкция\")*3+(L132=\"капремонт\")*2 +(L132=\"приобретение\")*1+(L132=\"установка\")*1)*10","v":0},null,{"$f":"IF(P132=\"коммунальная инфраструктура\",(L132=\"строительство\")*3+(L132=\"реконструкция\")*2+(L132=\"капремонт\")*1,0)*10","v":0},null,{"$f":"IF(P132=\"коммунальная инфраструктура\",(L132=\"строительство\")*4+(L132=\"реконструкция\")*3+(L132=\"капремонт\")*2,0)*10","v":0}]
[null,null,16,{"$f":"IF(AND(D117<>\"\",G133<>\"\"),D117,\"\")","v":""},{"$f":"IF(AND(E117<>\"\",G133<>\"\"),E117,\"\")","v":""},null,null,null,null,null,null,null,null,null,null,null,null,null,{"$f":"IF(Q133>=2020,R133-Q133+1,\"\")","v":""},null,{"$f":"IF(Q133>=2020,S133*T133,\"\")","v":""},null,null,null,null,null,null,null,null,null,null,null,null,{"$f":"SUM(AI133:AL133)","v":0},null,null,null,null,{"$f":"SUM(AN133:AQ133)","v":0},null,null,null,null,{"$f":"SUM(AS133:AV133)","v":0},null,null,null,null,null,null,{"$f":"SUM(AH133,AM133,AR133)","v":0},{"$f":"SUM(AL133,AQ133,AV133)","v":0},{"$f":"IF(AY133=0,0,AZ133/AY133)","v":0},{"$f":"IF((AY133+AX133)=0,0,AX133/(AX133+AY133))","v":0},null,null,null,null,null,null,null,null,null,null,null,null,null,null,null,null,null,null,null,null,null,null,null,null,null,null,null,null,null,null,null,null,null,null,null,null,null,null,null,null,null,{"$f":"((L133=\"создание\")*7+(L133=\"расширение\")*7 +(L133=\"внедрение\")*7+(L133=\"строительство\")*4+(L133=\"реконструкция\")*3+(L133=\"капремонт\")*2 +(L133=\"приобретение\")*1+(L133=\"установка\")*1)*10","v":0},null,{"$f":"IF(P133=\"коммунальная инфраструктура\",(L133=\"строительство\")*3+(L133=\"реконструкция\")*2+(L133=\"капремонт\")*1,0)*10","v":0},null,{"$f":"IF(P133=\"коммунальная инфраструктура\",(L133=\"строительство\")*4+(L133=\"реконструкция\")*3+(L133=\"капремонт\")*2,0)*10","v":0}]
[null,null,17,{"$f":"IF(AND(D117<>\"\",G134<>\"\"),D117,\"\")","v":""},{"$f":"IF(AND(E117<>\"\",G134<>\"\"),E117,\"\")","v":""},null,null,null,null,null,null,null,null,null,null,null,null,null,{"$f":"IF(Q134>=2020,R134-Q134+1,\"\")","v":""},null,{"$f":"IF(Q134>=2020,S134*T134,\"\")","v":""},null,null,null,null,null,null,null,null,null,null,null,null,{"$f":"SUM(AI134:AL134)","v":0},null,null,null,null,{"$f":"SUM(AN134:AQ134)","v":0},null,null,null,null,{"$f":"SUM(AS134:AV134)","v":0},null,null,null,null,null,null,{"$f":"SUM(AH134,AM134,AR134)","v":0},{"$f":"SUM(AL134,AQ134,AV134)","v":0},{"$f":"IF(AY134=0,0,AZ134/AY134)","v":0},{"$f":"IF((AY134+AX134)=0,0,AX134/(AX134+AY134))","v":0},null,null,null,null,null,null,null,null,null,null,null,null,null,null,null,null,null,null,null,null,null,null,null,null,null,null,null,null,null,null,null,null,null,null,null,null,null,null,null,null,null,{"$f":"((L134=\"создание\")*7+(L134=\"расширение\")*7 +(L134=\"внедрение\")*7+(L134=\"строительство\")*4+(L134=\"реконструкция\")*3+(L134=\"капремонт\")*2 +(L134=\"приобретение\")*1+(L134=\"установка\")*1)*10","v":0},null,{"$f":"IF(P134=\"коммунальная инфраструктура\",(L134=\"строительство\")*3+(L134=\"реконструкция\")*2+(L134=\"капремонт\")*1,0)*10","v":0},null,{"$f":"IF(P134=\"коммунальная инфраструктура\",(L134=\"строительство\")*4+(L134=\"реконструкция\")*3+(L134=\"капремонт\")*2,0)*10","v":0}]
[null,null,18,{"$f":"IF(AND(D117<>\"\",G135<>\"\"),D117,\"\")","v":""},{"$f":"IF(AND(E117<>\"\",G135<>\"\"),E117,\"\")","v":""},null,null,null,null,null,null,null,null,null,null,null,null,null,{"$f":"IF(Q135>=2020,R135-Q135+1,\"\")","v":""},null,{"$f":"IF(Q135>=2020,S135*T135,\"\")","v":""},null,null,null,null,null,null,null,null,null,null,null,null,{"$f":"SUM(AI135:AL135)","v":0},null,null,null,null,{"$f":"SUM(AN135:AQ135)","v":0},null,null,null,null,{"$f":"SUM(AS135:AV135)","v":0},null,null,null,null,null,null,{"$f":"SUM(AH135,AM135,AR135)","v":0},{"$f":"SUM(AL135,AQ135,AV135)","v":0},{"$f":"IF(AY135=0,0,AZ135/AY135)","v":0},{"$f":"IF((AY135+AX135)=0,0,AX135/(AX135+AY135))","v":0},null,null,null,null,null,null,null,null,null,null,null,null,null,null,null,null,null,null,null,null,null,null,null,null,null,null,null,null,null,null,null,null,null,null,null,null,null,null,null,null,null,{"$f":"((L135=\"создание\")*7+(L135=\"расширение\")*7 +(L135=\"внедрение\")*7+(L135=\"строительство\")*4+(L135=\"реконструкция\")*3+(L135=\"капремонт\")*2 +(L135=\"приобретение\")*1+(L135=\"установка\")*1)*10","v":0},null,{"$f":"IF(P135=\"коммунальная инфраструктура\",(L135=\"строительство\")*3+(L135=\"реконструкция\")*2+(L135=\"капремонт\")*1,0)*10","v":0},null,{"$f":"IF(P135=\"коммунальная инфраструктура\",(L135=\"строительство\")*4+(L135=\"реконструкция\")*3+(L135=\"капремонт\")*2,0)*10","v":0}]
[null,null,19,{"$f":"IF(AND(D117<>\"\",G136<>\"\"),D117,\"\")","v":""},{"$f":"IF(AND(E117<>\"\",G136<>\"\"),E117,\"\")","v":""},null,null,null,null,null,null,null,null,null,null,null,null,null,{"$f":"IF(Q136>=2020,R136-Q136+1,\"\")","v":""},null,{"$f":"IF(Q136>=2020,S136*T136,\"\")","v":""},null,null,null,null,null,null,null,null,null,null,null,null,{"$f":"SUM(AI136:AL136)","v":0},null,null,null,null,{"$f":"SUM(AN136:AQ136)","v":0},null,null,null,null,{"$f":"SUM(AS136:AV136)","v":0},null,null,null,null,null,null,{"$f":"SUM(AH136,AM136,AR136)","v":0},{"$f":"SUM(AL136,AQ136,AV136)","v":0},{"$f":"IF(AY136=0,0,AZ136/AY136)","v":0},{"$f":"IF((AY136+AX136)=0,0,AX136/(AX136+AY136))","v":0},null,null,null,null,null,null,null,null,null,null,null,null,null,null,null,null,null,null,null,null,null,null,null,null,null,null,null,null,null,null,null,null,null,null,null,null,null,null,null,null,null,{"$f":"((L136=\"создание\")*7+(L136=\"расширение\")*7 +(L136=\"внедрение\")*7+(L136=\"строительство\")*4+(L136=\"реконструкция\")*3+(L136=\"капремонт\")*2 +(L136=\"приобретение\")*1+(L136=\"установка\")*1)*10","v":0},null,{"$f":"IF(P136=\"коммунальная инфраструктура\",(L136=\"строительство\")*3+(L136=\"реконструкция\")*2+(L136=\"капремонт\")*1,0)*10","v":0},null,{"$f":"IF(P136=\"коммунальная инфраструктура\",(L136=\"строительство\")*4+(L136=\"реконструкция\")*3+(L136=\"капремонт\")*2,0)*10","v":0}]
[null,null,20,{"$f":"IF(AND(D117<>\"\",G137<>\"\"),D117,\"\")","v":""},{"$f":"IF(AND(E117<>\"\",G137<>\"\"),E117,\"\")","v":""},null,null,null,null,null,null,null,null,null,null,null,null,null,{"$f":"IF(Q137>=2020,R137-Q137+1,\"\")","v":""},null,{"$f":"IF(Q137>=2020,S137*T137,\"\")","v":""},null,null,null,null,null,null,null,null,null,null,null,null,{"$f":"SUM(AI137:AL137)","v":0},null,null,null,null,{"$f":"SUM(AN137:AQ137)","v":0},null,null,null,null,{"$f":"SUM(AS137:AV137)","v":0},null,null,null,null,null,null,{"$f":"SUM(AH137,AM137,AR137)","v":0},{"$f":"SUM(AL137,AQ137,AV137)","v":0},{"$f":"IF(AY137=0,0,AZ137/AY137)","v":0},{"$f":"IF((AY137+AX137)=0,0,AX137/(AX137+AY137))","v":0},null,null,null,null,null,null,null,null,null,null,null,null,null,null,null,null,null,null,null,null,null,null,null,null,null,null,null,null,null,null,null,null,null,null,null,null,null,null,null,null,null,{"$f":"((L137=\"создание\")*7+(L137=\"расширение\")*7 +(L137=\"внедрение\")*7+(L137=\"строительство\")*4+(L137=\"реконструкция\")*3+(L137=\"капремонт\")*2 +(L137=\"приобретение\")*1+(L137=\"установка\")*1)*10","v":0},null,{"$f":"IF(P137=\"коммунальная инфраструктура\",(L137=\"строительство\")*3+(L137=\"реконструкция\")*2+(L137=\"капремонт\")*1,0)*10","v":0},null,{"$f":"IF(P137=\"коммунальная инфраструктура\",(L137=\"строительство\")*4+(L137=\"реконструкция\")*3+(L137=\"капремонт\")*2,0)*10","v":0}]
[null,null,"…",{"$f":"IF(AND(D117<>\"\",G138<>\"\"),D117,\"\")","v":""},{"$f":"IF(AND(E117<>\"\",G138<>\"\"),E117,\"\")","v":""},null,null,null,null,null,null,null,null,null,null,null,null,null,{"$f":"IF(Q138>=2020,R138-Q138+1,\"\")","v":""},null,{"$f":"IF(Q138>=2020,S138*T138,\"\")","v":""},null,null,null,null,null,null,null,null,null,null,null,null,{"$f":"SUM(AI138:AL138)","v":0},null,null,null,null,{"$f":"SUM(AN138:AQ138)","v":0},null,null,null,null,{"$f":"SUM(AS138:AV138)","v":0},null,null,null,null,null,null,{"$f":"SUM(AH138,AM138,AR138)","v":0},{"$f":"SUM(AL138,AQ138,AV138)","v":0},{"$f":"IF(AY138=0,0,AZ138/AY138)","v":0},{"$f":"IF((AY138+AX138)=0,0,AX138/(AX138+AY138))","v":0},null,null,null,null,null,null,null,null,null,null,null,null,null,null,null,null,null,null,null,null,null,null,null,null,null,null,null,null,null,null,null,null,null,null,null,null,null,null,null,null,null,{"$f":"((L138=\"создание\")*7+(L138=\"расширение\")*7 +(L138=\"внедрение\")*7+(L138=\"строительство\")*4+(L138=\"реконструкция\")*3+(L138=\"капремонт\")*2 +(L138=\"приобретение\")*1+(L138=\"установка\")*1)*10","v":0},null,{"$f":"IF(P138=\"коммунальная инфраструктура\",(L138=\"строительство\")*3+(L138=\"реконструкция\")*2+(L138=\"капремонт\")*1,0)*10","v":0},null,{"$f":"IF(P138=\"коммунальная инфраструктура\",(L138=\"строительство\")*4+(L138=\"реконструкция\")*3+(L138=\"капремонт\")*2,0)*10","v":0}]
[7,null,{"$f":"COUNTA(G140:G160)","v":0},null,null,null,null,null,null,null,null,null,null,null,null,null,{"$f":"MIN(Q140:Q160)","v":0},{"$f":"MAX(R140:R160)","v":0},{"$f":"MAX(S140:S160)","v":0},null,{"$f":"MAX(U140:U160)","v":0},null,null,null,null,null,{"$f":"IF(COUNTIF(AA140:AA160,\"НЕТ\")>0,\"ПД!\",\"ок\")","v":"ок"},null,{"$f":"IF(COUNTIF(AC140:AC160,\"НЕТ\")>0,\"ДОСМ!\",\"ок\")","v":"ок"},null,{"$f":"IF(COUNTIF(AE140:AE160,\"НЕТ\")>0,\"ФОИВ!\",\"ок\")","v":"ок"},{"$f":"IF(COUNTIF(AF140:AF160,\"НЕТ\")>0,\"ФОИВ!\",\"ок\")","v":"ок"},null,{"$f":"SUM(AH140:AH160)","v":0},{"$f":"SUM(AI140:AI160)","v":0},{"$f":"SUM(AJ140:AJ160)","v":0},{"$f":"SUM(AK140:AK160)","v":0},{"$f":"SUM(AL140:AL160)","v":0},{"$f":"SUM(AM140:AM160)","v":0},{"$f":"SUM(AN140:AN160)","v":0},{"$f":"SUM(AO140:AO160)","v":0},{"$f":"SUM(AP140:AP160)","v":0},{"$f":"SUM(AQ140:AQ160)","v":0},{"$f":"SUM(AR140:AR160)","v":0},{"$f":"SUM(AS140:AS160)","v":0},{"$f":"SUM(AT140:AT160)","v":0},{"$f":"SUM(AU140:AU160)","v":0},{"$f":"SUM(AV140:AV160)","v":0},{"$f":"SUM(AW140:AW160)","v":0},{"$f":"SUM(AX140:AX160)","v":0},{"$f":"SUM(AH139,AM139,AR139)","v":0},{"$f":"AL139+AQ139+AV139","v":0},{"$f":"IF(AY139=0,0,AZ139/AY139)","v":0},{"$f":"IF((AY139+AX139)=0,0,AX139/(AX139+AY139))","v":0},null,null,{"$f":"IFERROR(BD139/BC139,0)","v":0},null,null,{"$f":"IFERROR(BG139/BF139,0)","v":0},null,null,{"$f":"IFERROR(BJ139/BI139,0)","v":0},null,null,null,{"$f":"(SUM(BL139:BN139)>0)*1+(SUM(BL139:BN139)>=10)*1+(SUM(BL139:BN139)>=50)*1+(SUM(BL139:BN139)>=100)*1+(SUM(BL139:BN139)>=200)*1+(SUM(BL139:BN139)>=300)*1","v":0},{"$f":"IFERROR(SUM(BL139:BN139)/BC139,0)","v":0},null,null,{"$f":"IFERROR(BQ139/BR139,0)","v":0},{"$f":"IF(BA139<0.01,0,IF(BA139>=0.1,10,ROUNDDOWN(BA139/0.01,0)))","v":0},8,{"$f":"BT139*BU139","v":0},{"$f":"IF(BB139<0.01,0,IF(BB139>=0.1,10,ROUNDDOWN(BB139/0.01,0)))","v":0},8,{"$f":"BW139*BX139","v":0},{"$f":"IF(U139<=1,9,IF(U139<=2,6,IF(U139<=3,3,0)))*(C139>0)","v":0},6,{"$f":"BZ139*CA139","v":0},{"$f":"IF(BH139<0.51,0,10)","v":0},7,{"$f":"CC139*CD139","v":0},{"$f":"IF(BE139<0.1,0,IF(BE139>=0.9,10,ROUNDDOWN(BE139/0.1,0)))","v":0},10,{"$f":"CF139*CG139","v":0},{"$f":"IF(BK139<0.1,0,IF(BK139>=0.6,10,ROUNDDOWN(BK139/0.1,0)))","v":0},8,{"$f":"CI139*CJ139","v":0},{"$f":"IF(BP139<0.05,0,IF(BP139>=0.1,10,1))","v":0},10,{"$f":"CL139*CM139","v":0},{"$f":"IF(BS139<0.1,0,IF(BS139>=0.8,10,ROUNDDOWN(BS139/0.1,0)))","v":0},10,{"$f":"CP139*CO139","v":0},{"$f":"ROUND(IF(C139=0,0,SUM(CR140:CR160)/C139),1)","v":0},{"$f":"((SUM(BL139:BN139)>=1)*1+(SUM(BL139:BN139)>=11)*1+(SUM(BL139:BN139)>=51)*3+(SUM(BL139:BN139)>=101)*2+(SUM(BL139:BN139)>=201)*2+(SUM(BL139:BN139)>=301)*4)*10","v":0},{"$f":"IFERROR(ROUND(SUM(CT140:CT160)/COUNTIF(P140:P160,\"коммунальная инфраструктура\"),1),0)","v":0},{"$f":"CS139+CT139","v":0},{"$f":"IFERROR(ROUND(SUM(CV140:CV160)/COUNTIF(P140:P160,\"коммунальная инфраструктура\"),1),0)","v":0},{"$f":"SUM(BV139,BY139,CB139,CE139,CH139,CK139,CN139,CQ139,CR139,CU139,CV139)","v":0},{"$f":"VLOOKUP(D139,РегионыФО,2,0)","v":{"$error":"#N/A"}}]
[null,null,1,{"$f":"IF(AND(D139<>\"\",G140<>\"\"),D139,\"\")","v":""},{"$f":"IF(AND(E139<>\"\",G140<>\"\"),E139,\"\")","v":""},null,null,null,null,null,null,null,null,null,null,null,null,null,{"$f":"IF(Q140>=2020,R140-Q140+1,\"\")","v":""},null,{"$f":"IF(Q140>=2020,ROUNDUP(S140*T140,0),\"\")","v":""},null,null,null,null,null,null,null,null,null,null,null,null,{"$f":"SUM(AI140:AL140)","v":0},null,null,null,null,{"$f":"SUM(AN140:AQ140)","v":0},null,null,null,null,{"$f":"SUM(AS140:AV140)","v":0},null,null,null,null,null,null,{"$f":"SUM(AH140,AM140,AR140)","v":0},{"$f":"SUM(AL140,AQ140,AV140)","v":0},{"$f":"IF(AY140=0,0,AZ140/AY140)","v":0},{"$f":"IF((AY140+AX140)=0,0,AX140/(AX140+AY140))","v":0},null,null,null,null,null,null,null,null,null,null,null,null,null,null,null,null,null,null,null,null,null,null,null,null,null,null,null,null,null,null,null,null,null,null,null,null,null,null,null,null,null,{"$f":"((L140=\"создание\")*7+(L140=\"расширение\")*7 +(L140=\"внедрение\")*7+(L140=\"строительство\")*4+(L140=\"реконструкция\")*3+(L140=\"капремонт\")*2 +(L140=\"приобретение\")*1+(L140=\"установка\")*1)*10","v":0},null,{"$f":"IF(P140=\"коммунальная инфраструктура\",(L140=\"строительство\")*3+(L140=\"реконструкция\")*2+(L140=\"капремонт\")*1,0)*10","v":0},null,{"$f":"IF(P140=\"коммунальная инфраструктура\",(L140=\"строительство\")*4+(L140=\"реконструкция\")*3+(L140=\"капремонт\")*2,0)*10","v":0}]
[null,null,2,{"$f":"IF(AND(D139<>\"\",G141<>\"\"),D139,\"\")","v":""},{"$f":"IF(AND(E139<>\"\",G141<>\"\"),E139,\"\")","v":""},null,null,null,null,null,null,null,null,null,null,null,null,null,{"$f":"IF(Q141>=2020,R141-Q141+1,\"\")","v":""},null,{"$f":"IF(Q141>=2020,S141*T141,\"\")","v":""},null,null,null,null,null,null,null,null,null,null,null,null,{"$f":"SUM(AI141:AL141)","v":0},null,null,null,null,{"$f":"SUM(AN141:AQ141)","v":0},null,null,null,null,{"$f":"SUM(AS141:AV141)","v":0},null,null,null,null,null,null,{"$f":"SUM(AH141,AM141,AR141)","v":0},{"$f":"SUM(AL141,AQ141,AV141)","v":0},{"$f":"IF(AY141=0,0,AZ141/AY141)","v":0},{"$f":"IF((AY141+AX141)=0,0,AX141/(AX141+AY141))","v":0},null,null,null,null,null,null,null,null,null,null,null,null,null,null,null,null,null,null,null,null,null,null,null,null,null,null,null,null,null,null,null,null,null,null,null,null,null,null,null,null,null,{"$f":"((L141=\"создание\")*7+(L141=\"расширение\")*7 +(L141=\"внедрение\")*7+(L141=\"строительство\")*4+(L141=\"реконструкция\")*3+(L141=\"капремонт\")*2 +(L141=\"приобретение\")*1+(L141=\"установка\")*1)*10","v":0},null,{"$f":"IF(P141=\"коммунальная инфраструктура\",(L141=\"строительство\")*3+(L141=\"реконструкция\")*2+(L141=\"капремонт\")*1,0)*10","v":0},null,{"$f":"IF(P141=\"коммунальная инфраструктура\",(L141=\"строительство\")*4+(L141=\"реконструкция\")*3+(L141=\"капремонт\")*2,0)*10","v":0}]
[null,null,3,{"$f":"IF(AND(D139<>\"\",G142<>\"\"),D139,\"\")","v":""},{"$f":"IF(AND(E139<>\"\",G142<>\"\"),E139,\"\")","v":""},null,null,null,null,null,null,null,null,null,null,null,null,null,{"$f":"IF(Q142>=2020,R142-Q142+1,\"\")","v":""},null,{"$f":"IF(Q142>=2020,S142*T142,\"\")","v":""},null,null,null,null,null,null,null,null,null,null,null,null,{"$f":"SUM(AI142:AL142)","v":0},null,null,null,null,{"$f":"SUM(AN142:AQ142)","v":0},null,null,null,null,{"$f":"SUM(AS142:AV142)","v":0},null,null,null,null,null,null,{"$f":"SUM(AH142,AM142,AR142)","v":0},{"$f":"SUM(AL142,AQ142,AV142)","v":0},{"$f":"IF(AY142=0,0,AZ142/AY142)","v":0},{"$f":"IF((AY142+AX142)=0,0,AX142/(AX142+AY142))","v":0},null,null,null,null,null,null,null,null,null,null,null,null,null,null,null,null,null,null,null,null,null,null,null,null,null,null,null,null,null,null,null,null,null,null,null,null,null,null,null,null,null,{"$f":"((L142=\"создание\")*7+(L142=\"расширение\")*7 +(L142=\"внедрение\")*7+(L142=\"строительство\")*4+(L142=\"реконструкция\")*3+(L142=\"капремонт\")*2 +(L142=\"приобретение\")*1+(L142=\"установка\")*1)*10","v":0},null,{"$f":"IF(P142=\"коммунальная инфраструктура\",(L142=\"строительство\")*3+(L142=\"реконструкция\")*2+(L142=\"капремонт\")*1,0)*10","v":0},null,{"$f":"IF(P142=\"коммунальная инфраструктура\",(L142=\"строительство\")*4+(L142=\"реконструкция\")*3+(L142=\"капремонт\")*2,0)*10","v":0}]
[null,null,4,{"$f":"IF(AND(D139<>\"\",G143<>\"\"),D139,\"\")","v":""},{"$f":"IF(AND(E139<>\"\",G143<>\"\"),E139,\"\")","v":""},null,null,null,null,null,null,null,null,null,null,null,null,null,{"$f":"IF(Q143>=2020,R143-Q143+1,\"\")","v":""},null,{"$f":"IF(Q143>=2020,S143*T143,\"\")","v":""},null,null,null,null,null,null,null,null,null,null,null,null,{"$f":"SUM(AI143:AL143)","v":0},null,null,null,null,{"$f":"SUM(AN143:AQ143)","v":0},null,null,null,null,{"$f":"SUM(AS143:AV143)","v":0},null,null,null,null,null,null,{"$f":"SUM(AH143,AM143,AR143)","v":0},{"$f":"SUM(AL143,AQ143,AV143)","v":0},{"$f":"IF(AY143=0,0,AZ143/AY143)","v":0},{"$f":"IF((AY143+AX143)=0,0,AX143/(AX143+AY143))","v":0},null,null,null,null,null,null,null,null,null,null,null,null,null,null,null,null,null,null,null,null,null,null,null,null,null,null,null,null,null,null,null,null,null,null,null,null,null,null,null,null,null,{"$f":"((L143=\"создание\")*7+(L143=\"расширение\")*7 +(L143=\"внедрение\")*7+(L143=\"строительство\")*4+(L143=\"реконструкция\")*3+(L143=\"капремонт\")*2 +(L143=\"приобретение\")*1+(L143=\"установка\")*1)*10","v":0},null,{"$f":"IF(P143=\"коммунальная инфраструктура\",(L143=\"строительство\")*3+(L143=\"реконструкция\")*2+(L143=\"капремонт\")*1,0)*10","v":0},null,{"$f":"IF(P143=\"коммунальная инфраструктура\",(L143=\"строительство\")*4+(L143=\"реконструкция\")*3+(L143=\"капремонт\")*2,0)*10","v":0}]
[null,null,5,{"$f":"IF(AND(D139<>\"\",G144<>\"\"),D139,\"\")","v":""},{"$f":"IF(AND(E139<>\"\",G144<>\"\"),E139,\"\")","v":""},null,null,null,null,null,null,null,null,null,null,null,null,null,{"$f":"IF(Q144>=2020,R144-Q144+1,\"\")","v":""},null,{"$f":"IF(Q144>=2020,S144*T144,\"\")","v":""},null,null,null,null,null,null,null,null,null,null,null,null,{"$f":"SUM(AI144:AL144)","v":0},null,null,null,null,{"$f":"SUM(AN144:AQ144)","v":0},null,null,null,null,{"$f":"SUM(AS144:AV144)","v":0},null,null,null,null,null,null,{"$f":"SUM(AH144,AM144,AR144)","v":0},{"$f":"SUM(AL144,AQ144,AV144)","v":0},{"$f":"IF(AY144=0,0,AZ144/AY144)","v":0},{"$f":"IF((AY144+AX144)=0,0,AX144/(AX144+AY144))","v":0},null,null,null,null,null,null,null,null,null,null,null,null,null,null,null,null,null,null,null,null,null,null,null,null,null,null,null,null,null,null,null,null,null,null,null,null,null,null,null,null,null,{"$f":"((L144=\"создание\")*7+(L144=\"расширение\")*7 +(L144=\"внедрение\")*7+(L144=\"строительство\")*4+(L144=\"реконструкция\")*3+(L144=\"капремонт\")*2 +(L144=\"приобретение\")*1+(L144=\"установка\")*1)*10","v":0},null,{"$f":"IF(P144=\"коммунальная инфраструктура\",(L144=\"строительство\")*3+(L144=\"реконструкция\")*2+(L144=\"капремонт\")*1,0)*10","v":0},null,{"$f":"IF(P144=\"коммунальная инфраструктура\",(L144=\"строительство\")*4+(L144=\"реконструкция\")*3+(L144=\"капремонт\")*2,0)*10","v":0}]
[null,null,6,{"$f":"IF(AND(D139<>\"\",G145<>\"\"),D139,\"\")","v":""},{"$f":"IF(AND(E139<>\"\",G145<>\"\"),E139,\"\")","v":""},null,null,null,null,null,null,null,null,null,null,null,null,null,{"$f":"IF(Q145>=2020,R145-Q145+1,\"\")","v":""},null,{"$f":"IF(Q145>=2020,S145*T145,\"\")","v":""},null,null,null,null,null,null,null,null,null,null,null,null,{"$f":"SUM(AI145:AL145)","v":0},null,null,null,null,{"$f":"SUM(AN145:AQ145)","v":0},null,null,null,null,{"$f":"SUM(AS145:AV145)","v":0},null,null,null,null,null,null,{"$f":"SUM(AH145,AM145,AR145)","v":0},{"$f":"SUM(AL145,AQ145,AV145)","v":0},{"$f":"IF(AY145=0,0,AZ145/AY145)","v":0},{"$f":"IF((AY145+AX145)=0,0,AX145/(AX145+AY145))","v":0},null,null,null,null,null,null,null,null,null,null,null,null,null,null,null,null,null,null,null,null,null,null,null,null,null,null,null,null,null,null,null,null,null,null,null,null,null,null,null,null,null,{"$f":"((L145=\"создание\")*7+(L145=\"расширение\")*7 +(L145=\"внедрение\")*7+(L145=\"строительство\")*4+(L145=\"реконструкция\")*3+(L145=\"капремонт\")*2 +(L145=\"приобретение\")*1+(L145=\"установка\")*1)*10","v":0},null,{"$f":"IF(P145=\"коммунальная инфраструктура\",(L145=\"строительство\")*3+(L145=\"реконструкция\")*2+(L145=\"капремонт\")*1,0)*10","v":0},null,{"$f":"IF(P145=\"коммунальная инфраструктура\",(L145=\"строительство\")*4+(L145=\"реконструкция\")*3+(L145=\"капремонт\")*2,0)*10","v":0}]
[null,null,7,{"$f":"IF(AND(D139<>\"\",G146<>\"\"),D139,\"\")","v":""},{"$f":"IF(AND(E139<>\"\",G146<>\"\"),E139,\"\")","v":""},null,null,null,null,null,null,null,null,null,null,null,null,null,{"$f":"IF(Q146>=2020,R146-Q146+1,\"\")","v":""},null,{"$f":"IF(Q146>=2020,S146*T146,\"\")","v":""},null,null,null,null,null,null,null,null,null,null,null,null,{"$f":"SUM(AI146:AL146)","v":0},null,null,null,null,{"$f":"SUM(AN146:AQ146)","v":0},null,null,null,null,{"$f":"SUM(AS146:AV146)","v":0},null,null,null,null,null,null,{"$f":"SUM(AH146,AM146,AR146)","v":0},{"$f":"SUM(AL146,AQ146,AV146)","v":0},{"$f":"IF(AY146=0,0,AZ146/AY146)","v":0},{"$f":"IF((AY146+AX146)=0,0,AX146/(AX146+AY146))","v":0},null,null,null,null,null,null,null,null,null,null,null,null,null,null,null,null,null,null,null,null,null,null,null,null,null,null,null,null,null,null,null,null,null,null,null,null,null,null,null,null,null,{"$f":"((L146=\"создание\")*7+(L146=\"расширение\")*7 +(L146=\"внедрение\")*7+(L146=\"строительство\")*4+(L146=\"реконструкция\")*3+(L146=\"капремонт\")*2 +(L146=\"приобретение\")*1+(L146=\"установка\")*1)*10","v":0},null,{"$f":"IF(P146=\"коммунальная инфраструктура\",(L146=\"строительство\")*3+(L146=\"реконструкция\")*2+(L146=\"капремонт\")*1,0)*10","v":0},null,{"$f":"IF(P146=\"коммунальная инфраструктура\",(L146=\"строительство\")*4+(L146=\"реконструкция\")*3+(L146=\"капремонт\")*2,0)*10","v":0}]
[null,null,8,{"$f":"IF(AND(D139<>\"\",G147<>\"\"),D139,\"\")","v":""},{"$f":"IF(AND(E139<>\"\",G147<>\"\"),E139,\"\")","v":""},null,null,null,null,null,null,null,null,null,null,null,null,null,{"$f":"IF(Q147>=2020,R147-Q147+1,\"\")","v":""},null,{"$f":"IF(Q147>=2020,S147*T147,\"\")","v":""},null,null,null,null,null,null,null,null,null,null,null,null,{"$f":"SUM(AI147:AL147)","v":0},null,null,null,null,{"$f":"SUM(AN147:AQ147)","v":0},null,null,null,null,{"$f":"SUM(AS147:AV147)","v":0},null,null,null,null,null,null,{"$f":"SUM(AH147,AM147,AR147)","v":0},{"$f":"SUM(AL147,AQ147,AV147)","v":0},{"$f":"IF(AY147=0,0,AZ147/AY147)","v":0},{"$f":"IF((AY147+AX147)=0,0,AX147/(AX147+AY147))","v":0},null,null,null,null,null,null,null,null,null,null,null,null,null,null,null,null,null,null,null,null,null,null,null,null,null,null,null,null,null,null,null,null,null,null,null,null,null,null,null,null,null,{"$f":"((L147=\"создание\")*7+(L147=\"расширение\")*7 +(L147=\"внедрение\")*7+(L147=\"строительство\")*4+(L147=\"реконструкция\")*3+(L147=\"капремонт\")*2 +(L147=\"приобретение\")*1+(L147=\"установка\")*1)*10","v":0},null,{"$f":"IF(P147=\"коммунальная инфраструктура\",(L147=\"строительство\")*3+(L147=\"реконструкция\")*2+(L147=\"капремонт\")*1,0)*10","v":0},null,{"$f":"IF(P147=\"коммунальная инфраструктура\",(L147=\"строительство\")*4+(L147=\"реконструкция\")*3+(L147=\"капремонт\")*2,0)*10","v":0}]
[null,null,9,{"$f":"IF(AND(D139<>\"\",G148<>\"\"),D139,\"\")","v":""},{"$f":"IF(AND(E139<>\"\",G148<>\"\"),E139,\"\")","v":""},null,null,null,null,null,null,null,null,null,null,null,null,null,{"$f":"IF(Q148>=2020,R148-Q148+1,\"\")","v":""},null,{"$f":"IF(Q148>=2020,S148*T148,\"\")","v":""},null,null,null,null,null,null,null,null,null,null,null,null,{"$f":"SUM(AI148:AL148)","v":0},null,null,null,null,{"$f":"SUM(AN148:AQ148)","v":0},null,null,null,null,{"$f":"SUM(AS148:AV148)","v":0},null,null,null,null,null,null,{"$f":"SUM(AH148,AM148,AR148)","v":0},{"$f":"SUM(AL148,AQ148,AV148)","v":0},{"$f":"IF(AY148=0,0,AZ148/AY148)","v":0},{"$f":"IF((AY148+AX148)=0,0,AX148/(AX148+AY148))","v":0},null,null,null,null,null,null,null,null,null,null,null,null,null,null,null,null,null,null,null,null,null,null,null,null,null,null,null,null,null,null,null,null,null,null,null,null,null,null,null,null,null,{"$f":"((L148=\"создание\")*7+(L148=\"расширение\")*7 +(L148=\"внедрение\")*7+(L148=\"строительство\")*4+(L148=\"реконструкция\")*3+(L148=\"капремонт\")*2 +(L148=\"приобретение\")*1+(L148=\"установка\")*1)*10","v":0},null,{"$f":"IF(P148=\"коммунальная инфраструктура\",(L148=\"строительство\")*3+(L148=\"реконструкция\")*2+(L148=\"капремонт\")*1,0)*10","v":0},null,{"$f":"IF(P148=\"коммунальная инфраструктура\",(L148=\"строительство\")*4+(L148=\"реконструкция\")*3+(L148=\"капремонт\")*2,0)*10","v":0}]
[null,null,10,{"$f":"IF(AND(D139<>\"\",G149<>\"\"),D139,\"\")","v":""},{"$f":"IF(AND(E139<>\"\",G149<>\"\"),E139,\"\")","v":""},null,null,null,null,null,null,null,null,null,null,null,null,null,{"$f":"IF(Q149>=2020,R149-Q149+1,\"\")","v":""},null,{"$f":"IF(Q149>=2020,S149*T149,\"\")","v":""},null,null,null,null,null,null,null,null,null,null,null,null,{"$f":"SUM(AI149:AL149)","v":0},null,null,null,null,{"$f":"SUM(AN149:AQ149)","v":0},null,null,null,null,{"$f":"SUM(AS149:AV149)","v":0},null,null,null,null,null,null,{"$f":"SUM(AH149,AM149,AR149)","v":0},{"$f":"SUM(AL149,AQ149,AV149)","v":0},{"$f":"IF(AY149=0,0,AZ149/AY149)","v":0},{"$f":"IF((AY149+AX149)=0,0,AX149/(AX149+AY149))","v":0},null,null,null,null,null,null,null,null,null,null,null,null,null,null,null,null,null,null,null,null,null,null,null,null,null,null,null,null,null,null,null,null,null,null,null,null,null,null,null,null,null,{"$f":"((L149=\"создание\")*7+(L149=\"расширение\")*7 +(L149=\"внедрение\")*7+(L149=\"строительство\")*4+(L149=\"реконструкция\")*3+(L149=\"капремонт\")*2 +(L149=\"приобретение\")*1+(L149=\"установка\")*1)*10","v":0},null,{"$f":"IF(P149=\"коммунальная инфраструктура\",(L149=\"строительство\")*3+(L149=\"реконструкция\")*2+(L149=\"капремонт\")*1,0)*10","v":0},null,{"$f":"IF(P149=\"коммунальная инфраструктура\",(L149=\"строительство\")*4+(L149=\"реконструкция\")*3+(L149=\"капремонт\")*2,0)*10","v":0}]
[null,null,11,{"$f":"IF(AND(D139<>\"\",G150<>\"\"),D139,\"\")","v":""},{"$f":"IF(AND(E139<>\"\",G150<>\"\"),E139,\"\")","v":""},null,null,null,null,null,null,null,null,null,null,null,null,null,{"$f":"IF(Q150>=2020,R150-Q150+1,\"\")","v":""},null,{"$f":"IF(Q150>=2020,S150*T150,\"\")","v":""},null,null,null,null,null,null,null,null,null,null,null,null,{"$f":"SUM(AI150:AL150)","v":0},null,null,null,null,{"$f":"SUM(AN150:AQ150)","v":0},null,null,null,null,{"$f":"SUM(AS150:AV150)","v":0},null,null,null,null,null,null,{"$f":"SUM(AH150,AM150,AR150)","v":0},{"$f":"SUM(AL150,AQ150,AV150)","v":0},{"$f":"IF(AY150=0,0,AZ150/AY150)","v":0},{"$f":"IF((AY150+AX150)=0,0,AX150/(AX150+AY150))","v":0},null,null,null,null,null,null,null,null,null,null,null,null,null,null,null,null,null,null,null,null,null,null,null,null,null,null,null,null,null,null,null,null,null,null,null,null,null,null,null,null,null,{"$f":"((L150=\"создание\")*7+(L150=\"расширение\")*7 +(L150=\"внедрение\")*7+(L150=\"строительство\")*4+(L150=\"реконструкция\")*3+(L150=\"капремонт\")*2 +(L150=\"приобретение\")*1+(L150=\"установка\")*1)*10","v":0},null,{"$f":"IF(P150=\"коммунальная инфраструктура\",(L150=\"строительство\")*3+(L150=\"реконструкция\")*2+(L150=\"капремонт\")*1,0)*10","v":0},null,{"$f":"IF(P150=\"коммунальная инфраструктура\",(L150=\"строительство\")*4+(L150=\"реконструкция\")*3+(L150=\"капремонт\")*2,0)*10","v":0}]
[null,null,12,{"$f":"IF(AND(D139<>\"\",G151<>\"\"),D139,\"\")","v":""},{"$f":"IF(AND(E139<>\"\",G151<>\"\"),E139,\"\")","v":""},null,null,null,null,null,null,null,null,null,null,null,null,null,{"$f":"IF(Q151>=2020,R151-Q151+1,\"\")","v":""},null,{"$f":"IF(Q151>=2020,S151*T151,\"\")","v":""},null,null,null,null,null,null,null,null,null,null,null,null,{"$f":"SUM(AI151:AL151)","v":0},null,null,null,null,{"$f":"SUM(AN151:AQ151)","v":0},null,null,null,null,{"$f":"SUM(AS151:AV151)","v":0},null,null,null,null,null,null,{"$f":"SUM(AH151,AM151,AR151)","v":0},{"$f":"SUM(AL151,AQ151,AV151)","v":0},{"$f":"IF(AY151=0,0,AZ151/AY151)","v":0},{"$f":"IF((AY151+AX151)=0,0,AX151/(AX151+AY151))","v":0},null,null,null,null,null,null,null,null,null,null,null,null,null,null,null,null,null,null,null,null,null,null,null,null,null,null,null,null,null,null,null,null,null,null,null,null,null,null,null,null,null,{"$f":"((L151=\"создание\")*7+(L151=\"расширение\")*7 +(L151=\"внедрение\")*7+(L151=\"строительство\")*4+(L151=\"реконструкция\")*3+(L151=\"капремонт\")*2 +(L151=\"приобретение\")*1+(L151=\"установка\")*1)*10","v":0},null,{"$f":"IF(P151=\"коммунальная инфраструктура\",(L151=\"строительство\")*3+(L151=\"реконструкция\")*2+(L151=\"капремонт\")*1,0)*10","v":0},null,{"$f":"IF(P151=\"коммунальная инфраструктура\",(L151=\"строительство\")*4+(L151=\"реконструкция\")*3+(L151=\"капремонт\")*2,0)*10","v":0}]
[null,null,13,{"$f":"IF(AND(D139<>\"\",G152<>\"\"),D139,\"\")","v":""},{"$f":"IF(AND(E139<>\"\",G152<>\"\"),E139,\"\")","v":""},null,null,null,null,null,null,null,null,null,null,null,null,null,{"$f":"IF(Q152>=2020,R152-Q152+1,\"\")","v":""},null,{"$f":"IF(Q152>=2020,S152*T152,\"\")","v":""},null,null,null,null,null,null,null,null,null,null,null,null,{"$f":"SUM(AI152:AL152)","v":0},null,null,null,null,{"$f":"SUM(AN152:AQ152)","v":0},null,null,null,null,{"$f":"SUM(AS152:AV152)","v":0},null,null,null,null,null,null,{"$f":"SUM(AH152,AM152,AR152)","v":0},{"$f":"SUM(AL152,AQ152,AV152)","v":0},{"$f":"IF(AY152=0,0,AZ152/AY152)","v":0},{"$f":"IF((AY152+AX152)=0,0,AX152/(AX152+AY152))","v":0},null,null,null,null,null,null,null,null,null,null,null,null,null,null,null,null,null,null,null,null,null,null,null,null,null,null,null,null,null,null,null,null,null,null,null,null,null,null,null,null,null,{"$f":"((L152=\"создание\")*7+(L152=\"расширение\")*7 +(L152=\"внедрение\")*7+(L152=\"строительство\")*4+(L152=\"реконструкция\")*3+(L152=\"капремонт\")*2 +(L152=\"приобретение\")*1+(L152=\"установка\")*1)*10","v":0},null,{"$f":"IF(P152=\"коммунальная инфраструктура\",(L152=\"строительство\")*3+(L152=\"реконструкция\")*2+(L152=\"капремонт\")*1,0)*10","v":0},null,{"$f":"IF(P152=\"коммунальная инфраструктура\",(L152=\"строительство\")*4+(L152=\"реконструкция\")*3+(L152=\"капремонт\")*2,0)*10","v":0}]
[null,null,14,{"$f":"IF(AND(D139<>\"\",G153<>\"\"),D139,\"\")","v":""},{"$f":"IF(AND(E139<>\"\",G153<>\"\"),E139,\"\")","v":""},null,null,null,null,null,null,null,null,null,null,null,null,null,{"$f":"IF(Q153>=2020,R153-Q153+1,\"\")","v":""},null,{"$f":"IF(Q153>=2020,S153*T153,\"\")","v":""},null,null,null,null,null,null,null,null,null,null,null,null,{"$f":"SUM(AI153:AL153)","v":0},null,null,null,null,{"$f":"SUM(AN153:AQ153)","v":0},null,null,null,null,{"$f":"SUM(AS153:AV153)","v":0},null,null,null,null,null,null,{"$f":"SUM(AH153,AM153,AR153)","v":0},{"$f":"SUM(AL153,AQ153,AV153)","v":0},{"$f":"IF(AY153=0,0,AZ153/AY153)","v":0},{"$f":"IF((AY153+AX153)=0,0,AX153/(AX153+AY153))","v":0},null,null,null,null,null,null,null,null,null,null,null,null,null,null,null,null,null,null,null,null,null,null,null,null,null,null,null,null,null,null,null,null,null,null,null,null,null,null,null,null,null,{"$f":"((L153=\"создание\")*7+(L153=\"расширение\")*7 +(L153=\"внедрение\")*7+(L153=\"строительство\")*4+(L153=\"реконструкция\")*3+(L153=\"капремонт\")*2 +(L153=\"приобретение\")*1+(L153=\"установка\")*1)*10","v":0},null,{"$f":"IF(P153=\"коммунальная инфраструктура\",(L153=\"строительство\")*3+(L153=\"реконструкция\")*2+(L153=\"капремонт\")*1,0)*10","v":0},null,{"$f":"IF(P153=\"коммунальная инфраструктура\",(L153=\"строительство\")*4+(L153=\"реконструкция\")*3+(L153=\"капремонт\")*2,0)*10","v":0}]
[null,null,15,{"$f":"IF(AND(D139<>\"\",G154<>\"\"),D139,\"\")","v":""},{"$f":"IF(AND(E139<>\"\",G154<>\"\"),E139,\"\")","v":""},null,null,null,null,null,null,null,null,null,null,null,null,null,{"$f":"IF(Q154>=2020,R154-Q154+1,\"\")","v":""},null,{"$f":"IF(Q154>=2020,S154*T154,\"\")","v":""},null,null,null,null,null,null,null,null,null,null,null,null,{"$f":"SUM(AI154:AL154)","v":0},null,null,null,null,{"$f":"SUM(AN154:AQ154)","v":0},null,null,null,null,{"$f":"SUM(AS154:AV154)","v":0},null,null,null,null,null,null,{"$f":"SUM(AH154,AM154,AR154)","v":0},{"$f":"SUM(AL154,AQ154,AV154)","v":0},{"$f":"IF(AY154=0,0,AZ154/AY154)","v":0},{"$f":"IF((AY154+AX154)=0,0,AX154/(AX154+AY154))","v":0},null,null,null,null,null,null,null,null,null,null,null,null,null,null,null,null,null,null,null,null,null,null,null,null,null,null,null,null,null,null,null,null,null,null,null,null,null,null,null,null,null,{"$f":"((L154=\"создание\")*7+(L154=\"расширение\")*7 +(L154=\"внедрение\")*7+(L154=\"строительство\")*4+(L154=\"реконструкция\")*3+(L154=\"капремонт\")*2 +(L154=\"приобретение\")*1+(L154=\"установка\")*1)*10","v":0},null,{"$f":"IF(P154=\"коммунальная инфраструктура\",(L154=\"строительство\")*3+(L154=\"реконструкция\")*2+(L154=\"капремонт\")*1,0)*10","v":0},null,{"$f":"IF(P154=\"коммунальная инфраструктура\",(L154=\"строительство\")*4+(L154=\"реконструкция\")*3+(L154=\"капремонт\")*2,0)*10","v":0}]
[null,null,16,{"$f":"IF(AND(D139<>\"\",G155<>\"\"),D139,\"\")","v":""},{"$f":"IF(AND(E139<>\"\",G155<>\"\"),E139,\"\")","v":""},null,null,null,null,null,null,null,null,null,null,null,null,null,{"$f":"IF(Q155>=2020,R155-Q155+1,\"\")","v":""},null,{"$f":"IF(Q155>=2020,S155*T155,\"\")","v":""},null,null,null,null,null,null,null,null,null,null,null,null,{"$f":"SUM(AI155:AL155)","v":0},null,null,null,null,{"$f":"SUM(AN155:AQ155)","v":0},null,null,null,null,{"$f":"SUM(AS155:AV155)","v":0},null,null,null,null,null,null,{"$f":"SUM(AH155,AM155,AR155)","v":0},{"$f":"SUM(AL155,AQ155,AV155)","v":0},{"$f":"IF(AY155=0,0,AZ155/AY155)","v":0},{"$f":"IF((AY155+AX155)=0,0,AX155/(AX155+AY155))","v":0},null,null,null,null,null,null,null,null,null,null,null,null,null,null,null,null,null,null,null,null,null,null,null,null,null,null,null,null,null,null,null,null,null,null,null,null,null,null,null,null,null,{"$f":"((L155=\"создание\")*7+(L155=\"расширение\")*7 +(L155=\"внедрение\")*7+(L155=\"строительство\")*4+(L155=\"реконструкция\")*3+(L155=\"капремонт\")*2 +(L155=\"приобретение\")*1+(L155=\"установка\")*1)*10","v":0},null,{"$f":"IF(P155=\"коммунальная инфраструктура\",(L155=\"строительство\")*3+(L155=\"реконструкция\")*2+(L155=\"капремонт\")*1,0)*10","v":0},null,{"$f":"IF(P155=\"коммунальная инфраструктура\",(L155=\"строительство\")*4+(L155=\"реконструкция\")*3+(L155=\"капремонт\")*2,0)*10","v":0}]
[null,null,17,{"$f":"IF(AND(D139<>\"\",G156<>\"\"),D139,\"\")","v":""},{"$f":"IF(AND(E139<>\"\",G156<>\"\"),E139,\"\")","v":""},null,null,null,null,null,null,null,null,null,null,null,null,null,{"$f":"IF(Q156>=2020,R156-Q156+1,\"\")","v":""},null,{"$f":"IF(Q156>=2020,S156*T156,\"\")","v":""},null,null,null,null,null,null,null,null,null,null,null,null,{"$f":"SUM(AI156:AL156)","v":0},null,null,null,null,{"$f":"SUM(AN156:AQ156)","v":0},null,null,null,null,{"$f":"SUM(AS156:AV156)","v":0},null,null,null,null,null,null,{"$f":"SUM(AH156,AM156,AR156)","v":0},{"$f":"SUM(AL156,AQ156,AV156)","v":0},{"$f":"IF(AY156=0,0,AZ156/AY156)","v":0},{"$f":"IF((AY156+AX156)=0,0,AX156/(AX156+AY156))","v":0},null,null,null,null,null,null,null,null,null,null,null,null,null,null,null,null,null,null,null,null,null,null,null,null,null,null,null,null,null,null,null,null,null,null,null,null,null,null,null,null,null,{"$f":"((L156=\"создание\")*7+(L156=\"расширение\")*7 +(L156=\"внедрение\")*7+(L156=\"строительство\")*4+(L156=\"реконструкция\")*3+(L156=\"капремонт\")*2 +(L156=\"приобретение\")*1+(L156=\"установка\")*1)*10","v":0},null,{"$f":"IF(P156=\"коммунальная инфраструктура\",(L156=\"строительство\")*3+(L156=\"реконструкция\")*2+(L156=\"капремонт\")*1,0)*10","v":0},null,{"$f":"IF(P156=\"коммунальная инфраструктура\",(L156=\"строительство\")*4+(L156=\"реконструкция\")*3+(L156=\"капремонт\")*2,0)*10","v":0}]
[null,null,18,{"$f":"IF(AND(D139<>\"\",G157<>\"\"),D139,\"\")","v":""},{"$f":"IF(AND(E139<>\"\",G157<>\"\"),E139,\"\")","v":""},null,null,null,null,null,null,null,null,null,null,null,null,null,{"$f":"IF(Q157>=2020,R157-Q157+1,\"\")","v":""},null,{"$f":"IF(Q157>=2020,S157*T157,\"\")","v":""},null,null,null,null,null,null,null,null,null,null,null,null,{"$f":"SUM(AI157:AL157)","v":0},null,null,null,null,{"$f":"SUM(AN157:AQ157)","v":0},null,null,null,null,{"$f":"SUM(AS157:AV157)","v":0},null,null,null,null,null,null,{"$f":"SUM(AH157,AM157,AR157)","v":0},{"$f":"SUM(AL157,AQ157,AV157)","v":0},{"$f":"IF(AY157=0,0,AZ157/AY157)","v":0},{"$f":"IF((AY157+AX157)=0,0,AX157/(AX157+AY157))","v":0},null,null,null,null,null,null,null,null,null,null,null,null,null,null,null,null,null,null,null,null,null,null,null,null,null,null,null,null,null,null,null,null,null,null,null,null,null,null,null,null,null,{"$f":"((L157=\"создание\")*7+(L157=\"расширение\")*7 +(L157=\"внедрение\")*7+(L157=\"строительство\")*4+(L157=\"реконструкция\")*3+(L157=\"капремонт\")*2 +(L157=\"приобретение\")*1+(L157=\"установка\")*1)*10","v":0},null,{"$f":"IF(P157=\"коммунальная инфраструктура\",(L157=\"строительство\")*3+(L157=\"реконструкция\")*2+(L157=\"капремонт\")*1,0)*10","v":0},null,{"$f":"IF(P157=\"коммунальная инфраструктура\",(L157=\"строительство\")*4+(L157=\"реконструкция\")*3+(L157=\"капремонт\")*2,0)*10","v":0}]
[null,null,19,{"$f":"IF(AND(D139<>\"\",G158<>\"\"),D139,\"\")","v":""},{"$f":"IF(AND(E139<>\"\",G158<>\"\"),E139,\"\")","v":""},null,null,null,null,null,null,null,null,null,null,null,null,null,{"$f":"IF(Q158>=2020,R158-Q158+1,\"\")","v":""},null,{"$f":"IF(Q158>=2020,S158*T158,\"\")","v":""},null,null,null,null,null,null,null,null,null,null,null,null,{"$f":"SUM(AI158:AL158)","v":0},null,null,null,null,{"$f":"SUM(AN158:AQ158)","v":0},null,null,null,null,{"$f":"SUM(AS158:AV158)","v":0},null,null,null,null,null,null,{"$f":"SUM(AH158,AM158,AR158)","v":0},{"$f":"SUM(AL158,AQ158,AV158)","v":0},{"$f":"IF(AY158=0,0,AZ158/AY158)","v":0},{"$f":"IF((AY158+AX158)=0,0,AX158/(AX158+AY158))","v":0},null,null,null,null,null,null,null,null,null,null,null,null,null,null,null,null,null,null,null,null,null,null,null,null,null,null,null,null,null,null,null,null,null,null,null,null,null,null,null,null,null,{"$f":"((L158=\"создание\")*7+(L158=\"расширение\")*7 +(L158=\"внедрение\")*7+(L158=\"строительство\")*4+(L158=\"реконструкция\")*3+(L158=\"капремонт\")*2 +(L158=\"приобретение\")*1+(L158=\"установка\")*1)*10","v":0},null,{"$f":"IF(P158=\"коммунальная инфраструктура\",(L158=\"строительство\")*3+(L158=\"реконструкция\")*2+(L158=\"капремонт\")*1,0)*10","v":0},null,{"$f":"IF(P158=\"коммунальная инфраструктура\",(L158=\"строительство\")*4+(L158=\"реконструкция\")*3+(L158=\"капремонт\")*2,0)*10","v":0}]
[null,null,20,{"$f":"IF(AND(D139<>\"\",G159<>\"\"),D139,\"\")","v":""},{"$f":"IF(AND(E139<>\"\",G159<>\"\"),E139,\"\")","v":""},null,null,null,null,null,null,null,null,null,null,null,null,null,{"$f":"IF(Q159>=2020,R159-Q159+1,\"\")","v":""},null,{"$f":"IF(Q159>=2020,S159*T159,\"\")","v":""},null,null,null,null,null,null,null,null,null,null,null,null,{"$f":"SUM(AI159:AL159)","v":0},null,null,null,null,{"$f":"SUM(AN159:AQ159)","v":0},null,null,null,null,{"$f":"SUM(AS159:AV159)","v":0},null,null,null,null,null,null,{"$f":"SUM(AH159,AM159,AR159)","v":0},{"$f":"SUM(AL159,AQ159,AV159)","v":0},{"$f":"IF(AY159=0,0,AZ159/AY159)","v":0},{"$f":"IF((AY159+AX159)=0,0,AX159/(AX159+AY159))","v":0},null,null,null,null,null,null,null,null,null,null,null,null,null,null,null,null,null,null,null,null,null,null,null,null,null,null,null,null,null,null,null,null,null,null,null,null,null,null,null,null,null,{"$f":"((L159=\"создание\")*7+(L159=\"расширение\")*7 +(L159=\"внедрение\")*7+(L159=\"строительство\")*4+(L159=\"реконструкция\")*3+(L159=\"капремонт\")*2 +(L159=\"приобретение\")*1+(L159=\"установка\")*1)*10","v":0},null,{"$f":"IF(P159=\"коммунальная инфраструктура\",(L159=\"строительство\")*3+(L159=\"реконструкция\")*2+(L159=\"капремонт\")*1,0)*10","v":0},null,{"$f":"IF(P159=\"коммунальная инфраструктура\",(L159=\"строительство\")*4+(L159=\"реконструкция\")*3+(L159=\"капремонт\")*2,0)*10","v":0}]
[null,null,"…",{"$f":"IF(AND(D139<>\"\",G160<>\"\"),D139,\"\")","v":""},{"$f":"IF(AND(E139<>\"\",G160<>\"\"),E139,\"\")","v":""},null,null,null,null,null,null,null,null,null,null,null,null,null,{"$f":"IF(Q160>=2020,R160-Q160+1,\"\")","v":""},null,{"$f":"IF(Q160>=2020,S160*T160,\"\")","v":""},null,null,null,null,null,null,null,null,null,null,null,null,{"$f":"SUM(AI160:AL160)","v":0},null,null,null,null,{"$f":"SUM(AN160:AQ160)","v":0},null,null,null,null,{"$f":"SUM(AS160:AV160)","v":0},null,null,null,null,null,null,{"$f":"SUM(AH160,AM160,AR160)","v":0},{"$f":"SUM(AL160,AQ160,AV160)","v":0},{"$f":"IF(AY160=0,0,AZ160/AY160)","v":0},{"$f":"IF((AY160+AX160)=0,0,AX160/(AX160+AY160))","v":0},null,null,null,null,null,null,null,null,null,null,null,null,null,null,null,null,null,null,null,null,null,null,null,null,null,null,null,null,null,null,null,null,null,null,null,null,null,null,null,null,null,{"$f":"((L160=\"создание\")*7+(L160=\"расширение\")*7 +(L160=\"внедрение\")*7+(L160=\"строительство\")*4+(L160=\"реконструкция\")*3+(L160=\"капремонт\")*2 +(L160=\"приобретение\")*1+(L160=\"установка\")*1)*10","v":0},null,{"$f":"IF(P160=\"коммунальная инфраструктура\",(L160=\"строительство\")*3+(L160=\"реконструкция\")*2+(L160=\"капремонт\")*1,0)*10","v":0},null,{"$f":"IF(P160=\"коммунальная инфраструктура\",(L160=\"строительство\")*4+(L160=\"реконструкция\")*3+(L160=\"капремонт\")*2,0)*10","v":0}]
[8,null,{"$f":"COUNTA(G162:G182)","v":0},null,null,null,null,null,null,null,null,null,null,null,null,null,{"$f":"MIN(Q162:Q182)","v":0},{"$f":"MAX(R162:R182)","v":0},{"$f":"MAX(S162:S182)","v":0},null,{"$f":"MAX(U162:U182)","v":0},null,null,null,null,null,{"$f":"IF(COUNTIF(AA162:AA182,\"НЕТ\")>0,\"ПД!\",\"ок\")","v":"ок"},null,{"$f":"IF(COUNTIF(AC162:AC182,\"НЕТ\")>0,\"ДОСМ!\",\"ок\")","v":"ок"},null,{"$f":"IF(COUNTIF(AE162:AE182,\"НЕТ\")>0,\"ФОИВ!\",\"ок\")","v":"ок"},{"$f":"IF(COUNTIF(AF162:AF182,\"НЕТ\")>0,\"ФОИВ!\",\"ок\")","v":"ок"},null,{"$f":"SUM(AH162:AH182)","v":0},{"$f":"SUM(AI162:AI182)","v":0},{"$f":"SUM(AJ162:AJ182)","v":0},{"$f":"SUM(AK162:AK182)","v":0},{"$f":"SUM(AL162:AL182)","v":0},{"$f":"SUM(AM162:AM182)","v":0},{"$f":"SUM(AN162:AN182)","v":0},{"$f":"SUM(AO162:AO182)","v":0},{"$f":"SUM(AP162:AP182)","v":0},{"$f":"SUM(AQ162:AQ182)","v":0},{"$f":"SUM(AR162:AR182)","v":0},{"$f":"SUM(AS162:AS182)","v":0},{"$f":"SUM(AT162:AT182)","v":0},{"$f":"SUM(AU162:AU182)","v":0},{"$f":"SUM(AV162:AV182)","v":0},{"$f":"SUM(AW162:AW182)","v":0},{"$f":"SUM(AX162:AX182)","v":0},{"$f":"SUM(AH161,AM161,AR161)","v":0},{"$f":"AL161+AQ161+AV161","v":0},{"$f":"IF(AY161=0,0,AZ161/AY161)","v":0},{"$f":"IF((AY161+AX161)=0,0,AX161/(AX161+AY161))","v":0},null,null,{"$f":"IFERROR(BD161/BC161,0)","v":0},null,null,{"$f":"IFERROR(BG161/BF161,0)","v":0},null,null,{"$f":"IFERROR(BJ161/BI161,0)","v":0},null,null,null,{"$f":"(SUM(BL161:BN161)>0)*1+(SUM(BL161:BN161)>=10)*1+(SUM(BL161:BN161)>=50)*1+(SUM(BL161:BN161)>=100)*1+(SUM(BL161:BN161)>=200)*1+(SUM(BL161:BN161)>=300)*1","v":0},{"$f":"IFERROR(SUM(BL161:BN161)/BC161,0)","v":0},null,null,{"$f":"IFERROR(BQ161/BR161,0)","v":0},{"$f":"IF(BA161<0.01,0,IF(BA161>=0.1,10,ROUNDDOWN(BA161/0.01,0)))","v":0},8,{"$f":"BT161*BU161","v":0},{"$f":"IF(BB161<0.01,0,IF(BB161>=0.1,10,ROUNDDOWN(BB161/0.01,0)))","v":0},8,{"$f":"BW161*BX161","v":0},{"$f":"IF(U161<=1,9,IF(U161<=2,6,IF(U161<=3,3,0)))*(C161>0)","v":0},6,{"$f":"BZ161*CA161","v":0},{"$f":"IF(BH161<0.51,0,10)","v":0},7,{"$f":"CC161*CD161","v":0},{"$f":"IF(BE161<0.1,0,IF(BE161>=0.9,10,ROUNDDOWN(BE161/0.1,0)))","v":0},10,{"$f":"CF161*CG161","v":0},{"$f":"IF(BK161<0.1,0,IF(BK161>=0.6,10,ROUNDDOWN(BK161/0.1,0)))","v":0},8,{"$f":"CI161*CJ161","v":0},{"$f":"IF(BP161<0.05,0,IF(BP161>=0.1,10,1))","v":0},10,{"$f":"CL161*CM161","v":0},{"$f":"IF(BS161<0.1,0,IF(BS161>=0.8,10,ROUNDDOWN(BS161/0.1,0)))","v":0},10,{"$f":"CP161*CO161","v":0},{"$f":"ROUND(IF(C161=0,0,SUM(CR162:CR182)/C161),1)","v":0},{"$f":"((SUM(BL161:BN161)>=1)*1+(SUM(BL161:BN161)>=11)*1+(SUM(BL161:BN161)>=51)*3+(SUM(BL161:BN161)>=101)*2+(SUM(BL161:BN161)>=201)*2+(SUM(BL161:BN161)>=301)*4)*10","v":0},{"$f":"IFERROR(ROUND(SUM(CT162:CT182)/COUNTIF(P162:P182,\"коммунальная инфраструктура\"),1),0)","v":0},{"$f":"CS161+CT161","v":0},{"$f":"IFERROR(ROUND(SUM(CV162:CV182)/COUNTIF(P162:P182,\"коммунальная инфраструктура\"),1),0)","v":0},{"$f":"SUM(BV161,BY161,CB161,CE161,CH161,CK161,CN161,CQ161,CR161,CU161,CV161)","v":0},{"$f":"VLOOKUP(D161,РегионыФО,2,0)","v":{"$error":"#N/A"}}]
[null,null,1,{"$f":"IF(AND(D161<>\"\",G162<>\"\"),D161,\"\")","v":""},{"$f":"IF(AND(E161<>\"\",G162<>\"\"),E161,\"\")","v":""},null,null,null,null,null,null,null,null,null,null,null,null,null,{"$f":"IF(Q162>=2020,R162-Q162+1,\"\")","v":""},null,{"$f":"IF(Q162>=2020,ROUNDUP(S162*T162,0),\"\")","v":""},null,null,null,null,null,null,null,null,null,null,null,null,{"$f":"SUM(AI162:AL162)","v":0},null,null,null,null,{"$f":"SUM(AN162:AQ162)","v":0},null,null,null,null,{"$f":"SUM(AS162:AV162)","v":0},null,null,null,null,null,null,{"$f":"SUM(AH162,AM162,AR162)","v":0},{"$f":"SUM(AL162,AQ162,AV162)","v":0},{"$f":"IF(AY162=0,0,AZ162/AY162)","v":0},{"$f":"IF((AY162+AX162)=0,0,AX162/(AX162+AY162))","v":0},null,null,null,null,null,null,null,null,null,null,null,null,null,null,null,null,null,null,null,null,null,null,null,null,null,null,null,null,null,null,null,null,null,null,null,null,null,null,null,null,null,{"$f":"((L162=\"создание\")*7+(L162=\"расширение\")*7 +(L162=\"внедрение\")*7+(L162=\"строительство\")*4+(L162=\"реконструкция\")*3+(L162=\"капремонт\")*2 +(L162=\"приобретение\")*1+(L162=\"установка\")*1)*10","v":0},null,{"$f":"IF(P162=\"коммунальная инфраструктура\",(L162=\"строительство\")*3+(L162=\"реконструкция\")*2+(L162=\"капремонт\")*1,0)*10","v":0},null,{"$f":"IF(P162=\"коммунальная инфраструктура\",(L162=\"строительство\")*4+(L162=\"реконструкция\")*3+(L162=\"капремонт\")*2,0)*10","v":0}]
[null,null,2,{"$f":"IF(AND(D161<>\"\",G163<>\"\"),D161,\"\")","v":""},{"$f":"IF(AND(E161<>\"\",G163<>\"\"),E161,\"\")","v":""},null,null,null,null,null,null,null,null,null,null,null,null,null,{"$f":"IF(Q163>=2020,R163-Q163+1,\"\")","v":""},null,{"$f":"IF(Q163>=2020,S163*T163,\"\")","v":""},null,null,null,null,null,null,null,null,null,null,null,null,{"$f":"SUM(AI163:AL163)","v":0},null,null,null,null,{"$f":"SUM(AN163:AQ163)","v":0},null,null,null,null,{"$f":"SUM(AS163:AV163)","v":0},null,null,null,null,null,null,{"$f":"SUM(AH163,AM163,AR163)","v":0},{"$f":"SUM(AL163,AQ163,AV163)","v":0},{"$f":"IF(AY163=0,0,AZ163/AY163)","v":0},{"$f":"IF((AY163+AX163)=0,0,AX163/(AX163+AY163))","v":0},null,null,null,null,null,null,null,null,null,null,null,null,null,null,null,null,null,null,null,null,null,null,null,null,null,null,null,null,null,null,null,null,null,null,null,null,null,null,null,null,null,{"$f":"((L163=\"создание\")*7+(L163=\"расширение\")*7 +(L163=\"внедрение\")*7+(L163=\"строительство\")*4+(L163=\"реконструкция\")*3+(L163=\"капремонт\")*2 +(L163=\"приобретение\")*1+(L163=\"установка\")*1)*10","v":0},null,{"$f":"IF(P163=\"коммунальная инфраструктура\",(L163=\"строительство\")*3+(L163=\"реконструкция\")*2+(L163=\"капремонт\")*1,0)*10","v":0},null,{"$f":"IF(P163=\"коммунальная инфраструктура\",(L163=\"строительство\")*4+(L163=\"реконструкция\")*3+(L163=\"капремонт\")*2,0)*10","v":0}]
[null,null,3,{"$f":"IF(AND(D161<>\"\",G164<>\"\"),D161,\"\")","v":""},{"$f":"IF(AND(E161<>\"\",G164<>\"\"),E161,\"\")","v":""},null,null,null,null,null,null,null,null,null,null,null,null,null,{"$f":"IF(Q164>=2020,R164-Q164+1,\"\")","v":""},null,{"$f":"IF(Q164>=2020,S164*T164,\"\")","v":""},null,null,null,null,null,null,null,null,null,null,null,null,{"$f":"SUM(AI164:AL164)","v":0},null,null,null,null,{"$f":"SUM(AN164:AQ164)","v":0},null,null,null,null,{"$f":"SUM(AS164:AV164)","v":0},null,null,null,null,null,null,{"$f":"SUM(AH164,AM164,AR164)","v":0},{"$f":"SUM(AL164,AQ164,AV164)","v":0},{"$f":"IF(AY164=0,0,AZ164/AY164)","v":0},{"$f":"IF((AY164+AX164)=0,0,AX164/(AX164+AY164))","v":0},null,null,null,null,null,null,null,null,null,null,null,null,null,null,null,null,null,null,null,null,null,null,null,null,null,null,null,null,null,null,null,null,null,null,null,null,null,null,null,null,null,{"$f":"((L164=\"создание\")*7+(L164=\"расширение\")*7 +(L164=\"внедрение\")*7+(L164=\"строительство\")*4+(L164=\"реконструкция\")*3+(L164=\"капремонт\")*2 +(L164=\"приобретение\")*1+(L164=\"установка\")*1)*10","v":0},null,{"$f":"IF(P164=\"коммунальная инфраструктура\",(L164=\"строительство\")*3+(L164=\"реконструкция\")*2+(L164=\"капремонт\")*1,0)*10","v":0},null,{"$f":"IF(P164=\"коммунальная инфраструктура\",(L164=\"строительство\")*4+(L164=\"реконструкция\")*3+(L164=\"капремонт\")*2,0)*10","v":0}]
[null,null,4,{"$f":"IF(AND(D161<>\"\",G165<>\"\"),D161,\"\")","v":""},{"$f":"IF(AND(E161<>\"\",G165<>\"\"),E161,\"\")","v":""},null,null,null,null,null,null,null,null,null,null,null,null,null,{"$f":"IF(Q165>=2020,R165-Q165+1,\"\")","v":""},null,{"$f":"IF(Q165>=2020,S165*T165,\"\")","v":""},null,null,null,null,null,null,null,null,null,null,null,null,{"$f":"SUM(AI165:AL165)","v":0},null,null,null,null,{"$f":"SUM(AN165:AQ165)","v":0},null,null,null,null,{"$f":"SUM(AS165:AV165)","v":0},null,null,null,null,null,null,{"$f":"SUM(AH165,AM165,AR165)","v":0},{"$f":"SUM(AL165,AQ165,AV165)","v":0},{"$f":"IF(AY165=0,0,AZ165/AY165)","v":0},{"$f":"IF((AY165+AX165)=0,0,AX165/(AX165+AY165))","v":0},null,null,null,null,null,null,null,null,null,null,null,null,null,null,null,null,null,null,null,null,null,null,null,null,null,null,null,null,null,null,null,null,null,null,null,null,null,null,null,null,null,{"$f":"((L165=\"создание\")*7+(L165=\"расширение\")*7 +(L165=\"внедрение\")*7+(L165=\"строительство\")*4+(L165=\"реконструкция\")*3+(L165=\"капремонт\")*2 +(L165=\"приобретение\")*1+(L165=\"установка\")*1)*10","v":0},null,{"$f":"IF(P165=\"коммунальная инфраструктура\",(L165=\"строительство\")*3+(L165=\"реконструкция\")*2+(L165=\"капремонт\")*1,0)*10","v":0},null,{"$f":"IF(P165=\"коммунальная инфраструктура\",(L165=\"строительство\")*4+(L165=\"реконструкция\")*3+(L165=\"капремонт\")*2,0)*10","v":0}]
[null,null,5,{"$f":"IF(AND(D161<>\"\",G166<>\"\"),D161,\"\")","v":""},{"$f":"IF(AND(E161<>\"\",G166<>\"\"),E161,\"\")","v":""},null,null,null,null,null,null,null,null,null,null,null,null,null,{"$f":"IF(Q166>=2020,R166-Q166+1,\"\")","v":""},null,{"$f":"IF(Q166>=2020,S166*T166,\"\")","v":""},null,null,null,null,null,null,null,null,null,null,null,null,{"$f":"SUM(AI166:AL166)","v":0},null,null,null,null,{"$f":"SUM(AN166:AQ166)","v":0},null,null,null,null,{"$f":"SUM(AS166:AV166)","v":0},null,null,null,null,null,null,{"$f":"SUM(AH166,AM166,AR166)","v":0},{"$f":"SUM(AL166,AQ166,AV166)","v":0},{"$f":"IF(AY166=0,0,AZ166/AY166)","v":0},{"$f":"IF((AY166+AX166)=0,0,AX166/(AX166+AY166))","v":0},null,null,null,null,null,null,null,null,null,null,null,null,null,null,null,null,null,null,null,null,null,null,null,null,null,null,null,null,null,null,null,null,null,null,null,null,null,null,null,null,null,{"$f":"((L166=\"создание\")*7+(L166=\"расширение\")*7 +(L166=\"внедрение\")*7+(L166=\"строительство\")*4+(L166=\"реконструкция\")*3+(L166=\"капремонт\")*2 +(L166=\"приобретение\")*1+(L166=\"установка\")*1)*10","v":0},null,{"$f":"IF(P166=\"коммунальная инфраструктура\",(L166=\"строительство\")*3+(L166=\"реконструкция\")*2+(L166=\"капремонт\")*1,0)*10","v":0},null,{"$f":"IF(P166=\"коммунальная инфраструктура\",(L166=\"строительство\")*4+(L166=\"реконструкция\")*3+(L166=\"капремонт\")*2,0)*10","v":0}]
[null,null,6,{"$f":"IF(AND(D161<>\"\",G167<>\"\"),D161,\"\")","v":""},{"$f":"IF(AND(E161<>\"\",G167<>\"\"),E161,\"\")","v":""},null,null,null,null,null,null,null,null,null,null,null,null,null,{"$f":"IF(Q167>=2020,R167-Q167+1,\"\")","v":""},null,{"$f":"IF(Q167>=2020,S167*T167,\"\")","v":""},null,null,null,null,null,null,null,null,null,null,null,null,{"$f":"SUM(AI167:AL167)","v":0},null,null,null,null,{"$f":"SUM(AN167:AQ167)","v":0},null,null,null,null,{"$f":"SUM(AS167:AV167)","v":0},null,null,null,null,null,null,{"$f":"SUM(AH167,AM167,AR167)","v":0},{"$f":"SUM(AL167,AQ167,AV167)","v":0},{"$f":"IF(AY167=0,0,AZ167/AY167)","v":0},{"$f":"IF((AY167+AX167)=0,0,AX167/(AX167+AY167))","v":0},null,null,null,null,null,null,null,null,null,null,null,null,null,null,null,null,null,null,null,null,null,null,null,null,null,null,null,null,null,null,null,null,null,null,null,null,null,null,null,null,null,{"$f":"((L167=\"создание\")*7+(L167=\"расширение\")*7 +(L167=\"внедрение\")*7+(L167=\"строительство\")*4+(L167=\"реконструкция\")*3+(L167=\"капремонт\")*2 +(L167=\"приобретение\")*1+(L167=\"установка\")*1)*10","v":0},null,{"$f":"IF(P167=\"коммунальная инфраструктура\",(L167=\"строительство\")*3+(L167=\"реконструкция\")*2+(L167=\"капремонт\")*1,0)*10","v":0},null,{"$f":"IF(P167=\"коммунальная инфраструктура\",(L167=\"строительство\")*4+(L167=\"реконструкция\")*3+(L167=\"капремонт\")*2,0)*10","v":0}]
[null,null,7,{"$f":"IF(AND(D161<>\"\",G168<>\"\"),D161,\"\")","v":""},{"$f":"IF(AND(E161<>\"\",G168<>\"\"),E161,\"\")","v":""},null,null,null,null,null,null,null,null,null,null,null,null,null,{"$f":"IF(Q168>=2020,R168-Q168+1,\"\")","v":""},null,{"$f":"IF(Q168>=2020,S168*T168,\"\")","v":""},null,null,null,null,null,null,null,null,null,null,null,null,{"$f":"SUM(AI168:AL168)","v":0},null,null,null,null,{"$f":"SUM(AN168:AQ168)","v":0},null,null,null,null,{"$f":"SUM(AS168:AV168)","v":0},null,null,null,null,null,null,{"$f":"SUM(AH168,AM168,AR168)","v":0},{"$f":"SUM(AL168,AQ168,AV168)","v":0},{"$f":"IF(AY168=0,0,AZ168/AY168)","v":0},{"$f":"IF((AY168+AX168)=0,0,AX168/(AX168+AY168))","v":0},null,null,null,null,null,null,null,null,null,null,null,null,null,null,null,null,null,null,null,null,null,null,null,null,null,null,null,null,null,null,null,null,null,null,null,null,null,null,null,null,null,{"$f":"((L168=\"создание\")*7+(L168=\"расширение\")*7 +(L168=\"внедрение\")*7+(L168=\"строительство\")*4+(L168=\"реконструкция\")*3+(L168=\"капремонт\")*2 +(L168=\"приобретение\")*1+(L168=\"установка\")*1)*10","v":0},null,{"$f":"IF(P168=\"коммунальная инфраструктура\",(L168=\"строительство\")*3+(L168=\"реконструкция\")*2+(L168=\"капремонт\")*1,0)*10","v":0},null,{"$f":"IF(P168=\"коммунальная инфраструктура\",(L168=\"строительство\")*4+(L168=\"реконструкция\")*3+(L168=\"капремонт\")*2,0)*10","v":0}]
[null,null,8,{"$f":"IF(AND(D161<>\"\",G169<>\"\"),D161,\"\")","v":""},{"$f":"IF(AND(E161<>\"\",G169<>\"\"),E161,\"\")","v":""},null,null,null,null,null,null,null,null,null,null,null,null,null,{"$f":"IF(Q169>=2020,R169-Q169+1,\"\")","v":""},null,{"$f":"IF(Q169>=2020,S169*T169,\"\")","v":""},null,null,null,null,null,null,null,null,null,null,null,null,{"$f":"SUM(AI169:AL169)","v":0},null,null,null,null,{"$f":"SUM(AN169:AQ169)","v":0},null,null,null,null,{"$f":"SUM(AS169:AV169)","v":0},null,null,null,null,null,null,{"$f":"SUM(AH169,AM169,AR169)","v":0},{"$f":"SUM(AL169,AQ169,AV169)","v":0},{"$f":"IF(AY169=0,0,AZ169/AY169)","v":0},{"$f":"IF((AY169+AX169)=0,0,AX169/(AX169+AY169))","v":0},null,null,null,null,null,null,null,null,null,null,null,null,null,null,null,null,null,null,null,null,null,null,null,null,null,null,null,null,null,null,null,null,null,null,null,null,null,null,null,null,null,{"$f":"((L169=\"создание\")*7+(L169=\"расширение\")*7 +(L169=\"внедрение\")*7+(L169=\"строительство\")*4+(L169=\"реконструкция\")*3+(L169=\"капремонт\")*2 +(L169=\"приобретение\")*1+(L169=\"установка\")*1)*10","v":0},null,{"$f":"IF(P169=\"коммунальная инфраструктура\",(L169=\"строительство\")*3+(L169=\"реконструкция\")*2+(L169=\"капремонт\")*1,0)*10","v":0},null,{"$f":"IF(P169=\"коммунальная инфраструктура\",(L169=\"строительство\")*4+(L169=\"реконструкция\")*3+(L169=\"капремонт\")*2,0)*10","v":0}]
[null,null,9,{"$f":"IF(AND(D161<>\"\",G170<>\"\"),D161,\"\")","v":""},{"$f":"IF(AND(E161<>\"\",G170<>\"\"),E161,\"\")","v":""},null,null,null,null,null,null,null,null,null,null,null,null,null,{"$f":"IF(Q170>=2020,R170-Q170+1,\"\")","v":""},null,{"$f":"IF(Q170>=2020,S170*T170,\"\")","v":""},null,null,null,null,null,null,null,null,null,null,null,null,{"$f":"SUM(AI170:AL170)","v":0},null,null,null,null,{"$f":"SUM(AN170:AQ170)","v":0},null,null,null,null,{"$f":"SUM(AS170:AV170)","v":0},null,null,null,null,null,null,{"$f":"SUM(AH170,AM170,AR170)","v":0},{"$f":"SUM(AL170,AQ170,AV170)","v":0},{"$f":"IF(AY170=0,0,AZ170/AY170)","v":0},{"$f":"IF((AY170+AX170)=0,0,AX170/(AX170+AY170))","v":0},null,null,null,null,null,null,null,null,null,null,null,null,null,null,null,null,null,null,null,null,null,null,null,null,null,null,null,null,null,null,null,null,null,null,null,null,null,null,null,null,null,{"$f":"((L170=\"создание\")*7+(L170=\"расширение\")*7 +(L170=\"внедрение\")*7+(L170=\"строительство\")*4+(L170=\"реконструкция\")*3+(L170=\"капремонт\")*2 +(L170=\"приобретение\")*1+(L170=\"установка\")*1)*10","v":0},null,{"$f":"IF(P170=\"коммунальная инфраструктура\",(L170=\"строительство\")*3+(L170=\"реконструкция\")*2+(L170=\"капремонт\")*1,0)*10","v":0},null,{"$f":"IF(P170=\"коммунальная инфраструктура\",(L170=\"строительство\")*4+(L170=\"реконструкция\")*3+(L170=\"капремонт\")*2,0)*10","v":0}]
[null,null,10,{"$f":"IF(AND(D161<>\"\",G171<>\"\"),D161,\"\")","v":""},{"$f":"IF(AND(E161<>\"\",G171<>\"\"),E161,\"\")","v":""},null,null,null,null,null,null,null,null,null,null,null,null,null,{"$f":"IF(Q171>=2020,R171-Q171+1,\"\")","v":""},null,{"$f":"IF(Q171>=2020,S171*T171,\"\")","v":""},null,null,null,null,null,null,null,null,null,null,null,null,{"$f":"SUM(AI171:AL171)","v":0},null,null,null,null,{"$f":"SUM(AN171:AQ171)","v":0},null,null,null,null,{"$f":"SUM(AS171:AV171)","v":0},null,null,null,null,null,null,{"$f":"SUM(AH171,AM171,AR171)","v":0},{"$f":"SUM(AL171,AQ171,AV171)","v":0},{"$f":"IF(AY171=0,0,AZ171/AY171)","v":0},{"$f":"IF((AY171+AX171)=0,0,AX171/(AX171+AY171))","v":0},null,null,null,null,null,null,null,null,null,null,null,null,null,null,null,null,null,null,null,null,null,null,null,null,null,null,null,null,null,null,null,null,null,null,null,null,null,null,null,null,null,{"$f":"((L171=\"создание\")*7+(L171=\"расширение\")*7 +(L171=\"внедрение\")*7+(L171=\"строительство\")*4+(L171=\"реконструкция\")*3+(L171=\"капремонт\")*2 +(L171=\"приобретение\")*1+(L171=\"установка\")*1)*10","v":0},null,{"$f":"IF(P171=\"коммунальная инфраструктура\",(L171=\"строительство\")*3+(L171=\"реконструкция\")*2+(L171=\"капремонт\")*1,0)*10","v":0},null,{"$f":"IF(P171=\"коммунальная инфраструктура\",(L171=\"строительство\")*4+(L171=\"реконструкция\")*3+(L171=\"капремонт\")*2,0)*10","v":0}]
[null,null,11,{"$f":"IF(AND(D161<>\"\",G172<>\"\"),D161,\"\")","v":""},{"$f":"IF(AND(E161<>\"\",G172<>\"\"),E161,\"\")","v":""},null,null,null,null,null,null,null,null,null,null,null,null,null,{"$f":"IF(Q172>=2020,R172-Q172+1,\"\")","v":""},null,{"$f":"IF(Q172>=2020,S172*T172,\"\")","v":""},null,null,null,null,null,null,null,null,null,null,null,null,{"$f":"SUM(AI172:AL172)","v":0},null,null,null,null,{"$f":"SUM(AN172:AQ172)","v":0},null,null,null,null,{"$f":"SUM(AS172:AV172)","v":0},null,null,null,null,null,null,{"$f":"SUM(AH172,AM172,AR172)","v":0},{"$f":"SUM(AL172,AQ172,AV172)","v":0},{"$f":"IF(AY172=0,0,AZ172/AY172)","v":0},{"$f":"IF((AY172+AX172)=0,0,AX172/(AX172+AY172))","v":0},null,null,null,null,null,null,null,null,null,null,null,null,null,null,null,null,null,null,null,null,null,null,null,null,null,null,null,null,null,null,null,null,null,null,null,null,null,null,null,null,null,{"$f":"((L172=\"создание\")*7+(L172=\"расширение\")*7 +(L172=\"внедрение\")*7+(L172=\"строительство\")*4+(L172=\"реконструкция\")*3+(L172=\"капремонт\")*2 +(L172=\"приобретение\")*1+(L172=\"установка\")*1)*10","v":0},null,{"$f":"IF(P172=\"коммунальная инфраструктура\",(L172=\"строительство\")*3+(L172=\"реконструкция\")*2+(L172=\"капремонт\")*1,0)*10","v":0},null,{"$f":"IF(P172=\"коммунальная инфраструктура\",(L172=\"строительство\")*4+(L172=\"реконструкция\")*3+(L172=\"капремонт\")*2,0)*10","v":0}]
[null,null,12,{"$f":"IF(AND(D161<>\"\",G173<>\"\"),D161,\"\")","v":""},{"$f":"IF(AND(E161<>\"\",G173<>\"\"),E161,\"\")","v":""},null,null,null,null,null,null,null,null,null,null,null,null,null,{"$f":"IF(Q173>=2020,R173-Q173+1,\"\")","v":""},null,{"$f":"IF(Q173>=2020,S173*T173,\"\")","v":""},null,null,null,null,null,null,null,null,null,null,null,null,{"$f":"SUM(AI173:AL173)","v":0},null,null,null,null,{"$f":"SUM(AN173:AQ173)","v":0},null,null,null,null,{"$f":"SUM(AS173:AV173)","v":0},null,null,null,null,null,null,{"$f":"SUM(AH173,AM173,AR173)","v":0},{"$f":"SUM(AL173,AQ173,AV173)","v":0},{"$f":"IF(AY173=0,0,AZ173/AY173)","v":0},{"$f":"IF((AY173+AX173)=0,0,AX173/(AX173+AY173))","v":0},null,null,null,null,null,null,null,null,null,null,null,null,null,null,null,null,null,null,null,null,null,null,null,null,null,null,null,null,null,null,null,null,null,null,null,null,null,null,null,null,null,{"$f":"((L173=\"создание\")*7+(L173=\"расширение\")*7 +(L173=\"внедрение\")*7+(L173=\"строительство\")*4+(L173=\"реконструкция\")*3+(L173=\"капремонт\")*2 +(L173=\"приобретение\")*1+(L173=\"установка\")*1)*10","v":0},null,{"$f":"IF(P173=\"коммунальная инфраструктура\",(L173=\"строительство\")*3+(L173=\"реконструкция\")*2+(L173=\"капремонт\")*1,0)*10","v":0},null,{"$f":"IF(P173=\"коммунальная инфраструктура\",(L173=\"строительство\")*4+(L173=\"реконструкция\")*3+(L173=\"капремонт\")*2,0)*10","v":0}]
[null,null,13,{"$f":"IF(AND(D161<>\"\",G174<>\"\"),D161,\"\")","v":""},{"$f":"IF(AND(E161<>\"\",G174<>\"\"),E161,\"\")","v":""},null,null,null,null,null,null,null,null,null,null,null,null,null,{"$f":"IF(Q174>=2020,R174-Q174+1,\"\")","v":""},null,{"$f":"IF(Q174>=2020,S174*T174,\"\")","v":""},null,null,null,null,null,null,null,null,null,null,null,null,{"$f":"SUM(AI174:AL174)","v":0},null,null,null,null,{"$f":"SUM(AN174:AQ174)","v":0},null,null,null,null,{"$f":"SUM(AS174:AV174)","v":0},null,null,null,null,null,null,{"$f":"SUM(AH174,AM174,AR174)","v":0},{"$f":"SUM(AL174,AQ174,AV174)","v":0},{"$f":"IF(AY174=0,0,AZ174/AY174)","v":0},{"$f":"IF((AY174+AX174)=0,0,AX174/(AX174+AY174))","v":0},null,null,null,null,null,null,null,null,null,null,null,null,null,null,null,null,null,null,null,null,null,null,null,null,null,null,null,null,null,null,null,null,null,null,null,null,null,null,null,null,null,{"$f":"((L174=\"создание\")*7+(L174=\"расширение\")*7 +(L174=\"внедрение\")*7+(L174=\"строительство\")*4+(L174=\"реконструкция\")*3+(L174=\"капремонт\")*2 +(L174=\"приобретение\")*1+(L174=\"установка\")*1)*10","v":0},null,{"$f":"IF(P174=\"коммунальная инфраструктура\",(L174=\"строительство\")*3+(L174=\"реконструкция\")*2+(L174=\"капремонт\")*1,0)*10","v":0},null,{"$f":"IF(P174=\"коммунальная инфраструктура\",(L174=\"строительство\")*4+(L174=\"реконструкция\")*3+(L174=\"капремонт\")*2,0)*10","v":0}]
[null,null,14,{"$f":"IF(AND(D161<>\"\",G175<>\"\"),D161,\"\")","v":""},{"$f":"IF(AND(E161<>\"\",G175<>\"\"),E161,\"\")","v":""},null,null,null,null,null,null,null,null,null,null,null,null,null,{"$f":"IF(Q175>=2020,R175-Q175+1,\"\")","v":""},null,{"$f":"IF(Q175>=2020,S175*T175,\"\")","v":""},null,null,null,null,null,null,null,null,null,null,null,null,{"$f":"SUM(AI175:AL175)","v":0},null,null,null,null,{"$f":"SUM(AN175:AQ175)","v":0},null,null,null,null,{"$f":"SUM(AS175:AV175)","v":0},null,null,null,null,null,null,{"$f":"SUM(AH175,AM175,AR175)","v":0},{"$f":"SUM(AL175,AQ175,AV175)","v":0},{"$f":"IF(AY175=0,0,AZ175/AY175)","v":0},{"$f":"IF((AY175+AX175)=0,0,AX175/(AX175+AY175))","v":0},null,null,null,null,null,null,null,null,null,null,null,null,null,null,null,null,null,null,null,null,null,null,null,null,null,null,null,null,null,null,null,null,null,null,null,null,null,null,null,null,null,{"$f":"((L175=\"создание\")*7+(L175=\"расширение\")*7 +(L175=\"внедрение\")*7+(L175=\"строительство\")*4+(L175=\"реконструкция\")*3+(L175=\"капремонт\")*2 +(L175=\"приобретение\")*1+(L175=\"установка\")*1)*10","v":0},null,{"$f":"IF(P175=\"коммунальная инфраструктура\",(L175=\"строительство\")*3+(L175=\"реконструкция\")*2+(L175=\"капремонт\")*1,0)*10","v":0},null,{"$f":"IF(P175=\"коммунальная инфраструктура\",(L175=\"строительство\")*4+(L175=\"реконструкция\")*3+(L175=\"капремонт\")*2,0)*10","v":0}]
[null,null,15,{"$f":"IF(AND(D161<>\"\",G176<>\"\"),D161,\"\")","v":""},{"$f":"IF(AND(E161<>\"\",G176<>\"\"),E161,\"\")","v":""},null,null,null,null,null,null,null,null,null,null,null,null,null,{"$f":"IF(Q176>=2020,R176-Q176+1,\"\")","v":""},null,{"$f":"IF(Q176>=2020,S176*T176,\"\")","v":""},null,null,null,null,null,null,null,null,null,null,null,null,{"$f":"SUM(AI176:AL176)","v":0},null,null,null,null,{"$f":"SUM(AN176:AQ176)","v":0},null,null,null,null,{"$f":"SUM(AS176:AV176)","v":0},null,null,null,null,null,null,{"$f":"SUM(AH176,AM176,AR176)","v":0},{"$f":"SUM(AL176,AQ176,AV176)","v":0},{"$f":"IF(AY176=0,0,AZ176/AY176)","v":0},{"$f":"IF((AY176+AX176)=0,0,AX176/(AX176+AY176))","v":0},null,null,null,null,null,null,null,null,null,null,null,null,null,null,null,null,null,null,null,null,null,null,null,null,null,null,null,null,null,null,null,null,null,null,null,null,null,null,null,null,null,{"$f":"((L176=\"создание\")*7+(L176=\"расширение\")*7 +(L176=\"внедрение\")*7+(L176=\"строительство\")*4+(L176=\"реконструкция\")*3+(L176=\"капремонт\")*2 +(L176=\"приобретение\")*1+(L176=\"установка\")*1)*10","v":0},null,{"$f":"IF(P176=\"коммунальная инфраструктура\",(L176=\"строительство\")*3+(L176=\"реконструкция\")*2+(L176=\"капремонт\")*1,0)*10","v":0},null,{"$f":"IF(P176=\"коммунальная инфраструктура\",(L176=\"строительство\")*4+(L176=\"реконструкция\")*3+(L176=\"капремонт\")*2,0)*10","v":0}]
[null,null,16,{"$f":"IF(AND(D161<>\"\",G177<>\"\"),D161,\"\")","v":""},{"$f":"IF(AND(E161<>\"\",G177<>\"\"),E161,\"\")","v":""},null,null,null,null,null,null,null,null,null,null,null,null,null,{"$f":"IF(Q177>=2020,R177-Q177+1,\"\")","v":""},null,{"$f":"IF(Q177>=2020,S177*T177,\"\")","v":""},null,null,null,null,null,null,null,null,null,null,null,null,{"$f":"SUM(AI177:AL177)","v":0},null,null,null,null,{"$f":"SUM(AN177:AQ177)","v":0},null,null,null,null,{"$f":"SUM(AS177:AV177)","v":0},null,null,null,null,null,null,{"$f":"SUM(AH177,AM177,AR177)","v":0},{"$f":"SUM(AL177,AQ177,AV177)","v":0},{"$f":"IF(AY177=0,0,AZ177/AY177)","v":0},{"$f":"IF((AY177+AX177)=0,0,AX177/(AX177+AY177))","v":0},null,null,null,null,null,null,null,null,null,null,null,null,null,null,null,null,null,null,null,null,null,null,null,null,null,null,null,null,null,null,null,null,null,null,null,null,null,null,null,null,null,{"$f":"((L177=\"создание\")*7+(L177=\"расширение\")*7 +(L177=\"внедрение\")*7+(L177=\"строительство\")*4+(L177=\"реконструкция\")*3+(L177=\"капремонт\")*2 +(L177=\"приобретение\")*1+(L177=\"установка\")*1)*10","v":0},null,{"$f":"IF(P177=\"коммунальная инфраструктура\",(L177=\"строительство\")*3+(L177=\"реконструкция\")*2+(L177=\"капремонт\")*1,0)*10","v":0},null,{"$f":"IF(P177=\"коммунальная инфраструктура\",(L177=\"строительство\")*4+(L177=\"реконструкция\")*3+(L177=\"капремонт\")*2,0)*10","v":0}]
[null,null,17,{"$f":"IF(AND(D161<>\"\",G178<>\"\"),D161,\"\")","v":""},{"$f":"IF(AND(E161<>\"\",G178<>\"\"),E161,\"\")","v":""},null,null,null,null,null,null,null,null,null,null,null,null,null,{"$f":"IF(Q178>=2020,R178-Q178+1,\"\")","v":""},null,{"$f":"IF(Q178>=2020,S178*T178,\"\")","v":""},null,null,null,null,null,null,null,null,null,null,null,null,{"$f":"SUM(AI178:AL178)","v":0},null,null,null,null,{"$f":"SUM(AN178:AQ178)","v":0},null,null,null,null,{"$f":"SUM(AS178:AV178)","v":0},null,null,null,null,null,null,{"$f":"SUM(AH178,AM178,AR178)","v":0},{"$f":"SUM(AL178,AQ178,AV178)","v":0},{"$f":"IF(AY178=0,0,AZ178/AY178)","v":0},{"$f":"IF((AY178+AX178)=0,0,AX178/(AX178+AY178))","v":0},null,null,null,null,null,null,null,null,null,null,null,null,null,null,null,null,null,null,null,null,null,null,null,null,null,null,null,null,null,null,null,null,null,null,null,null,null,null,null,null,null,{"$f":"((L178=\"создание\")*7+(L178=\"расширение\")*7 +(L178=\"внедрение\")*7+(L178=\"строительство\")*4+(L178=\"реконструкция\")*3+(L178=\"капремонт\")*2 +(L178=\"приобретение\")*1+(L178=\"установка\")*1)*10","v":0},null,{"$f":"IF(P178=\"коммунальная инфраструктура\",(L178=\"строительство\")*3+(L178=\"реконструкция\")*2+(L178=\"капремонт\")*1,0)*10","v":0},null,{"$f":"IF(P178=\"коммунальная инфраструктура\",(L178=\"строительство\")*4+(L178=\"реконструкция\")*3+(L178=\"капремонт\")*2,0)*10","v":0}]
[null,null,18,{"$f":"IF(AND(D161<>\"\",G179<>\"\"),D161,\"\")","v":""},{"$f":"IF(AND(E161<>\"\",G179<>\"\"),E161,\"\")","v":""},null,null,null,null,null,null,null,null,null,null,null,null,null,{"$f":"IF(Q179>=2020,R179-Q179+1,\"\")","v":""},null,{"$f":"IF(Q179>=2020,S179*T179,\"\")","v":""},null,null,null,null,null,null,null,null,null,null,null,null,{"$f":"SUM(AI179:AL179)","v":0},null,null,null,null,{"$f":"SUM(AN179:AQ179)","v":0},null,null,null,null,{"$f":"SUM(AS179:AV179)","v":0},null,null,null,null,null,null,{"$f":"SUM(AH179,AM179,AR179)","v":0},{"$f":"SUM(AL179,AQ179,AV179)","v":0},{"$f":"IF(AY179=0,0,AZ179/AY179)","v":0},{"$f":"IF((AY179+AX179)=0,0,AX179/(AX179+AY179))","v":0},null,null,null,null,null,null,null,null,null,null,null,null,null,null,null,null,null,null,null,null,null,null,null,null,null,null,null,null,null,null,null,null,null,null,null,null,null,null,null,null,null,{"$f":"((L179=\"создание\")*7+(L179=\"расширение\")*7 +(L179=\"внедрение\")*7+(L179=\"строительство\")*4+(L179=\"реконструкция\")*3+(L179=\"капремонт\")*2 +(L179=\"приобретение\")*1+(L179=\"установка\")*1)*10","v":0},null,{"$f":"IF(P179=\"коммунальная инфраструктура\",(L179=\"строительство\")*3+(L179=\"реконструкция\")*2+(L179=\"капремонт\")*1,0)*10","v":0},null,{"$f":"IF(P179=\"коммунальная инфраструктура\",(L179=\"строительство\")*4+(L179=\"реконструкция\")*3+(L179=\"капремонт\")*2,0)*10","v":0}]
[null,null,19,{"$f":"IF(AND(D161<>\"\",G180<>\"\"),D161,\"\")","v":""},{"$f":"IF(AND(E161<>\"\",G180<>\"\"),E161,\"\")","v":""},null,null,null,null,null,null,null,null,null,null,null,null,null,{"$f":"IF(Q180>=2020,R180-Q180+1,\"\")","v":""},null,{"$f":"IF(Q180>=2020,S180*T180,\"\")","v":""},null,null,null,null,null,null,null,null,null,null,null,null,{"$f":"SUM(AI180:AL180)","v":0},null,null,null,null,{"$f":"SUM(AN180:AQ180)","v":0},null,null,null,null,{"$f":"SUM(AS180:AV180)","v":0},null,null,null,null,null,null,{"$f":"SUM(AH180,AM180,AR180)","v":0},{"$f":"SUM(AL180,AQ180,AV180)","v":0},{"$f":"IF(AY180=0,0,AZ180/AY180)","v":0},{"$f":"IF((AY180+AX180)=0,0,AX180/(AX180+AY180))","v":0},null,null,null,null,null,null,null,null,null,null,null,null,null,null,null,null,null,null,null,null,null,null,null,null,null,null,null,null,null,null,null,null,null,null,null,null,null,null,null,null,null,{"$f":"((L180=\"создание\")*7+(L180=\"расширение\")*7 +(L180=\"внедрение\")*7+(L180=\"строительство\")*4+(L180=\"реконструкция\")*3+(L180=\"капремонт\")*2 +(L180=\"приобретение\")*1+(L180=\"установка\")*1)*10","v":0},null,{"$f":"IF(P180=\"коммунальная инфраструктура\",(L180=\"строительство\")*3+(L180=\"реконструкция\")*2+(L180=\"капремонт\")*1,0)*10","v":0},null,{"$f":"IF(P180=\"коммунальная инфраструктура\",(L180=\"строительство\")*4+(L180=\"реконструкция\")*3+(L180=\"капремонт\")*2,0)*10","v":0}]
[null,null,20,{"$f":"IF(AND(D161<>\"\",G181<>\"\"),D161,\"\")","v":""},{"$f":"IF(AND(E161<>\"\",G181<>\"\"),E161,\"\")","v":""},null,null,null,null,null,null,null,null,null,null,null,null,null,{"$f":"IF(Q181>=2020,R181-Q181+1,\"\")","v":""},null,{"$f":"IF(Q181>=2020,S181*T181,\"\")","v":""},null,null,null,null,null,null,null,null,null,null,null,null,{"$f":"SUM(AI181:AL181)","v":0},null,null,null,null,{"$f":"SUM(AN181:AQ181)","v":0},null,null,null,null,{"$f":"SUM(AS181:AV181)","v":0},null,null,null,null,null,null,{"$f":"SUM(AH181,AM181,AR181)","v":0},{"$f":"SUM(AL181,AQ181,AV181)","v":0},{"$f":"IF(AY181=0,0,AZ181/AY181)","v":0},{"$f":"IF((AY181+AX181)=0,0,AX181/(AX181+AY181))","v":0},null,null,null,null,null,null,null,null,null,null,null,null,null,null,null,null,null,null,null,null,null,null,null,null,null,null,null,null,null,null,null,null,null,null,null,null,null,null,null,null,null,{"$f":"((L181=\"создание\")*7+(L181=\"расширение\")*7 +(L181=\"внедрение\")*7+(L181=\"строительство\")*4+(L181=\"реконструкция\")*3+(L181=\"капремонт\")*2 +(L181=\"приобретение\")*1+(L181=\"установка\")*1)*10","v":0},null,{"$f":"IF(P181=\"коммунальная инфраструктура\",(L181=\"строительство\")*3+(L181=\"реконструкция\")*2+(L181=\"капремонт\")*1,0)*10","v":0},null,{"$f":"IF(P181=\"коммунальная инфраструктура\",(L181=\"строительство\")*4+(L181=\"реконструкция\")*3+(L181=\"капремонт\")*2,0)*10","v":0}]
[null,null,"…",{"$f":"IF(AND(D161<>\"\",G182<>\"\"),D161,\"\")","v":""},{"$f":"IF(AND(E161<>\"\",G182<>\"\"),E161,\"\")","v":""},null,null,null,null,null,null,null,null,null,null,null,null,null,{"$f":"IF(Q182>=2020,R182-Q182+1,\"\")","v":""},null,{"$f":"IF(Q182>=2020,S182*T182,\"\")","v":""},null,null,null,null,null,null,null,null,null,null,null,null,{"$f":"SUM(AI182:AL182)","v":0},null,null,null,null,{"$f":"SUM(AN182:AQ182)","v":0},null,null,null,null,{"$f":"SUM(AS182:AV182)","v":0},null,null,null,null,null,null,{"$f":"SUM(AH182,AM182,AR182)","v":0},{"$f":"SUM(AL182,AQ182,AV182)","v":0},{"$f":"IF(AY182=0,0,AZ182/AY182)","v":0},{"$f":"IF((AY182+AX182)=0,0,AX182/(AX182+AY182))","v":0},null,null,null,null,null,null,null,null,null,null,null,null,null,null,null,null,null,null,null,null,null,null,null,null,null,null,null,null,null,null,null,null,null,null,null,null,null,null,null,null,null,{"$f":"((L182=\"создание\")*7+(L182=\"расширение\")*7 +(L182=\"внедрение\")*7+(L182=\"строительство\")*4+(L182=\"реконструкция\")*3+(L182=\"капремонт\")*2 +(L182=\"приобретение\")*1+(L182=\"установка\")*1)*10","v":0},null,{"$f":"IF(P182=\"коммунальная инфраструктура\",(L182=\"строительство\")*3+(L182=\"реконструкция\")*2+(L182=\"капремонт\")*1,0)*10","v":0},null,{"$f":"IF(P182=\"коммунальная инфраструктура\",(L182=\"строительство\")*4+(L182=\"реконструкция\")*3+(L182=\"капремонт\")*2,0)*10","v":0}]
[9,null,{"$f":"COUNTA(G184:G204)","v":0},null,null,null,null,null,null,null,null,null,null,null,null,null,{"$f":"MIN(Q184:Q204)","v":0},{"$f":"MAX(R184:R204)","v":0},{"$f":"MAX(S184:S204)","v":0},null,{"$f":"MAX(U184:U204)","v":0},null,null,null,null,null,{"$f":"IF(COUNTIF(AA184:AA204,\"НЕТ\")>0,\"ПД!\",\"ок\")","v":"ок"},null,{"$f":"IF(COUNTIF(AC184:AC204,\"НЕТ\")>0,\"ДОСМ!\",\"ок\")","v":"ок"},null,{"$f":"IF(COUNTIF(AE184:AE204,\"НЕТ\")>0,\"ФОИВ!\",\"ок\")","v":"ок"},{"$f":"IF(COUNTIF(AF184:AF204,\"НЕТ\")>0,\"ФОИВ!\",\"ок\")","v":"ок"},null,{"$f":"SUM(AH184:AH204)","v":0},{"$f":"SUM(AI184:AI204)","v":0},{"$f":"SUM(AJ184:AJ204)","v":0},{"$f":"SUM(AK184:AK204)","v":0},{"$f":"SUM(AL184:AL204)","v":0},{"$f":"SUM(AM184:AM204)","v":0},{"$f":"SUM(AN184:AN204)","v":0},{"$f":"SUM(AO184:AO204)","v":0},{"$f":"SUM(AP184:AP204)","v":0},{"$f":"SUM(AQ184:AQ204)","v":0},{"$f":"SUM(AR184:AR204)","v":0},{"$f":"SUM(AS184:AS204)","v":0},{"$f":"SUM(AT184:AT204)","v":0},{"$f":"SUM(AU184:AU204)","v":0},{"$f":"SUM(AV184:AV204)","v":0},{"$f":"SUM(AW184:AW204)","v":0},{"$f":"SUM(AX184:AX204)","v":0},{"$f":"SUM(AH183,AM183,AR183)","v":0},{"$f":"AL183+AQ183+AV183","v":0},{"$f":"IF(AY183=0,0,AZ183/AY183)","v":0},{"$f":"IF((AY183+AX183)=0,0,AX183/(AX183+AY183))","v":0},null,null,{"$f":"IFERROR(BD183/BC183,0)","v":0},null,null,{"$f":"IFERROR(BG183/BF183,0)","v":0},null,null,{"$f":"IFERROR(BJ183/BI183,0)","v":0},null,null,null,{"$f":"(SUM(BL183:BN183)>0)*1+(SUM(BL183:BN183)>=10)*1+(SUM(BL183:BN183)>=50)*1+(SUM(BL183:BN183)>=100)*1+(SUM(BL183:BN183)>=200)*1+(SUM(BL183:BN183)>=300)*1","v":0},{"$f":"IFERROR(SUM(BL183:BN183)/BC183,0)","v":0},null,null,{"$f":"IFERROR(BQ183/BR183,0)","v":0},{"$f":"IF(BA183<0.01,0,IF(BA183>=0.1,10,ROUNDDOWN(BA183/0.01,0)))","v":0},8,{"$f":"BT183*BU183","v":0},{"$f":"IF(BB183<0.01,0,IF(BB183>=0.1,10,ROUNDDOWN(BB183/0.01,0)))","v":0},8,{"$f":"BW183*BX183","v":0},{"$f":"IF(U183<=1,9,IF(U183<=2,6,IF(U183<=3,3,0)))*(C183>0)","v":0},6,{"$f":"BZ183*CA183","v":0},{"$f":"IF(BH183<0.51,0,10)","v":0},7,{"$f":"CC183*CD183","v":0},{"$f":"IF(BE183<0.1,0,IF(BE183>=0.9,10,ROUNDDOWN(BE183/0.1,0)))","v":0},10,{"$f":"CF183*CG183","v":0},{"$f":"IF(BK183<0.1,0,IF(BK183>=0.6,10,ROUNDDOWN(BK183/0.1,0)))","v":0},8,{"$f":"CI183*CJ183","v":0},{"$f":"IF(BP183<0.05,0,IF(BP183>=0.1,10,1))","v":0},10,{"$f":"CL183*CM183","v":0},{"$f":"IF(BS183<0.1,0,IF(BS183>=0.8,10,ROUNDDOWN(BS183/0.1,0)))","v":0},10,{"$f":"CP183*CO183","v":0},{"$f":"ROUND(IF(C183=0,0,SUM(CR184:CR204)/C183),1)","v":0},{"$f":"((SUM(BL183:BN183)>=1)*1+(SUM(BL183:BN183)>=11)*1+(SUM(BL183:BN183)>=51)*3+(SUM(BL183:BN183)>=101)*2+(SUM(BL183:BN183)>=201)*2+(SUM(BL183:BN183)>=301)*4)*10","v":0},{"$f":"IFERROR(ROUND(SUM(CT184:CT204)/COUNTIF(P184:P204,\"коммунальная инфраструктура\"),1),0)","v":0},{"$f":"CS183+CT183","v":0},{"$f":"IFERROR(ROUND(SUM(CV184:CV204)/COUNTIF(P184:P204,\"коммунальная инфраструктура\"),1),0)","v":0},{"$f":"SUM(BV183,BY183,CB183,CE183,CH183,CK183,CN183,CQ183,CR183,CU183,CV183)","v":0},{"$f":"VLOOKUP(D183,РегионыФО,2,0)","v":{"$error":"#N/A"}}]
[null,null,1,{"$f":"IF(AND(D183<>\"\",G184<>\"\"),D183,\"\")","v":""},{"$f":"IF(AND(E183<>\"\",G184<>\"\"),E183,\"\")","v":""},null,null,null,null,null,null,null,null,null,null,null,null,null,{"$f":"IF(Q184>=2020,R184-Q184+1,\"\")","v":""},null,{"$f":"IF(Q184>=2020,ROUNDUP(S184*T184,0),\"\")","v":""},null,null,null,null,null,null,null,null,null,null,null,null,{"$f":"SUM(AI184:AL184)","v":0},null,null,null,null,{"$f":"SUM(AN184:AQ184)","v":0},null,null,null,null,{"$f":"SUM(AS184:AV184)","v":0},null,null,null,null,null,null,{"$f":"SUM(AH184,AM184,AR184)","v":0},{"$f":"SUM(AL184,AQ184,AV184)","v":0},{"$f":"IF(AY184=0,0,AZ184/AY184)","v":0},{"$f":"IF((AY184+AX184)=0,0,AX184/(AX184+AY184))","v":0},null,null,null,null,null,null,null,null,null,null,null,null,null,null,null,null,null,null,null,null,null,null,null,null,null,null,null,null,null,null,null,null,null,null,null,null,null,null,null,null,null,{"$f":"((L184=\"создание\")*7+(L184=\"расширение\")*7 +(L184=\"внедрение\")*7+(L184=\"строительство\")*4+(L184=\"реконструкция\")*3+(L184=\"капремонт\")*2 +(L184=\"приобретение\")*1+(L184=\"установка\")*1)*10","v":0},null,{"$f":"IF(P184=\"коммунальная инфраструктура\",(L184=\"строительство\")*3+(L184=\"реконструкция\")*2+(L184=\"капремонт\")*1,0)*10","v":0},null,{"$f":"IF(P184=\"коммунальная инфраструктура\",(L184=\"строительство\")*4+(L184=\"реконструкция\")*3+(L184=\"капремонт\")*2,0)*10","v":0}]
[null,null,2,{"$f":"IF(AND(D183<>\"\",G185<>\"\"),D183,\"\")","v":""},{"$f":"IF(AND(E183<>\"\",G185<>\"\"),E183,\"\")","v":""},null,null,null,null,null,null,null,null,null,null,null,null,null,{"$f":"IF(Q185>=2020,R185-Q185+1,\"\")","v":""},null,{"$f":"IF(Q185>=2020,S185*T185,\"\")","v":""},null,null,null,null,null,null,null,null,null,null,null,null,{"$f":"SUM(AI185:AL185)","v":0},null,null,null,null,{"$f":"SUM(AN185:AQ185)","v":0},null,null,null,null,{"$f":"SUM(AS185:AV185)","v":0},null,null,null,null,null,null,{"$f":"SUM(AH185,AM185,AR185)","v":0},{"$f":"SUM(AL185,AQ185,AV185)","v":0},{"$f":"IF(AY185=0,0,AZ185/AY185)","v":0},{"$f":"IF((AY185+AX185)=0,0,AX185/(AX185+AY185))","v":0},null,null,null,null,null,null,null,null,null,null,null,null,null,null,null,null,null,null,null,null,null,null,null,null,null,null,null,null,null,null,null,null,null,null,null,null,null,null,null,null,null,{"$f":"((L185=\"создание\")*7+(L185=\"расширение\")*7 +(L185=\"внедрение\")*7+(L185=\"строительство\")*4+(L185=\"реконструкция\")*3+(L185=\"капремонт\")*2 +(L185=\"приобретение\")*1+(L185=\"установка\")*1)*10","v":0},null,{"$f":"IF(P185=\"коммунальная инфраструктура\",(L185=\"строительство\")*3+(L185=\"реконструкция\")*2+(L185=\"капремонт\")*1,0)*10","v":0},null,{"$f":"IF(P185=\"коммунальная инфраструктура\",(L185=\"строительство\")*4+(L185=\"реконструкция\")*3+(L185=\"капремонт\")*2,0)*10","v":0}]
[null,null,3,{"$f":"IF(AND(D183<>\"\",G186<>\"\"),D183,\"\")","v":""},{"$f":"IF(AND(E183<>\"\",G186<>\"\"),E183,\"\")","v":""},null,null,null,null,null,null,null,null,null,null,null,null,null,{"$f":"IF(Q186>=2020,R186-Q186+1,\"\")","v":""},null,{"$f":"IF(Q186>=2020,S186*T186,\"\")","v":""},null,null,null,null,null,null,null,null,null,null,null,null,{"$f":"SUM(AI186:AL186)","v":0},null,null,null,null,{"$f":"SUM(AN186:AQ186)","v":0},null,null,null,null,{"$f":"SUM(AS186:AV186)","v":0},null,null,null,null,null,null,{"$f":"SUM(AH186,AM186,AR186)","v":0},{"$f":"SUM(AL186,AQ186,AV186)","v":0},{"$f":"IF(AY186=0,0,AZ186/AY186)","v":0},{"$f":"IF((AY186+AX186)=0,0,AX186/(AX186+AY186))","v":0},null,null,null,null,null,null,null,null,null,null,null,null,null,null,null,null,null,null,null,null,null,null,null,null,null,null,null,null,null,null,null,null,null,null,null,null,null,null,null,null,null,{"$f":"((L186=\"создание\")*7+(L186=\"расширение\")*7 +(L186=\"внедрение\")*7+(L186=\"строительство\")*4+(L186=\"реконструкция\")*3+(L186=\"капремонт\")*2 +(L186=\"приобретение\")*1+(L186=\"установка\")*1)*10","v":0},null,{"$f":"IF(P186=\"коммунальная инфраструктура\",(L186=\"строительство\")*3+(L186=\"реконструкция\")*2+(L186=\"капремонт\")*1,0)*10","v":0},null,{"$f":"IF(P186=\"коммунальная инфраструктура\",(L186=\"строительство\")*4+(L186=\"реконструкция\")*3+(L186=\"капремонт\")*2,0)*10","v":0}]
[null,null,4,{"$f":"IF(AND(D183<>\"\",G187<>\"\"),D183,\"\")","v":""},{"$f":"IF(AND(E183<>\"\",G187<>\"\"),E183,\"\")","v":""},null,null,null,null,null,null,null,null,null,null,null,null,null,{"$f":"IF(Q187>=2020,R187-Q187+1,\"\")","v":""},null,{"$f":"IF(Q187>=2020,S187*T187,\"\")","v":""},null,null,null,null,null,null,null,null,null,null,null,null,{"$f":"SUM(AI187:AL187)","v":0},null,null,null,null,{"$f":"SUM(AN187:AQ187)","v":0},null,null,null,null,{"$f":"SUM(AS187:AV187)","v":0},null,null,null,null,null,null,{"$f":"SUM(AH187,AM187,AR187)","v":0},{"$f":"SUM(AL187,AQ187,AV187)","v":0},{"$f":"IF(AY187=0,0,AZ187/AY187)","v":0},{"$f":"IF((AY187+AX187)=0,0,AX187/(AX187+AY187))","v":0},null,null,null,null,null,null,null,null,null,null,null,null,null,null,null,null,null,null,null,null,null,null,null,null,null,null,null,null,null,null,null,null,null,null,null,null,null,null,null,null,null,{"$f":"((L187=\"создание\")*7+(L187=\"расширение\")*7 +(L187=\"внедрение\")*7+(L187=\"строительство\")*4+(L187=\"реконструкция\")*3+(L187=\"капремонт\")*2 +(L187=\"приобретение\")*1+(L187=\"установка\")*1)*10","v":0},null,{"$f":"IF(P187=\"коммунальная инфраструктура\",(L187=\"строительство\")*3+(L187=\"реконструкция\")*2+(L187=\"капремонт\")*1,0)*10","v":0},null,{"$f":"IF(P187=\"коммунальная инфраструктура\",(L187=\"строительство\")*4+(L187=\"реконструкция\")*3+(L187=\"капремонт\")*2,0)*10","v":0}]
[null,null,5,{"$f":"IF(AND(D183<>\"\",G188<>\"\"),D183,\"\")","v":""},{"$f":"IF(AND(E183<>\"\",G188<>\"\"),E183,\"\")","v":""},null,null,null,null,null,null,null,null,null,null,null,null,null,{"$f":"IF(Q188>=2020,R188-Q188+1,\"\")","v":""},null,{"$f":"IF(Q188>=2020,S188*T188,\"\")","v":""},null,null,null,null,null,null,null,null,null,null,null,null,{"$f":"SUM(AI188:AL188)","v":0},null,null,null,null,{"$f":"SUM(AN188:AQ188)","v":0},null,null,null,null,{"$f":"SUM(AS188:AV188)","v":0},null,null,null,null,null,null,{"$f":"SUM(AH188,AM188,AR188)","v":0},{"$f":"SUM(AL188,AQ188,AV188)","v":0},{"$f":"IF(AY188=0,0,AZ188/AY188)","v":0},{"$f":"IF((AY188+AX188)=0,0,AX188/(AX188+AY188))","v":0},null,null,null,null,null,null,null,null,null,null,null,null,null,null,null,null,null,null,null,null,null,null,null,null,null,null,null,null,null,null,null,null,null,null,null,null,null,null,null,null,null,{"$f":"((L188=\"создание\")*7+(L188=\"расширение\")*7 +(L188=\"внедрение\")*7+(L188=\"строительство\")*4+(L188=\"реконструкция\")*3+(L188=\"капремонт\")*2 +(L188=\"приобретение\")*1+(L188=\"установка\")*1)*10","v":0},null,{"$f":"IF(P188=\"коммунальная инфраструктура\",(L188=\"строительство\")*3+(L188=\"реконструкция\")*2+(L188=\"капремонт\")*1,0)*10","v":0},null,{"$f":"IF(P188=\"коммунальная инфраструктура\",(L188=\"строительство\")*4+(L188=\"реконструкция\")*3+(L188=\"капремонт\")*2,0)*10","v":0}]
[null,null,6,{"$f":"IF(AND(D183<>\"\",G189<>\"\"),D183,\"\")","v":""},{"$f":"IF(AND(E183<>\"\",G189<>\"\"),E183,\"\")","v":""},null,null,null,null,null,null,null,null,null,null,null,null,null,{"$f":"IF(Q189>=2020,R189-Q189+1,\"\")","v":""},null,{"$f":"IF(Q189>=2020,S189*T189,\"\")","v":""},null,null,null,null,null,null,null,null,null,null,null,null,{"$f":"SUM(AI189:AL189)","v":0},null,null,null,null,{"$f":"SUM(AN189:AQ189)","v":0},null,null,null,null,{"$f":"SUM(AS189:AV189)","v":0},null,null,null,null,null,null,{"$f":"SUM(AH189,AM189,AR189)","v":0},{"$f":"SUM(AL189,AQ189,AV189)","v":0},{"$f":"IF(AY189=0,0,AZ189/AY189)","v":0},{"$f":"IF((AY189+AX189)=0,0,AX189/(AX189+AY189))","v":0},null,null,null,null,null,null,null,null,null,null,null,null,null,null,null,null,null,null,null,null,null,null,null,null,null,null,null,null,null,null,null,null,null,null,null,null,null,null,null,null,null,{"$f":"((L189=\"создание\")*7+(L189=\"расширение\")*7 +(L189=\"внедрение\")*7+(L189=\"строительство\")*4+(L189=\"реконструкция\")*3+(L189=\"капремонт\")*2 +(L189=\"приобретение\")*1+(L189=\"установка\")*1)*10","v":0},null,{"$f":"IF(P189=\"коммунальная инфраструктура\",(L189=\"строительство\")*3+(L189=\"реконструкция\")*2+(L189=\"капремонт\")*1,0)*10","v":0},null,{"$f":"IF(P189=\"коммунальная инфраструктура\",(L189=\"строительство\")*4+(L189=\"реконструкция\")*3+(L189=\"капремонт\")*2,0)*10","v":0}]
[null,null,7,{"$f":"IF(AND(D183<>\"\",G190<>\"\"),D183,\"\")","v":""},{"$f":"IF(AND(E183<>\"\",G190<>\"\"),E183,\"\")","v":""},null,null,null,null,null,null,null,null,null,null,null,null,null,{"$f":"IF(Q190>=2020,R190-Q190+1,\"\")","v":""},null,{"$f":"IF(Q190>=2020,S190*T190,\"\")","v":""},null,null,null,null,null,null,null,null,null,null,null,null,{"$f":"SUM(AI190:AL190)","v":0},null,null,null,null,{"$f":"SUM(AN190:AQ190)","v":0},null,null,null,null,{"$f":"SUM(AS190:AV190)","v":0},null,null,null,null,null,null,{"$f":"SUM(AH190,AM190,AR190)","v":0},{"$f":"SUM(AL190,AQ190,AV190)","v":0},{"$f":"IF(AY190=0,0,AZ190/AY190)","v":0},{"$f":"IF((AY190+AX190)=0,0,AX190/(AX190+AY190))","v":0},null,null,null,null,null,null,null,null,null,null,null,null,null,null,null,null,null,null,null,null,null,null,null,null,null,null,null,null,null,null,null,null,null,null,null,null,null,null,null,null,null,{"$f":"((L190=\"создание\")*7+(L190=\"расширение\")*7 +(L190=\"внедрение\")*7+(L190=\"строительство\")*4+(L190=\"реконструкция\")*3+(L190=\"капремонт\")*2 +(L190=\"приобретение\")*1+(L190=\"установка\")*1)*10","v":0},null,{"$f":"IF(P190=\"коммунальная инфраструктура\",(L190=\"строительство\")*3+(L190=\"реконструкция\")*2+(L190=\"капремонт\")*1,0)*10","v":0},null,{"$f":"IF(P190=\"коммунальная инфраструктура\",(L190=\"строительство\")*4+(L190=\"реконструкция\")*3+(L190=\"капремонт\")*2,0)*10","v":0}]
[null,null,8,{"$f":"IF(AND(D183<>\"\",G191<>\"\"),D183,\"\")","v":""},{"$f":"IF(AND(E183<>\"\",G191<>\"\"),E183,\"\")","v":""},null,null,null,null,null,null,null,null,null,null,null,null,null,{"$f":"IF(Q191>=2020,R191-Q191+1,\"\")","v":""},null,{"$f":"IF(Q191>=2020,S191*T191,\"\")","v":""},null,null,null,null,null,null,null,null,null,null,null,null,{"$f":"SUM(AI191:AL191)","v":0},null,null,null,null,{"$f":"SUM(AN191:AQ191)","v":0},null,null,null,null,{"$f":"SUM(AS191:AV191)","v":0},null,null,null,null,null,null,{"$f":"SUM(AH191,AM191,AR191)","v":0},{"$f":"SUM(AL191,AQ191,AV191)","v":0},{"$f":"IF(AY191=0,0,AZ191/AY191)","v":0},{"$f":"IF((AY191+AX191)=0,0,AX191/(AX191+AY191))","v":0},null,null,null,null,null,null,null,null,null,null,null,null,null,null,null,null,null,null,null,null,null,null,null,null,null,null,null,null,null,null,null,null,null,null,null,null,null,null,null,null,null,{"$f":"((L191=\"создание\")*7+(L191=\"расширение\")*7 +(L191=\"внедрение\")*7+(L191=\"строительство\")*4+(L191=\"реконструкция\")*3+(L191=\"капремонт\")*2 +(L191=\"приобретение\")*1+(L191=\"установка\")*1)*10","v":0},null,{"$f":"IF(P191=\"коммунальная инфраструктура\",(L191=\"строительство\")*3+(L191=\"реконструкция\")*2+(L191=\"капремонт\")*1,0)*10","v":0},null,{"$f":"IF(P191=\"коммунальная инфраструктура\",(L191=\"строительство\")*4+(L191=\"реконструкция\")*3+(L191=\"капремонт\")*2,0)*10","v":0}]
[null,null,9,{"$f":"IF(AND(D183<>\"\",G192<>\"\"),D183,\"\")","v":""},{"$f":"IF(AND(E183<>\"\",G192<>\"\"),E183,\"\")","v":""},null,null,null,null,null,null,null,null,null,null,null,null,null,{"$f":"IF(Q192>=2020,R192-Q192+1,\"\")","v":""},null,{"$f":"IF(Q192>=2020,S192*T192,\"\")","v":""},null,null,null,null,null,null,null,null,null,null,null,null,{"$f":"SUM(AI192:AL192)","v":0},null,null,null,null,{"$f":"SUM(AN192:AQ192)","v":0},null,null,null,null,{"$f":"SUM(AS192:AV192)","v":0},null,null,null,null,null,null,{"$f":"SUM(AH192,AM192,AR192)","v":0},{"$f":"SUM(AL192,AQ192,AV192)","v":0},{"$f":"IF(AY192=0,0,AZ192/AY192)","v":0},{"$f":"IF((AY192+AX192)=0,0,AX192/(AX192+AY192))","v":0},null,null,null,null,null,null,null,null,null,null,null,null,null,null,null,null,null,null,null,null,null,null,null,null,null,null,null,null,null,null,null,null,null,null,null,null,null,null,null,null,null,{"$f":"((L192=\"создание\")*7+(L192=\"расширение\")*7 +(L192=\"внедрение\")*7+(L192=\"строительство\")*4+(L192=\"реконструкция\")*3+(L192=\"капремонт\")*2 +(L192=\"приобретение\")*1+(L192=\"установка\")*1)*10","v":0},null,{"$f":"IF(P192=\"коммунальная инфраструктура\",(L192=\"строительство\")*3+(L192=\"реконструкция\")*2+(L192=\"капремонт\")*1,0)*10","v":0},null,{"$f":"IF(P192=\"коммунальная инфраструктура\",(L192=\"строительство\")*4+(L192=\"реконструкция\")*3+(L192=\"капремонт\")*2,0)*10","v":0}]
[null,null,10,{"$f":"IF(AND(D183<>\"\",G193<>\"\"),D183,\"\")","v":""},{"$f":"IF(AND(E183<>\"\",G193<>\"\"),E183,\"\")","v":""},null,null,null,null,null,null,null,null,null,null,null,null,null,{"$f":"IF(Q193>=2020,R193-Q193+1,\"\")","v":""},null,{"$f":"IF(Q193>=2020,S193*T193,\"\")","v":""},null,null,null,null,null,null,null,null,null,null,null,null,{"$f":"SUM(AI193:AL193)","v":0},null,null,null,null,{"$f":"SUM(AN193:AQ193)","v":0},null,null,null,null,{"$f":"SUM(AS193:AV193)","v":0},null,null,null,null,null,null,{"$f":"SUM(AH193,AM193,AR193)","v":0},{"$f":"SUM(AL193,AQ193,AV193)","v":0},{"$f":"IF(AY193=0,0,AZ193/AY193)","v":0},{"$f":"IF((AY193+AX193)=0,0,AX193/(AX193+AY193))","v":0},null,null,null,null,null,null,null,null,null,null,null,null,null,null,null,null,null,null,null,null,null,null,null,null,null,null,null,null,null,null,null,null,null,null,null,null,null,null,null,null,null,{"$f":"((L193=\"создание\")*7+(L193=\"расширение\")*7 +(L193=\"внедрение\")*7+(L193=\"строительство\")*4+(L193=\"реконструкция\")*3+(L193=\"капремонт\")*2 +(L193=\"приобретение\")*1+(L193=\"установка\")*1)*10","v":0},null,{"$f":"IF(P193=\"коммунальная инфраструктура\",(L193=\"строительство\")*3+(L193=\"реконструкция\")*2+(L193=\"капремонт\")*1,0)*10","v":0},null,{"$f":"IF(P193=\"коммунальная инфраструктура\",(L193=\"строительство\")*4+(L193=\"реконструкция\")*3+(L193=\"капремонт\")*2,0)*10","v":0}]
[null,null,11,{"$f":"IF(AND(D183<>\"\",G194<>\"\"),D183,\"\")","v":""},{"$f":"IF(AND(E183<>\"\",G194<>\"\"),E183,\"\")","v":""},null,null,null,null,null,null,null,null,null,null,null,null,null,{"$f":"IF(Q194>=2020,R194-Q194+1,\"\")","v":""},null,{"$f":"IF(Q194>=2020,S194*T194,\"\")","v":""},null,null,null,null,null,null,null,null,null,null,null,null,{"$f":"SUM(AI194:AL194)","v":0},null,null,null,null,{"$f":"SUM(AN194:AQ194)","v":0},null,null,null,null,{"$f":"SUM(AS194:AV194)","v":0},null,null,null,null,null,null,{"$f":"SUM(AH194,AM194,AR194)","v":0},{"$f":"SUM(AL194,AQ194,AV194)","v":0},{"$f":"IF(AY194=0,0,AZ194/AY194)","v":0},{"$f":"IF((AY194+AX194)=0,0,AX194/(AX194+AY194))","v":0},null,null,null,null,null,null,null,null,null,null,null,null,null,null,null,null,null,null,null,null,null,null,null,null,null,null,null,null,null,null,null,null,null,null,null,null,null,null,null,null,null,{"$f":"((L194=\"создание\")*7+(L194=\"расширение\")*7 +(L194=\"внедрение\")*7+(L194=\"строительство\")*4+(L194=\"реконструкция\")*3+(L194=\"капремонт\")*2 +(L194=\"приобретение\")*1+(L194=\"установка\")*1)*10","v":0},null,{"$f":"IF(P194=\"коммунальная инфраструктура\",(L194=\"строительство\")*3+(L194=\"реконструкция\")*2+(L194=\"капремонт\")*1,0)*10","v":0},null,{"$f":"IF(P194=\"коммунальная инфраструктура\",(L194=\"строительство\")*4+(L194=\"реконструкция\")*3+(L194=\"капремонт\")*2,0)*10","v":0}]
[null,null,12,{"$f":"IF(AND(D183<>\"\",G195<>\"\"),D183,\"\")","v":""},{"$f":"IF(AND(E183<>\"\",G195<>\"\"),E183,\"\")","v":""},null,null,null,null,null,null,null,null,null,null,null,null,null,{"$f":"IF(Q195>=2020,R195-Q195+1,\"\")","v":""},null,{"$f":"IF(Q195>=2020,S195*T195,\"\")","v":""},null,null,null,null,null,null,null,null,null,null,null,null,{"$f":"SUM(AI195:AL195)","v":0},null,null,null,null,{"$f":"SUM(AN195:AQ195)","v":0},null,null,null,null,{"$f":"SUM(AS195:AV195)","v":0},null,null,null,null,null,null,{"$f":"SUM(AH195,AM195,AR195)","v":0},{"$f":"SUM(AL195,AQ195,AV195)","v":0},{"$f":"IF(AY195=0,0,AZ195/AY195)","v":0},{"$f":"IF((AY195+AX195)=0,0,AX195/(AX195+AY195))","v":0},null,null,null,null,null,null,null,null,null,null,null,null,null,null,null,null,null,null,null,null,null,null,null,null,null,null,null,null,null,null,null,null,null,null,null,null,null,null,null,null,null,{"$f":"((L195=\"создание\")*7+(L195=\"расширение\")*7 +(L195=\"внедрение\")*7+(L195=\"строительство\")*4+(L195=\"реконструкция\")*3+(L195=\"капремонт\")*2 +(L195=\"приобретение\")*1+(L195=\"установка\")*1)*10","v":0},null,{"$f":"IF(P195=\"коммунальная инфраструктура\",(L195=\"строительство\")*3+(L195=\"реконструкция\")*2+(L195=\"капремонт\")*1,0)*10","v":0},null,{"$f":"IF(P195=\"коммунальная инфраструктура\",(L195=\"строительство\")*4+(L195=\"реконструкция\")*3+(L195=\"капремонт\")*2,0)*10","v":0}]
[null,null,13,{"$f":"IF(AND(D183<>\"\",G196<>\"\"),D183,\"\")","v":""},{"$f":"IF(AND(E183<>\"\",G196<>\"\"),E183,\"\")","v":""},null,null,null,null,null,null,null,null,null,null,null,null,null,{"$f":"IF(Q196>=2020,R196-Q196+1,\"\")","v":""},null,{"$f":"IF(Q196>=2020,S196*T196,\"\")","v":""},null,null,null,null,null,null,null,null,null,null,null,null,{"$f":"SUM(AI196:AL196)","v":0},null,null,null,null,{"$f":"SUM(AN196:AQ196)","v":0},null,null,null,null,{"$f":"SUM(AS196:AV196)","v":0},null,null,null,null,null,null,{"$f":"SUM(AH196,AM196,AR196)","v":0},{"$f":"SUM(AL196,AQ196,AV196)","v":0},{"$f":"IF(AY196=0,0,AZ196/AY196)","v":0},{"$f":"IF((AY196+AX196)=0,0,AX196/(AX196+AY196))","v":0},null,null,null,null,null,null,null,null,null,null,null,null,null,null,null,null,null,null,null,null,null,null,null,null,null,null,null,null,null,null,null,null,null,null,null,null,null,null,null,null,null,{"$f":"((L196=\"создание\")*7+(L196=\"расширение\")*7 +(L196=\"внедрение\")*7+(L196=\"строительство\")*4+(L196=\"реконструкция\")*3+(L196=\"капремонт\")*2 +(L196=\"приобретение\")*1+(L196=\"установка\")*1)*10","v":0},null,{"$f":"IF(P196=\"коммунальная инфраструктура\",(L196=\"строительство\")*3+(L196=\"реконструкция\")*2+(L196=\"капремонт\")*1,0)*10","v":0},null,{"$f":"IF(P196=\"коммунальная инфраструктура\",(L196=\"строительство\")*4+(L196=\"реконструкция\")*3+(L196=\"капремонт\")*2,0)*10","v":0}]
[null,null,14,{"$f":"IF(AND(D183<>\"\",G197<>\"\"),D183,\"\")","v":""},{"$f":"IF(AND(E183<>\"\",G197<>\"\"),E183,\"\")","v":""},null,null,null,null,null,null,null,null,null,null,null,null,null,{"$f":"IF(Q197>=2020,R197-Q197+1,\"\")","v":""},null,{"$f":"IF(Q197>=2020,S197*T197,\"\")","v":""},null,null,null,null,null,null,null,null,null,null,null,null,{"$f":"SUM(AI197:AL197)","v":0},null,null,null,null,{"$f":"SUM(AN197:AQ197)","v":0},null,null,null,null,{"$f":"SUM(AS197:AV197)","v":0},null,null,null,null,null,null,{"$f":"SUM(AH197,AM197,AR197)","v":0},{"$f":"SUM(AL197,AQ197,AV197)","v":0},{"$f":"IF(AY197=0,0,AZ197/AY197)","v":0},{"$f":"IF((AY197+AX197)=0,0,AX197/(AX197+AY197))","v":0},null,null,null,null,null,null,null,null,null,null,null,null,null,null,null,null,null,null,null,null,null,null,null,null,null,null,null,null,null,null,null,null,null,null,null,null,null,null,null,null,null,{"$f":"((L197=\"создание\")*7+(L197=\"расширение\")*7 +(L197=\"внедрение\")*7+(L197=\"строительство\")*4+(L197=\"реконструкция\")*3+(L197=\"капремонт\")*2 +(L197=\"приобретение\")*1+(L197=\"установка\")*1)*10","v":0},null,{"$f":"IF(P197=\"коммунальная инфраструктура\",(L197=\"строительство\")*3+(L197=\"реконструкция\")*2+(L197=\"капремонт\")*1,0)*10","v":0},null,{"$f":"IF(P197=\"коммунальная инфраструктура\",(L197=\"строительство\")*4+(L197=\"реконструкция\")*3+(L197=\"капремонт\")*2,0)*10","v":0}]
[null,null,15,{"$f":"IF(AND(D183<>\"\",G198<>\"\"),D183,\"\")","v":""},{"$f":"IF(AND(E183<>\"\",G198<>\"\"),E183,\"\")","v":""},null,null,null,null,null,null,null,null,null,null,null,null,null,{"$f":"IF(Q198>=2020,R198-Q198+1,\"\")","v":""},null,{"$f":"IF(Q198>=2020,S198*T198,\"\")","v":""},null,null,null,null,null,null,null,null,null,null,null,null,{"$f":"SUM(AI198:AL198)","v":0},null,null,null,null,{"$f":"SUM(AN198:AQ198)","v":0},null,null,null,null,{"$f":"SUM(AS198:AV198)","v":0},null,null,null,null,null,null,{"$f":"SUM(AH198,AM198,AR198)","v":0},{"$f":"SUM(AL198,AQ198,AV198)","v":0},{"$f":"IF(AY198=0,0,AZ198/AY198)","v":0},{"$f":"IF((AY198+AX198)=0,0,AX198/(AX198+AY198))","v":0},null,null,null,null,null,null,null,null,null,null,null,null,null,null,null,null,null,null,null,null,null,null,null,null,null,null,null,null,null,null,null,null,null,null,null,null,null,null,null,null,null,{"$f":"((L198=\"создание\")*7+(L198=\"расширение\")*7 +(L198=\"внедрение\")*7+(L198=\"строительство\")*4+(L198=\"реконструкция\")*3+(L198=\"капремонт\")*2 +(L198=\"приобретение\")*1+(L198=\"установка\")*1)*10","v":0},null,{"$f":"IF(P198=\"коммунальная инфраструктура\",(L198=\"строительство\")*3+(L198=\"реконструкция\")*2+(L198=\"капремонт\")*1,0)*10","v":0},null,{"$f":"IF(P198=\"коммунальная инфраструктура\",(L198=\"строительство\")*4+(L198=\"реконструкция\")*3+(L198=\"капремонт\")*2,0)*10","v":0}]
[null,null,16,{"$f":"IF(AND(D183<>\"\",G199<>\"\"),D183,\"\")","v":""},{"$f":"IF(AND(E183<>\"\",G199<>\"\"),E183,\"\")","v":""},null,null,null,null,null,null,null,null,null,null,null,null,null,{"$f":"IF(Q199>=2020,R199-Q199+1,\"\")","v":""},null,{"$f":"IF(Q199>=2020,S199*T199,\"\")","v":""},null,null,null,null,null,null,null,null,null,null,null,null,{"$f":"SUM(AI199:AL199)","v":0},null,null,null,null,{"$f":"SUM(AN199:AQ199)","v":0},null,null,null,null,{"$f":"SUM(AS199:AV199)","v":0},null,null,null,null,null,null,{"$f":"SUM(AH199,AM199,AR199)","v":0},{"$f":"SUM(AL199,AQ199,AV199)","v":0},{"$f":"IF(AY199=0,0,AZ199/AY199)","v":0},{"$f":"IF((AY199+AX199)=0,0,AX199/(AX199+AY199))","v":0},null,null,null,null,null,null,null,null,null,null,null,null,null,null,null,null,null,null,null,null,null,null,null,null,null,null,null,null,null,null,null,null,null,null,null,null,null,null,null,null,null,{"$f":"((L199=\"создание\")*7+(L199=\"расширение\")*7 +(L199=\"внедрение\")*7+(L199=\"строительство\")*4+(L199=\"реконструкция\")*3+(L199=\"капремонт\")*2 +(L199=\"приобретение\")*1+(L199=\"установка\")*1)*10","v":0},null,{"$f":"IF(P199=\"коммунальная инфраструктура\",(L199=\"строительство\")*3+(L199=\"реконструкция\")*2+(L199=\"капремонт\")*1,0)*10","v":0},null,{"$f":"IF(P199=\"коммунальная инфраструктура\",(L199=\"строительство\")*4+(L199=\"реконструкция\")*3+(L199=\"капремонт\")*2,0)*10","v":0}]
[null,null,17,{"$f":"IF(AND(D183<>\"\",G200<>\"\"),D183,\"\")","v":""},{"$f":"IF(AND(E183<>\"\",G200<>\"\"),E183,\"\")","v":""},null,null,null,null,null,null,null,null,null,null,null,null,null,{"$f":"IF(Q200>=2020,R200-Q200+1,\"\")","v":""},null,{"$f":"IF(Q200>=2020,S200*T200,\"\")","v":""},null,null,null,null,null,null,null,null,null,null,null,null,{"$f":"SUM(AI200:AL200)","v":0},null,null,null,null,{"$f":"SUM(AN200:AQ200)","v":0},null,null,null,null,{"$f":"SUM(AS200:AV200)","v":0},null,null,null,null,null,null,{"$f":"SUM(AH200,AM200,AR200)","v":0},{"$f":"SUM(AL200,AQ200,AV200)","v":0},{"$f":"IF(AY200=0,0,AZ200/AY200)","v":0},{"$f":"IF((AY200+AX200)=0,0,AX200/(AX200+AY200))","v":0},null,null,null,null,null,null,null,null,null,null,null,null,null,null,null,null,null,null,null,null,null,null,null,null,null,null,null,null,null,null,null,null,null,null,null,null,null,null,null,null,null,{"$f":"((L200=\"создание\")*7+(L200=\"расширение\")*7 +(L200=\"внедрение\")*7+(L200=\"строительство\")*4+(L200=\"реконструкция\")*3+(L200=\"капремонт\")*2 +(L200=\"приобретение\")*1+(L200=\"установка\")*1)*10","v":0},null,{"$f":"IF(P200=\"коммунальная инфраструктура\",(L200=\"строительство\")*3+(L200=\"реконструкция\")*2+(L200=\"капремонт\")*1,0)*10","v":0},null,{"$f":"IF(P200=\"коммунальная инфраструктура\",(L200=\"строительство\")*4+(L200=\"реконструкция\")*3+(L200=\"капремонт\")*2,0)*10","v":0}]
[null,null,18,{"$f":"IF(AND(D183<>\"\",G201<>\"\"),D183,\"\")","v":""},{"$f":"IF(AND(E183<>\"\",G201<>\"\"),E183,\"\")","v":""},null,null,null,null,null,null,null,null,null,null,null,null,null,{"$f":"IF(Q201>=2020,R201-Q201+1,\"\")","v":""},null,{"$f":"IF(Q201>=2020,S201*T201,\"\")","v":""},null,null,null,null,null,null,null,null,null,null,null,null,{"$f":"SUM(AI201:AL201)","v":0},null,null,null,null,{"$f":"SUM(AN201:AQ201)","v":0},null,null,null,null,{"$f":"SUM(AS201:AV201)","v":0},null,null,null,null,null,null,{"$f":"SUM(AH201,AM201,AR201)","v":0},{"$f":"SUM(AL201,AQ201,AV201)","v":0},{"$f":"IF(AY201=0,0,AZ201/AY201)","v":0},{"$f":"IF((AY201+AX201)=0,0,AX201/(AX201+AY201))","v":0},null,null,null,null,null,null,null,null,null,null,null,null,null,null,null,null,null,null,null,null,null,null,null,null,null,null,null,null,null,null,null,null,null,null,null,null,null,null,null,null,null,{"$f":"((L201=\"создание\")*7+(L201=\"расширение\")*7 +(L201=\"внедрение\")*7+(L201=\"строительство\")*4+(L201=\"реконструкция\")*3+(L201=\"капремонт\")*2 +(L201=\"приобретение\")*1+(L201=\"установка\")*1)*10","v":0},null,{"$f":"IF(P201=\"коммунальная инфраструктура\",(L201=\"строительство\")*3+(L201=\"реконструкция\")*2+(L201=\"капремонт\")*1,0)*10","v":0},null,{"$f":"IF(P201=\"коммунальная инфраструктура\",(L201=\"строительство\")*4+(L201=\"реконструкция\")*3+(L201=\"капремонт\")*2,0)*10","v":0}]
[null,null,19,{"$f":"IF(AND(D183<>\"\",G202<>\"\"),D183,\"\")","v":""},{"$f":"IF(AND(E183<>\"\",G202<>\"\"),E183,\"\")","v":""},null,null,null,null,null,null,null,null,null,null,null,null,null,{"$f":"IF(Q202>=2020,R202-Q202+1,\"\")","v":""},null,{"$f":"IF(Q202>=2020,S202*T202,\"\")","v":""},null,null,null,null,null,null,null,null,null,null,null,null,{"$f":"SUM(AI202:AL202)","v":0},null,null,null,null,{"$f":"SUM(AN202:AQ202)","v":0},null,null,null,null,{"$f":"SUM(AS202:AV202)","v":0},null,null,null,null,null,null,{"$f":"SUM(AH202,AM202,AR202)","v":0},{"$f":"SUM(AL202,AQ202,AV202)","v":0},{"$f":"IF(AY202=0,0,AZ202/AY202)","v":0},{"$f":"IF((AY202+AX202)=0,0,AX202/(AX202+AY202))","v":0},null,null,null,null,null,null,null,null,null,null,null,null,null,null,null,null,null,null,null,null,null,null,null,null,null,null,null,null,null,null,null,null,null,null,null,null,null,null,null,null,null,{"$f":"((L202=\"создание\")*7+(L202=\"расширение\")*7 +(L202=\"внедрение\")*7+(L202=\"строительство\")*4+(L202=\"реконструкция\")*3+(L202=\"капремонт\")*2 +(L202=\"приобретение\")*1+(L202=\"установка\")*1)*10","v":0},null,{"$f":"IF(P202=\"коммунальная инфраструктура\",(L202=\"строительство\")*3+(L202=\"реконструкция\")*2+(L202=\"капремонт\")*1,0)*10","v":0},null,{"$f":"IF(P202=\"коммунальная инфраструктура\",(L202=\"строительство\")*4+(L202=\"реконструкция\")*3+(L202=\"капремонт\")*2,0)*10","v":0}]
[null,null,20,{"$f":"IF(AND(D183<>\"\",G203<>\"\"),D183,\"\")","v":""},{"$f":"IF(AND(E183<>\"\",G203<>\"\"),E183,\"\")","v":""},null,null,null,null,null,null,null,null,null,null,null,null,null,{"$f":"IF(Q203>=2020,R203-Q203+1,\"\")","v":""},null,{"$f":"IF(Q203>=2020,S203*T203,\"\")","v":""},null,null,null,null,null,null,null,null,null,null,null,null,{"$f":"SUM(AI203:AL203)","v":0},null,null,null,null,{"$f":"SUM(AN203:AQ203)","v":0},null,null,null,null,{"$f":"SUM(AS203:AV203)","v":0},null,null,null,null,null,null,{"$f":"SUM(AH203,AM203,AR203)","v":0},{"$f":"SUM(AL203,AQ203,AV203)","v":0},{"$f":"IF(AY203=0,0,AZ203/AY203)","v":0},{"$f":"IF((AY203+AX203)=0,0,AX203/(AX203+AY203))","v":0},null,null,null,null,null,null,null,null,null,null,null,null,null,null,null,null,null,null,null,null,null,null,null,null,null,null,null,null,null,null,null,null,null,null,null,null,null,null,null,null,null,{"$f":"((L203=\"создание\")*7+(L203=\"расширение\")*7 +(L203=\"внедрение\")*7+(L203=\"строительство\")*4+(L203=\"реконструкция\")*3+(L203=\"капремонт\")*2 +(L203=\"приобретение\")*1+(L203=\"установка\")*1)*10","v":0},null,{"$f":"IF(P203=\"коммунальная инфраструктура\",(L203=\"строительство\")*3+(L203=\"реконструкция\")*2+(L203=\"капремонт\")*1,0)*10","v":0},null,{"$f":"IF(P203=\"коммунальная инфраструктура\",(L203=\"строительство\")*4+(L203=\"реконструкция\")*3+(L203=\"капремонт\")*2,0)*10","v":0}]
[null,null,"…",{"$f":"IF(AND(D183<>\"\",G204<>\"\"),D183,\"\")","v":""},{"$f":"IF(AND(E183<>\"\",G204<>\"\"),E183,\"\")","v":""},null,null,null,null,null,null,null,null,null,null,null,null,null,{"$f":"IF(Q204>=2020,R204-Q204+1,\"\")","v":""},null,{"$f":"IF(Q204>=2020,S204*T204,\"\")","v":""},null,null,null,null,null,null,null,null,null,null,null,null,{"$f":"SUM(AI204:AL204)","v":0},null,null,null,null,{"$f":"SUM(AN204:AQ204)","v":0},null,null,null,null,{"$f":"SUM(AS204:AV204)","v":0},null,null,null,null,null,null,{"$f":"SUM(AH204,AM204,AR204)","v":0},{"$f":"SUM(AL204,AQ204,AV204)","v":0},{"$f":"IF(AY204=0,0,AZ204/AY204)","v":0},{"$f":"IF((AY204+AX204)=0,0,AX204/(AX204+AY204))","v":0},null,null,null,null,null,null,null,null,null,null,null,null,null,null,null,null,null,null,null,null,null,null,null,null,null,null,null,null,null,null,null,null,null,null,null,null,null,null,null,null,null,{"$f":"((L204=\"создание\")*7+(L204=\"расширение\")*7 +(L204=\"внедрение\")*7+(L204=\"строительство\")*4+(L204=\"реконструкция\")*3+(L204=\"капремонт\")*2 +(L204=\"приобретение\")*1+(L204=\"установка\")*1)*10","v":0},null,{"$f":"IF(P204=\"коммунальная инфраструктура\",(L204=\"строительство\")*3+(L204=\"реконструкция\")*2+(L204=\"капремонт\")*1,0)*10","v":0},null,{"$f":"IF(P204=\"коммунальная инфраструктура\",(L204=\"строительство\")*4+(L204=\"реконструкция\")*3+(L204=\"капремонт\")*2,0)*10","v":0}]
[10,null,{"$f":"COUNTA(G206:G226)","v":0},null,null,null,null,null,null,null,null,null,null,null,null,null,{"$f":"MIN(Q206:Q226)","v":0},{"$f":"MAX(R206:R226)","v":0},{"$f":"MAX(S206:S226)","v":0},null,{"$f":"MAX(U206:U226)","v":0},null,null,null,null,null,{"$f":"IF(COUNTIF(AA206:AA226,\"НЕТ\")>0,\"ПД!\",\"ок\")","v":"ок"},null,{"$f":"IF(COUNTIF(AC206:AC226,\"НЕТ\")>0,\"ДОСМ!\",\"ок\")","v":"ок"},null,{"$f":"IF(COUNTIF(AE206:AE226,\"НЕТ\")>0,\"ФОИВ!\",\"ок\")","v":"ок"},{"$f":"IF(COUNTIF(AF206:AF226,\"НЕТ\")>0,\"ФОИВ!\",\"ок\")","v":"ок"},null,{"$f":"SUM(AH206:AH226)","v":0},{"$f":"SUM(AI206:AI226)","v":0},{"$f":"SUM(AJ206:AJ226)","v":0},{"$f":"SUM(AK206:AK226)","v":0},{"$f":"SUM(AL206:AL226)","v":0},{"$f":"SUM(AM206:AM226)","v":0},{"$f":"SUM(AN206:AN226)","v":0},{"$f":"SUM(AO206:AO226)","v":0},{"$f":"SUM(AP206:AP226)","v":0},{"$f":"SUM(AQ206:AQ226)","v":0},{"$f":"SUM(AR206:AR226)","v":0},{"$f":"SUM(AS206:AS226)","v":0},{"$f":"SUM(AT206:AT226)","v":0},{"$f":"SUM(AU206:AU226)","v":0},{"$f":"SUM(AV206:AV226)","v":0},{"$f":"SUM(AW206:AW226)","v":0},{"$f":"SUM(AX206:AX226)","v":0},{"$f":"SUM(AH205,AM205,AR205)","v":0},{"$f":"AL205+AQ205+AV205","v":0},{"$f":"IF(AY205=0,0,AZ205/AY205)","v":0},{"$f":"IF((AY205+AX205)=0,0,AX205/(AX205+AY205))","v":0},null,null,{"$f":"IFERROR(BD205/BC205,0)","v":0},null,null,{"$f":"IFERROR(BG205/BF205,0)","v":0},null,null,{"$f":"IFERROR(BJ205/BI205,0)","v":0},null,null,null,{"$f":"(SUM(BL205:BN205)>0)*1+(SUM(BL205:BN205)>=10)*1+(SUM(BL205:BN205)>=50)*1+(SUM(BL205:BN205)>=100)*1+(SUM(BL205:BN205)>=200)*1+(SUM(BL205:BN205)>=300)*1","v":0},{"$f":"IFERROR(SUM(BL205:BN205)/BC205,0)","v":0},null,null,{"$f":"IFERROR(BQ205/BR205,0)","v":0},{"$f":"IF(BA205<0.01,0,IF(BA205>=0.1,10,ROUNDDOWN(BA205/0.01,0)))","v":0},8,{"$f":"BT205*BU205","v":0},{"$f":"IF(BB205<0.01,0,IF(BB205>=0.1,10,ROUNDDOWN(BB205/0.01,0)))","v":0},8,{"$f":"BW205*BX205","v":0},{"$f":"IF(U205<=1,9,IF(U205<=2,6,IF(U205<=3,3,0)))*(C205>0)","v":0},6,{"$f":"BZ205*CA205","v":0},{"$f":"IF(BH205<0.51,0,10)","v":0},7,{"$f":"CC205*CD205","v":0},{"$f":"IF(BE205<0.1,0,IF(BE205>=0.9,10,ROUNDDOWN(BE205/0.1,0)))","v":0},10,{"$f":"CF205*CG205","v":0},{"$f":"IF(BK205<0.1,0,IF(BK205>=0.6,10,ROUNDDOWN(BK205/0.1,0)))","v":0},8,{"$f":"CI205*CJ205","v":0},{"$f":"IF(BP205<0.05,0,IF(BP205>=0.1,10,1))","v":0},10,{"$f":"CL205*CM205","v":0},{"$f":"IF(BS205<0.1,0,IF(BS205>=0.8,10,ROUNDDOWN(BS205/0.1,0)))","v":0},10,{"$f":"CP205*CO205","v":0},{"$f":"ROUND(IF(C205=0,0,SUM(CR206:CR226)/C205),1)","v":0},{"$f":"((SUM(BL205:BN205)>=1)*1+(SUM(BL205:BN205)>=11)*1+(SUM(BL205:BN205)>=51)*3+(SUM(BL205:BN205)>=101)*2+(SUM(BL205:BN205)>=201)*2+(SUM(BL205:BN205)>=301)*4)*10","v":0},{"$f":"IFERROR(ROUND(SUM(CT206:CT226)/COUNTIF(P206:P226,\"коммунальная инфраструктура\"),1),0)","v":0},{"$f":"CS205+CT205","v":0},{"$f":"IFERROR(ROUND(SUM(CV206:CV226)/COUNTIF(P206:P226,\"коммунальная инфраструктура\"),1),0)","v":0},{"$f":"SUM(BV205,BY205,CB205,CE205,CH205,CK205,CN205,CQ205,CR205,CU205,CV205)","v":0},{"$f":"VLOOKUP(D205,РегионыФО,2,0)","v":{"$error":"#N/A"}}]
[null,null,1,{"$f":"IF(AND(D205<>\"\",G206<>\"\"),D205,\"\")","v":""},{"$f":"IF(AND(E205<>\"\",G206<>\"\"),E205,\"\")","v":""},null,null,null,null,null,null,null,null,null,null,null,null,null,{"$f":"IF(Q206>=2020,R206-Q206+1,\"\")","v":""},null,{"$f":"IF(Q206>=2020,ROUNDUP(S206*T206,0),\"\")","v":""},null,null,null,null,null,null,null,null,null,null,null,null,{"$f":"SUM(AI206:AL206)","v":0},null,null,null,null,{"$f":"SUM(AN206:AQ206)","v":0},null,null,null,null,{"$f":"SUM(AS206:AV206)","v":0},null,null,null,null,null,null,{"$f":"SUM(AH206,AM206,AR206)","v":0},{"$f":"SUM(AL206,AQ206,AV206)","v":0},{"$f":"IF(AY206=0,0,AZ206/AY206)","v":0},{"$f":"IF((AY206+AX206)=0,0,AX206/(AX206+AY206))","v":0},null,null,null,null,null,null,null,null,null,null,null,null,null,null,null,null,null,null,null,null,null,null,null,null,null,null,null,null,null,null,null,null,null,null,null,null,null,null,null,null,null,{"$f":"((L206=\"создание\")*7+(L206=\"расширение\")*7 +(L206=\"внедрение\")*7+(L206=\"строительство\")*4+(L206=\"реконструкция\")*3+(L206=\"капремонт\")*2 +(L206=\"приобретение\")*1+(L206=\"установка\")*1)*10","v":0},null,{"$f":"IF(P206=\"коммунальная инфраструктура\",(L206=\"строительство\")*3+(L206=\"реконструкция\")*2+(L206=\"капремонт\")*1,0)*10","v":0},null,{"$f":"IF(P206=\"коммунальная инфраструктура\",(L206=\"строительство\")*4+(L206=\"реконструкция\")*3+(L206=\"капремонт\")*2,0)*10","v":0}]
[null,null,2,{"$f":"IF(AND(D205<>\"\",G207<>\"\"),D205,\"\")","v":""},{"$f":"IF(AND(E205<>\"\",G207<>\"\"),E205,\"\")","v":""},null,null,null,null,null,null,null,null,null,null,null,null,null,{"$f":"IF(Q207>=2020,R207-Q207+1,\"\")","v":""},null,{"$f":"IF(Q207>=2020,S207*T207,\"\")","v":""},null,null,null,null,null,null,null,null,null,null,null,null,{"$f":"SUM(AI207:AL207)","v":0},null,null,null,null,{"$f":"SUM(AN207:AQ207)","v":0},null,null,null,null,{"$f":"SUM(AS207:AV207)","v":0},null,null,null,null,null,null,{"$f":"SUM(AH207,AM207,AR207)","v":0},{"$f":"SUM(AL207,AQ207,AV207)","v":0},{"$f":"IF(AY207=0,0,AZ207/AY207)","v":0},{"$f":"IF((AY207+AX207)=0,0,AX207/(AX207+AY207))","v":0},null,null,null,null,null,null,null,null,null,null,null,null,null,null,null,null,null,null,null,null,null,null,null,null,null,null,null,null,null,null,null,null,null,null,null,null,null,null,null,null,null,{"$f":"((L207=\"создание\")*7+(L207=\"расширение\")*7 +(L207=\"внедрение\")*7+(L207=\"строительство\")*4+(L207=\"реконструкция\")*3+(L207=\"капремонт\")*2 +(L207=\"приобретение\")*1+(L207=\"установка\")*1)*10","v":0},null,{"$f":"IF(P207=\"коммунальная инфраструктура\",(L207=\"строительство\")*3+(L207=\"реконструкция\")*2+(L207=\"капремонт\")*1,0)*10","v":0},null,{"$f":"IF(P207=\"коммунальная инфраструктура\",(L207=\"строительство\")*4+(L207=\"реконструкция\")*3+(L207=\"капремонт\")*2,0)*10","v":0}]
[null,null,3,{"$f":"IF(AND(D205<>\"\",G208<>\"\"),D205,\"\")","v":""},{"$f":"IF(AND(E205<>\"\",G208<>\"\"),E205,\"\")","v":""},null,null,null,null,null,null,null,null,null,null,null,null,null,{"$f":"IF(Q208>=2020,R208-Q208+1,\"\")","v":""},null,{"$f":"IF(Q208>=2020,S208*T208,\"\")","v":""},null,null,null,null,null,null,null,null,null,null,null,null,{"$f":"SUM(AI208:AL208)","v":0},null,null,null,null,{"$f":"SUM(AN208:AQ208)","v":0},null,null,null,null,{"$f":"SUM(AS208:AV208)","v":0},null,null,null,null,null,null,{"$f":"SUM(AH208,AM208,AR208)","v":0},{"$f":"SUM(AL208,AQ208,AV208)","v":0},{"$f":"IF(AY208=0,0,AZ208/AY208)","v":0},{"$f":"IF((AY208+AX208)=0,0,AX208/(AX208+AY208))","v":0},null,null,null,null,null,null,null,null,null,null,null,null,null,null,null,null,null,null,null,null,null,null,null,null,null,null,null,null,null,null,null,null,null,null,null,null,null,null,null,null,null,{"$f":"((L208=\"создание\")*7+(L208=\"расширение\")*7 +(L208=\"внедрение\")*7+(L208=\"строительство\")*4+(L208=\"реконструкция\")*3+(L208=\"капремонт\")*2 +(L208=\"приобретение\")*1+(L208=\"установка\")*1)*10","v":0},null,{"$f":"IF(P208=\"коммунальная инфраструктура\",(L208=\"строительство\")*3+(L208=\"реконструкция\")*2+(L208=\"капремонт\")*1,0)*10","v":0},null,{"$f":"IF(P208=\"коммунальная инфраструктура\",(L208=\"строительство\")*4+(L208=\"реконструкция\")*3+(L208=\"капремонт\")*2,0)*10","v":0}]
[null,null,4,{"$f":"IF(AND(D205<>\"\",G209<>\"\"),D205,\"\")","v":""},{"$f":"IF(AND(E205<>\"\",G209<>\"\"),E205,\"\")","v":""},null,null,null,null,null,null,null,null,null,null,null,null,null,{"$f":"IF(Q209>=2020,R209-Q209+1,\"\")","v":""},null,{"$f":"IF(Q209>=2020,S209*T209,\"\")","v":""},null,null,null,null,null,null,null,null,null,null,null,null,{"$f":"SUM(AI209:AL209)","v":0},null,null,null,null,{"$f":"SUM(AN209:AQ209)","v":0},null,null,null,null,{"$f":"SUM(AS209:AV209)","v":0},null,null,null,null,null,null,{"$f":"SUM(AH209,AM209,AR209)","v":0},{"$f":"SUM(AL209,AQ209,AV209)","v":0},{"$f":"IF(AY209=0,0,AZ209/AY209)","v":0},{"$f":"IF((AY209+AX209)=0,0,AX209/(AX209+AY209))","v":0},null,null,null,null,null,null,null,null,null,null,null,null,null,null,null,null,null,null,null,null,null,null,null,null,null,null,null,null,null,null,null,null,null,null,null,null,null,null,null,null,null,{"$f":"((L209=\"создание\")*7+(L209=\"расширение\")*7 +(L209=\"внедрение\")*7+(L209=\"строительство\")*4+(L209=\"реконструкция\")*3+(L209=\"капремонт\")*2 +(L209=\"приобретение\")*1+(L209=\"установка\")*1)*10","v":0},null,{"$f":"IF(P209=\"коммунальная инфраструктура\",(L209=\"строительство\")*3+(L209=\"реконструкция\")*2+(L209=\"капремонт\")*1,0)*10","v":0},null,{"$f":"IF(P209=\"коммунальная инфраструктура\",(L209=\"строительство\")*4+(L209=\"реконструкция\")*3+(L209=\"капремонт\")*2,0)*10","v":0}]
[null,null,5,{"$f":"IF(AND(D205<>\"\",G210<>\"\"),D205,\"\")","v":""},{"$f":"IF(AND(E205<>\"\",G210<>\"\"),E205,\"\")","v":""},null,null,null,null,null,null,null,null,null,null,null,null,null,{"$f":"IF(Q210>=2020,R210-Q210+1,\"\")","v":""},null,{"$f":"IF(Q210>=2020,S210*T210,\"\")","v":""},null,null,null,null,null,null,null,null,null,null,null,null,{"$f":"SUM(AI210:AL210)","v":0},null,null,null,null,{"$f":"SUM(AN210:AQ210)","v":0},null,null,null,null,{"$f":"SUM(AS210:AV210)","v":0},null,null,null,null,null,null,{"$f":"SUM(AH210,AM210,AR210)","v":0},{"$f":"SUM(AL210,AQ210,AV210)","v":0},{"$f":"IF(AY210=0,0,AZ210/AY210)","v":0},{"$f":"IF((AY210+AX210)=0,0,AX210/(AX210+AY210))","v":0},null,null,null,null,null,null,null,null,null,null,null,null,null,null,null,null,null,null,null,null,null,null,null,null,null,null,null,null,null,null,null,null,null,null,null,null,null,null,null,null,null,{"$f":"((L210=\"создание\")*7+(L210=\"расширение\")*7 +(L210=\"внедрение\")*7+(L210=\"строительство\")*4+(L210=\"реконструкция\")*3+(L210=\"капремонт\")*2 +(L210=\"приобретение\")*1+(L210=\"установка\")*1)*10","v":0},null,{"$f":"IF(P210=\"коммунальная инфраструктура\",(L210=\"строительство\")*3+(L210=\"реконструкция\")*2+(L210=\"капремонт\")*1,0)*10","v":0},null,{"$f":"IF(P210=\"коммунальная инфраструктура\",(L210=\"строительство\")*4+(L210=\"реконструкция\")*3+(L210=\"капремонт\")*2,0)*10","v":0}]
[null,null,6,{"$f":"IF(AND(D205<>\"\",G211<>\"\"),D205,\"\")","v":""},{"$f":"IF(AND(E205<>\"\",G211<>\"\"),E205,\"\")","v":""},null,null,null,null,null,null,null,null,null,null,null,null,null,{"$f":"IF(Q211>=2020,R211-Q211+1,\"\")","v":""},null,{"$f":"IF(Q211>=2020,S211*T211,\"\")","v":""},null,null,null,null,null,null,null,null,null,null,null,null,{"$f":"SUM(AI211:AL211)","v":0},null,null,null,null,{"$f":"SUM(AN211:AQ211)","v":0},null,null,null,null,{"$f":"SUM(AS211:AV211)","v":0},null,null,null,null,null,null,{"$f":"SUM(AH211,AM211,AR211)","v":0},{"$f":"SUM(AL211,AQ211,AV211)","v":0},{"$f":"IF(AY211=0,0,AZ211/AY211)","v":0},{"$f":"IF((AY211+AX211)=0,0,AX211/(AX211+AY211))","v":0},null,null,null,null,null,null,null,null,null,null,null,null,null,null,null,null,null,null,null,null,null,null,null,null,null,null,null,null,null,null,null,null,null,null,null,null,null,null,null,null,null,{"$f":"((L211=\"создание\")*7+(L211=\"расширение\")*7 +(L211=\"внедрение\")*7+(L211=\"строительство\")*4+(L211=\"реконструкция\")*3+(L211=\"капремонт\")*2 +(L211=\"приобретение\")*1+(L211=\"установка\")*1)*10","v":0},null,{"$f":"IF(P211=\"коммунальная инфраструктура\",(L211=\"строительство\")*3+(L211=\"реконструкция\")*2+(L211=\"капремонт\")*1,0)*10","v":0},null,{"$f":"IF(P211=\"коммунальная инфраструктура\",(L211=\"строительство\")*4+(L211=\"реконструкция\")*3+(L211=\"капремонт\")*2,0)*10","v":0}]
[null,null,7,{"$f":"IF(AND(D205<>\"\",G212<>\"\"),D205,\"\")","v":""},{"$f":"IF(AND(E205<>\"\",G212<>\"\"),E205,\"\")","v":""},null,null,null,null,null,null,null,null,null,null,null,null,null,{"$f":"IF(Q212>=2020,R212-Q212+1,\"\")","v":""},null,{"$f":"IF(Q212>=2020,S212*T212,\"\")","v":""},null,null,null,null,null,null,null,null,null,null,null,null,{"$f":"SUM(AI212:AL212)","v":0},null,null,null,null,{"$f":"SUM(AN212:AQ212)","v":0},null,null,null,null,{"$f":"SUM(AS212:AV212)","v":0},null,null,null,null,null,null,{"$f":"SUM(AH212,AM212,AR212)","v":0},{"$f":"SUM(AL212,AQ212,AV212)","v":0},{"$f":"IF(AY212=0,0,AZ212/AY212)","v":0},{"$f":"IF((AY212+AX212)=0,0,AX212/(AX212+AY212))","v":0},null,null,null,null,null,null,null,null,null,null,null,null,null,null,null,null,null,null,null,null,null,null,null,null,null,null,null,null,null,null,null,null,null,null,null,null,null,null,null,null,null,{"$f":"((L212=\"создание\")*7+(L212=\"расширение\")*7 +(L212=\"внедрение\")*7+(L212=\"строительство\")*4+(L212=\"реконструкция\")*3+(L212=\"капремонт\")*2 +(L212=\"приобретение\")*1+(L212=\"установка\")*1)*10","v":0},null,{"$f":"IF(P212=\"коммунальная инфраструктура\",(L212=\"строительство\")*3+(L212=\"реконструкция\")*2+(L212=\"капремонт\")*1,0)*10","v":0},null,{"$f":"IF(P212=\"коммунальная инфраструктура\",(L212=\"строительство\")*4+(L212=\"реконструкция\")*3+(L212=\"капремонт\")*2,0)*10","v":0}]
[null,null,8,{"$f":"IF(AND(D205<>\"\",G213<>\"\"),D205,\"\")","v":""},{"$f":"IF(AND(E205<>\"\",G213<>\"\"),E205,\"\")","v":""},null,null,null,null,null,null,null,null,null,null,null,null,null,{"$f":"IF(Q213>=2020,R213-Q213+1,\"\")","v":""},null,{"$f":"IF(Q213>=2020,S213*T213,\"\")","v":""},null,null,null,null,null,null,null,null,null,null,null,null,{"$f":"SUM(AI213:AL213)","v":0},null,null,null,null,{"$f":"SUM(AN213:AQ213)","v":0},null,null,null,null,{"$f":"SUM(AS213:AV213)","v":0},null,null,null,null,null,null,{"$f":"SUM(AH213,AM213,AR213)","v":0},{"$f":"SUM(AL213,AQ213,AV213)","v":0},{"$f":"IF(AY213=0,0,AZ213/AY213)","v":0},{"$f":"IF((AY213+AX213)=0,0,AX213/(AX213+AY213))","v":0},null,null,null,null,null,null,null,null,null,null,null,null,null,null,null,null,null,null,null,null,null,null,null,null,null,null,null,null,null,null,null,null,null,null,null,null,null,null,null,null,null,{"$f":"((L213=\"создание\")*7+(L213=\"расширение\")*7 +(L213=\"внедрение\")*7+(L213=\"строительство\")*4+(L213=\"реконструкция\")*3+(L213=\"капремонт\")*2 +(L213=\"приобретение\")*1+(L213=\"установка\")*1)*10","v":0},null,{"$f":"IF(P213=\"коммунальная инфраструктура\",(L213=\"строительство\")*3+(L213=\"реконструкция\")*2+(L213=\"капремонт\")*1,0)*10","v":0},null,{"$f":"IF(P213=\"коммунальная инфраструктура\",(L213=\"строительство\")*4+(L213=\"реконструкция\")*3+(L213=\"капремонт\")*2,0)*10","v":0}]
[null,null,9,{"$f":"IF(AND(D205<>\"\",G214<>\"\"),D205,\"\")","v":""},{"$f":"IF(AND(E205<>\"\",G214<>\"\"),E205,\"\")","v":""},null,null,null,null,null,null,null,null,null,null,null,null,null,{"$f":"IF(Q214>=2020,R214-Q214+1,\"\")","v":""},null,{"$f":"IF(Q214>=2020,S214*T214,\"\")","v":""},null,null,null,null,null,null,null,null,null,null,null,null,{"$f":"SUM(AI214:AL214)","v":0},null,null,null,null,{"$f":"SUM(AN214:AQ214)","v":0},null,null,null,null,{"$f":"SUM(AS214:AV214)","v":0},null,null,null,null,null,null,{"$f":"SUM(AH214,AM214,AR214)","v":0},{"$f":"SUM(AL214,AQ214,AV214)","v":0},{"$f":"IF(AY214=0,0,AZ214/AY214)","v":0},{"$f":"IF((AY214+AX214)=0,0,AX214/(AX214+AY214))","v":0},null,null,null,null,null,null,null,null,null,null,null,null,null,null,null,null,null,null,null,null,null,null,null,null,null,null,null,null,null,null,null,null,null,null,null,null,null,null,null,null,null,{"$f":"((L214=\"создание\")*7+(L214=\"расширение\")*7 +(L214=\"внедрение\")*7+(L214=\"строительство\")*4+(L214=\"реконструкция\")*3+(L214=\"капремонт\")*2 +(L214=\"приобретение\")*1+(L214=\"установка\")*1)*10","v":0},null,{"$f":"IF(P214=\"коммунальная инфраструктура\",(L214=\"строительство\")*3+(L214=\"реконструкция\")*2+(L214=\"капремонт\")*1,0)*10","v":0},null,{"$f":"IF(P214=\"коммунальная инфраструктура\",(L214=\"строительство\")*4+(L214=\"реконструкция\")*3+(L214=\"капремонт\")*2,0)*10","v":0}]
[null,null,10,{"$f":"IF(AND(D205<>\"\",G215<>\"\"),D205,\"\")","v":""},{"$f":"IF(AND(E205<>\"\",G215<>\"\"),E205,\"\")","v":""},null,null,null,null,null,null,null,null,null,null,null,null,null,{"$f":"IF(Q215>=2020,R215-Q215+1,\"\")","v":""},null,{"$f":"IF(Q215>=2020,S215*T215,\"\")","v":""},null,null,null,null,null,null,null,null,null,null,null,null,{"$f":"SUM(AI215:AL215)","v":0},null,null,null,null,{"$f":"SUM(AN215:AQ215)","v":0},null,null,null,null,{"$f":"SUM(AS215:AV215)","v":0},null,null,null,null,null,null,{"$f":"SUM(AH215,AM215,AR215)","v":0},{"$f":"SUM(AL215,AQ215,AV215)","v":0},{"$f":"IF(AY215=0,0,AZ215/AY215)","v":0},{"$f":"IF((AY215+AX215)=0,0,AX215/(AX215+AY215))","v":0},null,null,null,null,null,null,null,null,null,null,null,null,null,null,null,null,null,null,null,null,null,null,null,null,null,null,null,null,null,null,null,null,null,null,null,null,null,null,null,null,null,{"$f":"((L215=\"создание\")*7+(L215=\"расширение\")*7 +(L215=\"внедрение\")*7+(L215=\"строительство\")*4+(L215=\"реконструкция\")*3+(L215=\"капремонт\")*2 +(L215=\"приобретение\")*1+(L215=\"установка\")*1)*10","v":0},null,{"$f":"IF(P215=\"коммунальная инфраструктура\",(L215=\"строительство\")*3+(L215=\"реконструкция\")*2+(L215=\"капремонт\")*1,0)*10","v":0},null,{"$f":"IF(P215=\"коммунальная инфраструктура\",(L215=\"строительство\")*4+(L215=\"реконструкция\")*3+(L215=\"капремонт\")*2,0)*10","v":0}]
[null,null,11,{"$f":"IF(AND(D205<>\"\",G216<>\"\"),D205,\"\")","v":""},{"$f":"IF(AND(E205<>\"\",G216<>\"\"),E205,\"\")","v":""},null,null,null,null,null,null,null,null,null,null,null,null,null,{"$f":"IF(Q216>=2020,R216-Q216+1,\"\")","v":""},null,{"$f":"IF(Q216>=2020,S216*T216,\"\")","v":""},null,null,null,null,null,null,null,null,null,null,null,null,{"$f":"SUM(AI216:AL216)","v":0},null,null,null,null,{"$f":"SUM(AN216:AQ216)","v":0},null,null,null,null,{"$f":"SUM(AS216:AV216)","v":0},null,null,null,null,null,null,{"$f":"SUM(AH216,AM216,AR216)","v":0},{"$f":"SUM(AL216,AQ216,AV216)","v":0},{"$f":"IF(AY216=0,0,AZ216/AY216)","v":0},{"$f":"IF((AY216+AX216)=0,0,AX216/(AX216+AY216))","v":0},null,null,null,null,null,null,null,null,null,null,null,null,null,null,null,null,null,null,null,null,null,null,null,null,null,null,null,null,null,null,null,null,null,null,null,null,null,null,null,null,null,{"$f":"((L216=\"создание\")*7+(L216=\"расширение\")*7 +(L216=\"внедрение\")*7+(L216=\"строительство\")*4+(L216=\"реконструкция\")*3+(L216=\"капремонт\")*2 +(L216=\"приобретение\")*1+(L216=\"установка\")*1)*10","v":0},null,{"$f":"IF(P216=\"коммунальная инфраструктура\",(L216=\"строительство\")*3+(L216=\"реконструкция\")*2+(L216=\"капремонт\")*1,0)*10","v":0},null,{"$f":"IF(P216=\"коммунальная инфраструктура\",(L216=\"строительство\")*4+(L216=\"реконструкция\")*3+(L216=\"капремонт\")*2,0)*10","v":0}]
[null,null,12,{"$f":"IF(AND(D205<>\"\",G217<>\"\"),D205,\"\")","v":""},{"$f":"IF(AND(E205<>\"\",G217<>\"\"),E205,\"\")","v":""},null,null,null,null,null,null,null,null,null,null,null,null,null,{"$f":"IF(Q217>=2020,R217-Q217+1,\"\")","v":""},null,{"$f":"IF(Q217>=2020,S217*T217,\"\")","v":""},null,null,null,null,null,null,null,null,null,null,null,null,{"$f":"SUM(AI217:AL217)","v":0},null,null,null,null,{"$f":"SUM(AN217:AQ217)","v":0},null,null,null,null,{"$f":"SUM(AS217:AV217)","v":0},null,null,null,null,null,null,{"$f":"SUM(AH217,AM217,AR217)","v":0},{"$f":"SUM(AL217,AQ217,AV217)","v":0},{"$f":"IF(AY217=0,0,AZ217/AY217)","v":0},{"$f":"IF((AY217+AX217)=0,0,AX217/(AX217+AY217))","v":0},null,null,null,null,null,null,null,null,null,null,null,null,null,null,null,null,null,null,null,null,null,null,null,null,null,null,null,null,null,null,null,null,null,null,null,null,null,null,null,null,null,{"$f":"((L217=\"создание\")*7+(L217=\"расширение\")*7 +(L217=\"внедрение\")*7+(L217=\"строительство\")*4+(L217=\"реконструкция\")*3+(L217=\"капремонт\")*2 +(L217=\"приобретение\")*1+(L217=\"установка\")*1)*10","v":0},null,{"$f":"IF(P217=\"коммунальная инфраструктура\",(L217=\"строительство\")*3+(L217=\"реконструкция\")*2+(L217=\"капремонт\")*1,0)*10","v":0},null,{"$f":"IF(P217=\"коммунальная инфраструктура\",(L217=\"строительство\")*4+(L217=\"реконструкция\")*3+(L217=\"капремонт\")*2,0)*10","v":0}]
[null,null,13,{"$f":"IF(AND(D205<>\"\",G218<>\"\"),D205,\"\")","v":""},{"$f":"IF(AND(E205<>\"\",G218<>\"\"),E205,\"\")","v":""},null,null,null,null,null,null,null,null,null,null,null,null,null,{"$f":"IF(Q218>=2020,R218-Q218+1,\"\")","v":""},null,{"$f":"IF(Q218>=2020,S218*T218,\"\")","v":""},null,null,null,null,null,null,null,null,null,null,null,null,{"$f":"SUM(AI218:AL218)","v":0},null,null,null,null,{"$f":"SUM(AN218:AQ218)","v":0},null,null,null,null,{"$f":"SUM(AS218:AV218)","v":0},null,null,null,null,null,null,{"$f":"SUM(AH218,AM218,AR218)","v":0},{"$f":"SUM(AL218,AQ218,AV218)","v":0},{"$f":"IF(AY218=0,0,AZ218/AY218)","v":0},{"$f":"IF((AY218+AX218)=0,0,AX218/(AX218+AY218))","v":0},null,null,null,null,null,null,null,null,null,null,null,null,null,null,null,null,null,null,null,null,null,null,null,null,null,null,null,null,null,null,null,null,null,null,null,null,null,null,null,null,null,{"$f":"((L218=\"создание\")*7+(L218=\"расширение\")*7 +(L218=\"внедрение\")*7+(L218=\"строительство\")*4+(L218=\"реконструкция\")*3+(L218=\"капремонт\")*2 +(L218=\"приобретение\")*1+(L218=\"установка\")*1)*10","v":0},null,{"$f":"IF(P218=\"коммунальная инфраструктура\",(L218=\"строительство\")*3+(L218=\"реконструкция\")*2+(L218=\"капремонт\")*1,0)*10","v":0},null,{"$f":"IF(P218=\"коммунальная инфраструктура\",(L218=\"строительство\")*4+(L218=\"реконструкция\")*3+(L218=\"капремонт\")*2,0)*10","v":0}]
[null,null,14,{"$f":"IF(AND(D205<>\"\",G219<>\"\"),D205,\"\")","v":""},{"$f":"IF(AND(E205<>\"\",G219<>\"\"),E205,\"\")","v":""},null,null,null,null,null,null,null,null,null,null,null,null,null,{"$f":"IF(Q219>=2020,R219-Q219+1,\"\")","v":""},null,{"$f":"IF(Q219>=2020,S219*T219,\"\")","v":""},null,null,null,null,null,null,null,null,null,null,null,null,{"$f":"SUM(AI219:AL219)","v":0},null,null,null,null,{"$f":"SUM(AN219:AQ219)","v":0},null,null,null,null,{"$f":"SUM(AS219:AV219)","v":0},null,null,null,null,null,null,{"$f":"SUM(AH219,AM219,AR219)","v":0},{"$f":"SUM(AL219,AQ219,AV219)","v":0},{"$f":"IF(AY219=0,0,AZ219/AY219)","v":0},{"$f":"IF((AY219+AX219)=0,0,AX219/(AX219+AY219))","v":0},null,null,null,null,null,null,null,null,null,null,null,null,null,null,null,null,null,null,null,null,null,null,null,null,null,null,null,null,null,null,null,null,null,null,null,null,null,null,null,null,null,{"$f":"((L219=\"создание\")*7+(L219=\"расширение\")*7 +(L219=\"внедрение\")*7+(L219=\"строительство\")*4+(L219=\"реконструкция\")*3+(L219=\"капремонт\")*2 +(L219=\"приобретение\")*1+(L219=\"установка\")*1)*10","v":0},null,{"$f":"IF(P219=\"коммунальная инфраструктура\",(L219=\"строительство\")*3+(L219=\"реконструкция\")*2+(L219=\"капремонт\")*1,0)*10","v":0},null,{"$f":"IF(P219=\"коммунальная инфраструктура\",(L219=\"строительство\")*4+(L219=\"реконструкция\")*3+(L219=\"капремонт\")*2,0)*10","v":0}]
[null,null,15,{"$f":"IF(AND(D205<>\"\",G220<>\"\"),D205,\"\")","v":""},{"$f":"IF(AND(E205<>\"\",G220<>\"\"),E205,\"\")","v":""},null,null,null,null,null,null,null,null,null,null,null,null,null,{"$f":"IF(Q220>=2020,R220-Q220+1,\"\")","v":""},null,{"$f":"IF(Q220>=2020,S220*T220,\"\")","v":""},null,null,null,null,null,null,null,null,null,null,null,null,{"$f":"SUM(AI220:AL220)","v":0},null,null,null,null,{"$f":"SUM(AN220:AQ220)","v":0},null,null,null,null,{"$f":"SUM(AS220:AV220)","v":0},null,null,null,null,null,null,{"$f":"SUM(AH220,AM220,AR220)","v":0},{"$f":"SUM(AL220,AQ220,AV220)","v":0},{"$f":"IF(AY220=0,0,AZ220/AY220)","v":0},{"$f":"IF((AY220+AX220)=0,0,AX220/(AX220+AY220))","v":0},null,null,null,null,null,null,null,null,null,null,null,null,null,null,null,null,null,null,null,null,null,null,null,null,null,null,null,null,null,null,null,null,null,null,null,null,null,null,null,null,null,{"$f":"((L220=\"создание\")*7+(L220=\"расширение\")*7 +(L220=\"внедрение\")*7+(L220=\"строительство\")*4+(L220=\"реконструкция\")*3+(L220=\"капремонт\")*2 +(L220=\"приобретение\")*1+(L220=\"установка\")*1)*10","v":0},null,{"$f":"IF(P220=\"коммунальная инфраструктура\",(L220=\"строительство\")*3+(L220=\"реконструкция\")*2+(L220=\"капремонт\")*1,0)*10","v":0},null,{"$f":"IF(P220=\"коммунальная инфраструктура\",(L220=\"строительство\")*4+(L220=\"реконструкция\")*3+(L220=\"капремонт\")*2,0)*10","v":0}]
[null,null,16,{"$f":"IF(AND(D205<>\"\",G221<>\"\"),D205,\"\")","v":""},{"$f":"IF(AND(E205<>\"\",G221<>\"\"),E205,\"\")","v":""},null,null,null,null,null,null,null,null,null,null,null,null,null,{"$f":"IF(Q221>=2020,R221-Q221+1,\"\")","v":""},null,{"$f":"IF(Q221>=2020,S221*T221,\"\")","v":""},null,null,null,null,null,null,null,null,null,null,null,null,{"$f":"SUM(AI221:AL221)","v":0},null,null,null,null,{"$f":"SUM(AN221:AQ221)","v":0},null,null,null,null,{"$f":"SUM(AS221:AV221)","v":0},null,null,null,null,null,null,{"$f":"SUM(AH221,AM221,AR221)","v":0},{"$f":"SUM(AL221,AQ221,AV221)","v":0},{"$f":"IF(AY221=0,0,AZ221/AY221)","v":0},{"$f":"IF((AY221+AX221)=0,0,AX221/(AX221+AY221))","v":0},null,null,null,null,null,null,null,null,null,null,null,null,null,null,null,null,null,null,null,null,null,null,null,null,null,null,null,null,null,null,null,null,null,null,null,null,null,null,null,null,null,{"$f":"((L221=\"создание\")*7+(L221=\"расширение\")*7 +(L221=\"внедрение\")*7+(L221=\"строительство\")*4+(L221=\"реконструкция\")*3+(L221=\"капремонт\")*2 +(L221=\"приобретение\")*1+(L221=\"установка\")*1)*10","v":0},null,{"$f":"IF(P221=\"коммунальная инфраструктура\",(L221=\"строительство\")*3+(L221=\"реконструкция\")*2+(L221=\"капремонт\")*1,0)*10","v":0},null,{"$f":"IF(P221=\"коммунальная инфраструктура\",(L221=\"строительство\")*4+(L221=\"реконструкция\")*3+(L221=\"капремонт\")*2,0)*10","v":0}]
[null,null,17,{"$f":"IF(AND(D205<>\"\",G222<>\"\"),D205,\"\")","v":""},{"$f":"IF(AND(E205<>\"\",G222<>\"\"),E205,\"\")","v":""},null,null,null,null,null,null,null,null,null,null,null,null,null,{"$f":"IF(Q222>=2020,R222-Q222+1,\"\")","v":""},null,{"$f":"IF(Q222>=2020,S222*T222,\"\")","v":""},null,null,null,null,null,null,null,null,null,null,null,null,{"$f":"SUM(AI222:AL222)","v":0},null,null,null,null,{"$f":"SUM(AN222:AQ222)","v":0},null,null,null,null,{"$f":"SUM(AS222:AV222)","v":0},null,null,null,null,null,null,{"$f":"SUM(AH222,AM222,AR222)","v":0},{"$f":"SUM(AL222,AQ222,AV222)","v":0},{"$f":"IF(AY222=0,0,AZ222/AY222)","v":0},{"$f":"IF((AY222+AX222)=0,0,AX222/(AX222+AY222))","v":0},null,null,null,null,null,null,null,null,null,null,null,null,null,null,null,null,null,null,null,null,null,null,null,null,null,null,null,null,null,null,null,null,null,null,null,null,null,null,null,null,null,{"$f":"((L222=\"создание\")*7+(L222=\"расширение\")*7 +(L222=\"внедрение\")*7+(L222=\"строительство\")*4+(L222=\"реконструкция\")*3+(L222=\"капремонт\")*2 +(L222=\"приобретение\")*1+(L222=\"установка\")*1)*10","v":0},null,{"$f":"IF(P222=\"коммунальная инфраструктура\",(L222=\"строительство\")*3+(L222=\"реконструкция\")*2+(L222=\"капремонт\")*1,0)*10","v":0},null,{"$f":"IF(P222=\"коммунальная инфраструктура\",(L222=\"строительство\")*4+(L222=\"реконструкция\")*3+(L222=\"капремонт\")*2,0)*10","v":0}]
[null,null,18,{"$f":"IF(AND(D205<>\"\",G223<>\"\"),D205,\"\")","v":""},{"$f":"IF(AND(E205<>\"\",G223<>\"\"),E205,\"\")","v":""},null,null,null,null,null,null,null,null,null,null,null,null,null,{"$f":"IF(Q223>=2020,R223-Q223+1,\"\")","v":""},null,{"$f":"IF(Q223>=2020,S223*T223,\"\")","v":""},null,null,null,null,null,null,null,null,null,null,null,null,{"$f":"SUM(AI223:AL223)","v":0},null,null,null,null,{"$f":"SUM(AN223:AQ223)","v":0},null,null,null,null,{"$f":"SUM(AS223:AV223)","v":0},null,null,null,null,null,null,{"$f":"SUM(AH223,AM223,AR223)","v":0},{"$f":"SUM(AL223,AQ223,AV223)","v":0},{"$f":"IF(AY223=0,0,AZ223/AY223)","v":0},{"$f":"IF((AY223+AX223)=0,0,AX223/(AX223+AY223))","v":0},null,null,null,null,null,null,null,null,null,null,null,null,null,null,null,null,null,null,null,null,null,null,null,null,null,null,null,null,null,null,null,null,null,null,null,null,null,null,null,null,null,{"$f":"((L223=\"создание\")*7+(L223=\"расширение\")*7 +(L223=\"внедрение\")*7+(L223=\"строительство\")*4+(L223=\"реконструкция\")*3+(L223=\"капремонт\")*2 +(L223=\"приобретение\")*1+(L223=\"установка\")*1)*10","v":0},null,{"$f":"IF(P223=\"коммунальная инфраструктура\",(L223=\"строительство\")*3+(L223=\"реконструкция\")*2+(L223=\"капремонт\")*1,0)*10","v":0},null,{"$f":"IF(P223=\"коммунальная инфраструктура\",(L223=\"строительство\")*4+(L223=\"реконструкция\")*3+(L223=\"капремонт\")*2,0)*10","v":0}]
[null,null,19,{"$f":"IF(AND(D205<>\"\",G224<>\"\"),D205,\"\")","v":""},{"$f":"IF(AND(E205<>\"\",G224<>\"\"),E205,\"\")","v":""},null,null,null,null,null,null,null,null,null,null,null,null,null,{"$f":"IF(Q224>=2020,R224-Q224+1,\"\")","v":""},null,{"$f":"IF(Q224>=2020,S224*T224,\"\")","v":""},null,null,null,null,null,null,null,null,null,null,null,null,{"$f":"SUM(AI224:AL224)","v":0},null,null,null,null,{"$f":"SUM(AN224:AQ224)","v":0},null,null,null,null,{"$f":"SUM(AS224:AV224)","v":0},null,null,null,null,null,null,{"$f":"SUM(AH224,AM224,AR224)","v":0},{"$f":"SUM(AL224,AQ224,AV224)","v":0},{"$f":"IF(AY224=0,0,AZ224/AY224)","v":0},{"$f":"IF((AY224+AX224)=0,0,AX224/(AX224+AY224))","v":0},null,null,null,null,null,null,null,null,null,null,null,null,null,null,null,null,null,null,null,null,null,null,null,null,null,null,null,null,null,null,null,null,null,null,null,null,null,null,null,null,null,{"$f":"((L224=\"создание\")*7+(L224=\"расширение\")*7 +(L224=\"внедрение\")*7+(L224=\"строительство\")*4+(L224=\"реконструкция\")*3+(L224=\"капремонт\")*2 +(L224=\"приобретение\")*1+(L224=\"установка\")*1)*10","v":0},null,{"$f":"IF(P224=\"коммунальная инфраструктура\",(L224=\"строительство\")*3+(L224=\"реконструкция\")*2+(L224=\"капремонт\")*1,0)*10","v":0},null,{"$f":"IF(P224=\"коммунальная инфраструктура\",(L224=\"строительство\")*4+(L224=\"реконструкция\")*3+(L224=\"капремонт\")*2,0)*10","v":0}]
[null,null,20,{"$f":"IF(AND(D205<>\"\",G225<>\"\"),D205,\"\")","v":""},{"$f":"IF(AND(E205<>\"\",G225<>\"\"),E205,\"\")","v":""},null,null,null,null,null,null,null,null,null,null,null,null,null,{"$f":"IF(Q225>=2020,R225-Q225+1,\"\")","v":""},null,{"$f":"IF(Q225>=2020,S225*T225,\"\")","v":""},null,null,null,null,null,null,null,null,null,null,null,null,{"$f":"SUM(AI225:AL225)","v":0},null,null,null,null,{"$f":"SUM(AN225:AQ225)","v":0},null,null,null,null,{"$f":"SUM(AS225:AV225)","v":0},null,null,null,null,null,null,{"$f":"SUM(AH225,AM225,AR225)","v":0},{"$f":"SUM(AL225,AQ225,AV225)","v":0},{"$f":"IF(AY225=0,0,AZ225/AY225)","v":0},{"$f":"IF((AY225+AX225)=0,0,AX225/(AX225+AY225))","v":0},null,null,null,null,null,null,null,null,null,null,null,null,null,null,null,null,null,null,null,null,null,null,null,null,null,null,null,null,null,null,null,null,null,null,null,null,null,null,null,null,null,{"$f":"((L225=\"создание\")*7+(L225=\"расширение\")*7 +(L225=\"внедрение\")*7+(L225=\"строительство\")*4+(L225=\"реконструкция\")*3+(L225=\"капремонт\")*2 +(L225=\"приобретение\")*1+(L225=\"установка\")*1)*10","v":0},null,{"$f":"IF(P225=\"коммунальная инфраструктура\",(L225=\"строительство\")*3+(L225=\"реконструкция\")*2+(L225=\"капремонт\")*1,0)*10","v":0},null,{"$f":"IF(P225=\"коммунальная инфраструктура\",(L225=\"строительство\")*4+(L225=\"реконструкция\")*3+(L225=\"капремонт\")*2,0)*10","v":0}]
[null,null,"…",{"$f":"IF(AND(D205<>\"\",G226<>\"\"),D205,\"\")","v":""},{"$f":"IF(AND(E205<>\"\",G226<>\"\"),E205,\"\")","v":""},null,null,null,null,null,null,null,null,null,null,null,null,null,{"$f":"IF(Q226>=2020,R226-Q226+1,\"\")","v":""},null,{"$f":"IF(Q226>=2020,S226*T226,\"\")","v":""},null,null,null,null,null,null,null,null,null,null,null,null,{"$f":"SUM(AI226:AL226)","v":0},null,null,null,null,{"$f":"SUM(AN226:AQ226)","v":0},null,null,null,null,{"$f":"SUM(AS226:AV226)","v":0},null,null,null,null,null,null,{"$f":"SUM(AH226,AM226,AR226)","v":0},{"$f":"SUM(AL226,AQ226,AV226)","v":0},{"$f":"IF(AY226=0,0,AZ226/AY226)","v":0},{"$f":"IF((AY226+AX226)=0,0,AX226/(AX226+AY226))","v":0},null,null,null,null,null,null,null,null,null,null,null,null,null,null,null,null,null,null,null,null,null,null,null,null,null,null,null,null,null,null,null,null,null,null,null,null,null,null,null,null,null,{"$f":"((L226=\"создание\")*7+(L226=\"расширение\")*7 +(L226=\"внедрение\")*7+(L226=\"строительство\")*4+(L226=\"реконструкция\")*3+(L226=\"капремонт\")*2 +(L226=\"приобретение\")*1+(L226=\"установка\")*1)*10","v":0},null,{"$f":"IF(P226=\"коммунальная инфраструктура\",(L226=\"строительство\")*3+(L226=\"реконструкция\")*2+(L226=\"капремонт\")*1,0)*10","v":0},null,{"$f":"IF(P226=\"коммунальная инфраструктура\",(L226=\"строительство\")*4+(L226=\"реконструкция\")*3+(L226=\"капремонт\")*2,0)*10","v":0}]
[11,null,{"$f":"COUNTA(G228:G248)","v":0},null,null,null,null,null,null,null,null,null,null,null,null,null,{"$f":"MIN(Q228:Q248)","v":0},{"$f":"MAX(R228:R248)","v":0},{"$f":"MAX(S228:S248)","v":0},null,{"$f":"MAX(U228:U248)","v":0},null,null,null,null,null,{"$f":"IF(COUNTIF(AA228:AA248,\"НЕТ\")>0,\"ПД!\",\"ок\")","v":"ок"},null,{"$f":"IF(COUNTIF(AC228:AC248,\"НЕТ\")>0,\"ДОСМ!\",\"ок\")","v":"ок"},null,{"$f":"IF(COUNTIF(AE228:AE248,\"НЕТ\")>0,\"ФОИВ!\",\"ок\")","v":"ок"},{"$f":"IF(COUNTIF(AF228:AF248,\"НЕТ\")>0,\"ФОИВ!\",\"ок\")","v":"ок"},null,{"$f":"SUM(AH228:AH248)","v":0},{"$f":"SUM(AI228:AI248)","v":0},{"$f":"SUM(AJ228:AJ248)","v":0},{"$f":"SUM(AK228:AK248)","v":0},{"$f":"SUM(AL228:AL248)","v":0},{"$f":"SUM(AM228:AM248)","v":0},{"$f":"SUM(AN228:AN248)","v":0},{"$f":"SUM(AO228:AO248)","v":0},{"$f":"SUM(AP228:AP248)","v":0},{"$f":"SUM(AQ228:AQ248)","v":0},{"$f":"SUM(AR228:AR248)","v":0},{"$f":"SUM(AS228:AS248)","v":0},{"$f":"SUM(AT228:AT248)","v":0},{"$f":"SUM(AU228:AU248)","v":0},{"$f":"SUM(AV228:AV248)","v":0},{"$f":"SUM(AW228:AW248)","v":0},{"$f":"SUM(AX228:AX248)","v":0},{"$f":"SUM(AH227,AM227,AR227)","v":0},{"$f":"AL227+AQ227+AV227","v":0},{"$f":"IF(AY227=0,0,AZ227/AY227)","v":0},{"$f":"IF((AY227+AX227)=0,0,AX227/(AX227+AY227))","v":0},null,null,{"$f":"IFERROR(BD227/BC227,0)","v":0},null,null,{"$f":"IFERROR(BG227/BF227,0)","v":0},null,null,{"$f":"IFERROR(BJ227/BI227,0)","v":0},null,null,null,{"$f":"(SUM(BL227:BN227)>0)*1+(SUM(BL227:BN227)>=10)*1+(SUM(BL227:BN227)>=50)*1+(SUM(BL227:BN227)>=100)*1+(SUM(BL227:BN227)>=200)*1+(SUM(BL227:BN227)>=300)*1","v":0},{"$f":"IFERROR(SUM(BL227:BN227)/BC227,0)","v":0},null,null,{"$f":"IFERROR(BQ227/BR227,0)","v":0},{"$f":"IF(BA227<0.01,0,IF(BA227>=0.1,10,ROUNDDOWN(BA227/0.01,0)))","v":0},8,{"$f":"BT227*BU227","v":0},{"$f":"IF(BB227<0.01,0,IF(BB227>=0.1,10,ROUNDDOWN(BB227/0.01,0)))","v":0},8,{"$f":"BW227*BX227","v":0},{"$f":"IF(U227<=1,9,IF(U227<=2,6,IF(U227<=3,3,0)))*(C227>0)","v":0},6,{"$f":"BZ227*CA227","v":0},{"$f":"IF(BH227<0.51,0,10)","v":0},7,{"$f":"CC227*CD227","v":0},{"$f":"IF(BE227<0.1,0,IF(BE227>=0.9,10,ROUNDDOWN(BE227/0.1,0)))","v":0},10,{"$f":"CF227*CG227","v":0},{"$f":"IF(BK227<0.1,0,IF(BK227>=0.6,10,ROUNDDOWN(BK227/0.1,0)))","v":0},8,{"$f":"CI227*CJ227","v":0},{"$f":"IF(BP227<0.05,0,IF(BP227>=0.1,10,1))","v":0},10,{"$f":"CL227*CM227","v":0},{"$f":"IF(BS227<0.1,0,IF(BS227>=0.8,10,ROUNDDOWN(BS227/0.1,0)))","v":0},10,{"$f":"CP227*CO227","v":0},{"$f":"ROUND(IF(C227=0,0,SUM(CR228:CR248)/C227),1)","v":0},{"$f":"((SUM(BL227:BN227)>=1)*1+(SUM(BL227:BN227)>=11)*1+(SUM(BL227:BN227)>=51)*3+(SUM(BL227:BN227)>=101)*2+(SUM(BL227:BN227)>=201)*2+(SUM(BL227:BN227)>=301)*4)*10","v":0},{"$f":"IFERROR(ROUND(SUM(CT228:CT248)/COUNTIF(P228:P248,\"коммунальная инфраструктура\"),1),0)","v":0},{"$f":"CS227+CT227","v":0},{"$f":"IFERROR(ROUND(SUM(CV228:CV248)/COUNTIF(P228:P248,\"коммунальная инфраструктура\"),1),0)","v":0},{"$f":"SUM(BV227,BY227,CB227,CE227,CH227,CK227,CN227,CQ227,CR227,CU227,CV227)","v":0},{"$f":"VLOOKUP(D227,РегионыФО,2,0)","v":{"$error":"#N/A"}}]
[null,null,1,{"$f":"IF(AND(D227<>\"\",G228<>\"\"),D227,\"\")","v":""},{"$f":"IF(AND(E227<>\"\",G228<>\"\"),E227,\"\")","v":""},null,null,null,null,null,null,null,null,null,null,null,null,null,{"$f":"IF(Q228>=2020,R228-Q228+1,\"\")","v":""},null,{"$f":"IF(Q228>=2020,ROUNDUP(S228*T228,0),\"\")","v":""},null,null,null,null,null,null,null,null,null,null,null,null,{"$f":"SUM(AI228:AL228)","v":0},null,null,null,null,{"$f":"SUM(AN228:AQ228)","v":0},null,null,null,null,{"$f":"SUM(AS228:AV228)","v":0},null,null,null,null,null,null,{"$f":"SUM(AH228,AM228,AR228)","v":0},{"$f":"SUM(AL228,AQ228,AV228)","v":0},{"$f":"IF(AY228=0,0,AZ228/AY228)","v":0},{"$f":"IF((AY228+AX228)=0,0,AX228/(AX228+AY228))","v":0},null,null,null,null,null,null,null,null,null,null,null,null,null,null,null,null,null,null,null,null,null,null,null,null,null,null,null,null,null,null,null,null,null,null,null,null,null,null,null,null,null,{"$f":"((L228=\"создание\")*7+(L228=\"расширение\")*7 +(L228=\"внедрение\")*7+(L228=\"строительство\")*4+(L228=\"реконструкция\")*3+(L228=\"капремонт\")*2 +(L228=\"приобретение\")*1+(L228=\"установка\")*1)*10","v":0},null,{"$f":"IF(P228=\"коммунальная инфраструктура\",(L228=\"строительство\")*3+(L228=\"реконструкция\")*2+(L228=\"капремонт\")*1,0)*10","v":0},null,{"$f":"IF(P228=\"коммунальная инфраструктура\",(L228=\"строительство\")*4+(L228=\"реконструкция\")*3+(L228=\"капремонт\")*2,0)*10","v":0}]
[null,null,2,{"$f":"IF(AND(D227<>\"\",G229<>\"\"),D227,\"\")","v":""},{"$f":"IF(AND(E227<>\"\",G229<>\"\"),E227,\"\")","v":""},null,null,null,null,null,null,null,null,null,null,null,null,null,{"$f":"IF(Q229>=2020,R229-Q229+1,\"\")","v":""},null,{"$f":"IF(Q229>=2020,S229*T229,\"\")","v":""},null,null,null,null,null,null,null,null,null,null,null,null,{"$f":"SUM(AI229:AL229)","v":0},null,null,null,null,{"$f":"SUM(AN229:AQ229)","v":0},null,null,null,null,{"$f":"SUM(AS229:AV229)","v":0},null,null,null,null,null,null,{"$f":"SUM(AH229,AM229,AR229)","v":0},{"$f":"SUM(AL229,AQ229,AV229)","v":0},{"$f":"IF(AY229=0,0,AZ229/AY229)","v":0},{"$f":"IF((AY229+AX229)=0,0,AX229/(AX229+AY229))","v":0},null,null,null,null,null,null,null,null,null,null,null,null,null,null,null,null,null,null,null,null,null,null,null,null,null,null,null,null,null,null,null,null,null,null,null,null,null,null,null,null,null,{"$f":"((L229=\"создание\")*7+(L229=\"расширение\")*7 +(L229=\"внедрение\")*7+(L229=\"строительство\")*4+(L229=\"реконструкция\")*3+(L229=\"капремонт\")*2 +(L229=\"приобретение\")*1+(L229=\"установка\")*1)*10","v":0},null,{"$f":"IF(P229=\"коммунальная инфраструктура\",(L229=\"строительство\")*3+(L229=\"реконструкция\")*2+(L229=\"капремонт\")*1,0)*10","v":0},null,{"$f":"IF(P229=\"коммунальная инфраструктура\",(L229=\"строительство\")*4+(L229=\"реконструкция\")*3+(L229=\"капремонт\")*2,0)*10","v":0}]
[null,null,3,{"$f":"IF(AND(D227<>\"\",G230<>\"\"),D227,\"\")","v":""},{"$f":"IF(AND(E227<>\"\",G230<>\"\"),E227,\"\")","v":""},null,null,null,null,null,null,null,null,null,null,null,null,null,{"$f":"IF(Q230>=2020,R230-Q230+1,\"\")","v":""},null,{"$f":"IF(Q230>=2020,S230*T230,\"\")","v":""},null,null,null,null,null,null,null,null,null,null,null,null,{"$f":"SUM(AI230:AL230)","v":0},null,null,null,null,{"$f":"SUM(AN230:AQ230)","v":0},null,null,null,null,{"$f":"SUM(AS230:AV230)","v":0},null,null,null,null,null,null,{"$f":"SUM(AH230,AM230,AR230)","v":0},{"$f":"SUM(AL230,AQ230,AV230)","v":0},{"$f":"IF(AY230=0,0,AZ230/AY230)","v":0},{"$f":"IF((AY230+AX230)=0,0,AX230/(AX230+AY230))","v":0},null,null,null,null,null,null,null,null,null,null,null,null,null,null,null,null,null,null,null,null,null,null,null,null,null,null,null,null,null,null,null,null,null,null,null,null,null,null,null,null,null,{"$f":"((L230=\"создание\")*7+(L230=\"расширение\")*7 +(L230=\"внедрение\")*7+(L230=\"строительство\")*4+(L230=\"реконструкция\")*3+(L230=\"капремонт\")*2 +(L230=\"приобретение\")*1+(L230=\"установка\")*1)*10","v":0},null,{"$f":"IF(P230=\"коммунальная инфраструктура\",(L230=\"строительство\")*3+(L230=\"реконструкция\")*2+(L230=\"капремонт\")*1,0)*10","v":0},null,{"$f":"IF(P230=\"коммунальная инфраструктура\",(L230=\"строительство\")*4+(L230=\"реконструкция\")*3+(L230=\"капремонт\")*2,0)*10","v":0}]
[null,null,4,{"$f":"IF(AND(D227<>\"\",G231<>\"\"),D227,\"\")","v":""},{"$f":"IF(AND(E227<>\"\",G231<>\"\"),E227,\"\")","v":""},null,null,null,null,null,null,null,null,null,null,null,null,null,{"$f":"IF(Q231>=2020,R231-Q231+1,\"\")","v":""},null,{"$f":"IF(Q231>=2020,S231*T231,\"\")","v":""},null,null,null,null,null,null,null,null,null,null,null,null,{"$f":"SUM(AI231:AL231)","v":0},null,null,null,null,{"$f":"SUM(AN231:AQ231)","v":0},null,null,null,null,{"$f":"SUM(AS231:AV231)","v":0},null,null,null,null,null,null,{"$f":"SUM(AH231,AM231,AR231)","v":0},{"$f":"SUM(AL231,AQ231,AV231)","v":0},{"$f":"IF(AY231=0,0,AZ231/AY231)","v":0},{"$f":"IF((AY231+AX231)=0,0,AX231/(AX231+AY231))","v":0},null,null,null,null,null,null,null,null,null,null,null,null,null,null,null,null,null,null,null,null,null,null,null,null,null,null,null,null,null,null,null,null,null,null,null,null,null,null,null,null,null,{"$f":"((L231=\"создание\")*7+(L231=\"расширение\")*7 +(L231=\"внедрение\")*7+(L231=\"строительство\")*4+(L231=\"реконструкция\")*3+(L231=\"капремонт\")*2 +(L231=\"приобретение\")*1+(L231=\"установка\")*1)*10","v":0},null,{"$f":"IF(P231=\"коммунальная инфраструктура\",(L231=\"строительство\")*3+(L231=\"реконструкция\")*2+(L231=\"капремонт\")*1,0)*10","v":0},null,{"$f":"IF(P231=\"коммунальная инфраструктура\",(L231=\"строительство\")*4+(L231=\"реконструкция\")*3+(L231=\"капремонт\")*2,0)*10","v":0}]
[null,null,5,{"$f":"IF(AND(D227<>\"\",G232<>\"\"),D227,\"\")","v":""},{"$f":"IF(AND(E227<>\"\",G232<>\"\"),E227,\"\")","v":""},null,null,null,null,null,null,null,null,null,null,null,null,null,{"$f":"IF(Q232>=2020,R232-Q232+1,\"\")","v":""},null,{"$f":"IF(Q232>=2020,S232*T232,\"\")","v":""},null,null,null,null,null,null,null,null,null,null,null,null,{"$f":"SUM(AI232:AL232)","v":0},null,null,null,null,{"$f":"SUM(AN232:AQ232)","v":0},null,null,null,null,{"$f":"SUM(AS232:AV232)","v":0},null,null,null,null,null,null,{"$f":"SUM(AH232,AM232,AR232)","v":0},{"$f":"SUM(AL232,AQ232,AV232)","v":0},{"$f":"IF(AY232=0,0,AZ232/AY232)","v":0},{"$f":"IF((AY232+AX232)=0,0,AX232/(AX232+AY232))","v":0},null,null,null,null,null,null,null,null,null,null,null,null,null,null,null,null,null,null,null,null,null,null,null,null,null,null,null,null,null,null,null,null,null,null,null,null,null,null,null,null,null,{"$f":"((L232=\"создание\")*7+(L232=\"расширение\")*7 +(L232=\"внедрение\")*7+(L232=\"строительство\")*4+(L232=\"реконструкция\")*3+(L232=\"капремонт\")*2 +(L232=\"приобретение\")*1+(L232=\"установка\")*1)*10","v":0},null,{"$f":"IF(P232=\"коммунальная инфраструктура\",(L232=\"строительство\")*3+(L232=\"реконструкция\")*2+(L232=\"капремонт\")*1,0)*10","v":0},null,{"$f":"IF(P232=\"коммунальная инфраструктура\",(L232=\"строительство\")*4+(L232=\"реконструкция\")*3+(L232=\"капремонт\")*2,0)*10","v":0}]
[null,null,6,{"$f":"IF(AND(D227<>\"\",G233<>\"\"),D227,\"\")","v":""},{"$f":"IF(AND(E227<>\"\",G233<>\"\"),E227,\"\")","v":""},null,null,null,null,null,null,null,null,null,null,null,null,null,{"$f":"IF(Q233>=2020,R233-Q233+1,\"\")","v":""},null,{"$f":"IF(Q233>=2020,S233*T233,\"\")","v":""},null,null,null,null,null,null,null,null,null,null,null,null,{"$f":"SUM(AI233:AL233)","v":0},null,null,null,null,{"$f":"SUM(AN233:AQ233)","v":0},null,null,null,null,{"$f":"SUM(AS233:AV233)","v":0},null,null,null,null,null,null,{"$f":"SUM(AH233,AM233,AR233)","v":0},{"$f":"SUM(AL233,AQ233,AV233)","v":0},{"$f":"IF(AY233=0,0,AZ233/AY233)","v":0},{"$f":"IF((AY233+AX233)=0,0,AX233/(AX233+AY233))","v":0},null,null,null,null,null,null,null,null,null,null,null,null,null,null,null,null,null,null,null,null,null,null,null,null,null,null,null,null,null,null,null,null,null,null,null,null,null,null,null,null,null,{"$f":"((L233=\"создание\")*7+(L233=\"расширение\")*7 +(L233=\"внедрение\")*7+(L233=\"строительство\")*4+(L233=\"реконструкция\")*3+(L233=\"капремонт\")*2 +(L233=\"приобретение\")*1+(L233=\"установка\")*1)*10","v":0},null,{"$f":"IF(P233=\"коммунальная инфраструктура\",(L233=\"строительство\")*3+(L233=\"реконструкция\")*2+(L233=\"капремонт\")*1,0)*10","v":0},null,{"$f":"IF(P233=\"коммунальная инфраструктура\",(L233=\"строительство\")*4+(L233=\"реконструкция\")*3+(L233=\"капремонт\")*2,0)*10","v":0}]
[null,null,7,{"$f":"IF(AND(D227<>\"\",G234<>\"\"),D227,\"\")","v":""},{"$f":"IF(AND(E227<>\"\",G234<>\"\"),E227,\"\")","v":""},null,null,null,null,null,null,null,null,null,null,null,null,null,{"$f":"IF(Q234>=2020,R234-Q234+1,\"\")","v":""},null,{"$f":"IF(Q234>=2020,S234*T234,\"\")","v":""},null,null,null,null,null,null,null,null,null,null,null,null,{"$f":"SUM(AI234:AL234)","v":0},null,null,null,null,{"$f":"SUM(AN234:AQ234)","v":0},null,null,null,null,{"$f":"SUM(AS234:AV234)","v":0},null,null,null,null,null,null,{"$f":"SUM(AH234,AM234,AR234)","v":0},{"$f":"SUM(AL234,AQ234,AV234)","v":0},{"$f":"IF(AY234=0,0,AZ234/AY234)","v":0},{"$f":"IF((AY234+AX234)=0,0,AX234/(AX234+AY234))","v":0},null,null,null,null,null,null,null,null,null,null,null,null,null,null,null,null,null,null,null,null,null,null,null,null,null,null,null,null,null,null,null,null,null,null,null,null,null,null,null,null,null,{"$f":"((L234=\"создание\")*7+(L234=\"расширение\")*7 +(L234=\"внедрение\")*7+(L234=\"строительство\")*4+(L234=\"реконструкция\")*3+(L234=\"капремонт\")*2 +(L234=\"приобретение\")*1+(L234=\"установка\")*1)*10","v":0},null,{"$f":"IF(P234=\"коммунальная инфраструктура\",(L234=\"строительство\")*3+(L234=\"реконструкция\")*2+(L234=\"капремонт\")*1,0)*10","v":0},null,{"$f":"IF(P234=\"коммунальная инфраструктура\",(L234=\"строительство\")*4+(L234=\"реконструкция\")*3+(L234=\"капремонт\")*2,0)*10","v":0}]
[null,null,8,{"$f":"IF(AND(D227<>\"\",G235<>\"\"),D227,\"\")","v":""},{"$f":"IF(AND(E227<>\"\",G235<>\"\"),E227,\"\")","v":""},null,null,null,null,null,null,null,null,null,null,null,null,null,{"$f":"IF(Q235>=2020,R235-Q235+1,\"\")","v":""},null,{"$f":"IF(Q235>=2020,S235*T235,\"\")","v":""},null,null,null,null,null,null,null,null,null,null,null,null,{"$f":"SUM(AI235:AL235)","v":0},null,null,null,null,{"$f":"SUM(AN235:AQ235)","v":0},null,null,null,null,{"$f":"SUM(AS235:AV235)","v":0},null,null,null,null,null,null,{"$f":"SUM(AH235,AM235,AR235)","v":0},{"$f":"SUM(AL235,AQ235,AV235)","v":0},{"$f":"IF(AY235=0,0,AZ235/AY235)","v":0},{"$f":"IF((AY235+AX235)=0,0,AX235/(AX235+AY235))","v":0},null,null,null,null,null,null,null,null,null,null,null,null,null,null,null,null,null,null,null,null,null,null,null,null,null,null,null,null,null,null,null,null,null,null,null,null,null,null,null,null,null,{"$f":"((L235=\"создание\")*7+(L235=\"расширение\")*7 +(L235=\"внедрение\")*7+(L235=\"строительство\")*4+(L235=\"реконструкция\")*3+(L235=\"капремонт\")*2 +(L235=\"приобретение\")*1+(L235=\"установка\")*1)*10","v":0},null,{"$f":"IF(P235=\"коммунальная инфраструктура\",(L235=\"строительство\")*3+(L235=\"реконструкция\")*2+(L235=\"капремонт\")*1,0)*10","v":0},null,{"$f":"IF(P235=\"коммунальная инфраструктура\",(L235=\"строительство\")*4+(L235=\"реконструкция\")*3+(L235=\"капремонт\")*2,0)*10","v":0}]
[null,null,9,{"$f":"IF(AND(D227<>\"\",G236<>\"\"),D227,\"\")","v":""},{"$f":"IF(AND(E227<>\"\",G236<>\"\"),E227,\"\")","v":""},null,null,null,null,null,null,null,null,null,null,null,null,null,{"$f":"IF(Q236>=2020,R236-Q236+1,\"\")","v":""},null,{"$f":"IF(Q236>=2020,S236*T236,\"\")","v":""},null,null,null,null,null,null,null,null,null,null,null,null,{"$f":"SUM(AI236:AL236)","v":0},null,null,null,null,{"$f":"SUM(AN236:AQ236)","v":0},null,null,null,null,{"$f":"SUM(AS236:AV236)","v":0},null,null,null,null,null,null,{"$f":"SUM(AH236,AM236,AR236)","v":0},{"$f":"SUM(AL236,AQ236,AV236)","v":0},{"$f":"IF(AY236=0,0,AZ236/AY236)","v":0},{"$f":"IF((AY236+AX236)=0,0,AX236/(AX236+AY236))","v":0},null,null,null,null,null,null,null,null,null,null,null,null,null,null,null,null,null,null,null,null,null,null,null,null,null,null,null,null,null,null,null,null,null,null,null,null,null,null,null,null,null,{"$f":"((L236=\"создание\")*7+(L236=\"расширение\")*7 +(L236=\"внедрение\")*7+(L236=\"строительство\")*4+(L236=\"реконструкция\")*3+(L236=\"капремонт\")*2 +(L236=\"приобретение\")*1+(L236=\"установка\")*1)*10","v":0},null,{"$f":"IF(P236=\"коммунальная инфраструктура\",(L236=\"строительство\")*3+(L236=\"реконструкция\")*2+(L236=\"капремонт\")*1,0)*10","v":0},null,{"$f":"IF(P236=\"коммунальная инфраструктура\",(L236=\"строительство\")*4+(L236=\"реконструкция\")*3+(L236=\"капремонт\")*2,0)*10","v":0}]
[null,null,10,{"$f":"IF(AND(D227<>\"\",G237<>\"\"),D227,\"\")","v":""},{"$f":"IF(AND(E227<>\"\",G237<>\"\"),E227,\"\")","v":""},null,null,null,null,null,null,null,null,null,null,null,null,null,{"$f":"IF(Q237>=2020,R237-Q237+1,\"\")","v":""},null,{"$f":"IF(Q237>=2020,S237*T237,\"\")","v":""},null,null,null,null,null,null,null,null,null,null,null,null,{"$f":"SUM(AI237:AL237)","v":0},null,null,null,null,{"$f":"SUM(AN237:AQ237)","v":0},null,null,null,null,{"$f":"SUM(AS237:AV237)","v":0},null,null,null,null,null,null,{"$f":"SUM(AH237,AM237,AR237)","v":0},{"$f":"SUM(AL237,AQ237,AV237)","v":0},{"$f":"IF(AY237=0,0,AZ237/AY237)","v":0},{"$f":"IF((AY237+AX237)=0,0,AX237/(AX237+AY237))","v":0},null,null,null,null,null,null,null,null,null,null,null,null,null,null,null,null,null,null,null,null,null,null,null,null,null,null,null,null,null,null,null,null,null,null,null,null,null,null,null,null,null,{"$f":"((L237=\"создание\")*7+(L237=\"расширение\")*7 +(L237=\"внедрение\")*7+(L237=\"строительство\")*4+(L237=\"реконструкция\")*3+(L237=\"капремонт\")*2 +(L237=\"приобретение\")*1+(L237=\"установка\")*1)*10","v":0},null,{"$f":"IF(P237=\"коммунальная инфраструктура\",(L237=\"строительство\")*3+(L237=\"реконструкция\")*2+(L237=\"капремонт\")*1,0)*10","v":0},null,{"$f":"IF(P237=\"коммунальная инфраструктура\",(L237=\"строительство\")*4+(L237=\"реконструкция\")*3+(L237=\"капремонт\")*2,0)*10","v":0}]
[null,null,11,{"$f":"IF(AND(D227<>\"\",G238<>\"\"),D227,\"\")","v":""},{"$f":"IF(AND(E227<>\"\",G238<>\"\"),E227,\"\")","v":""},null,null,null,null,null,null,null,null,null,null,null,null,null,{"$f":"IF(Q238>=2020,R238-Q238+1,\"\")","v":""},null,{"$f":"IF(Q238>=2020,S238*T238,\"\")","v":""},null,null,null,null,null,null,null,null,null,null,null,null,{"$f":"SUM(AI238:AL238)","v":0},null,null,null,null,{"$f":"SUM(AN238:AQ238)","v":0},null,null,null,null,{"$f":"SUM(AS238:AV238)","v":0},null,null,null,null,null,null,{"$f":"SUM(AH238,AM238,AR238)","v":0},{"$f":"SUM(AL238,AQ238,AV238)","v":0},{"$f":"IF(AY238=0,0,AZ238/AY238)","v":0},{"$f":"IF((AY238+AX238)=0,0,AX238/(AX238+AY238))","v":0},null,null,null,null,null,null,null,null,null,null,null,null,null,null,null,null,null,null,null,null,null,null,null,null,null,null,null,null,null,null,null,null,null,null,null,null,null,null,null,null,null,{"$f":"((L238=\"создание\")*7+(L238=\"расширение\")*7 +(L238=\"внедрение\")*7+(L238=\"строительство\")*4+(L238=\"реконструкция\")*3+(L238=\"капремонт\")*2 +(L238=\"приобретение\")*1+(L238=\"установка\")*1)*10","v":0},null,{"$f":"IF(P238=\"коммунальная инфраструктура\",(L238=\"строительство\")*3+(L238=\"реконструкция\")*2+(L238=\"капремонт\")*1,0)*10","v":0},null,{"$f":"IF(P238=\"коммунальная инфраструктура\",(L238=\"строительство\")*4+(L238=\"реконструкция\")*3+(L238=\"капремонт\")*2,0)*10","v":0}]
[null,null,12,{"$f":"IF(AND(D227<>\"\",G239<>\"\"),D227,\"\")","v":""},{"$f":"IF(AND(E227<>\"\",G239<>\"\"),E227,\"\")","v":""},null,null,null,null,null,null,null,null,null,null,null,null,null,{"$f":"IF(Q239>=2020,R239-Q239+1,\"\")","v":""},null,{"$f":"IF(Q239>=2020,S239*T239,\"\")","v":""},null,null,null,null,null,null,null,null,null,null,null,null,{"$f":"SUM(AI239:AL239)","v":0},null,null,null,null,{"$f":"SUM(AN239:AQ239)","v":0},null,null,null,null,{"$f":"SUM(AS239:AV239)","v":0},null,null,null,null,null,null,{"$f":"SUM(AH239,AM239,AR239)","v":0},{"$f":"SUM(AL239,AQ239,AV239)","v":0},{"$f":"IF(AY239=0,0,AZ239/AY239)","v":0},{"$f":"IF((AY239+AX239)=0,0,AX239/(AX239+AY239))","v":0},null,null,null,null,null,null,null,null,null,null,null,null,null,null,null,null,null,null,null,null,null,null,null,null,null,null,null,null,null,null,null,null,null,null,null,null,null,null,null,null,null,{"$f":"((L239=\"создание\")*7+(L239=\"расширение\")*7 +(L239=\"внедрение\")*7+(L239=\"строительство\")*4+(L239=\"реконструкция\")*3+(L239=\"капремонт\")*2 +(L239=\"приобретение\")*1+(L239=\"установка\")*1)*10","v":0},null,{"$f":"IF(P239=\"коммунальная инфраструктура\",(L239=\"строительство\")*3+(L239=\"реконструкция\")*2+(L239=\"капремонт\")*1,0)*10","v":0},null,{"$f":"IF(P239=\"коммунальная инфраструктура\",(L239=\"строительство\")*4+(L239=\"реконструкция\")*3+(L239=\"капремонт\")*2,0)*10","v":0}]
[null,null,13,{"$f":"IF(AND(D227<>\"\",G240<>\"\"),D227,\"\")","v":""},{"$f":"IF(AND(E227<>\"\",G240<>\"\"),E227,\"\")","v":""},null,null,null,null,null,null,null,null,null,null,null,null,null,{"$f":"IF(Q240>=2020,R240-Q240+1,\"\")","v":""},null,{"$f":"IF(Q240>=2020,S240*T240,\"\")","v":""},null,null,null,null,null,null,null,null,null,null,null,null,{"$f":"SUM(AI240:AL240)","v":0},null,null,null,null,{"$f":"SUM(AN240:AQ240)","v":0},null,null,null,null,{"$f":"SUM(AS240:AV240)","v":0},null,null,null,null,null,null,{"$f":"SUM(AH240,AM240,AR240)","v":0},{"$f":"SUM(AL240,AQ240,AV240)","v":0},{"$f":"IF(AY240=0,0,AZ240/AY240)","v":0},{"$f":"IF((AY240+AX240)=0,0,AX240/(AX240+AY240))","v":0},null,null,null,null,null,null,null,null,null,null,null,null,null,null,null,null,null,null,null,null,null,null,null,null,null,null,null,null,null,null,null,null,null,null,null,null,null,null,null,null,null,{"$f":"((L240=\"создание\")*7+(L240=\"расширение\")*7 +(L240=\"внедрение\")*7+(L240=\"строительство\")*4+(L240=\"реконструкция\")*3+(L240=\"капремонт\")*2 +(L240=\"приобретение\")*1+(L240=\"установка\")*1)*10","v":0},null,{"$f":"IF(P240=\"коммунальная инфраструктура\",(L240=\"строительство\")*3+(L240=\"реконструкция\")*2+(L240=\"капремонт\")*1,0)*10","v":0},null,{"$f":"IF(P240=\"коммунальная инфраструктура\",(L240=\"строительство\")*4+(L240=\"реконструкция\")*3+(L240=\"капремонт\")*2,0)*10","v":0}]
[null,null,14,{"$f":"IF(AND(D227<>\"\",G241<>\"\"),D227,\"\")","v":""},{"$f":"IF(AND(E227<>\"\",G241<>\"\"),E227,\"\")","v":""},null,null,null,null,null,null,null,null,null,null,null,null,null,{"$f":"IF(Q241>=2020,R241-Q241+1,\"\")","v":""},null,{"$f":"IF(Q241>=2020,S241*T241,\"\")","v":""},null,null,null,null,null,null,null,null,null,null,null,null,{"$f":"SUM(AI241:AL241)","v":0},null,null,null,null,{"$f":"SUM(AN241:AQ241)","v":0},null,null,null,null,{"$f":"SUM(AS241:AV241)","v":0},null,null,null,null,null,null,{"$f":"SUM(AH241,AM241,AR241)","v":0},{"$f":"SUM(AL241,AQ241,AV241)","v":0},{"$f":"IF(AY241=0,0,AZ241/AY241)","v":0},{"$f":"IF((AY241+AX241)=0,0,AX241/(AX241+AY241))","v":0},null,null,null,null,null,null,null,null,null,null,null,null,null,null,null,null,null,null,null,null,null,null,null,null,null,null,null,null,null,null,null,null,null,null,null,null,null,null,null,null,null,{"$f":"((L241=\"создание\")*7+(L241=\"расширение\")*7 +(L241=\"внедрение\")*7+(L241=\"строительство\")*4+(L241=\"реконструкция\")*3+(L241=\"капремонт\")*2 +(L241=\"приобретение\")*1+(L241=\"установка\")*1)*10","v":0},null,{"$f":"IF(P241=\"коммунальная инфраструктура\",(L241=\"строительство\")*3+(L241=\"реконструкция\")*2+(L241=\"капремонт\")*1,0)*10","v":0},null,{"$f":"IF(P241=\"коммунальная инфраструктура\",(L241=\"строительство\")*4+(L241=\"реконструкция\")*3+(L241=\"капремонт\")*2,0)*10","v":0}]
[null,null,15,{"$f":"IF(AND(D227<>\"\",G242<>\"\"),D227,\"\")","v":""},{"$f":"IF(AND(E227<>\"\",G242<>\"\"),E227,\"\")","v":""},null,null,null,null,null,null,null,null,null,null,null,null,null,{"$f":"IF(Q242>=2020,R242-Q242+1,\"\")","v":""},null,{"$f":"IF(Q242>=2020,S242*T242,\"\")","v":""},null,null,null,null,null,null,null,null,null,null,null,null,{"$f":"SUM(AI242:AL242)","v":0},null,null,null,null,{"$f":"SUM(AN242:AQ242)","v":0},null,null,null,null,{"$f":"SUM(AS242:AV242)","v":0},null,null,null,null,null,null,{"$f":"SUM(AH242,AM242,AR242)","v":0},{"$f":"SUM(AL242,AQ242,AV242)","v":0},{"$f":"IF(AY242=0,0,AZ242/AY242)","v":0},{"$f":"IF((AY242+AX242)=0,0,AX242/(AX242+AY242))","v":0},null,null,null,null,null,null,null,null,null,null,null,null,null,null,null,null,null,null,null,null,null,null,null,null,null,null,null,null,null,null,null,null,null,null,null,null,null,null,null,null,null,{"$f":"((L242=\"создание\")*7+(L242=\"расширение\")*7 +(L242=\"внедрение\")*7+(L242=\"строительство\")*4+(L242=\"реконструкция\")*3+(L242=\"капремонт\")*2 +(L242=\"приобретение\")*1+(L242=\"установка\")*1)*10","v":0},null,{"$f":"IF(P242=\"коммунальная инфраструктура\",(L242=\"строительство\")*3+(L242=\"реконструкция\")*2+(L242=\"капремонт\")*1,0)*10","v":0},null,{"$f":"IF(P242=\"коммунальная инфраструктура\",(L242=\"строительство\")*4+(L242=\"реконструкция\")*3+(L242=\"капремонт\")*2,0)*10","v":0}]
[null,null,16,{"$f":"IF(AND(D227<>\"\",G243<>\"\"),D227,\"\")","v":""},{"$f":"IF(AND(E227<>\"\",G243<>\"\"),E227,\"\")","v":""},null,null,null,null,null,null,null,null,null,null,null,null,null,{"$f":"IF(Q243>=2020,R243-Q243+1,\"\")","v":""},null,{"$f":"IF(Q243>=2020,S243*T243,\"\")","v":""},null,null,null,null,null,null,null,null,null,null,null,null,{"$f":"SUM(AI243:AL243)","v":0},null,null,null,null,{"$f":"SUM(AN243:AQ243)","v":0},null,null,null,null,{"$f":"SUM(AS243:AV243)","v":0},null,null,null,null,null,null,{"$f":"SUM(AH243,AM243,AR243)","v":0},{"$f":"SUM(AL243,AQ243,AV243)","v":0},{"$f":"IF(AY243=0,0,AZ243/AY243)","v":0},{"$f":"IF((AY243+AX243)=0,0,AX243/(AX243+AY243))","v":0},null,null,null,null,null,null,null,null,null,null,null,null,null,null,null,null,null,null,null,null,null,null,null,null,null,null,null,null,null,null,null,null,null,null,null,null,null,null,null,null,null,{"$f":"((L243=\"создание\")*7+(L243=\"расширение\")*7 +(L243=\"внедрение\")*7+(L243=\"строительство\")*4+(L243=\"реконструкция\")*3+(L243=\"капремонт\")*2 +(L243=\"приобретение\")*1+(L243=\"установка\")*1)*10","v":0},null,{"$f":"IF(P243=\"коммунальная инфраструктура\",(L243=\"строительство\")*3+(L243=\"реконструкция\")*2+(L243=\"капремонт\")*1,0)*10","v":0},null,{"$f":"IF(P243=\"коммунальная инфраструктура\",(L243=\"строительство\")*4+(L243=\"реконструкция\")*3+(L243=\"капремонт\")*2,0)*10","v":0}]
[null,null,17,{"$f":"IF(AND(D227<>\"\",G244<>\"\"),D227,\"\")","v":""},{"$f":"IF(AND(E227<>\"\",G244<>\"\"),E227,\"\")","v":""},null,null,null,null,null,null,null,null,null,null,null,null,null,{"$f":"IF(Q244>=2020,R244-Q244+1,\"\")","v":""},null,{"$f":"IF(Q244>=2020,S244*T244,\"\")","v":""},null,null,null,null,null,null,null,null,null,null,null,null,{"$f":"SUM(AI244:AL244)","v":0},null,null,null,null,{"$f":"SUM(AN244:AQ244)","v":0},null,null,null,null,{"$f":"SUM(AS244:AV244)","v":0},null,null,null,null,null,null,{"$f":"SUM(AH244,AM244,AR244)","v":0},{"$f":"SUM(AL244,AQ244,AV244)","v":0},{"$f":"IF(AY244=0,0,AZ244/AY244)","v":0},{"$f":"IF((AY244+AX244)=0,0,AX244/(AX244+AY244))","v":0},null,null,null,null,null,null,null,null,null,null,null,null,null,null,null,null,null,null,null,null,null,null,null,null,null,null,null,null,null,null,null,null,null,null,null,null,null,null,null,null,null,{"$f":"((L244=\"создание\")*7+(L244=\"расширение\")*7 +(L244=\"внедрение\")*7+(L244=\"строительство\")*4+(L244=\"реконструкция\")*3+(L244=\"капремонт\")*2 +(L244=\"приобретение\")*1+(L244=\"установка\")*1)*10","v":0},null,{"$f":"IF(P244=\"коммунальная инфраструктура\",(L244=\"строительство\")*3+(L244=\"реконструкция\")*2+(L244=\"капремонт\")*1,0)*10","v":0},null,{"$f":"IF(P244=\"коммунальная инфраструктура\",(L244=\"строительство\")*4+(L244=\"реконструкция\")*3+(L244=\"капремонт\")*2,0)*10","v":0}]
[null,null,18,{"$f":"IF(AND(D227<>\"\",G245<>\"\"),D227,\"\")","v":""},{"$f":"IF(AND(E227<>\"\",G245<>\"\"),E227,\"\")","v":""},null,null,null,null,null,null,null,null,null,null,null,null,null,{"$f":"IF(Q245>=2020,R245-Q245+1,\"\")","v":""},null,{"$f":"IF(Q245>=2020,S245*T245,\"\")","v":""},null,null,null,null,null,null,null,null,null,null,null,null,{"$f":"SUM(AI245:AL245)","v":0},null,null,null,null,{"$f":"SUM(AN245:AQ245)","v":0},null,null,null,null,{"$f":"SUM(AS245:AV245)","v":0},null,null,null,null,null,null,{"$f":"SUM(AH245,AM245,AR245)","v":0},{"$f":"SUM(AL245,AQ245,AV245)","v":0},{"$f":"IF(AY245=0,0,AZ245/AY245)","v":0},{"$f":"IF((AY245+AX245)=0,0,AX245/(AX245+AY245))","v":0},null,null,null,null,null,null,null,null,null,null,null,null,null,null,null,null,null,null,null,null,null,null,null,null,null,null,null,null,null,null,null,null,null,null,null,null,null,null,null,null,null,{"$f":"((L245=\"создание\")*7+(L245=\"расширение\")*7 +(L245=\"внедрение\")*7+(L245=\"строительство\")*4+(L245=\"реконструкция\")*3+(L245=\"капремонт\")*2 +(L245=\"приобретение\")*1+(L245=\"установка\")*1)*10","v":0},null,{"$f":"IF(P245=\"коммунальная инфраструктура\",(L245=\"строительство\")*3+(L245=\"реконструкция\")*2+(L245=\"капремонт\")*1,0)*10","v":0},null,{"$f":"IF(P245=\"коммунальная инфраструктура\",(L245=\"строительство\")*4+(L245=\"реконструкция\")*3+(L245=\"капремонт\")*2,0)*10","v":0}]
[null,null,19,{"$f":"IF(AND(D227<>\"\",G246<>\"\"),D227,\"\")","v":""},{"$f":"IF(AND(E227<>\"\",G246<>\"\"),E227,\"\")","v":""},null,null,null,null,null,null,null,null,null,null,null,null,null,{"$f":"IF(Q246>=2020,R246-Q246+1,\"\")","v":""},null,{"$f":"IF(Q246>=2020,S246*T246,\"\")","v":""},null,null,null,null,null,null,null,null,null,null,null,null,{"$f":"SUM(AI246:AL246)","v":0},null,null,null,null,{"$f":"SUM(AN246:AQ246)","v":0},null,null,null,null,{"$f":"SUM(AS246:AV246)","v":0},null,null,null,null,null,null,{"$f":"SUM(AH246,AM246,AR246)","v":0},{"$f":"SUM(AL246,AQ246,AV246)","v":0},{"$f":"IF(AY246=0,0,AZ246/AY246)","v":0},{"$f":"IF((AY246+AX246)=0,0,AX246/(AX246+AY246))","v":0},null,null,null,null,null,null,null,null,null,null,null,null,null,null,null,null,null,null,null,null,null,null,null,null,null,null,null,null,null,null,null,null,null,null,null,null,null,null,null,null,null,{"$f":"((L246=\"создание\")*7+(L246=\"расширение\")*7 +(L246=\"внедрение\")*7+(L246=\"строительство\")*4+(L246=\"реконструкция\")*3+(L246=\"капремонт\")*2 +(L246=\"приобретение\")*1+(L246=\"установка\")*1)*10","v":0},null,{"$f":"IF(P246=\"коммунальная инфраструктура\",(L246=\"строительство\")*3+(L246=\"реконструкция\")*2+(L246=\"капремонт\")*1,0)*10","v":0},null,{"$f":"IF(P246=\"коммунальная инфраструктура\",(L246=\"строительство\")*4+(L246=\"реконструкция\")*3+(L246=\"капремонт\")*2,0)*10","v":0}]
[null,null,20,{"$f":"IF(AND(D227<>\"\",G247<>\"\"),D227,\"\")","v":""},{"$f":"IF(AND(E227<>\"\",G247<>\"\"),E227,\"\")","v":""},null,null,null,null,null,null,null,null,null,null,null,null,null,{"$f":"IF(Q247>=2020,R247-Q247+1,\"\")","v":""},null,{"$f":"IF(Q247>=2020,S247*T247,\"\")","v":""},null,null,null,null,null,null,null,null,null,null,null,null,{"$f":"SUM(AI247:AL247)","v":0},null,null,null,null,{"$f":"SUM(AN247:AQ247)","v":0},null,null,null,null,{"$f":"SUM(AS247:AV247)","v":0},null,null,null,null,null,null,{"$f":"SUM(AH247,AM247,AR247)","v":0},{"$f":"SUM(AL247,AQ247,AV247)","v":0},{"$f":"IF(AY247=0,0,AZ247/AY247)","v":0},{"$f":"IF((AY247+AX247)=0,0,AX247/(AX247+AY247))","v":0},null,null,null,null,null,null,null,null,null,null,null,null,null,null,null,null,null,null,null,null,null,null,null,null,null,null,null,null,null,null,null,null,null,null,null,null,null,null,null,null,null,{"$f":"((L247=\"создание\")*7+(L247=\"расширение\")*7 +(L247=\"внедрение\")*7+(L247=\"строительство\")*4+(L247=\"реконструкция\")*3+(L247=\"капремонт\")*2 +(L247=\"приобретение\")*1+(L247=\"установка\")*1)*10","v":0},null,{"$f":"IF(P247=\"коммунальная инфраструктура\",(L247=\"строительство\")*3+(L247=\"реконструкция\")*2+(L247=\"капремонт\")*1,0)*10","v":0},null,{"$f":"IF(P247=\"коммунальная инфраструктура\",(L247=\"строительство\")*4+(L247=\"реконструкция\")*3+(L247=\"капремонт\")*2,0)*10","v":0}]
[null,null,"…",{"$f":"IF(AND(D227<>\"\",G248<>\"\"),D227,\"\")","v":""},{"$f":"IF(AND(E227<>\"\",G248<>\"\"),E227,\"\")","v":""},null,null,null,null,null,null,null,null,null,null,null,null,null,{"$f":"IF(Q248>=2020,R248-Q248+1,\"\")","v":""},null,{"$f":"IF(Q248>=2020,S248*T248,\"\")","v":""},null,null,null,null,null,null,null,null,null,null,null,null,{"$f":"SUM(AI248:AL248)","v":0},null,null,null,null,{"$f":"SUM(AN248:AQ248)","v":0},null,null,null,null,{"$f":"SUM(AS248:AV248)","v":0},null,null,null,null,null,null,{"$f":"SUM(AH248,AM248,AR248)","v":0},{"$f":"SUM(AL248,AQ248,AV248)","v":0},{"$f":"IF(AY248=0,0,AZ248/AY248)","v":0},{"$f":"IF((AY248+AX248)=0,0,AX248/(AX248+AY248))","v":0},null,null,null,null,null,null,null,null,null,null,null,null,null,null,null,null,null,null,null,null,null,null,null,null,null,null,null,null,null,null,null,null,null,null,null,null,null,null,null,null,null,{"$f":"((L248=\"создание\")*7+(L248=\"расширение\")*7 +(L248=\"внедрение\")*7+(L248=\"строительство\")*4+(L248=\"реконструкция\")*3+(L248=\"капремонт\")*2 +(L248=\"приобретение\")*1+(L248=\"установка\")*1)*10","v":0},null,{"$f":"IF(P248=\"коммунальная инфраструктура\",(L248=\"строительство\")*3+(L248=\"реконструкция\")*2+(L248=\"капремонт\")*1,0)*10","v":0},null,{"$f":"IF(P248=\"коммунальная инфраструктура\",(L248=\"строительство\")*4+(L248=\"реконструкция\")*3+(L248=\"капремонт\")*2,0)*10","v":0}]
[12,null,{"$f":"COUNTA(G250:G270)","v":0},null,null,null,null,null,null,null,null,null,null,null,null,null,{"$f":"MIN(Q250:Q270)","v":0},{"$f":"MAX(R250:R270)","v":0},{"$f":"MAX(S250:S270)","v":0},null,{"$f":"MAX(U250:U270)","v":0},null,null,null,null,null,{"$f":"IF(COUNTIF(AA250:AA270,\"НЕТ\")>0,\"ПД!\",\"ок\")","v":"ок"},null,{"$f":"IF(COUNTIF(AC250:AC270,\"НЕТ\")>0,\"ДОСМ!\",\"ок\")","v":"ок"},null,{"$f":"IF(COUNTIF(AE250:AE270,\"НЕТ\")>0,\"ФОИВ!\",\"ок\")","v":"ок"},{"$f":"IF(COUNTIF(AF250:AF270,\"НЕТ\")>0,\"ФОИВ!\",\"ок\")","v":"ок"},null,{"$f":"SUM(AH250:AH270)","v":0},{"$f":"SUM(AI250:AI270)","v":0},{"$f":"SUM(AJ250:AJ270)","v":0},{"$f":"SUM(AK250:AK270)","v":0},{"$f":"SUM(AL250:AL270)","v":0},{"$f":"SUM(AM250:AM270)","v":0},{"$f":"SUM(AN250:AN270)","v":0},{"$f":"SUM(AO250:AO270)","v":0},{"$f":"SUM(AP250:AP270)","v":0},{"$f":"SUM(AQ250:AQ270)","v":0},{"$f":"SUM(AR250:AR270)","v":0},{"$f":"SUM(AS250:AS270)","v":0},{"$f":"SUM(AT250:AT270)","v":0},{"$f":"SUM(AU250:AU270)","v":0},{"$f":"SUM(AV250:AV270)","v":0},{"$f":"SUM(AW250:AW270)","v":0},{"$f":"SUM(AX250:AX270)","v":0},{"$f":"SUM(AH249,AM249,AR249)","v":0},{"$f":"AL249+AQ249+AV249","v":0},{"$f":"IF(AY249=0,0,AZ249/AY249)","v":0},{"$f":"IF((AY249+AX249)=0,0,AX249/(AX249+AY249))","v":0},null,null,{"$f":"IFERROR(BD249/BC249,0)","v":0},null,null,{"$f":"IFERROR(BG249/BF249,0)","v":0},null,null,{"$f":"IFERROR(BJ249/BI249,0)","v":0},null,null,null,{"$f":"(SUM(BL249:BN249)>0)*1+(SUM(BL249:BN249)>=10)*1+(SUM(BL249:BN249)>=50)*1+(SUM(BL249:BN249)>=100)*1+(SUM(BL249:BN249)>=200)*1+(SUM(BL249:BN249)>=300)*1","v":0},{"$f":"IFERROR(SUM(BL249:BN249)/BC249,0)","v":0},null,null,{"$f":"IFERROR(BQ249/BR249,0)","v":0},{"$f":"IF(BA249<0.01,0,IF(BA249>=0.1,10,ROUNDDOWN(BA249/0.01,0)))","v":0},8,{"$f":"BT249*BU249","v":0},{"$f":"IF(BB249<0.01,0,IF(BB249>=0.1,10,ROUNDDOWN(BB249/0.01,0)))","v":0},8,{"$f":"BW249*BX249","v":0},{"$f":"IF(U249<=1,9,IF(U249<=2,6,IF(U249<=3,3,0)))*(C249>0)","v":0},6,{"$f":"BZ249*CA249","v":0},{"$f":"IF(BH249<0.51,0,10)","v":0},7,{"$f":"CC249*CD249","v":0},{"$f":"IF(BE249<0.1,0,IF(BE249>=0.9,10,ROUNDDOWN(BE249/0.1,0)))","v":0},10,{"$f":"CF249*CG249","v":0},{"$f":"IF(BK249<0.1,0,IF(BK249>=0.6,10,ROUNDDOWN(BK249/0.1,0)))","v":0},8,{"$f":"CI249*CJ249","v":0},{"$f":"IF(BP249<0.05,0,IF(BP249>=0.1,10,1))","v":0},10,{"$f":"CL249*CM249","v":0},{"$f":"IF(BS249<0.1,0,IF(BS249>=0.8,10,ROUNDDOWN(BS249/0.1,0)))","v":0},10,{"$f":"CP249*CO249","v":0},{"$f":"ROUND(IF(C249=0,0,SUM(CR250:CR270)/C249),1)","v":0},{"$f":"((SUM(BL249:BN249)>=1)*1+(SUM(BL249:BN249)>=11)*1+(SUM(BL249:BN249)>=51)*3+(SUM(BL249:BN249)>=101)*2+(SUM(BL249:BN249)>=201)*2+(SUM(BL249:BN249)>=301)*4)*10","v":0},{"$f":"IFERROR(ROUND(SUM(CT250:CT270)/COUNTIF(P250:P270,\"коммунальная инфраструктура\"),1),0)","v":0},{"$f":"CS249+CT249","v":0},{"$f":"IFERROR(ROUND(SUM(CV250:CV270)/COUNTIF(P250:P270,\"коммунальная инфраструктура\"),1),0)","v":0},{"$f":"SUM(BV249,BY249,CB249,CE249,CH249,CK249,CN249,CQ249,CR249,CU249,CV249)","v":0},{"$f":"VLOOKUP(D249,РегионыФО,2,0)","v":{"$error":"#N/A"}}]
[null,null,1,{"$f":"IF(AND(D249<>\"\",G250<>\"\"),D249,\"\")","v":""},{"$f":"IF(AND(E249<>\"\",G250<>\"\"),E249,\"\")","v":""},null,null,null,null,null,null,null,null,null,null,null,null,null,{"$f":"IF(Q250>=2020,R250-Q250+1,\"\")","v":""},null,{"$f":"IF(Q250>=2020,ROUNDUP(S250*T250,0),\"\")","v":""},null,null,null,null,null,null,null,null,null,null,null,null,{"$f":"SUM(AI250:AL250)","v":0},null,null,null,null,{"$f":"SUM(AN250:AQ250)","v":0},null,null,null,null,{"$f":"SUM(AS250:AV250)","v":0},null,null,null,null,null,null,{"$f":"SUM(AH250,AM250,AR250)","v":0},{"$f":"SUM(AL250,AQ250,AV250)","v":0},{"$f":"IF(AY250=0,0,AZ250/AY250)","v":0},{"$f":"IF((AY250+AX250)=0,0,AX250/(AX250+AY250))","v":0},null,null,null,null,null,null,null,null,null,null,null,null,null,null,null,null,null,null,null,null,null,null,null,null,null,null,null,null,null,null,null,null,null,null,null,null,null,null,null,null,null,{"$f":"((L250=\"создание\")*7+(L250=\"расширение\")*7 +(L250=\"внедрение\")*7+(L250=\"строительство\")*4+(L250=\"реконструкция\")*3+(L250=\"капремонт\")*2 +(L250=\"приобретение\")*1+(L250=\"установка\")*1)*10","v":0},null,{"$f":"IF(P250=\"коммунальная инфраструктура\",(L250=\"строительство\")*3+(L250=\"реконструкция\")*2+(L250=\"капремонт\")*1,0)*10","v":0},null,{"$f":"IF(P250=\"коммунальная инфраструктура\",(L250=\"строительство\")*4+(L250=\"реконструкция\")*3+(L250=\"капремонт\")*2,0)*10","v":0}]
[null,null,11,{"$f":"IF(AND(D249<>\"\",G260<>\"\"),D249,\"\")","v":""},{"$f":"IF(AND(E249<>\"\",G260<>\"\"),E249,\"\")","v":""},null,null,null,null,null,null,null,null,null,null,null,null,null,{"$f":"IF(Q260>=2020,R260-Q260+1,\"\")","v":""},null,{"$f":"IF(Q260>=2020,S260*T260,\"\")","v":""},null,null,null,null,null,null,null,null,null,null,null,null,{"$f":"SUM(AI260:AL260)","v":0},null,null,null,null,{"$f":"SUM(AN260:AQ260)","v":0},null,null,null,null,{"$f":"SUM(AS260:AV260)","v":0},null,null,null,null,null,null,{"$f":"SUM(AH260,AM260,AR260)","v":0},{"$f":"SUM(AL260,AQ260,AV260)","v":0},{"$f":"IF(AY260=0,0,AZ260/AY260)","v":0},{"$f":"IF((AY260+AX260)=0,0,AX260/(AX260+AY260))","v":0},null,null,null,null,null,null,null,null,null,null,null,null,null,null,null,null,null,null,null,null,null,null,null,null,null,null,null,null,null,null,null,null,null,null,null,null,null,null,null,null,null,{"$f":"((L260=\"создание\")*7+(L260=\"расширение\")*7 +(L260=\"внедрение\")*7+(L260=\"строительство\")*4+(L260=\"реконструкция\")*3+(L260=\"капремонт\")*2 +(L260=\"приобретение\")*1+(L260=\"установка\")*1)*10","v":0},null,{"$f":"IF(P260=\"коммунальная инфраструктура\",(L260=\"строительство\")*3+(L260=\"реконструкция\")*2+(L260=\"капремонт\")*1,0)*10","v":0},null,{"$f":"IF(P260=\"коммунальная инфраструктура\",(L260=\"строительство\")*4+(L260=\"реконструкция\")*3+(L260=\"капремонт\")*2,0)*10","v":0}]
[null,null,6,{"$f":"IF(AND(D271<>\"\",G277<>\"\"),D271,\"\")","v":""},{"$f":"IF(AND(E271<>\"\",G277<>\"\"),E271,\"\")","v":""},null,null,null,null,null,null,null,null,null,null,null,null,null,{"$f":"IF(Q277>=2020,R277-Q277+1,\"\")","v":""},null,{"$f":"IF(Q277>=2020,S277*T277,\"\")","v":""},null,null,null,null,null,null,null,null,null,null,null,null,{"$f":"SUM(AI277:AL277)","v":0},null,null,null,null,{"$f":"SUM(AN277:AQ277)","v":0},null,null,null,null,{"$f":"SUM(AS277:AV277)","v":0},null,null,null,null,null,null,{"$f":"SUM(AH277,AM277,AR277)","v":0},{"$f":"SUM(AL277,AQ277,AV277)","v":0},{"$f":"IF(AY277=0,0,AZ277/AY277)","v":0},{"$f":"IF((AY277+AX277)=0,0,AX277/(AX277+AY277))","v":0},null,null,null,null,null,null,null,null,null,null,null,null,null,null,null,null,null,null,null,null,null,null,null,null,null,null,null,null,null,null,null,null,null,null,null,null,null,null,null,null,null,{"$f":"((L277=\"создание\")*7+(L277=\"расширение\")*7 +(L277=\"внедрение\")*7+(L277=\"строительство\")*4+(L277=\"реконструкция\")*3+(L277=\"капремонт\")*2 +(L277=\"приобретение\")*1+(L277=\"установка\")*1)*10","v":0},null,{"$f":"IF(P277=\"коммунальная инфраструктура\",(L277=\"строительство\")*3+(L277=\"реконструкция\")*2+(L277=\"капремонт\")*1,0)*10","v":0},null,{"$f":"IF(P277=\"коммунальная инфраструктура\",(L277=\"строительство\")*4+(L277=\"реконструкция\")*3+(L277=\"капремонт\")*2,0)*10","v":0}]
[null,null,16,{"$f":"IF(AND(D271<>\"\",G287<>\"\"),D271,\"\")","v":""},{"$f":"IF(AND(E271<>\"\",G287<>\"\"),E271,\"\")","v":""},null,null,null,null,null,null,null,null,null,null,null,null,null,{"$f":"IF(Q287>=2020,R287-Q287+1,\"\")","v":""},null,{"$f":"IF(Q287>=2020,S287*T287,\"\")","v":""},null,null,null,null,null,null,null,null,null,null,null,null,{"$f":"SUM(AI287:AL287)","v":0},null,null,null,null,{"$f":"SUM(AN287:AQ287)","v":0},null,null,null,null,{"$f":"SUM(AS287:AV287)","v":0},null,null,null,null,null,null,{"$f":"SUM(AH287,AM287,AR287)","v":0},{"$f":"SUM(AL287,AQ287,AV287)","v":0},{"$f":"IF(AY287=0,0,AZ287/AY287)","v":0},{"$f":"IF((AY287+AX287)=0,0,AX287/(AX287+AY287))","v":0},null,null,null,null,null,null,null,null,null,null,null,null,null,null,null,null,null,null,null,null,null,null,null,null,null,null,null,null,null,null,null,null,null,null,null,null,null,null,null,null,null,{"$f":"((L287=\"создание\")*7+(L287=\"расширение\")*7 +(L287=\"внедрение\")*7+(L287=\"строительство\")*4+(L287=\"реконструкция\")*3+(L287=\"капремонт\")*2 +(L287=\"приобретение\")*1+(L287=\"установка\")*1)*10","v":0},null,{"$f":"IF(P287=\"коммунальная инфраструктура\",(L287=\"строительство\")*3+(L287=\"реконструкция\")*2+(L287=\"капремонт\")*1,0)*10","v":0},null,{"$f":"IF(P287=\"коммунальная инфраструктура\",(L287=\"строительство\")*4+(L287=\"реконструкция\")*3+(L287=\"капремонт\")*2,0)*10","v":0}]
[null,null,19,{"$f":"IF(AND(D293<>\"\",G312<>\"\"),D293,\"\")","v":""},{"$f":"IF(AND(E293<>\"\",G312<>\"\"),E293,\"\")","v":""},null,null,null,null,null,null,null,null,null,null,null,null,null,{"$f":"IF(Q312>=2020,R312-Q312+1,\"\")","v":""},null,{"$f":"IF(Q312>=2020,S312*T312,\"\")","v":""},null,null,null,null,null,null,null,null,null,null,null,null,{"$f":"SUM(AI312:AL312)","v":0},null,null,null,null,{"$f":"SUM(AN312:AQ312)","v":0},null,null,null,null,{"$f":"SUM(AS312:AV312)","v":0},null,null,null,null,null,null,{"$f":"SUM(AH312,AM312,AR312)","v":0},{"$f":"SUM(AL312,AQ312,AV312)","v":0},{"$f":"IF(AY312=0,0,AZ312/AY312)","v":0},{"$f":"IF((AY312+AX312)=0,0,AX312/(AX312+AY312))","v":0},null,null,null,null,null,null,null,null,null,null,null,null,null,null,null,null,null,null,null,null,null,null,null,null,null,null,null,null,null,null,null,null,null,null,null,null,null,null,null,null,null,{"$f":"((L312=\"создание\")*7+(L312=\"расширение\")*7 +(L312=\"внедрение\")*7+(L312=\"строительство\")*4+(L312=\"реконструкция\")*3+(L312=\"капремонт\")*2 +(L312=\"приобретение\")*1+(L312=\"установка\")*1)*10","v":0},null,{"$f":"IF(P312=\"коммунальная инфраструктура\",(L312=\"строительство\")*3+(L312=\"реконструкция\")*2+(L312=\"капремонт\")*1,0)*10","v":0},null,{"$f":"IF(P312=\"коммунальная инфраструктура\",(L312=\"строительство\")*4+(L312=\"реконструкция\")*3+(L312=\"капремонт\")*2,0)*10","v":0}]
[null,null,14,{"$f":"IF(AND(D315<>\"\",G329<>\"\"),D315,\"\")","v":""},{"$f":"IF(AND(E315<>\"\",G329<>\"\"),E315,\"\")","v":""},null,null,null,null,null,null,null,null,null,null,null,null,null,{"$f":"IF(Q329>=2020,R329-Q329+1,\"\")","v":""},null,{"$f":"IF(Q329>=2020,S329*T329,\"\")","v":""},null,null,null,null,null,null,null,null,null,null,null,null,{"$f":"SUM(AI329:AL329)","v":0},null,null,null,null,{"$f":"SUM(AN329:AQ329)","v":0},null,null,null,null,{"$f":"SUM(AS329:AV329)","v":0},null,null,null,null,null,null,{"$f":"SUM(AH329,AM329,AR329)","v":0},{"$f":"SUM(AL329,AQ329,AV329)","v":0},{"$f":"IF(AY329=0,0,AZ329/AY329)","v":0},{"$f":"IF((AY329+AX329)=0,0,AX329/(AX329+AY329))","v":0},null,null,null,null,null,null,null,null,null,null,null,null,null,null,null,null,null,null,null,null,null,null,null,null,null,null,null,null,null,null,null,null,null,null,null,null,null,null,null,null,null,{"$f":"((L329=\"создание\")*7+(L329=\"расширение\")*7 +(L329=\"внедрение\")*7+(L329=\"строительство\")*4+(L329=\"реконструкция\")*3+(L329=\"капремонт\")*2 +(L329=\"приобретение\")*1+(L329=\"установка\")*1)*10","v":0},null,{"$f":"IF(P329=\"коммунальная инфраструктура\",(L329=\"строительство\")*3+(L329=\"реконструкция\")*2+(L329=\"капремонт\")*1,0)*10","v":0},null,{"$f":"IF(P329=\"коммунальная инфраструктура\",(L329=\"строительство\")*4+(L329=\"реконструкция\")*3+(L329=\"капремонт\")*2,0)*10","v":0}]
[16,null,{"$f":"COUNTA(G338:G358)","v":0},null,null,null,null,null,null,null,null,null,null,null,null,null,{"$f":"MIN(Q338:Q358)","v":0},{"$f":"MAX(R338:R358)","v":0},{"$f":"MAX(S338:S358)","v":0},null,{"$f":"MAX(U338:U358)","v":0},null,null,null,null,null,{"$f":"IF(COUNTIF(AA338:AA358,\"НЕТ\")>0,\"ПД!\",\"ок\")","v":"ок"},null,{"$f":"IF(COUNTIF(AC338:AC358,\"НЕТ\")>0,\"ДОСМ!\",\"ок\")","v":"ок"},null,{"$f":"IF(COUNTIF(AE338:AE358,\"НЕТ\")>0,\"ФОИВ!\",\"ок\")","v":"ок"},{"$f":"IF(COUNTIF(AF338:AF358,\"НЕТ\")>0,\"ФОИВ!\",\"ок\")","v":"ок"},null,{"$f":"SUM(AH338:AH358)","v":0},{"$f":"SUM(AI338:AI358)","v":0},{"$f":"SUM(AJ338:AJ358)","v":0},{"$f":"SUM(AK338:AK358)","v":0},{"$f":"SUM(AL338:AL358)","v":0},{"$f":"SUM(AM338:AM358)","v":0},{"$f":"SUM(AN338:AN358)","v":0},{"$f":"SUM(AO338:AO358)","v":0},{"$f":"SUM(AP338:AP358)","v":0},{"$f":"SUM(AQ338:AQ358)","v":0},{"$f":"SUM(AR338:AR358)","v":0},{"$f":"SUM(AS338:AS358)","v":0},{"$f":"SUM(AT338:AT358)","v":0},{"$f":"SUM(AU338:AU358)","v":0},{"$f":"SUM(AV338:AV358)","v":0},{"$f":"SUM(AW338:AW358)","v":0},{"$f":"SUM(AX338:AX358)","v":0},{"$f":"SUM(AH337,AM337,AR337)","v":0},{"$f":"AL337+AQ337+AV337","v":0},{"$f":"IF(AY337=0,0,AZ337/AY337)","v":0},{"$f":"IF((AY337+AX337)=0,0,AX337/(AX337+AY337))","v":0},null,null,{"$f":"IFERROR(BD337/BC337,0)","v":0},null,null,{"$f":"IFERROR(BG337/BF337,0)","v":0},null,null,{"$f":"IFERROR(BJ337/BI337,0)","v":0},null,null,null,{"$f":"(SUM(BL337:BN337)>0)*1+(SUM(BL337:BN337)>=10)*1+(SUM(BL337:BN337)>=50)*1+(SUM(BL337:BN337)>=100)*1+(SUM(BL337:BN337)>=200)*1+(SUM(BL337:BN337)>=300)*1","v":0},{"$f":"IFERROR(SUM(BL337:BN337)/BC337,0)","v":0},null,null,{"$f":"IFERROR(BQ337/BR337,0)","v":0},{"$f":"IF(BA337<0.01,0,IF(BA337>=0.1,10,ROUNDDOWN(BA337/0.01,0)))","v":0},8,{"$f":"BT337*BU337","v":0},{"$f":"IF(BB337<0.01,0,IF(BB337>=0.1,10,ROUNDDOWN(BB337/0.01,0)))","v":0},8,{"$f":"BW337*BX337","v":0},{"$f":"IF(U337<=1,9,IF(U337<=2,6,IF(U337<=3,3,0)))*(C337>0)","v":0},6,{"$f":"BZ337*CA337","v":0},{"$f":"IF(BH337<0.51,0,10)","v":0},7,{"$f":"CC337*CD337","v":0},{"$f":"IF(BE337<0.1,0,IF(BE337>=0.9,10,ROUNDDOWN(BE337/0.1,0)))","v":0},10,{"$f":"CF337*CG337","v":0},{"$f":"IF(BK337<0.1,0,IF(BK337>=0.6,10,ROUNDDOWN(BK337/0.1,0)))","v":0},8,{"$f":"CI337*CJ337","v":0},{"$f":"IF(BP337<0.05,0,IF(BP337>=0.1,10,1))","v":0},10,{"$f":"CL337*CM337","v":0},{"$f":"IF(BS337<0.1,0,IF(BS337>=0.8,10,ROUNDDOWN(BS337/0.1,0)))","v":0},10,{"$f":"CP337*CO337","v":0},{"$f":"ROUND(IF(C337=0,0,SUM(CR338:CR358)/C337),1)","v":0},{"$f":"((SUM(BL337:BN337)>=1)*1+(SUM(BL337:BN337)>=11)*1+(SUM(BL337:BN337)>=51)*3+(SUM(BL337:BN337)>=101)*2+(SUM(BL337:BN337)>=201)*2+(SUM(BL337:BN337)>=301)*4)*10","v":0},{"$f":"IFERROR(ROUND(SUM(CT338:CT358)/COUNTIF(P338:P358,\"коммунальная инфраструктура\"),1),0)","v":0},{"$f":"CS337+CT337","v":0},{"$f":"IFERROR(ROUND(SUM(CV338:CV358)/COUNTIF(P338:P358,\"коммунальная инфраструктура\"),1),0)","v":0},{"$f":"SUM(BV337,BY337,CB337,CE337,CH337,CK337,CN337,CQ337,CR337,CU337,CV337)","v":0},{"$f":"VLOOKUP(D337,РегионыФО,2,0)","v":{"$error":"#N/A"}}]
[null,null,5,{"$f":"IF(AND(D359<>\"\",G364<>\"\"),D359,\"\")","v":""},{"$f":"IF(AND(E359<>\"\",G364<>\"\"),E359,\"\")","v":""},null,null,null,null,null,null,null,null,null,null,null,null,null,{"$f":"IF(Q364>=2020,R364-Q364+1,\"\")","v":""},null,{"$f":"IF(Q364>=2020,S364*T364,\"\")","v":""},null,null,null,null,null,null,null,null,null,null,null,null,{"$f":"SUM(AI364:AL364)","v":0},null,null,null,null,{"$f":"SUM(AN364:AQ364)","v":0},null,null,null,null,{"$f":"SUM(AS364:AV364)","v":0},null,null,null,null,null,null,{"$f":"SUM(AH364,AM364,AR364)","v":0},{"$f":"SUM(AL364,AQ364,AV364)","v":0},{"$f":"IF(AY364=0,0,AZ364/AY364)","v":0},{"$f":"IF((AY364+AX364)=0,0,AX364/(AX364+AY364))","v":0},null,null,null,null,null,null,null,null,null,null,null,null,null,null,null,null,null,null,null,null,null,null,null,null,null,null,null,null,null,null,null,null,null,null,null,null,null,null,null,null,null,{"$f":"((L364=\"создание\")*7+(L364=\"расширение\")*7 +(L364=\"внедрение\")*7+(L364=\"строительство\")*4+(L364=\"реконструкция\")*3+(L364=\"капремонт\")*2 +(L364=\"приобретение\")*1+(L364=\"установка\")*1)*10","v":0},null,{"$f":"IF(P364=\"коммунальная инфраструктура\",(L364=\"строительство\")*3+(L364=\"реконструкция\")*2+(L364=\"капремонт\")*1,0)*10","v":0},null,{"$f":"IF(P364=\"коммунальная инфраструктура\",(L364=\"строительство\")*4+(L364=\"реконструкция\")*3+(L364=\"капремонт\")*2,0)*10","v":0}]
[null,null,12,{"$f":"IF(AND(D359<>\"\",G371<>\"\"),D359,\"\")","v":""},{"$f":"IF(AND(E359<>\"\",G371<>\"\"),E359,\"\")","v":""},null,null,null,null,null,null,null,null,null,null,null,null,null,{"$f":"IF(Q371>=2020,R371-Q371+1,\"\")","v":""},null,{"$f":"IF(Q371>=2020,S371*T371,\"\")","v":""},null,null,null,null,null,null,null,null,null,null,null,null,{"$f":"SUM(AI371:AL371)","v":0},null,null,null,null,{"$f":"SUM(AN371:AQ371)","v":0},null,null,null,null,{"$f":"SUM(AS371:AV371)","v":0},null,null,null,null,null,null,{"$f":"SUM(AH371,AM371,AR371)","v":0},{"$f":"SUM(AL371,AQ371,AV371)","v":0},{"$f":"IF(AY371=0,0,AZ371/AY371)","v":0},{"$f":"IF((AY371+AX371)=0,0,AX371/(AX371+AY371))","v":0},null,null,null,null,null,null,null,null,null,null,null,null,null,null,null,null,null,null,null,null,null,null,null,null,null,null,null,null,null,null,null,null,null,null,null,null,null,null,null,null,null,{"$f":"((L371=\"создание\")*7+(L371=\"расширение\")*7 +(L371=\"внедрение\")*7+(L371=\"строительство\")*4+(L371=\"реконструкция\")*3+(L371=\"капремонт\")*2 +(L371=\"приобретение\")*1+(L371=\"установка\")*1)*10","v":0},null,{"$f":"IF(P371=\"коммунальная инфраструктура\",(L371=\"строительство\")*3+(L371=\"реконструкция\")*2+(L371=\"капремонт\")*1,0)*10","v":0},null,{"$f":"IF(P371=\"коммунальная инфраструктура\",(L371=\"строительство\")*4+(L371=\"реконструкция\")*3+(L371=\"капремонт\")*2,0)*10","v":0}]
[null,null,2,{"$f":"IF(AND(D381<>\"\",G383<>\"\"),D381,\"\")","v":""},{"$f":"IF(AND(E381<>\"\",G383<>\"\"),E381,\"\")","v":""},null,null,null,null,null,null,null,null,null,null,null,null,null,{"$f":"IF(Q383>=2020,R383-Q383+1,\"\")","v":""},null,{"$f":"IF(Q383>=2020,S383*T383,\"\")","v":""},null,null,null,null,null,null,null,null,null,null,null,null,{"$f":"SUM(AI383:AL383)","v":0},null,null,null,null,{"$f":"SUM(AN383:AQ383)","v":0},null,null,null,null,{"$f":"SUM(AS383:AV383)","v":0},null,null,null,null,null,null,{"$f":"SUM(AH383,AM383,AR383)","v":0},{"$f":"SUM(AL383,AQ383,AV383)","v":0},{"$f":"IF(AY383=0,0,AZ383/AY383)","v":0},{"$f":"IF((AY383+AX383)=0,0,AX383/(AX383+AY383))","v":0},null,null,null,null,null,null,null,null,null,null,null,null,null,null,null,null,null,null,null,null,null,null,null,null,null,null,null,null,null,null,null,null,null,null,null,null,null,null,null,null,null,{"$f":"((L383=\"создание\")*7+(L383=\"расширение\")*7 +(L383=\"внедрение\")*7+(L383=\"строительство\")*4+(L383=\"реконструкция\")*3+(L383=\"капремонт\")*2 +(L383=\"приобретение\")*1+(L383=\"установка\")*1)*10","v":0},null,{"$f":"IF(P383=\"коммунальная инфраструктура\",(L383=\"строительство\")*3+(L383=\"реконструкция\")*2+(L383=\"капремонт\")*1,0)*10","v":0},null,{"$f":"IF(P383=\"коммунальная инфраструктура\",(L383=\"строительство\")*4+(L383=\"реконструкция\")*3+(L383=\"капремонт\")*2,0)*10","v":0}]
[null,null,19,{"$f":"IF(AND(D381<>\"\",G400<>\"\"),D381,\"\")","v":""},{"$f":"IF(AND(E381<>\"\",G400<>\"\"),E381,\"\")","v":""},null,null,null,null,null,null,null,null,null,null,null,null,null,{"$f":"IF(Q400>=2020,R400-Q400+1,\"\")","v":""},null,{"$f":"IF(Q400>=2020,S400*T400,\"\")","v":""},null,null,null,null,null,null,null,null,null,null,null,null,{"$f":"SUM(AI400:AL400)","v":0},null,null,null,null,{"$f":"SUM(AN400:AQ400)","v":0},null,null,null,null,{"$f":"SUM(AS400:AV400)","v":0},null,null,null,null,null,null,{"$f":"SUM(AH400,AM400,AR400)","v":0},{"$f":"SUM(AL400,AQ400,AV400)","v":0},{"$f":"IF(AY400=0,0,AZ400/AY400)","v":0},{"$f":"IF((AY400+AX400)=0,0,AX400/(AX400+AY400))","v":0},null,null,null,null,null,null,null,null,null,null,null,null,null,null,null,null,null,null,null,null,null,null,null,null,null,null,null,null,null,null,null,null,null,null,null,null,null,null,null,null,null,{"$f":"((L400=\"создание\")*7+(L400=\"расширение\")*7 +(L400=\"внедрение\")*7+(L400=\"строительство\")*4+(L400=\"реконструкция\")*3+(L400=\"капремонт\")*2 +(L400=\"приобретение\")*1+(L400=\"установка\")*1)*10","v":0},null,{"$f":"IF(P400=\"коммунальная инфраструктура\",(L400=\"строительство\")*3+(L400=\"реконструкция\")*2+(L400=\"капремонт\")*1,0)*10","v":0},null,{"$f":"IF(P400=\"коммунальная инфраструктура\",(L400=\"строительство\")*4+(L400=\"реконструкция\")*3+(L400=\"капремонт\")*2,0)*10","v":0}]
[null,null,18,{"$f":"IF(AND(D403<>\"\",G421<>\"\"),D403,\"\")","v":""},{"$f":"IF(AND(E403<>\"\",G421<>\"\"),E403,\"\")","v":""},null,null,null,null,null,null,null,null,null,null,null,null,null,{"$f":"IF(Q421>=2020,R421-Q421+1,\"\")","v":""},null,{"$f":"IF(Q421>=2020,S421*T421,\"\")","v":""},null,null,null,null,null,null,null,null,null,null,null,null,{"$f":"SUM(AI421:AL421)","v":0},null,null,null,null,{"$f":"SUM(AN421:AQ421)","v":0},null,null,null,null,{"$f":"SUM(AS421:AV421)","v":0},null,null,null,null,null,null,{"$f":"SUM(AH421,AM421,AR421)","v":0},{"$f":"SUM(AL421,AQ421,AV421)","v":0},{"$f":"IF(AY421=0,0,AZ421/AY421)","v":0},{"$f":"IF((AY421+AX421)=0,0,AX421/(AX421+AY421))","v":0},null,null,null,null,null,null,null,null,null,null,null,null,null,null,null,null,null,null,null,null,null,null,null,null,null,null,null,null,null,null,null,null,null,null,null,null,null,null,null,null,null,{"$f":"((L421=\"создание\")*7+(L421=\"расширение\")*7 +(L421=\"внедрение\")*7+(L421=\"строительство\")*4+(L421=\"реконструкция\")*3+(L421=\"капремонт\")*2 +(L421=\"приобретение\")*1+(L421=\"установка\")*1)*10","v":0},null,{"$f":"IF(P421=\"коммунальная инфраструктура\",(L421=\"строительство\")*3+(L421=\"реконструкция\")*2+(L421=\"капремонт\")*1,0)*10","v":0},null,{"$f":"IF(P421=\"коммунальная инфраструктура\",(L421=\"строительство\")*4+(L421=\"реконструкция\")*3+(L421=\"капремонт\")*2,0)*10","v":0}]
[null,null,10,{"$f":"IF(AND(D425<>\"\",G435<>\"\"),D425,\"\")","v":""},{"$f":"IF(AND(E425<>\"\",G435<>\"\"),E425,\"\")","v":""},null,null,null,null,null,null,null,null,null,null,null,null,null,{"$f":"IF(Q435>=2020,R435-Q435+1,\"\")","v":""},null,{"$f":"IF(Q435>=2020,S435*T435,\"\")","v":""},null,null,null,null,null,null,null,null,null,null,null,null,{"$f":"SUM(AI435:AL435)","v":0},null,null,null,null,{"$f":"SUM(AN435:AQ435)","v":0},null,null,null,null,{"$f":"SUM(AS435:AV435)","v":0},null,null,null,null,null,null,{"$f":"SUM(AH435,AM435,AR435)","v":0},{"$f":"SUM(AL435,AQ435,AV435)","v":0},{"$f":"IF(AY435=0,0,AZ435/AY435)","v":0},{"$f":"IF((AY435+AX435)=0,0,AX435/(AX435+AY435))","v":0},null,null,null,null,null,null,null,null,null,null,null,null,null,null,null,null,null,null,null,null,null,null,null,null,null,null,null,null,null,null,null,null,null,null,null,null,null,null,null,null,null,{"$f":"((L435=\"создание\")*7+(L435=\"расширение\")*7 +(L435=\"внедрение\")*7+(L435=\"строительство\")*4+(L435=\"реконструкция\")*3+(L435=\"капремонт\")*2 +(L435=\"приобретение\")*1+(L435=\"установка\")*1)*10","v":0},null,{"$f":"IF(P435=\"коммунальная инфраструктура\",(L435=\"строительство\")*3+(L435=\"реконструкция\")*2+(L435=\"капремонт\")*1,0)*10","v":0},null,{"$f":"IF(P435=\"коммунальная инфраструктура\",(L435=\"строительство\")*4+(L435=\"реконструкция\")*3+(L435=\"капремонт\")*2,0)*10","v":0}]
[null,null,5,{"$f":"IF(AND(D447<>\"\",G452<>\"\"),D447,\"\")","v":""},{"$f":"IF(AND(E447<>\"\",G452<>\"\"),E447,\"\")","v":""},null,null,null,null,null,null,null,null,null,null,null,null,null,{"$f":"IF(Q452>=2020,R452-Q452+1,\"\")","v":""},null,{"$f":"IF(Q452>=2020,S452*T452,\"\")","v":""},null,null,null,null,null,null,null,null,null,null,null,null,{"$f":"SUM(AI452:AL452)","v":0},null,null,null,null,{"$f":"SUM(AN452:AQ452)","v":0},null,null,null,null,{"$f":"SUM(AS452:AV452)","v":0},null,null,null,null,null,null,{"$f":"SUM(AH452,AM452,AR452)","v":0},{"$f":"SUM(AL452,AQ452,AV452)","v":0},{"$f":"IF(AY452=0,0,AZ452/AY452)","v":0},{"$f":"IF((AY452+AX452)=0,0,AX452/(AX452+AY452))","v":0},null,null,null,null,null,null,null,null,null,null,null,null,null,null,null,null,null,null,null,null,null,null,null,null,null,null,null,null,null,null,null,null,null,null,null,null,null,null,null,null,null,{"$f":"((L452=\"создание\")*7+(L452=\"расширение\")*7 +(L452=\"внедрение\")*7+(L452=\"строительство\")*4+(L452=\"реконструкция\")*3+(L452=\"капремонт\")*2 +(L452=\"приобретение\")*1+(L452=\"установка\")*1)*10","v":0},null,{"$f":"IF(P452=\"коммунальная инфраструктура\",(L452=\"строительство\")*3+(L452=\"реконструкция\")*2+(L452=\"капремонт\")*1,0)*10","v":0},null,{"$f":"IF(P452=\"коммунальная инфраструктура\",(L452=\"строительство\")*4+(L452=\"реконструкция\")*3+(L452=\"капремонт\")*2,0)*10","v":0}]
[null,null,2,{"$f":"IF(AND(D469<>\"\",G471<>\"\"),D469,\"\")","v":""},{"$f":"IF(AND(E469<>\"\",G471<>\"\"),E469,\"\")","v":""},null,null,null,null,null,null,null,null,null,null,null,null,null,{"$f":"IF(Q471>=2020,R471-Q471+1,\"\")","v":""},null,{"$f":"IF(Q471>=2020,S471*T471,\"\")","v":""},null,null,null,null,null,null,null,null,null,null,null,null,{"$f":"SUM(AI471:AL471)","v":0},null,null,null,null,{"$f":"SUM(AN471:AQ471)","v":0},null,null,null,null,{"$f":"SUM(AS471:AV471)","v":0},null,null,null,null,null,null,{"$f":"SUM(AH471,AM471,AR471)","v":0},{"$f":"SUM(AL471,AQ471,AV471)","v":0},{"$f":"IF(AY471=0,0,AZ471/AY471)","v":0},{"$f":"IF((AY471+AX471)=0,0,AX471/(AX471+AY471))","v":0},null,null,null,null,null,null,null,null,null,null,null,null,null,null,null,null,null,null,null,null,null,null,null,null,null,null,null,null,null,null,null,null,null,null,null,null,null,null,null,null,null,{"$f":"((L471=\"создание\")*7+(L471=\"расширение\")*7 +(L471=\"внедрение\")*7+(L471=\"строительство\")*4+(L471=\"реконструкция\")*3+(L471=\"капремонт\")*2 +(L471=\"приобретение\")*1+(L471=\"установка\")*1)*10","v":0},null,{"$f":"IF(P471=\"коммунальная инфраструктура\",(L471=\"строительство\")*3+(L471=\"реконструкция\")*2+(L471=\"капремонт\")*1,0)*10","v":0},null,{"$f":"IF(P471=\"коммунальная инфраструктура\",(L471=\"строительство\")*4+(L471=\"реконструкция\")*3+(L471=\"капремонт\")*2,0)*10","v":0}]
[null,null,18,{"$f":"IF(AND(D469<>\"\",G487<>\"\"),D469,\"\")","v":""},{"$f":"IF(AND(E469<>\"\",G487<>\"\"),E469,\"\")","v":""},null,null,null,null,null,null,null,null,null,null,null,null,null,{"$f":"IF(Q487>=2020,R487-Q487+1,\"\")","v":""},null,{"$f":"IF(Q487>=2020,S487*T487,\"\")","v":""},null,null,null,null,null,null,null,null,null,null,null,null,{"$f":"SUM(AI487:AL487)","v":0},null,null,null,null,{"$f":"SUM(AN487:AQ487)","v":0},null,null,null,null,{"$f":"SUM(AS487:AV487)","v":0},null,null,null,null,null,null,{"$f":"SUM(AH487,AM487,AR487)","v":0},{"$f":"SUM(AL487,AQ487,AV487)","v":0},{"$f":"IF(AY487=0,0,AZ487/AY487)","v":0},{"$f":"IF((AY487+AX487)=0,0,AX487/(AX487+AY487))","v":0},null,null,null,null,null,null,null,null,null,null,null,null,null,null,null,null,null,null,null,null,null,null,null,null,null,null,null,null,null,null,null,null,null,null,null,null,null,null,null,null,null,{"$f":"((L487=\"создание\")*7+(L487=\"расширение\")*7 +(L487=\"внедрение\")*7+(L487=\"строительство\")*4+(L487=\"реконструкция\")*3+(L487=\"капремонт\")*2 +(L487=\"приобретение\")*1+(L487=\"установка\")*1)*10","v":0},null,{"$f":"IF(P487=\"коммунальная инфраструктура\",(L487=\"строительство\")*3+(L487=\"реконструкция\")*2+(L487=\"капремонт\")*1,0)*10","v":0},null,{"$f":"IF(P487=\"коммунальная инфраструктура\",(L487=\"строительство\")*4+(L487=\"реконструкция\")*3+(L487=\"капремонт\")*2,0)*10","v":0}]
[null,null,14,{"$f":"IF(AND(D491<>\"\",G505<>\"\"),D491,\"\")","v":""},{"$f":"IF(AND(E491<>\"\",G505<>\"\"),E491,\"\")","v":""},null,null,null,null,null,null,null,null,null,null,null,null,null,{"$f":"IF(Q505>=2020,R505-Q505+1,\"\")","v":""},null,{"$f":"IF(Q505>=2020,S505*T505,\"\")","v":""},null,null,null,null,null,null,null,null,null,null,null,null,{"$f":"SUM(AI505:AL505)","v":0},null,null,null,null,{"$f":"SUM(AN505:AQ505)","v":0},null,null,null,null,{"$f":"SUM(AS505:AV505)","v":0},null,null,null,null,null,null,{"$f":"SUM(AH505,AM505,AR505)","v":0},{"$f":"SUM(AL505,AQ505,AV505)","v":0},{"$f":"IF(AY505=0,0,AZ505/AY505)","v":0},{"$f":"IF((AY505+AX505)=0,0,AX505/(AX505+AY505))","v":0},null,null,null,null,null,null,null,null,null,null,null,null,null,null,null,null,null,null,null,null,null,null,null,null,null,null,null,null,null,null,null,null,null,null,null,null,null,null,null,null,null,{"$f":"((L505=\"создание\")*7+(L505=\"расширение\")*7 +(L505=\"внедрение\")*7+(L505=\"строительство\")*4+(L505=\"реконструкция\")*3+(L505=\"капремонт\")*2 +(L505=\"приобретение\")*1+(L505=\"установка\")*1)*10","v":0},null,{"$f":"IF(P505=\"коммунальная инфраструктура\",(L505=\"строительство\")*3+(L505=\"реконструкция\")*2+(L505=\"капремонт\")*1,0)*10","v":0},null,{"$f":"IF(P505=\"коммунальная инфраструктура\",(L505=\"строительство\")*4+(L505=\"реконструкция\")*3+(L505=\"капремонт\")*2,0)*10","v":0}]
[null,null,9,{"$f":"IF(AND(D513<>\"\",G522<>\"\"),D513,\"\")","v":""},{"$f":"IF(AND(E513<>\"\",G522<>\"\"),E513,\"\")","v":""},null,null,null,null,null,null,null,null,null,null,null,null,null,{"$f":"IF(Q522>=2020,R522-Q522+1,\"\")","v":""},null,{"$f":"IF(Q522>=2020,S522*T522,\"\")","v":""},null,null,null,null,null,null,null,null,null,null,null,null,{"$f":"SUM(AI522:AL522)","v":0},null,null,null,null,{"$f":"SUM(AN522:AQ522)","v":0},null,null,null,null,{"$f":"SUM(AS522:AV522)","v":0},null,null,null,null,null,null,{"$f":"SUM(AH522,AM522,AR522)","v":0},{"$f":"SUM(AL522,AQ522,AV522)","v":0},{"$f":"IF(AY522=0,0,AZ522/AY522)","v":0},{"$f":"IF((AY522+AX522)=0,0,AX522/(AX522+AY522))","v":0},null,null,null,null,null,null,null,null,null,null,null,null,null,null,null,null,null,null,null,null,null,null,null,null,null,null,null,null,null,null,null,null,null,null,null,null,null,null,null,null,null,{"$f":"((L522=\"создание\")*7+(L522=\"расширение\")*7 +(L522=\"внедрение\")*7+(L522=\"строительство\")*4+(L522=\"реконструкция\")*3+(L522=\"капремонт\")*2 +(L522=\"приобретение\")*1+(L522=\"установка\")*1)*10","v":0},null,{"$f":"IF(P522=\"коммунальная инфраструктура\",(L522=\"строительство\")*3+(L522=\"реконструкция\")*2+(L522=\"капремонт\")*1,0)*10","v":0},null,{"$f":"IF(P522=\"коммунальная инфраструктура\",(L522=\"строительство\")*4+(L522=\"реконструкция\")*3+(L522=\"капремонт\")*2,0)*10","v":0}]
[null,null,4,{"$f":"IF(AND(D535<>\"\",G539<>\"\"),D535,\"\")","v":""},{"$f":"IF(AND(E535<>\"\",G539<>\"\"),E535,\"\")","v":""},null,null,null,null,null,null,null,null,null,null,null,null,null,{"$f":"IF(Q539>=2020,R539-Q539+1,\"\")","v":""},null,{"$f":"IF(Q539>=2020,S539*T539,\"\")","v":""},null,null,null,null,null,null,null,null,null,null,null,null,{"$f":"SUM(AI539:AL539)","v":0},null,null,null,null,{"$f":"SUM(AN539:AQ539)","v":0},null,null,null,null,{"$f":"SUM(AS539:AV539)","v":0},null,null,null,null,null,null,{"$f":"SUM(AH539,AM539,AR539)","v":0},{"$f":"SUM(AL539,AQ539,AV539)","v":0},{"$f":"IF(AY539=0,0,AZ539/AY539)","v":0},{"$f":"IF((AY539+AX539)=0,0,AX539/(AX539+AY539))","v":0},null,null,null,null,null,null,null,null,null,null,null,null,null,null,null,null,null,null,null,null,null,null,null,null,null,null,null,null,null,null,null,null,null,null,null,null,null,null,null,null,null,{"$f":"((L539=\"создание\")*7+(L539=\"расширение\")*7 +(L539=\"внедрение\")*7+(L539=\"строительство\")*4+(L539=\"реконструкция\")*3+(L539=\"капремонт\")*2 +(L539=\"приобретение\")*1+(L539=\"установка\")*1)*10","v":0},null,{"$f":"IF(P539=\"коммунальная инфраструктура\",(L539=\"строительство\")*3+(L539=\"реконструкция\")*2+(L539=\"капремонт\")*1,0)*10","v":0},null,{"$f":"IF(P539=\"коммунальная инфраструктура\",(L539=\"строительство\")*4+(L539=\"реконструкция\")*3+(L539=\"капремонт\")*2,0)*10","v":0}]
[null,null,20,{"$f":"IF(AND(D535<>\"\",G555<>\"\"),D535,\"\")","v":""},{"$f":"IF(AND(E535<>\"\",G555<>\"\"),E535,\"\")","v":""},null,null,null,null,null,null,null,null,null,null,null,null,null,{"$f":"IF(Q555>=2020,R555-Q555+1,\"\")","v":""},null,{"$f":"IF(Q555>=2020,S555*T555,\"\")","v":""},null,null,null,null,null,null,null,null,null,null,null,null,{"$f":"SUM(AI555:AL555)","v":0},null,null,null,null,{"$f":"SUM(AN555:AQ555)","v":0},null,null,null,null,{"$f":"SUM(AS555:AV555)","v":0},null,null,null,null,null,null,{"$f":"SUM(AH555,AM555,AR555)","v":0},{"$f":"SUM(AL555,AQ555,AV555)","v":0},{"$f":"IF(AY555=0,0,AZ555/AY555)","v":0},{"$f":"IF((AY555+AX555)=0,0,AX555/(AX555+AY555))","v":0},null,null,null,null,null,null,null,null,null,null,null,null,null,null,null,null,null,null,null,null,null,null,null,null,null,null,null,null,null,null,null,null,null,null,null,null,null,null,null,null,null,{"$f":"((L555=\"создание\")*7+(L555=\"расширение\")*7 +(L555=\"внедрение\")*7+(L555=\"строительство\")*4+(L555=\"реконструкция\")*3+(L555=\"капремонт\")*2 +(L555=\"приобретение\")*1+(L555=\"установка\")*1)*10","v":0},null,{"$f":"IF(P555=\"коммунальная инфраструктура\",(L555=\"строительство\")*3+(L555=\"реконструкция\")*2+(L555=\"капремонт\")*1,0)*10","v":0},null,{"$f":"IF(P555=\"коммунальная инфраструктура\",(L555=\"строительство\")*4+(L555=\"реконструкция\")*3+(L555=\"капремонт\")*2,0)*10","v":0}]
[null,null,17,{"$f":"IF(AND(D557<>\"\",G574<>\"\"),D557,\"\")","v":""},{"$f":"IF(AND(E557<>\"\",G574<>\"\"),E557,\"\")","v":""},null,null,null,null,null,null,null,null,null,null,null,null,null,{"$f":"IF(Q574>=2020,R574-Q574+1,\"\")","v":""},null,{"$f":"IF(Q574>=2020,S574*T574,\"\")","v":""},null,null,null,null,null,null,null,null,null,null,null,null,{"$f":"SUM(AI574:AL574)","v":0},null,null,null,null,{"$f":"SUM(AN574:AQ574)","v":0},null,null,null,null,{"$f":"SUM(AS574:AV574)","v":0},null,null,null,null,null,null,{"$f":"SUM(AH574,AM574,AR574)","v":0},{"$f":"SUM(AL574,AQ574,AV574)","v":0},{"$f":"IF(AY574=0,0,AZ574/AY574)","v":0},{"$f":"IF((AY574+AX574)=0,0,AX574/(AX574+AY574))","v":0},null,null,null,null,null,null,null,null,null,null,null,null,null,null,null,null,null,null,null,null,null,null,null,null,null,null,null,null,null,null,null,null,null,null,null,null,null,null,null,null,null,{"$f":"((L574=\"создание\")*7+(L574=\"расширение\")*7 +(L574=\"внедрение\")*7+(L574=\"строительство\")*4+(L574=\"реконструкция\")*3+(L574=\"капремонт\")*2 +(L574=\"приобретение\")*1+(L574=\"установка\")*1)*10","v":0},null,{"$f":"IF(P574=\"коммунальная инфраструктура\",(L574=\"строительство\")*3+(L574=\"реконструкция\")*2+(L574=\"капремонт\")*1,0)*10","v":0},null,{"$f":"IF(P574=\"коммунальная инфраструктура\",(L574=\"строительство\")*4+(L574=\"реконструкция\")*3+(L574=\"капремонт\")*2,0)*10","v":0}]
[null,null,12,{"$f":"IF(AND(D579<>\"\",G591<>\"\"),D579,\"\")","v":""},{"$f":"IF(AND(E579<>\"\",G591<>\"\"),E579,\"\")","v":""},null,null,null,null,null,null,null,null,null,null,null,null,null,{"$f":"IF(Q591>=2020,R591-Q591+1,\"\")","v":""},null,{"$f":"IF(Q591>=2020,S591*T591,\"\")","v":""},null,null,null,null,null,null,null,null,null,null,null,null,{"$f":"SUM(AI591:AL591)","v":0},null,null,null,null,{"$f":"SUM(AN591:AQ591)","v":0},null,null,null,null,{"$f":"SUM(AS591:AV591)","v":0},null,null,null,null,null,null,{"$f":"SUM(AH591,AM591,AR591)","v":0},{"$f":"SUM(AL591,AQ591,AV591)","v":0},{"$f":"IF(AY591=0,0,AZ591/AY591)","v":0},{"$f":"IF((AY591+AX591)=0,0,AX591/(AX591+AY591))","v":0},null,null,null,null,null,null,null,null,null,null,null,null,null,null,null,null,null,null,null,null,null,null,null,null,null,null,null,null,null,null,null,null,null,null,null,null,null,null,null,null,null,{"$f":"((L591=\"создание\")*7+(L591=\"расширение\")*7 +(L591=\"внедрение\")*7+(L591=\"строительство\")*4+(L591=\"реконструкция\")*3+(L591=\"капремонт\")*2 +(L591=\"приобретение\")*1+(L591=\"установка\")*1)*10","v":0},null,{"$f":"IF(P591=\"коммунальная инфраструктура\",(L591=\"строительство\")*3+(L591=\"реконструкция\")*2+(L591=\"капремонт\")*1,0)*10","v":0},null,{"$f":"IF(P591=\"коммунальная инфраструктура\",(L591=\"строительство\")*4+(L591=\"реконструкция\")*3+(L591=\"капремонт\")*2,0)*10","v":0}]
[null,null,5,{"$f":"IF(AND(D601<>\"\",G606<>\"\"),D601,\"\")","v":""},{"$f":"IF(AND(E601<>\"\",G606<>\"\"),E601,\"\")","v":""},null,null,null,null,null,null,null,null,null,null,null,null,null,{"$f":"IF(Q606>=2020,R606-Q606+1,\"\")","v":""},null,{"$f":"IF(Q606>=2020,S606*T606,\"\")","v":""},null,null,null,null,null,null,null,null,null,null,null,null,{"$f":"SUM(AI606:AL606)","v":0},null,null,null,null,{"$f":"SUM(AN606:AQ606)","v":0},null,null,null,null,{"$f":"SUM(AS606:AV606)","v":0},null,null,null,null,null,null,{"$f":"SUM(AH606,AM606,AR606)","v":0},{"$f":"SUM(AL606,AQ606,AV606)","v":0},{"$f":"IF(AY606=0,0,AZ606/AY606)","v":0},{"$f":"IF((AY606+AX606)=0,0,AX606/(AX606+AY606))","v":0},null,null,null,null,null,null,null,null,null,null,null,null,null,null,null,null,null,null,null,null,null,null,null,null,null,null,null,null,null,null,null,null,null,null,null,null,null,null,null,null,null,{"$f":"((L606=\"создание\")*7+(L606=\"расширение\")*7 +(L606=\"внедрение\")*7+(L606=\"строительство\")*4+(L606=\"реконструкция\")*3+(L606=\"капремонт\")*2 +(L606=\"приобретение\")*1+(L606=\"установка\")*1)*10","v":0},null,{"$f":"IF(P606=\"коммунальная инфраструктура\",(L606=\"строительство\")*3+(L606=\"реконструкция\")*2+(L606=\"капремонт\")*1,0)*10","v":0},null,{"$f":"IF(P606=\"коммунальная инфраструктура\",(L606=\"строительство\")*4+(L606=\"реконструкция\")*3+(L606=\"капремонт\")*2,0)*10","v":0}]
[null,null,3,{"$f":"IF(AND(D623<>\"\",G626<>\"\"),D623,\"\")","v":""},{"$f":"IF(AND(E623<>\"\",G626<>\"\"),E623,\"\")","v":""},null,null,null,null,null,null,null,null,null,null,null,null,null,{"$f":"IF(Q626>=2020,R626-Q626+1,\"\")","v":""},null,{"$f":"IF(Q626>=2020,S626*T626,\"\")","v":""},null,null,null,null,null,null,null,null,null,null,null,null,{"$f":"SUM(AI626:AL626)","v":0},null,null,null,null,{"$f":"SUM(AN626:AQ626)","v":0},null,null,null,null,{"$f":"SUM(AS626:AV626)","v":0},null,null,null,null,null,null,{"$f":"SUM(AH626,AM626,AR626)","v":0},{"$f":"SUM(AL626,AQ626,AV626)","v":0},{"$f":"IF(AY626=0,0,AZ626/AY626)","v":0},{"$f":"IF((AY626+AX626)=0,0,AX626/(AX626+AY626))","v":0},null,null,null,null,null,null,null,null,null,null,null,null,null,null,null,null,null,null,null,null,null,null,null,null,null,null,null,null,null,null,null,null,null,null,null,null,null,null,null,null,null,{"$f":"((L626=\"создание\")*7+(L626=\"расширение\")*7 +(L626=\"внедрение\")*7+(L626=\"строительство\")*4+(L626=\"реконструкция\")*3+(L626=\"капремонт\")*2 +(L626=\"приобретение\")*1+(L626=\"установка\")*1)*10","v":0},null,{"$f":"IF(P626=\"коммунальная инфраструктура\",(L626=\"строительство\")*3+(L626=\"реконструкция\")*2+(L626=\"капремонт\")*1,0)*10","v":0},null,{"$f":"IF(P626=\"коммунальная инфраструктура\",(L626=\"строительство\")*4+(L626=\"реконструкция\")*3+(L626=\"капремонт\")*2,0)*10","v":0}]
[null,null,16,{"$f":"IF(AND(D623<>\"\",G639<>\"\"),D623,\"\")","v":""},{"$f":"IF(AND(E623<>\"\",G639<>\"\"),E623,\"\")","v":""},null,null,null,null,null,null,null,null,null,null,null,null,null,{"$f":"IF(Q639>=2020,R639-Q639+1,\"\")","v":""},null,{"$f":"IF(Q639>=2020,S639*T639,\"\")","v":""},null,null,null,null,null,null,null,null,null,null,null,null,{"$f":"SUM(AI639:AL639)","v":0},null,null,null,null,{"$f":"SUM(AN639:AQ639)","v":0},null,null,null,null,{"$f":"SUM(AS639:AV639)","v":0},null,null,null,null,null,null,{"$f":"SUM(AH639,AM639,AR639)","v":0},{"$f":"SUM(AL639,AQ639,AV639)","v":0},{"$f":"IF(AY639=0,0,AZ639/AY639)","v":0},{"$f":"IF((AY639+AX639)=0,0,AX639/(AX639+AY639))","v":0},null,null,null,null,null,null,null,null,null,null,null,null,null,null,null,null,null,null,null,null,null,null,null,null,null,null,null,null,null,null,null,null,null,null,null,null,null,null,null,null,null,{"$f":"((L639=\"создание\")*7+(L639=\"расширение\")*7 +(L639=\"внедрение\")*7+(L639=\"строительство\")*4+(L639=\"реконструкция\")*3+(L639=\"капремонт\")*2 +(L639=\"приобретение\")*1+(L639=\"установка\")*1)*10","v":0},null,{"$f":"IF(P639=\"коммунальная инфраструктура\",(L639=\"строительство\")*3+(L639=\"реконструкция\")*2+(L639=\"капремонт\")*1,0)*10","v":0},null,{"$f":"IF(P639=\"коммунальная инфраструктура\",(L639=\"строительство\")*4+(L639=\"реконструкция\")*3+(L639=\"капремонт\")*2,0)*10","v":0}]
[30,null,{"$f":"COUNTA(G646:G666)","v":0},null,null,null,null,null,null,null,null,null,null,null,null,null,{"$f":"MIN(Q646:Q666)","v":0},{"$f":"MAX(R646:R666)","v":0},{"$f":"MAX(S646:S666)","v":0},null,{"$f":"MAX(U646:U666)","v":0},null,null,null,null,null,{"$f":"IF(COUNTIF(AA646:AA666,\"НЕТ\")>0,\"ПД!\",\"ок\")","v":"ок"},null,{"$f":"IF(COUNTIF(AC646:AC666,\"НЕТ\")>0,\"ДОСМ!\",\"ок\")","v":"ок"},null,{"$f":"IF(COUNTIF(AE646:AE666,\"НЕТ\")>0,\"ФОИВ!\",\"ок\")","v":"ок"},{"$f":"IF(COUNTIF(AF646:AF666,\"НЕТ\")>0,\"ФОИВ!\",\"ок\")","v":"ок"},null,{"$f":"SUM(AH646:AH666)","v":0},{"$f":"SUM(AI646:AI666)","v":0},{"$f":"SUM(AJ646:AJ666)","v":0},{"$f":"SUM(AK646:AK666)","v":0},{"$f":"SUM(AL646:AL666)","v":0},{"$f":"SUM(AM646:AM666)","v":0},{"$f":"SUM(AN646:AN666)","v":0},{"$f":"SUM(AO646:AO666)","v":0},{"$f":"SUM(AP646:AP666)","v":0},{"$f":"SUM(AQ646:AQ666)","v":0},{"$f":"SUM(AR646:AR666)","v":0},{"$f":"SUM(AS646:AS666)","v":0},{"$f":"SUM(AT646:AT666)","v":0},{"$f":"SUM(AU646:AU666)","v":0},{"$f":"SUM(AV646:AV666)","v":0},{"$f":"SUM(AW646:AW666)","v":0},{"$f":"SUM(AX646:AX666)","v":0},{"$f":"SUM(AH645,AM645,AR645)","v":0},{"$f":"AL645+AQ645+AV645","v":0},{"$f":"IF(AY645=0,0,AZ645/AY645)","v":0},{"$f":"IF((AY645+AX645)=0,0,AX645/(AX645+AY645))","v":0},null,null,{"$f":"IFERROR(BD645/BC645,0)","v":0},null,null,{"$f":"IFERROR(BG645/BF645,0)","v":0},null,null,{"$f":"IFERROR(BJ645/BI645,0)","v":0},null,null,null,{"$f":"(SUM(BL645:BN645)>0)*1+(SUM(BL645:BN645)>=10)*1+(SUM(BL645:BN645)>=50)*1+(SUM(BL645:BN645)>=100)*1+(SUM(BL645:BN645)>=200)*1+(SUM(BL645:BN645)>=300)*1","v":0},{"$f":"IFERROR(SUM(BL645:BN645)/BC645,0)","v":0},null,null,{"$f":"IFERROR(BQ645/BR645,0)","v":0},{"$f":"IF(BA645<0.01,0,IF(BA645>=0.1,10,ROUNDDOWN(BA645/0.01,0)))","v":0},8,{"$f":"BT645*BU645","v":0},{"$f":"IF(BB645<0.01,0,IF(BB645>=0.1,10,ROUNDDOWN(BB645/0.01,0)))","v":0},8,{"$f":"BW645*BX645","v":0},{"$f":"IF(U645<=1,9,IF(U645<=2,6,IF(U645<=3,3,0)))*(C645>0)","v":0},6,{"$f":"BZ645*CA645","v":0},{"$f":"IF(BH645<0.51,0,10)","v":0},7,{"$f":"CC645*CD645","v":0},{"$f":"IF(BE645<0.1,0,IF(BE645>=0.9,10,ROUNDDOWN(BE645/0.1,0)))","v":0},10,{"$f":"CF645*CG645","v":0},{"$f":"IF(BK645<0.1,0,IF(BK645>=0.6,10,ROUNDDOWN(BK645/0.1,0)))","v":0},8,{"$f":"CI645*CJ645","v":0},{"$f":"IF(BP645<0.05,0,IF(BP645>=0.1,10,1))","v":0},10,{"$f":"CL645*CM645","v":0},{"$f":"IF(BS645<0.1,0,IF(BS645>=0.8,10,ROUNDDOWN(BS645/0.1,0)))","v":0},10,{"$f":"CP645*CO645","v":0},{"$f":"ROUND(IF(C645=0,0,SUM(CR646:CR666)/C645),1)","v":0},{"$f":"((SUM(BL645:BN645)>=1)*1+(SUM(BL645:BN645)>=11)*1+(SUM(BL645:BN645)>=51)*3+(SUM(BL645:BN645)>=101)*2+(SUM(BL645:BN645)>=201)*2+(SUM(BL645:BN645)>=301)*4)*10","v":0},{"$f":"IFERROR(ROUND(SUM(CT646:CT666)/COUNTIF(P646:P666,\"коммунальная инфраструктура\"),1),0)","v":0},{"$f":"CS645+CT645","v":0},{"$f":"IFERROR(ROUND(SUM(CV646:CV666)/COUNTIF(P646:P666,\"коммунальная инфраструктура\"),1),0)","v":0},{"$f":"SUM(BV645,BY645,CB645,CE645,CH645,CK645,CN645,CQ645,CR645,CU645,CV645)","v":0},{"$f":"VLOOKUP(D645,РегионыФО,2,0)","v":{"$error":"#N/A"}}]
[null,null,17,{"$f":"IF(AND(D645<>\"\",G662<>\"\"),D645,\"\")","v":""},{"$f":"IF(AND(E645<>\"\",G662<>\"\"),E645,\"\")","v":""},null,null,null,null,null,null,null,null,null,null,null,null,null,{"$f":"IF(Q662>=2020,R662-Q662+1,\"\")","v":""},null,{"$f":"IF(Q662>=2020,S662*T662,\"\")","v":""},null,null,null,null,null,null,null,null,null,null,null,null,{"$f":"SUM(AI662:AL662)","v":0},null,null,null,null,{"$f":"SUM(AN662:AQ662)","v":0},null,null,null,null,{"$f":"SUM(AS662:AV662)","v":0},null,null,null,null,null,null,{"$f":"SUM(AH662,AM662,AR662)","v":0},{"$f":"SUM(AL662,AQ662,AV662)","v":0},{"$f":"IF(AY662=0,0,AZ662/AY662)","v":0},{"$f":"IF((AY662+AX662)=0,0,AX662/(AX662+AY662))","v":0},null,null,null,null,null,null,null,null,null,null,null,null,null,null,null,null,null,null,null,null,null,null,null,null,null,null,null,null,null,null,null,null,null,null,null,null,null,null,null,null,null,{"$f":"((L662=\"создание\")*7+(L662=\"расширение\")*7 +(L662=\"внедрение\")*7+(L662=\"строительство\")*4+(L662=\"реконструкция\")*3+(L662=\"капремонт\")*2 +(L662=\"приобретение\")*1+(L662=\"установка\")*1)*10","v":0},null,{"$f":"IF(P662=\"коммунальная инфраструктура\",(L662=\"строительство\")*3+(L662=\"реконструкция\")*2+(L662=\"капремонт\")*1,0)*10","v":0},null,{"$f":"IF(P662=\"коммунальная инфраструктура\",(L662=\"строительство\")*4+(L662=\"реконструкция\")*3+(L662=\"капремонт\")*2,0)*10","v":0}]
[32,null,{"$f":"COUNTA(G690:G710)","v":0},null,null,null,null,null,null,null,null,null,null,null,null,null,{"$f":"MIN(Q690:Q710)","v":0},{"$f":"MAX(R690:R710)","v":0},{"$f":"MAX(S690:S710)","v":0},null,{"$f":"MAX(U690:U710)","v":0},null,null,null,null,null,{"$f":"IF(COUNTIF(AA690:AA710,\"НЕТ\")>0,\"ПД!\",\"ок\")","v":"ок"},null,{"$f":"IF(COUNTIF(AC690:AC710,\"НЕТ\")>0,\"ДОСМ!\",\"ок\")","v":"ок"},null,{"$f":"IF(COUNTIF(AE690:AE710,\"НЕТ\")>0,\"ФОИВ!\",\"ок\")","v":"ок"},{"$f":"IF(COUNTIF(AF690:AF710,\"НЕТ\")>0,\"ФОИВ!\",\"ок\")","v":"ок"},null,{"$f":"SUM(AH690:AH710)","v":0},{"$f":"SUM(AI690:AI710)","v":0},{"$f":"SUM(AJ690:AJ710)","v":0},{"$f":"SUM(AK690:AK710)","v":0},{"$f":"SUM(AL690:AL710)","v":0},{"$f":"SUM(AM690:AM710)","v":0},{"$f":"SUM(AN690:AN710)","v":0},{"$f":"SUM(AO690:AO710)","v":0},{"$f":"SUM(AP690:AP710)","v":0},{"$f":"SUM(AQ690:AQ710)","v":0},{"$f":"SUM(AR690:AR710)","v":0},{"$f":"SUM(AS690:AS710)","v":0},{"$f":"SUM(AT690:AT710)","v":0},{"$f":"SUM(AU690:AU710)","v":0},{"$f":"SUM(AV690:AV710)","v":0},{"$f":"SUM(AW690:AW710)","v":0},{"$f":"SUM(AX690:AX710)","v":0},{"$f":"SUM(AH689,AM689,AR689)","v":0},{"$f":"AL689+AQ689+AV689","v":0},{"$f":"IF(AY689=0,0,AZ689/AY689)","v":0},{"$f":"IF((AY689+AX689)=0,0,AX689/(AX689+AY689))","v":0},null,null,{"$f":"IFERROR(BD689/BC689,0)","v":0},null,null,{"$f":"IFERROR(BG689/BF689,0)","v":0},null,null,{"$f":"IFERROR(BJ689/BI689,0)","v":0},null,null,null,{"$f":"(SUM(BL689:BN689)>0)*1+(SUM(BL689:BN689)>=10)*1+(SUM(BL689:BN689)>=50)*1+(SUM(BL689:BN689)>=100)*1+(SUM(BL689:BN689)>=200)*1+(SUM(BL689:BN689)>=300)*1","v":0},{"$f":"IFERROR(SUM(BL689:BN689)/BC689,0)","v":0},null,null,{"$f":"IFERROR(BQ689/BR689,0)","v":0},{"$f":"IF(BA689<0.01,0,IF(BA689>=0.1,10,ROUNDDOWN(BA689/0.01,0)))","v":0},8,{"$f":"BT689*BU689","v":0},{"$f":"IF(BB689<0.01,0,IF(BB689>=0.1,10,ROUNDDOWN(BB689/0.01,0)))","v":0},8,{"$f":"BW689*BX689","v":0},{"$f":"IF(U689<=1,9,IF(U689<=2,6,IF(U689<=3,3,0)))*(C689>0)","v":0},6,{"$f":"BZ689*CA689","v":0},{"$f":"IF(BH689<0.51,0,10)","v":0},7,{"$f":"CC689*CD689","v":0},{"$f":"IF(BE689<0.1,0,IF(BE689>=0.9,10,ROUNDDOWN(BE689/0.1,0)))","v":0},10,{"$f":"CF689*CG689","v":0},{"$f":"IF(BK689<0.1,0,IF(BK689>=0.6,10,ROUNDDOWN(BK689/0.1,0)))","v":0},8,{"$f":"CI689*CJ689","v":0},{"$f":"IF(BP689<0.05,0,IF(BP689>=0.1,10,1))","v":0},10,{"$f":"CL689*CM689","v":0},{"$f":"IF(BS689<0.1,0,IF(BS689>=0.8,10,ROUNDDOWN(BS689/0.1,0)))","v":0},10,{"$f":"CP689*CO689","v":0},{"$f":"ROUND(IF(C689=0,0,SUM(CR690:CR710)/C689),1)","v":0},{"$f":"((SUM(BL689:BN689)>=1)*1+(SUM(BL689:BN689)>=11)*1+(SUM(BL689:BN689)>=51)*3+(SUM(BL689:BN689)>=101)*2+(SUM(BL689:BN689)>=201)*2+(SUM(BL689:BN689)>=301)*4)*10","v":0},{"$f":"IFERROR(ROUND(SUM(CT690:CT710)/COUNTIF(P690:P710,\"коммунальная инфраструктура\"),1),0)","v":0},{"$f":"CS689+CT689","v":0},{"$f":"IFERROR(ROUND(SUM(CV690:CV710)/COUNTIF(P690:P710,\"коммунальная инфраструктура\"),1),0)","v":0},{"$f":"SUM(BV689,BY689,CB689,CE689,CH689,CK689,CN689,CQ689,CR689,CU689,CV689)","v":0},{"$f":"VLOOKUP(D689,РегионыФО,2,0)","v":{"$error":"#N/A"}}]
[null,null,8,{"$f":"IF(AND(D689<>\"\",G697<>\"\"),D689,\"\")","v":""},{"$f":"IF(AND(E689<>\"\",G697<>\"\"),E689,\"\")","v":""},null,null,null,null,null,null,null,null,null,null,null,null,null,{"$f":"IF(Q697>=2020,R697-Q697+1,\"\")","v":""},null,{"$f":"IF(Q697>=2020,S697*T697,\"\")","v":""},null,null,null,null,null,null,null,null,null,null,null,null,{"$f":"SUM(AI697:AL697)","v":0},null,null,null,null,{"$f":"SUM(AN697:AQ697)","v":0},null,null,null,null,{"$f":"SUM(AS697:AV697)","v":0},null,null,null,null,null,null,{"$f":"SUM(AH697,AM697,AR697)","v":0},{"$f":"SUM(AL697,AQ697,AV697)","v":0},{"$f":"IF(AY697=0,0,AZ697/AY697)","v":0},{"$f":"IF((AY697+AX697)=0,0,AX697/(AX697+AY697))","v":0},null,null,null,null,null,null,null,null,null,null,null,null,null,null,null,null,null,null,null,null,null,null,null,null,null,null,null,null,null,null,null,null,null,null,null,null,null,null,null,null,null,{"$f":"((L697=\"создание\")*7+(L697=\"расширение\")*7 +(L697=\"внедрение\")*7+(L697=\"строительство\")*4+(L697=\"реконструкция\")*3+(L697=\"капремонт\")*2 +(L697=\"приобретение\")*1+(L697=\"установка\")*1)*10","v":0},null,{"$f":"IF(P697=\"коммунальная инфраструктура\",(L697=\"строительство\")*3+(L697=\"реконструкция\")*2+(L697=\"капремонт\")*1,0)*10","v":0},null,{"$f":"IF(P697=\"коммунальная инфраструктура\",(L697=\"строительство\")*4+(L697=\"реконструкция\")*3+(L697=\"капремонт\")*2,0)*10","v":0}]
[null,null,3,{"$f":"IF(AND(D711<>\"\",G714<>\"\"),D711,\"\")","v":""},{"$f":"IF(AND(E711<>\"\",G714<>\"\"),E711,\"\")","v":""},null,null,null,null,null,null,null,null,null,null,null,null,null,{"$f":"IF(Q714>=2020,R714-Q714+1,\"\")","v":""},null,{"$f":"IF(Q714>=2020,S714*T714,\"\")","v":""},null,null,null,null,null,null,null,null,null,null,null,null,{"$f":"SUM(AI714:AL714)","v":0},null,null,null,null,{"$f":"SUM(AN714:AQ714)","v":0},null,null,null,null,{"$f":"SUM(AS714:AV714)","v":0},null,null,null,null,null,null,{"$f":"SUM(AH714,AM714,AR714)","v":0},{"$f":"SUM(AL714,AQ714,AV714)","v":0},{"$f":"IF(AY714=0,0,AZ714/AY714)","v":0},{"$f":"IF((AY714+AX714)=0,0,AX714/(AX714+AY714))","v":0},null,null,null,null,null,null,null,null,null,null,null,null,null,null,null,null,null,null,null,null,null,null,null,null,null,null,null,null,null,null,null,null,null,null,null,null,null,null,null,null,null,{"$f":"((L714=\"создание\")*7+(L714=\"расширение\")*7 +(L714=\"внедрение\")*7+(L714=\"строительство\")*4+(L714=\"реконструкция\")*3+(L714=\"капремонт\")*2 +(L714=\"приобретение\")*1+(L714=\"установка\")*1)*10","v":0},null,{"$f":"IF(P714=\"коммунальная инфраструктура\",(L714=\"строительство\")*3+(L714=\"реконструкция\")*2+(L714=\"капремонт\")*1,0)*10","v":0},null,{"$f":"IF(P714=\"коммунальная инфраструктура\",(L714=\"строительство\")*4+(L714=\"реконструкция\")*3+(L714=\"капремонт\")*2,0)*10","v":0}]
[null,null,7,{"$f":"IF(AND(D733<>\"\",G740<>\"\"),D733,\"\")","v":""},{"$f":"IF(AND(E733<>\"\",G740<>\"\"),E733,\"\")","v":""},null,null,null,null,null,null,null,null,null,null,null,null,null,{"$f":"IF(Q740>=2020,R740-Q740+1,\"\")","v":""},null,{"$f":"IF(Q740>=2020,S740*T740,\"\")","v":""},null,null,null,null,null,null,null,null,null,null,null,null,{"$f":"SUM(AI740:AL740)","v":0},null,null,null,null,{"$f":"SUM(AN740:AQ740)","v":0},null,null,null,null,{"$f":"SUM(AS740:AV740)","v":0},null,null,null,null,null,null,{"$f":"SUM(AH740,AM740,AR740)","v":0},{"$f":"SUM(AL740,AQ740,AV740)","v":0},{"$f":"IF(AY740=0,0,AZ740/AY740)","v":0},{"$f":"IF((AY740+AX740)=0,0,AX740/(AX740+AY740))","v":0},null,null,null,null,null,null,null,null,null,null,null,null,null,null,null,null,null,null,null,null,null,null,null,null,null,null,null,null,null,null,null,null,null,null,null,null,null,null,null,null,null,{"$f":"((L740=\"создание\")*7+(L740=\"расширение\")*7 +(L740=\"внедрение\")*7+(L740=\"строительство\")*4+(L740=\"реконструкция\")*3+(L740=\"капремонт\")*2 +(L740=\"приобретение\")*1+(L740=\"установка\")*1)*10","v":0},null,{"$f":"IF(P740=\"коммунальная инфраструктура\",(L740=\"строительство\")*3+(L740=\"реконструкция\")*2+(L740=\"капремонт\")*1,0)*10","v":0},null,{"$f":"IF(P740=\"коммунальная инфраструктура\",(L740=\"строительство\")*4+(L740=\"реконструкция\")*3+(L740=\"капремонт\")*2,0)*10","v":0}]
[null,null,16,{"$f":"IF(AND(D733<>\"\",G749<>\"\"),D733,\"\")","v":""},{"$f":"IF(AND(E733<>\"\",G749<>\"\"),E733,\"\")","v":""},null,null,null,null,null,null,null,null,null,null,null,null,null,{"$f":"IF(Q749>=2020,R749-Q749+1,\"\")","v":""},null,{"$f":"IF(Q749>=2020,S749*T749,\"\")","v":""},null,null,null,null,null,null,null,null,null,null,null,null,{"$f":"SUM(AI749:AL749)","v":0},null,null,null,null,{"$f":"SUM(AN749:AQ749)","v":0},null,null,null,null,{"$f":"SUM(AS749:AV749)","v":0},null,null,null,null,null,null,{"$f":"SUM(AH749,AM749,AR749)","v":0},{"$f":"SUM(AL749,AQ749,AV749)","v":0},{"$f":"IF(AY749=0,0,AZ749/AY749)","v":0},{"$f":"IF((AY749+AX749)=0,0,AX749/(AX749+AY749))","v":0},null,null,null,null,null,null,null,null,null,null,null,null,null,null,null,null,null,null,null,null,null,null,null,null,null,null,null,null,null,null,null,null,null,null,null,null,null,null,null,null,null,{"$f":"((L749=\"создание\")*7+(L749=\"расширение\")*7 +(L749=\"внедрение\")*7+(L749=\"строительство\")*4+(L749=\"реконструкция\")*3+(L749=\"капремонт\")*2 +(L749=\"приобретение\")*1+(L749=\"установка\")*1)*10","v":0},null,{"$f":"IF(P749=\"коммунальная инфраструктура\",(L749=\"строительство\")*3+(L749=\"реконструкция\")*2+(L749=\"капремонт\")*1,0)*10","v":0},null,{"$f":"IF(P749=\"коммунальная инфраструктура\",(L749=\"строительство\")*4+(L749=\"реконструкция\")*3+(L749=\"капремонт\")*2,0)*10","v":0}]
[null,null,18,{"$f":"IF(AND(D755<>\"\",G773<>\"\"),D755,\"\")","v":""},{"$f":"IF(AND(E755<>\"\",G773<>\"\"),E755,\"\")","v":""},null,null,null,null,null,null,null,null,null,null,null,null,null,{"$f":"IF(Q773>=2020,R773-Q773+1,\"\")","v":""},null,{"$f":"IF(Q773>=2020,S773*T773,\"\")","v":""},null,null,null,null,null,null,null,null,null,null,null,null,{"$f":"SUM(AI773:AL773)","v":0},null,null,null,null,{"$f":"SUM(AN773:AQ773)","v":0},null,null,null,null,{"$f":"SUM(AS773:AV773)","v":0},null,null,null,null,null,null,{"$f":"SUM(AH773,AM773,AR773)","v":0},{"$f":"SUM(AL773,AQ773,AV773)","v":0},{"$f":"IF(AY773=0,0,AZ773/AY773)","v":0},{"$f":"IF((AY773+AX773)=0,0,AX773/(AX773+AY773))","v":0},null,null,null,null,null,null,null,null,null,null,null,null,null,null,null,null,null,null,null,null,null,null,null,null,null,null,null,null,null,null,null,null,null,null,null,null,null,null,null,null,null,{"$f":"((L773=\"создание\")*7+(L773=\"расширение\")*7 +(L773=\"внедрение\")*7+(L773=\"строительство\")*4+(L773=\"реконструкция\")*3+(L773=\"капремонт\")*2 +(L773=\"приобретение\")*1+(L773=\"установка\")*1)*10","v":0},null,{"$f":"IF(P773=\"коммунальная инфраструктура\",(L773=\"строительство\")*3+(L773=\"реконструкция\")*2+(L773=\"капремонт\")*1,0)*10","v":0},null,{"$f":"IF(P773=\"коммунальная инфраструктура\",(L773=\"строительство\")*4+(L773=\"реконструкция\")*3+(L773=\"капремонт\")*2,0)*10","v":0}]
[null,null,7,{"$f":"IF(AND(D777<>\"\",G784<>\"\"),D777,\"\")","v":""},{"$f":"IF(AND(E777<>\"\",G784<>\"\"),E777,\"\")","v":""},null,null,null,null,null,null,null,null,null,null,null,null,null,{"$f":"IF(Q784>=2020,R784-Q784+1,\"\")","v":""},null,{"$f":"IF(Q784>=2020,S784*T784,\"\")","v":""},null,null,null,null,null,null,null,null,null,null,null,null,{"$f":"SUM(AI784:AL784)","v":0},null,null,null,null,{"$f":"SUM(AN784:AQ784)","v":0},null,null,null,null,{"$f":"SUM(AS784:AV784)","v":0},null,null,null,null,null,null,{"$f":"SUM(AH784,AM784,AR784)","v":0},{"$f":"SUM(AL784,AQ784,AV784)","v":0},{"$f":"IF(AY784=0,0,AZ784/AY784)","v":0},{"$f":"IF((AY784+AX784)=0,0,AX784/(AX784+AY784))","v":0},null,null,null,null,null,null,null,null,null,null,null,null,null,null,null,null,null,null,null,null,null,null,null,null,null,null,null,null,null,null,null,null,null,null,null,null,null,null,null,null,null,{"$f":"((L784=\"создание\")*7+(L784=\"расширение\")*7 +(L784=\"внедрение\")*7+(L784=\"строительство\")*4+(L784=\"реконструкция\")*3+(L784=\"капремонт\")*2 +(L784=\"приобретение\")*1+(L784=\"установка\")*1)*10","v":0},null,{"$f":"IF(P784=\"коммунальная инфраструктура\",(L784=\"строительство\")*3+(L784=\"реконструкция\")*2+(L784=\"капремонт\")*1,0)*10","v":0},null,{"$f":"IF(P784=\"коммунальная инфраструктура\",(L784=\"строительство\")*4+(L784=\"реконструкция\")*3+(L784=\"капремонт\")*2,0)*10","v":0}]
[null,null,2,{"$f":"IF(AND(D799<>\"\",G801<>\"\"),D799,\"\")","v":""},{"$f":"IF(AND(E799<>\"\",G801<>\"\"),E799,\"\")","v":""},null,null,null,null,null,null,null,null,null,null,null,null,null,{"$f":"IF(Q801>=2020,R801-Q801+1,\"\")","v":""},null,{"$f":"IF(Q801>=2020,S801*T801,\"\")","v":""},null,null,null,null,null,null,null,null,null,null,null,null,{"$f":"SUM(AI801:AL801)","v":0},null,null,null,null,{"$f":"SUM(AN801:AQ801)","v":0},null,null,null,null,{"$f":"SUM(AS801:AV801)","v":0},null,null,null,null,null,null,{"$f":"SUM(AH801,AM801,AR801)","v":0},{"$f":"SUM(AL801,AQ801,AV801)","v":0},{"$f":"IF(AY801=0,0,AZ801/AY801)","v":0},{"$f":"IF((AY801+AX801)=0,0,AX801/(AX801+AY801))","v":0},null,null,null,null,null,null,null,null,null,null,null,null,null,null,null,null,null,null,null,null,null,null,null,null,null,null,null,null,null,null,null,null,null,null,null,null,null,null,null,null,null,{"$f":"((L801=\"создание\")*7+(L801=\"расширение\")*7 +(L801=\"внедрение\")*7+(L801=\"строительство\")*4+(L801=\"реконструкция\")*3+(L801=\"капремонт\")*2 +(L801=\"приобретение\")*1+(L801=\"установка\")*1)*10","v":0},null,{"$f":"IF(P801=\"коммунальная инфраструктура\",(L801=\"строительство\")*3+(L801=\"реконструкция\")*2+(L801=\"капремонт\")*1,0)*10","v":0},null,{"$f":"IF(P801=\"коммунальная инфраструктура\",(L801=\"строительство\")*4+(L801=\"реконструкция\")*3+(L801=\"капремонт\")*2,0)*10","v":0}]
[null,null,2,{"$f":"IF(AND(D821<>\"\",G823<>\"\"),D821,\"\")","v":""},{"$f":"IF(AND(E821<>\"\",G823<>\"\"),E821,\"\")","v":""},null,null,null,null,null,null,null,null,null,null,null,null,null,{"$f":"IF(Q823>=2020,R823-Q823+1,\"\")","v":""},null,{"$f":"IF(Q823>=2020,S823*T823,\"\")","v":""},null,null,null,null,null,null,null,null,null,null,null,null,{"$f":"SUM(AI823:AL823)","v":0},null,null,null,null,{"$f":"SUM(AN823:AQ823)","v":0},null,null,null,null,{"$f":"SUM(AS823:AV823)","v":0},null,null,null,null,null,null,{"$f":"SUM(AH823,AM823,AR823)","v":0},{"$f":"SUM(AL823,AQ823,AV823)","v":0},{"$f":"IF(AY823=0,0,AZ823/AY823)","v":0},{"$f":"IF((AY823+AX823)=0,0,AX823/(AX823+AY823))","v":0},null,null,null,null,null,null,null,null,null,null,null,null,null,null,null,null,null,null,null,null,null,null,null,null,null,null,null,null,null,null,null,null,null,null,null,null,null,null,null,null,null,{"$f":"((L823=\"создание\")*7+(L823=\"расширение\")*7 +(L823=\"внедрение\")*7+(L823=\"строительство\")*4+(L823=\"реконструкция\")*3+(L823=\"капремонт\")*2 +(L823=\"приобретение\")*1+(L823=\"установка\")*1)*10","v":0},null,{"$f":"IF(P823=\"коммунальная инфраструктура\",(L823=\"строительство\")*3+(L823=\"реконструкция\")*2+(L823=\"капремонт\")*1,0)*10","v":0},null,{"$f":"IF(P823=\"коммунальная инфраструктура\",(L823=\"строительство\")*4+(L823=\"реконструкция\")*3+(L823=\"капремонт\")*2,0)*10","v":0}]
[null,null,15,{"$f":"IF(AND(D821<>\"\",G836<>\"\"),D821,\"\")","v":""},{"$f":"IF(AND(E821<>\"\",G836<>\"\"),E821,\"\")","v":""},null,null,null,null,null,null,null,null,null,null,null,null,null,{"$f":"IF(Q836>=2020,R836-Q836+1,\"\")","v":""},null,{"$f":"IF(Q836>=2020,S836*T836,\"\")","v":""},null,null,null,null,null,null,null,null,null,null,null,null,{"$f":"SUM(AI836:AL836)","v":0},null,null,null,null,{"$f":"SUM(AN836:AQ836)","v":0},null,null,null,null,{"$f":"SUM(AS836:AV836)","v":0},null,null,null,null,null,null,{"$f":"SUM(AH836,AM836,AR836)","v":0},{"$f":"SUM(AL836,AQ836,AV836)","v":0},{"$f":"IF(AY836=0,0,AZ836/AY836)","v":0},{"$f":"IF((AY836+AX836)=0,0,AX836/(AX836+AY836))","v":0},null,null,null,null,null,null,null,null,null,null,null,null,null,null,null,null,null,null,null,null,null,null,null,null,null,null,null,null,null,null,null,null,null,null,null,null,null,null,null,null,null,{"$f":"((L836=\"создание\")*7+(L836=\"расширение\")*7 +(L836=\"внедрение\")*7+(L836=\"строительство\")*4+(L836=\"реконструкция\")*3+(L836=\"капремонт\")*2 +(L836=\"приобретение\")*1+(L836=\"установка\")*1)*10","v":0},null,{"$f":"IF(P836=\"коммунальная инфраструктура\",(L836=\"строительство\")*3+(L836=\"реконструкция\")*2+(L836=\"капремонт\")*1,0)*10","v":0},null,{"$f":"IF(P836=\"коммунальная инфраструктура\",(L836=\"строительство\")*4+(L836=\"реконструкция\")*3+(L836=\"капремонт\")*2,0)*10","v":0}]
[null,null,10,{"$f":"IF(AND(D843<>\"\",G853<>\"\"),D843,\"\")","v":""},{"$f":"IF(AND(E843<>\"\",G853<>\"\"),E843,\"\")","v":""},null,null,null,null,null,null,null,null,null,null,null,null,null,{"$f":"IF(Q853>=2020,R853-Q853+1,\"\")","v":""},null,{"$f":"IF(Q853>=2020,S853*T853,\"\")","v":""},null,null,null,null,null,null,null,null,null,null,null,null,{"$f":"SUM(AI853:AL853)","v":0},null,null,null,null,{"$f":"SUM(AN853:AQ853)","v":0},null,null,null,null,{"$f":"SUM(AS853:AV853)","v":0},null,null,null,null,null,null,{"$f":"SUM(AH853,AM853,AR853)","v":0},{"$f":"SUM(AL853,AQ853,AV853)","v":0},{"$f":"IF(AY853=0,0,AZ853/AY853)","v":0},{"$f":"IF((AY853+AX853)=0,0,AX853/(AX853+AY853))","v":0},null,null,null,null,null,null,null,null,null,null,null,null,null,null,null,null,null,null,null,null,null,null,null,null,null,null,null,null,null,null,null,null,null,null,null,null,null,null,null,null,null,{"$f":"((L853=\"создание\")*7+(L853=\"расширение\")*7 +(L853=\"внедрение\")*7+(L853=\"строительство\")*4+(L853=\"реконструкция\")*3+(L853=\"капремонт\")*2 +(L853=\"приобретение\")*1+(L853=\"установка\")*1)*10","v":0},null,{"$f":"IF(P853=\"коммунальная инфраструктура\",(L853=\"строительство\")*3+(L853=\"реконструкция\")*2+(L853=\"капремонт\")*1,0)*10","v":0},null,{"$f":"IF(P853=\"коммунальная инфраструктура\",(L853=\"строительство\")*4+(L853=\"реконструкция\")*3+(L853=\"капремонт\")*2,0)*10","v":0}]
[null,null,14,{"$f":"IF(AND(D843<>\"\",G857<>\"\"),D843,\"\")","v":""},{"$f":"IF(AND(E843<>\"\",G857<>\"\"),E843,\"\")","v":""},null,null,null,null,null,null,null,null,null,null,null,null,null,{"$f":"IF(Q857>=2020,R857-Q857+1,\"\")","v":""},null,{"$f":"IF(Q857>=2020,S857*T857,\"\")","v":""},null,null,null,null,null,null,null,null,null,null,null,null,{"$f":"SUM(AI857:AL857)","v":0},null,null,null,null,{"$f":"SUM(AN857:AQ857)","v":0},null,null,null,null,{"$f":"SUM(AS857:AV857)","v":0},null,null,null,null,null,null,{"$f":"SUM(AH857,AM857,AR857)","v":0},{"$f":"SUM(AL857,AQ857,AV857)","v":0},{"$f":"IF(AY857=0,0,AZ857/AY857)","v":0},{"$f":"IF((AY857+AX857)=0,0,AX857/(AX857+AY857))","v":0},null,null,null,null,null,null,null,null,null,null,null,null,null,null,null,null,null,null,null,null,null,null,null,null,null,null,null,null,null,null,null,null,null,null,null,null,null,null,null,null,null,{"$f":"((L857=\"создание\")*7+(L857=\"расширение\")*7 +(L857=\"внедрение\")*7+(L857=\"строительство\")*4+(L857=\"реконструкция\")*3+(L857=\"капремонт\")*2 +(L857=\"приобретение\")*1+(L857=\"установка\")*1)*10","v":0},null,{"$f":"IF(P857=\"коммунальная инфраструктура\",(L857=\"строительство\")*3+(L857=\"реконструкция\")*2+(L857=\"капремонт\")*1,0)*10","v":0},null,{"$f":"IF(P857=\"коммунальная инфраструктура\",(L857=\"строительство\")*4+(L857=\"реконструкция\")*3+(L857=\"капремонт\")*2,0)*10","v":0}]
[null,null,1,{"$f":"IF(AND(D887<>\"\",G888<>\"\"),D887,\"\")","v":""},{"$f":"IF(AND(E887<>\"\",G888<>\"\"),E887,\"\")","v":""},null,null,null,null,null,null,null,null,null,null,null,null,null,{"$f":"IF(Q888>=2020,R888-Q888+1,\"\")","v":""},null,{"$f":"IF(Q888>=2020,ROUNDUP(S888*T888,0),\"\")","v":""},null,null,null,null,null,null,null,null,null,null,null,null,{"$f":"SUM(AI888:AL888)","v":0},null,null,null,null,{"$f":"SUM(AN888:AQ888)","v":0},null,null,null,null,{"$f":"SUM(AS888:AV888)","v":0},null,null,null,null,null,null,{"$f":"SUM(AH888,AM888,AR888)","v":0},{"$f":"SUM(AL888,AQ888,AV888)","v":0},{"$f":"IF(AY888=0,0,AZ888/AY888)","v":0},{"$f":"IF((AY888+AX888)=0,0,AX888/(AX888+AY888))","v":0},null,null,null,null,null,null,null,null,null,null,null,null,null,null,null,null,null,null,null,null,null,null,null,null,null,null,null,null,null,null,null,null,null,null,null,null,null,null,null,null,null,{"$f":"((L888=\"создание\")*7+(L888=\"расширение\")*7 +(L888=\"внедрение\")*7+(L888=\"строительство\")*4+(L888=\"реконструкция\")*3+(L888=\"капремонт\")*2 +(L888=\"приобретение\")*1+(L888=\"установка\")*1)*10","v":0},null,{"$f":"IF(P888=\"коммунальная инфраструктура\",(L888=\"строительство\")*3+(L888=\"реконструкция\")*2+(L888=\"капремонт\")*1,0)*10","v":0},null,{"$f":"IF(P888=\"коммунальная инфраструктура\",(L888=\"строительство\")*4+(L888=\"реконструкция\")*3+(L888=\"капремонт\")*2,0)*10","v":0}]
[null,null,3,{"$f":"IF(AND(D887<>\"\",G890<>\"\"),D887,\"\")","v":""},{"$f":"IF(AND(E887<>\"\",G890<>\"\"),E887,\"\")","v":""},null,null,null,null,null,null,null,null,null,null,null,null,null,{"$f":"IF(Q890>=2020,R890-Q890+1,\"\")","v":""},null,{"$f":"IF(Q890>=2020,S890*T890,\"\")","v":""},null,null,null,null,null,null,null,null,null,null,null,null,{"$f":"SUM(AI890:AL890)","v":0},null,null,null,null,{"$f":"SUM(AN890:AQ890)","v":0},null,null,null,null,{"$f":"SUM(AS890:AV890)","v":0},null,null,null,null,null,null,{"$f":"SUM(AH890,AM890,AR890)","v":0},{"$f":"SUM(AL890,AQ890,AV890)","v":0},{"$f":"IF(AY890=0,0,AZ890/AY890)","v":0},{"$f":"IF((AY890+AX890)=0,0,AX890/(AX890+AY890))","v":0},null,null,null,null,null,null,null,null,null,null,null,null,null,null,null,null,null,null,null,null,null,null,null,null,null,null,null,null,null,null,null,null,null,null,null,null,null,null,null,null,null,{"$f":"((L890=\"создание\")*7+(L890=\"расширение\")*7 +(L890=\"внедрение\")*7+(L890=\"строительство\")*4+(L890=\"реконструкция\")*3+(L890=\"капремонт\")*2 +(L890=\"приобретение\")*1+(L890=\"установка\")*1)*10","v":0},null,{"$f":"IF(P890=\"коммунальная инфраструктура\",(L890=\"строительство\")*3+(L890=\"реконструкция\")*2+(L890=\"капремонт\")*1,0)*10","v":0},null,{"$f":"IF(P890=\"коммунальная инфраструктура\",(L890=\"строительство\")*4+(L890=\"реконструкция\")*3+(L890=\"капремонт\")*2,0)*10","v":0}]
[null,null,20,{"$f":"IF(AND(D887<>\"\",G907<>\"\"),D887,\"\")","v":""},{"$f":"IF(AND(E887<>\"\",G907<>\"\"),E887,\"\")","v":""},null,null,null,null,null,null,null,null,null,null,null,null,null,{"$f":"IF(Q907>=2020,R907-Q907+1,\"\")","v":""},null,{"$f":"IF(Q907>=2020,S907*T907,\"\")","v":""},null,null,null,null,null,null,null,null,null,null,null,null,{"$f":"SUM(AI907:AL907)","v":0},null,null,null,null,{"$f":"SUM(AN907:AQ907)","v":0},null,null,null,null,{"$f":"SUM(AS907:AV907)","v":0},null,null,null,null,null,null,{"$f":"SUM(AH907,AM907,AR907)","v":0},{"$f":"SUM(AL907,AQ907,AV907)","v":0},{"$f":"IF(AY907=0,0,AZ907/AY907)","v":0},{"$f":"IF((AY907+AX907)=0,0,AX907/(AX907+AY907))","v":0},null,null,null,null,null,null,null,null,null,null,null,null,null,null,null,null,null,null,null,null,null,null,null,null,null,null,null,null,null,null,null,null,null,null,null,null,null,null,null,null,null,{"$f":"((L907=\"создание\")*7+(L907=\"расширение\")*7 +(L907=\"внедрение\")*7+(L907=\"строительство\")*4+(L907=\"реконструкция\")*3+(L907=\"капремонт\")*2 +(L907=\"приобретение\")*1+(L907=\"установка\")*1)*10","v":0},null,{"$f":"IF(P907=\"коммунальная инфраструктура\",(L907=\"строительство\")*3+(L907=\"реконструкция\")*2+(L907=\"капремонт\")*1,0)*10","v":0},null,{"$f":"IF(P907=\"коммунальная инфраструктура\",(L907=\"строительство\")*4+(L907=\"реконструкция\")*3+(L907=\"капремонт\")*2,0)*10","v":0}]
[null,null,15,{"$f":"IF(AND(D909<>\"\",G924<>\"\"),D909,\"\")","v":""},{"$f":"IF(AND(E909<>\"\",G924<>\"\"),E909,\"\")","v":""},null,null,null,null,null,null,null,null,null,null,null,null,null,{"$f":"IF(Q924>=2020,R924-Q924+1,\"\")","v":""},null,{"$f":"IF(Q924>=2020,S924*T924,\"\")","v":""},null,null,null,null,null,null,null,null,null,null,null,null,{"$f":"SUM(AI924:AL924)","v":0},null,null,null,null,{"$f":"SUM(AN924:AQ924)","v":0},null,null,null,null,{"$f":"SUM(AS924:AV924)","v":0},null,null,null,null,null,null,{"$f":"SUM(AH924,AM924,AR924)","v":0},{"$f":"SUM(AL924,AQ924,AV924)","v":0},{"$f":"IF(AY924=0,0,AZ924/AY924)","v":0},{"$f":"IF((AY924+AX924)=0,0,AX924/(AX924+AY924))","v":0},null,null,null,null,null,null,null,null,null,null,null,null,null,null,null,null,null,null,null,null,null,null,null,null,null,null,null,null,null,null,null,null,null,null,null,null,null,null,null,null,null,{"$f":"((L924=\"создание\")*7+(L924=\"расширение\")*7 +(L924=\"внедрение\")*7+(L924=\"строительство\")*4+(L924=\"реконструкция\")*3+(L924=\"капремонт\")*2 +(L924=\"приобретение\")*1+(L924=\"установка\")*1)*10","v":0},null,{"$f":"IF(P924=\"коммунальная инфраструктура\",(L924=\"строительство\")*3+(L924=\"реконструкция\")*2+(L924=\"капремонт\")*1,0)*10","v":0},null,{"$f":"IF(P924=\"коммунальная инфраструктура\",(L924=\"строительство\")*4+(L924=\"реконструкция\")*3+(L924=\"капремонт\")*2,0)*10","v":0}]
[null,null,10,{"$f":"IF(AND(D931<>\"\",G941<>\"\"),D931,\"\")","v":""},{"$f":"IF(AND(E931<>\"\",G941<>\"\"),E931,\"\")","v":""},null,null,null,null,null,null,null,null,null,null,null,null,null,{"$f":"IF(Q941>=2020,R941-Q941+1,\"\")","v":""},null,{"$f":"IF(Q941>=2020,S941*T941,\"\")","v":""},null,null,null,null,null,null,null,null,null,null,null,null,{"$f":"SUM(AI941:AL941)","v":0},null,null,null,null,{"$f":"SUM(AN941:AQ941)","v":0},null,null,null,null,{"$f":"SUM(AS941:AV941)","v":0},null,null,null,null,null,null,{"$f":"SUM(AH941,AM941,AR941)","v":0},{"$f":"SUM(AL941,AQ941,AV941)","v":0},{"$f":"IF(AY941=0,0,AZ941/AY941)","v":0},{"$f":"IF((AY941+AX941)=0,0,AX941/(AX941+AY941))","v":0},null,null,null,null,null,null,null,null,null,null,null,null,null,null,null,null,null,null,null,null,null,null,null,null,null,null,null,null,null,null,null,null,null,null,null,null,null,null,null,null,null,{"$f":"((L941=\"создание\")*7+(L941=\"расширение\")*7 +(L941=\"внедрение\")*7+(L941=\"строительство\")*4+(L941=\"реконструкция\")*3+(L941=\"капремонт\")*2 +(L941=\"приобретение\")*1+(L941=\"установка\")*1)*10","v":0},null,{"$f":"IF(P941=\"коммунальная инфраструктура\",(L941=\"строительство\")*3+(L941=\"реконструкция\")*2+(L941=\"капремонт\")*1,0)*10","v":0},null,{"$f":"IF(P941=\"коммунальная инфраструктура\",(L941=\"строительство\")*4+(L941=\"реконструкция\")*3+(L941=\"капремонт\")*2,0)*10","v":0}]
[null,null,6,{"$f":"IF(AND(D953<>\"\",G959<>\"\"),D953,\"\")","v":""},{"$f":"IF(AND(E953<>\"\",G959<>\"\"),E953,\"\")","v":""},null,null,null,null,null,null,null,null,null,null,null,null,null,{"$f":"IF(Q959>=2020,R959-Q959+1,\"\")","v":""},null,{"$f":"IF(Q959>=2020,S959*T959,\"\")","v":""},null,null,null,null,null,null,null,null,null,null,null,null,{"$f":"SUM(AI959:AL959)","v":0},null,null,null,null,{"$f":"SUM(AN959:AQ959)","v":0},null,null,null,null,{"$f":"SUM(AS959:AV959)","v":0},null,null,null,null,null,null,{"$f":"SUM(AH959,AM959,AR959)","v":0},{"$f":"SUM(AL959,AQ959,AV959)","v":0},{"$f":"IF(AY959=0,0,AZ959/AY959)","v":0},{"$f":"IF((AY959+AX959)=0,0,AX959/(AX959+AY959))","v":0},null,null,null,null,null,null,null,null,null,null,null,null,null,null,null,null,null,null,null,null,null,null,null,null,null,null,null,null,null,null,null,null,null,null,null,null,null,null,null,null,null,{"$f":"((L959=\"создание\")*7+(L959=\"расширение\")*7 +(L959=\"внедрение\")*7+(L959=\"строительство\")*4+(L959=\"реконструкция\")*3+(L959=\"капремонт\")*2 +(L959=\"приобретение\")*1+(L959=\"установка\")*1)*10","v":0},null,{"$f":"IF(P959=\"коммунальная инфраструктура\",(L959=\"строительство\")*3+(L959=\"реконструкция\")*2+(L959=\"капремонт\")*1,0)*10","v":0},null,{"$f":"IF(P959=\"коммунальная инфраструктура\",(L959=\"строительство\")*4+(L959=\"реконструкция\")*3+(L959=\"капремонт\")*2,0)*10","v":0}]
[null,null,1,{"$f":"IF(AND(D975<>\"\",G976<>\"\"),D975,\"\")","v":""},{"$f":"IF(AND(E975<>\"\",G976<>\"\"),E975,\"\")","v":""},null,null,null,null,null,null,null,null,null,null,null,null,null,{"$f":"IF(Q976>=2020,R976-Q976+1,\"\")","v":""},null,{"$f":"IF(Q976>=2020,ROUNDUP(S976*T976,0),\"\")","v":""},null,null,null,null,null,null,null,null,null,null,null,null,{"$f":"SUM(AI976:AL976)","v":0},null,null,null,null,{"$f":"SUM(AN976:AQ976)","v":0},null,null,null,null,{"$f":"SUM(AS976:AV976)","v":0},null,null,null,null,null,null,{"$f":"SUM(AH976,AM976,AR976)","v":0},{"$f":"SUM(AL976,AQ976,AV976)","v":0},{"$f":"IF(AY976=0,0,AZ976/AY976)","v":0},{"$f":"IF((AY976+AX976)=0,0,AX976/(AX976+AY976))","v":0},null,null,null,null,null,null,null,null,null,null,null,null,null,null,null,null,null,null,null,null,null,null,null,null,null,null,null,null,null,null,null,null,null,null,null,null,null,null,null,null,null,{"$f":"((L976=\"создание\")*7+(L976=\"расширение\")*7 +(L976=\"внедрение\")*7+(L976=\"строительство\")*4+(L976=\"реконструкция\")*3+(L976=\"капремонт\")*2 +(L976=\"приобретение\")*1+(L976=\"установка\")*1)*10","v":0},null,{"$f":"IF(P976=\"коммунальная инфраструктура\",(L976=\"строительство\")*3+(L976=\"реконструкция\")*2+(L976=\"капремонт\")*1,0)*10","v":0},null,{"$f":"IF(P976=\"коммунальная инфраструктура\",(L976=\"строительство\")*4+(L976=\"реконструкция\")*3+(L976=\"капремонт\")*2,0)*10","v":0}]
[null,null,16,{"$f":"IF(AND(D975<>\"\",G991<>\"\"),D975,\"\")","v":""},{"$f":"IF(AND(E975<>\"\",G991<>\"\"),E975,\"\")","v":""},null,null,null,null,null,null,null,null,null,null,null,null,null,{"$f":"IF(Q991>=2020,R991-Q991+1,\"\")","v":""},null,{"$f":"IF(Q991>=2020,S991*T991,\"\")","v":""},null,null,null,null,null,null,null,null,null,null,null,null,{"$f":"SUM(AI991:AL991)","v":0},null,null,null,null,{"$f":"SUM(AN991:AQ991)","v":0},null,null,null,null,{"$f":"SUM(AS991:AV991)","v":0},null,null,null,null,null,null,{"$f":"SUM(AH991,AM991,AR991)","v":0},{"$f":"SUM(AL991,AQ991,AV991)","v":0},{"$f":"IF(AY991=0,0,AZ991/AY991)","v":0},{"$f":"IF((AY991+AX991)=0,0,AX991/(AX991+AY991))","v":0},null,null,null,null,null,null,null,null,null,null,null,null,null,null,null,null,null,null,null,null,null,null,null,null,null,null,null,null,null,null,null,null,null,null,null,null,null,null,null,null,null,{"$f":"((L991=\"создание\")*7+(L991=\"расширение\")*7 +(L991=\"внедрение\")*7+(L991=\"строительство\")*4+(L991=\"реконструкция\")*3+(L991=\"капремонт\")*2 +(L991=\"приобретение\")*1+(L991=\"установка\")*1)*10","v":0},null,{"$f":"IF(P991=\"коммунальная инфраструктура\",(L991=\"строительство\")*3+(L991=\"реконструкция\")*2+(L991=\"капремонт\")*1,0)*10","v":0},null,{"$f":"IF(P991=\"коммунальная инфраструктура\",(L991=\"строительство\")*4+(L991=\"реконструкция\")*3+(L991=\"капремонт\")*2,0)*10","v":0}]
[null,null,14,{"$f":"IF(AND(D997<>\"\",G1011<>\"\"),D997,\"\")","v":""},{"$f":"IF(AND(E997<>\"\",G1011<>\"\"),E997,\"\")","v":""},null,null,null,null,null,null,null,null,null,null,null,null,null,{"$f":"IF(Q1011>=2020,R1011-Q1011+1,\"\")","v":""},null,{"$f":"IF(Q1011>=2020,S1011*T1011,\"\")","v":""},null,null,null,null,null,null,null,null,null,null,null,null,{"$f":"SUM(AI1011:AL1011)","v":0},null,null,null,null,{"$f":"SUM(AN1011:AQ1011)","v":0},null,null,null,null,{"$f":"SUM(AS1011:AV1011)","v":0},null,null,null,null,null,null,{"$f":"SUM(AH1011,AM1011,AR1011)","v":0},{"$f":"SUM(AL1011,AQ1011,AV1011)","v":0},{"$f":"IF(AY1011=0,0,AZ1011/AY1011)","v":0},{"$f":"IF((AY1011+AX1011)=0,0,AX1011/(AX1011+AY1011))","v":0},null,null,null,null,null,null,null,null,null,null,null,null,null,null,null,null,null,null,null,null,null,null,null,null,null,null,null,null,null,null,null,null,null,null,null,null,null,null,null,null,null,{"$f":"((L1011=\"создание\")*7+(L1011=\"расширение\")*7 +(L1011=\"внедрение\")*7+(L1011=\"строительство\")*4+(L1011=\"реконструкция\")*3+(L1011=\"капремонт\")*2 +(L1011=\"приобретение\")*1+(L1011=\"установка\")*1)*10","v":0},null,{"$f":"IF(P1011=\"коммунальная инфраструктура\",(L1011=\"строительство\")*3+(L1011=\"реконструкция\")*2+(L1011=\"капремонт\")*1,0)*10","v":0},null,{"$f":"IF(P1011=\"коммунальная инфраструктура\",(L1011=\"строительство\")*4+(L1011=\"реконструкция\")*3+(L1011=\"капремонт\")*2,0)*10","v":0}]
[null,null,5,{"$f":"IF(AND(D1019<>\"\",G1024<>\"\"),D1019,\"\")","v":""},{"$f":"IF(AND(E1019<>\"\",G1024<>\"\"),E1019,\"\")","v":""},null,null,null,null,null,null,null,null,null,null,null,null,null,{"$f":"IF(Q1024>=2020,R1024-Q1024+1,\"\")","v":""},null,{"$f":"IF(Q1024>=2020,S1024*T1024,\"\")","v":""},null,null,null,null,null,null,null,null,null,null,null,null,{"$f":"SUM(AI1024:AL1024)","v":0},null,null,null,null,{"$f":"SUM(AN1024:AQ1024)","v":0},null,null,null,null,{"$f":"SUM(AS1024:AV1024)","v":0},null,null,null,null,null,null,{"$f":"SUM(AH1024,AM1024,AR1024)","v":0},{"$f":"SUM(AL1024,AQ1024,AV1024)","v":0},{"$f":"IF(AY1024=0,0,AZ1024/AY1024)","v":0},{"$f":"IF((AY1024+AX1024)=0,0,AX1024/(AX1024+AY1024))","v":0},null,null,null,null,null,null,null,null,null,null,null,null,null,null,null,null,null,null,null,null,null,null,null,null,null,null,null,null,null,null,null,null,null,null,null,null,null,null,null,null,null,{"$f":"((L1024=\"создание\")*7+(L1024=\"расширение\")*7 +(L1024=\"внедрение\")*7+(L1024=\"строительство\")*4+(L1024=\"реконструкция\")*3+(L1024=\"капремонт\")*2 +(L1024=\"приобретение\")*1+(L1024=\"установка\")*1)*10","v":0},null,{"$f":"IF(P1024=\"коммунальная инфраструктура\",(L1024=\"строительство\")*3+(L1024=\"реконструкция\")*2+(L1024=\"капремонт\")*1,0)*10","v":0},null,{"$f":"IF(P1024=\"коммунальная инфраструктура\",(L1024=\"строительство\")*4+(L1024=\"реконструкция\")*3+(L1024=\"капремонт\")*2,0)*10","v":0}]
[null,null,5,{"$f":"IF(AND(D1041<>\"\",G1046<>\"\"),D1041,\"\")","v":""},{"$f":"IF(AND(E1041<>\"\",G1046<>\"\"),E1041,\"\")","v":""},null,null,null,null,null,null,null,null,null,null,null,null,null,{"$f":"IF(Q1046>=2020,R1046-Q1046+1,\"\")","v":""},null,{"$f":"IF(Q1046>=2020,S1046*T1046,\"\")","v":""},null,null,null,null,null,null,null,null,null,null,null,null,{"$f":"SUM(AI1046:AL1046)","v":0},null,null,null,null,{"$f":"SUM(AN1046:AQ1046)","v":0},null,null,null,null,{"$f":"SUM(AS1046:AV1046)","v":0},null,null,null,null,null,null,{"$f":"SUM(AH1046,AM1046,AR1046)","v":0},{"$f":"SUM(AL1046,AQ1046,AV1046)","v":0},{"$f":"IF(AY1046=0,0,AZ1046/AY1046)","v":0},{"$f":"IF((AY1046+AX1046)=0,0,AX1046/(AX1046+AY1046))","v":0},null,null,null,null,null,null,null,null,null,null,null,null,null,null,null,null,null,null,null,null,null,null,null,null,null,null,null,null,null,null,null,null,null,null,null,null,null,null,null,null,null,{"$f":"((L1046=\"создание\")*7+(L1046=\"расширение\")*7 +(L1046=\"внедрение\")*7+(L1046=\"строительство\")*4+(L1046=\"реконструкция\")*3+(L1046=\"капремонт\")*2 +(L1046=\"приобретение\")*1+(L1046=\"установка\")*1)*10","v":0},null,{"$f":"IF(P1046=\"коммунальная инфраструктура\",(L1046=\"строительство\")*3+(L1046=\"реконструкция\")*2+(L1046=\"капремонт\")*1,0)*10","v":0},null,{"$f":"IF(P1046=\"коммунальная инфраструктура\",(L1046=\"строительство\")*4+(L1046=\"реконструкция\")*3+(L1046=\"капремонт\")*2,0)*10","v":0}]
[49,null,{"$f":"COUNTA(G1064:G1084)","v":0},null,null,null,null,null,null,null,null,null,null,null,null,null,{"$f":"MIN(Q1064:Q1084)","v":0},{"$f":"MAX(R1064:R1084)","v":0},{"$f":"MAX(S1064:S1084)","v":0},null,{"$f":"MAX(U1064:U1084)","v":0},null,null,null,null,null,{"$f":"IF(COUNTIF(AA1064:AA1084,\"НЕТ\")>0,\"ПД!\",\"ок\")","v":"ок"},null,{"$f":"IF(COUNTIF(AC1064:AC1084,\"НЕТ\")>0,\"ДОСМ!\",\"ок\")","v":"ок"},null,{"$f":"IF(COUNTIF(AE1064:AE1084,\"НЕТ\")>0,\"ФОИВ!\",\"ок\")","v":"ок"},{"$f":"IF(COUNTIF(AF1064:AF1084,\"НЕТ\")>0,\"ФОИВ!\",\"ок\")","v":"ок"},null,{"$f":"SUM(AH1064:AH1084)","v":0},{"$f":"SUM(AI1064:AI1084)","v":0},{"$f":"SUM(AJ1064:AJ1084)","v":0},{"$f":"SUM(AK1064:AK1084)","v":0},{"$f":"SUM(AL1064:AL1084)","v":0},{"$f":"SUM(AM1064:AM1084)","v":0},{"$f":"SUM(AN1064:AN1084)","v":0},{"$f":"SUM(AO1064:AO1084)","v":0},{"$f":"SUM(AP1064:AP1084)","v":0},{"$f":"SUM(AQ1064:AQ1084)","v":0},{"$f":"SUM(AR1064:AR1084)","v":0},{"$f":"SUM(AS1064:AS1084)","v":0},{"$f":"SUM(AT1064:AT1084)","v":0},{"$f":"SUM(AU1064:AU1084)","v":0},{"$f":"SUM(AV1064:AV1084)","v":0},{"$f":"SUM(AW1064:AW1084)","v":0},{"$f":"SUM(AX1064:AX1084)","v":0},{"$f":"SUM(AH1063,AM1063,AR1063)","v":0},{"$f":"AL1063+AQ1063+AV1063","v":0},{"$f":"IF(AY1063=0,0,AZ1063/AY1063)","v":0},{"$f":"IF((AY1063+AX1063)=0,0,AX1063/(AX1063+AY1063))","v":0},null,null,{"$f":"IFERROR(BD1063/BC1063,0)","v":0},null,null,{"$f":"IFERROR(BG1063/BF1063,0)","v":0},null,null,{"$f":"IFERROR(BJ1063/BI1063,0)","v":0},null,null,null,{"$f":"(SUM(BL1063:BN1063)>0)*1+(SUM(BL1063:BN1063)>=10)*1+(SUM(BL1063:BN1063)>=50)*1+(SUM(BL1063:BN1063)>=100)*1+(SUM(BL1063:BN1063)>=200)*1+(SUM(BL1063:BN1063)>=300)*1","v":0},{"$f":"IFERROR(SUM(BL1063:BN1063)/BC1063,0)","v":0},null,null,{"$f":"IFERROR(BQ1063/BR1063,0)","v":0},{"$f":"IF(BA1063<0.01,0,IF(BA1063>=0.1,10,ROUNDDOWN(BA1063/0.01,0)))","v":0},8,{"$f":"BT1063*BU1063","v":0},{"$f":"IF(BB1063<0.01,0,IF(BB1063>=0.1,10,ROUNDDOWN(BB1063/0.01,0)))","v":0},8,{"$f":"BW1063*BX1063","v":0},{"$f":"IF(U1063<=1,9,IF(U1063<=2,6,IF(U1063<=3,3,0)))*(C1063>0)","v":0},6,{"$f":"BZ1063*CA1063","v":0},{"$f":"IF(BH1063<0.51,0,10)","v":0},7,{"$f":"CC1063*CD1063","v":0},{"$f":"IF(BE1063<0.1,0,IF(BE1063>=0.9,10,ROUNDDOWN(BE1063/0.1,0)))","v":0},10,{"$f":"CF1063*CG1063","v":0},{"$f":"IF(BK1063<0.1,0,IF(BK1063>=0.6,10,ROUNDDOWN(BK1063/0.1,0)))","v":0},8,{"$f":"CI1063*CJ1063","v":0},{"$f":"IF(BP1063<0.05,0,IF(BP1063>=0.1,10,1))","v":0},10,{"$f":"CL1063*CM1063","v":0},{"$f":"IF(BS1063<0.1,0,IF(BS1063>=0.8,10,ROUNDDOWN(BS1063/0.1,0)))","v":0},10,{"$f":"CP1063*CO1063","v":0},{"$f":"ROUND(IF(C1063=0,0,SUM(CR1064:CR1084)/C1063),1)","v":0},{"$f":"((SUM(BL1063:BN1063)>=1)*1+(SUM(BL1063:BN1063)>=11)*1+(SUM(BL1063:BN1063)>=51)*3+(SUM(BL1063:BN1063)>=101)*2+(SUM(BL1063:BN1063)>=201)*2+(SUM(BL1063:BN1063)>=301)*4)*10","v":0},{"$f":"IFERROR(ROUND(SUM(CT1064:CT1084)/COUNTIF(P1064:P1084,\"коммунальная инфраструктура\"),1),0)","v":0},{"$f":"CS1063+CT1063","v":0},{"$f":"IFERROR(ROUND(SUM(CV1064:CV1084)/COUNTIF(P1064:P1084,\"коммунальная инфраструктура\"),1),0)","v":0},{"$f":"SUM(BV1063,BY1063,CB1063,CE1063,CH1063,CK1063,CN1063,CQ1063,CR1063,CU1063,CV1063)","v":0},{"$f":"VLOOKUP(D1063,РегионыФО,2,0)","v":{"$error":"#N/A"}}]
[null,null,12,{"$f":"IF(AND(D1063<>\"\",G1075<>\"\"),D1063,\"\")","v":""},{"$f":"IF(AND(E1063<>\"\",G1075<>\"\"),E1063,\"\")","v":""},null,null,null,null,null,null,null,null,null,null,null,null,null,{"$f":"IF(Q1075>=2020,R1075-Q1075+1,\"\")","v":""},null,{"$f":"IF(Q1075>=2020,S1075*T1075,\"\")","v":""},null,null,null,null,null,null,null,null,null,null,null,null,{"$f":"SUM(AI1075:AL1075)","v":0},null,null,null,null,{"$f":"SUM(AN1075:AQ1075)","v":0},null,null,null,null,{"$f":"SUM(AS1075:AV1075)","v":0},null,null,null,null,null,null,{"$f":"SUM(AH1075,AM1075,AR1075)","v":0},{"$f":"SUM(AL1075,AQ1075,AV1075)","v":0},{"$f":"IF(AY1075=0,0,AZ1075/AY1075)","v":0},{"$f":"IF((AY1075+AX1075)=0,0,AX1075/(AX1075+AY1075))","v":0},null,null,null,null,null,null,null,null,null,null,null,null,null,null,null,null,null,null,null,null,null,null,null,null,null,null,null,null,null,null,null,null,null,null,null,null,null,null,null,null,null,{"$f":"((L1075=\"создание\")*7+(L1075=\"расширение\")*7 +(L1075=\"внедрение\")*7+(L1075=\"строительство\")*4+(L1075=\"реконструкция\")*3+(L1075=\"капремонт\")*2 +(L1075=\"приобретение\")*1+(L1075=\"установка\")*1)*10","v":0},null,{"$f":"IF(P1075=\"коммунальная инфраструктура\",(L1075=\"строительство\")*3+(L1075=\"реконструкция\")*2+(L1075=\"капремонт\")*1,0)*10","v":0},null,{"$f":"IF(P1075=\"коммунальная инфраструктура\",(L1075=\"строительство\")*4+(L1075=\"реконструкция\")*3+(L1075=\"капремонт\")*2,0)*10","v":0}]
[null,null,13,{"$f":"IF(AND(D1085<>\"\",G1098<>\"\"),D1085,\"\")","v":""},{"$f":"IF(AND(E1085<>\"\",G1098<>\"\"),E1085,\"\")","v":""},null,null,null,null,null,null,null,null,null,null,null,null,null,{"$f":"IF(Q1098>=2020,R1098-Q1098+1,\"\")","v":""},null,{"$f":"IF(Q1098>=2020,S1098*T1098,\"\")","v":""},null,null,null,null,null,null,null,null,null,null,null,null,{"$f":"SUM(AI1098:AL1098)","v":0},null,null,null,null,{"$f":"SUM(AN1098:AQ1098)","v":0},null,null,null,null,{"$f":"SUM(AS1098:AV1098)","v":0},null,null,null,null,null,null,{"$f":"SUM(AH1098,AM1098,AR1098)","v":0},{"$f":"SUM(AL1098,AQ1098,AV1098)","v":0},{"$f":"IF(AY1098=0,0,AZ1098/AY1098)","v":0},{"$f":"IF((AY1098+AX1098)=0,0,AX1098/(AX1098+AY1098))","v":0},null,null,null,null,null,null,null,null,null,null,null,null,null,null,null,null,null,null,null,null,null,null,null,null,null,null,null,null,null,null,null,null,null,null,null,null,null,null,null,null,null,{"$f":"((L1098=\"создание\")*7+(L1098=\"расширение\")*7 +(L1098=\"внедрение\")*7+(L1098=\"строительство\")*4+(L1098=\"реконструкция\")*3+(L1098=\"капремонт\")*2 +(L1098=\"приобретение\")*1+(L1098=\"установка\")*1)*10","v":0},null,{"$f":"IF(P1098=\"коммунальная инфраструктура\",(L1098=\"строительство\")*3+(L1098=\"реконструкция\")*2+(L1098=\"капремонт\")*1,0)*10","v":0},null,{"$f":"IF(P1098=\"коммунальная инфраструктура\",(L1098=\"строительство\")*4+(L1098=\"реконструкция\")*3+(L1098=\"капремонт\")*2,0)*10","v":0}]
[null,null,8,{"$f":"IF(AND(D1107<>\"\",G1115<>\"\"),D1107,\"\")","v":""},{"$f":"IF(AND(E1107<>\"\",G1115<>\"\"),E1107,\"\")","v":""},null,null,null,null,null,null,null,null,null,null,null,null,null,{"$f":"IF(Q1115>=2020,R1115-Q1115+1,\"\")","v":""},null,{"$f":"IF(Q1115>=2020,S1115*T1115,\"\")","v":""},null,null,null,null,null,null,null,null,null,null,null,null,{"$f":"SUM(AI1115:AL1115)","v":0},null,null,null,null,{"$f":"SUM(AN1115:AQ1115)","v":0},null,null,null,null,{"$f":"SUM(AS1115:AV1115)","v":0},null,null,null,null,null,null,{"$f":"SUM(AH1115,AM1115,AR1115)","v":0},{"$f":"SUM(AL1115,AQ1115,AV1115)","v":0},{"$f":"IF(AY1115=0,0,AZ1115/AY1115)","v":0},{"$f":"IF((AY1115+AX1115)=0,0,AX1115/(AX1115+AY1115))","v":0},null,null,null,null,null,null,null,null,null,null,null,null,null,null,null,null,null,null,null,null,null,null,null,null,null,null,null,null,null,null,null,null,null,null,null,null,null,null,null,null,null,{"$f":"((L1115=\"создание\")*7+(L1115=\"расширение\")*7 +(L1115=\"внедрение\")*7+(L1115=\"строительство\")*4+(L1115=\"реконструкция\")*3+(L1115=\"капремонт\")*2 +(L1115=\"приобретение\")*1+(L1115=\"установка\")*1)*10","v":0},null,{"$f":"IF(P1115=\"коммунальная инфраструктура\",(L1115=\"строительство\")*3+(L1115=\"реконструкция\")*2+(L1115=\"капремонт\")*1,0)*10","v":0},null,{"$f":"IF(P1115=\"коммунальная инфраструктура\",(L1115=\"строительство\")*4+(L1115=\"реконструкция\")*3+(L1115=\"капремонт\")*2,0)*10","v":0}]
[null,null,18,{"$f":"IF(AND(D1107<>\"\",G1125<>\"\"),D1107,\"\")","v":""},{"$f":"IF(AND(E1107<>\"\",G1125<>\"\"),E1107,\"\")","v":""},null,null,null,null,null,null,null,null,null,null,null,null,null,{"$f":"IF(Q1125>=2020,R1125-Q1125+1,\"\")","v":""},null,{"$f":"IF(Q1125>=2020,S1125*T1125,\"\")","v":""},null,null,null,null,null,null,null,null,null,null,null,null,{"$f":"SUM(AI1125:AL1125)","v":0},null,null,null,null,{"$f":"SUM(AN1125:AQ1125)","v":0},null,null,null,null,{"$f":"SUM(AS1125:AV1125)","v":0},null,null,null,null,null,null,{"$f":"SUM(AH1125,AM1125,AR1125)","v":0},{"$f":"SUM(AL1125,AQ1125,AV1125)","v":0},{"$f":"IF(AY1125=0,0,AZ1125/AY1125)","v":0},{"$f":"IF((AY1125+AX1125)=0,0,AX1125/(AX1125+AY1125))","v":0},null,null,null,null,null,null,null,null,null,null,null,null,null,null,null,null,null,null,null,null,null,null,null,null,null,null,null,null,null,null,null,null,null,null,null,null,null,null,null,null,null,{"$f":"((L1125=\"создание\")*7+(L1125=\"расширение\")*7 +(L1125=\"внедрение\")*7+(L1125=\"строительство\")*4+(L1125=\"реконструкция\")*3+(L1125=\"капремонт\")*2 +(L1125=\"приобретение\")*1+(L1125=\"установка\")*1)*10","v":0},null,{"$f":"IF(P1125=\"коммунальная инфраструктура\",(L1125=\"строительство\")*3+(L1125=\"реконструкция\")*2+(L1125=\"капремонт\")*1,0)*10","v":0},null,{"$f":"IF(P1125=\"коммунальная инфраструктура\",(L1125=\"строительство\")*4+(L1125=\"реконструкция\")*3+(L1125=\"капремонт\")*2,0)*10","v":0}]
[null,null,"…",{"$f":"IF(AND(D1129<>\"\",G1150<>\"\"),D1129,\"\")","v":""},{"$f":"IF(AND(E1129<>\"\",G1150<>\"\"),E1129,\"\")","v":""},null,null,null,null,null,null,null,null,null,null,null,null,null,{"$f":"IF(Q1150>=2020,R1150-Q1150+1,\"\")","v":""},null,{"$f":"IF(Q1150>=2020,S1150*T1150,\"\")","v":""},null,null,null,null,null,null,null,null,null,null,null,null,{"$f":"SUM(AI1150:AL1150)","v":0},null,null,null,null,{"$f":"SUM(AN1150:AQ1150)","v":0},null,null,null,null,{"$f":"SUM(AS1150:AV1150)","v":0},null,null,null,null,null,null,{"$f":"SUM(AH1150,AM1150,AR1150)","v":0},{"$f":"SUM(AL1150,AQ1150,AV1150)","v":0},{"$f":"IF(AY1150=0,0,AZ1150/AY1150)","v":0},{"$f":"IF((AY1150+AX1150)=0,0,AX1150/(AX1150+AY1150))","v":0},null,null,null,null,null,null,null,null,null,null,null,null,null,null,null,null,null,null,null,null,null,null,null,null,null,null,null,null,null,null,null,null,null,null,null,null,null,null,null,null,null,{"$f":"((L1150=\"создание\")*7+(L1150=\"расширение\")*7 +(L1150=\"внедрение\")*7+(L1150=\"строительство\")*4+(L1150=\"реконструкция\")*3+(L1150=\"капремонт\")*2 +(L1150=\"приобретение\")*1+(L1150=\"установка\")*1)*10","v":0},null,{"$f":"IF(P1150=\"коммунальная инфраструктура\",(L1150=\"строительство\")*3+(L1150=\"реконструкция\")*2+(L1150=\"капремонт\")*1,0)*10","v":0},null,{"$f":"IF(P1150=\"коммунальная инфраструктура\",(L1150=\"строительство\")*4+(L1150=\"реконструкция\")*3+(L1150=\"капремонт\")*2,0)*10","v":0}]
[null,null,8,{"$f":"IF(AND(D1151<>\"\",G1159<>\"\"),D1151,\"\")","v":""},{"$f":"IF(AND(E1151<>\"\",G1159<>\"\"),E1151,\"\")","v":""},null,null,null,null,null,null,null,null,null,null,null,null,null,{"$f":"IF(Q1159>=2020,R1159-Q1159+1,\"\")","v":""},null,{"$f":"IF(Q1159>=2020,S1159*T1159,\"\")","v":""},null,null,null,null,null,null,null,null,null,null,null,null,{"$f":"SUM(AI1159:AL1159)","v":0},null,null,null,null,{"$f":"SUM(AN1159:AQ1159)","v":0},null,null,null,null,{"$f":"SUM(AS1159:AV1159)","v":0},null,null,null,null,null,null,{"$f":"SUM(AH1159,AM1159,AR1159)","v":0},{"$f":"SUM(AL1159,AQ1159,AV1159)","v":0},{"$f":"IF(AY1159=0,0,AZ1159/AY1159)","v":0},{"$f":"IF((AY1159+AX1159)=0,0,AX1159/(AX1159+AY1159))","v":0},null,null,null,null,null,null,null,null,null,null,null,null,null,null,null,null,null,null,null,null,null,null,null,null,null,null,null,null,null,null,null,null,null,null,null,null,null,null,null,null,null,{"$f":"((L1159=\"создание\")*7+(L1159=\"расширение\")*7 +(L1159=\"внедрение\")*7+(L1159=\"строительство\")*4+(L1159=\"реконструкция\")*3+(L1159=\"капремонт\")*2 +(L1159=\"приобретение\")*1+(L1159=\"установка\")*1)*10","v":0},null,{"$f":"IF(P1159=\"коммунальная инфраструктура\",(L1159=\"строительство\")*3+(L1159=\"реконструкция\")*2+(L1159=\"капремонт\")*1,0)*10","v":0},null,{"$f":"IF(P1159=\"коммунальная инфраструктура\",(L1159=\"строительство\")*4+(L1159=\"реконструкция\")*3+(L1159=\"капремонт\")*2,0)*10","v":0}]
[null,null,18,{"$f":"IF(AND(D1151<>\"\",G1169<>\"\"),D1151,\"\")","v":""},{"$f":"IF(AND(E1151<>\"\",G1169<>\"\"),E1151,\"\")","v":""},null,null,null,null,null,null,null,null,null,null,null,null,null,{"$f":"IF(Q1169>=2020,R1169-Q1169+1,\"\")","v":""},null,{"$f":"IF(Q1169>=2020,S1169*T1169,\"\")","v":""},null,null,null,null,null,null,null,null,null,null,null,null,{"$f":"SUM(AI1169:AL1169)","v":0},null,null,null,null,{"$f":"SUM(AN1169:AQ1169)","v":0},null,null,null,null,{"$f":"SUM(AS1169:AV1169)","v":0},null,null,null,null,null,null,{"$f":"SUM(AH1169,AM1169,AR1169)","v":0},{"$f":"SUM(AL1169,AQ1169,AV1169)","v":0},{"$f":"IF(AY1169=0,0,AZ1169/AY1169)","v":0},{"$f":"IF((AY1169+AX1169)=0,0,AX1169/(AX1169+AY1169))","v":0},null,null,null,null,null,null,null,null,null,null,null,null,null,null,null,null,null,null,null,null,null,null,null,null,null,null,null,null,null,null,null,null,null,null,null,null,null,null,null,null,null,{"$f":"((L1169=\"создание\")*7+(L1169=\"расширение\")*7 +(L1169=\"внедрение\")*7+(L1169=\"строительство\")*4+(L1169=\"реконструкция\")*3+(L1169=\"капремонт\")*2 +(L1169=\"приобретение\")*1+(L1169=\"установка\")*1)*10","v":0},null,{"$f":"IF(P1169=\"коммунальная инфраструктура\",(L1169=\"строительство\")*3+(L1169=\"реконструкция\")*2+(L1169=\"капремонт\")*1,0)*10","v":0},null,{"$f":"IF(P1169=\"коммунальная инфраструктура\",(L1169=\"строительство\")*4+(L1169=\"реконструкция\")*3+(L1169=\"капремонт\")*2,0)*10","v":0}]
[null,null,13,{"$f":"IF(AND(D1173<>\"\",G1186<>\"\"),D1173,\"\")","v":""},{"$f":"IF(AND(E1173<>\"\",G1186<>\"\"),E1173,\"\")","v":""},null,null,null,null,null,null,null,null,null,null,null,null,null,{"$f":"IF(Q1186>=2020,R1186-Q1186+1,\"\")","v":""},null,{"$f":"IF(Q1186>=2020,S1186*T1186,\"\")","v":""},null,null,null,null,null,null,null,null,null,null,null,null,{"$f":"SUM(AI1186:AL1186)","v":0},null,null,null,null,{"$f":"SUM(AN1186:AQ1186)","v":0},null,null,null,null,{"$f":"SUM(AS1186:AV1186)","v":0},null,null,null,null,null,null,{"$f":"SUM(AH1186,AM1186,AR1186)","v":0},{"$f":"SUM(AL1186,AQ1186,AV1186)","v":0},{"$f":"IF(AY1186=0,0,AZ1186/AY1186)","v":0},{"$f":"IF((AY1186+AX1186)=0,0,AX1186/(AX1186+AY1186))","v":0},null,null,null,null,null,null,null,null,null,null,null,null,null,null,null,null,null,null,null,null,null,null,null,null,null,null,null,null,null,null,null,null,null,null,null,null,null,null,null,null,null,{"$f":"((L1186=\"создание\")*7+(L1186=\"расширение\")*7 +(L1186=\"внедрение\")*7+(L1186=\"строительство\")*4+(L1186=\"реконструкция\")*3+(L1186=\"капремонт\")*2 +(L1186=\"приобретение\")*1+(L1186=\"установка\")*1)*10","v":0},null,{"$f":"IF(P1186=\"коммунальная инфраструктура\",(L1186=\"строительство\")*3+(L1186=\"реконструкция\")*2+(L1186=\"капремонт\")*1,0)*10","v":0},null,{"$f":"IF(P1186=\"коммунальная инфраструктура\",(L1186=\"строительство\")*4+(L1186=\"реконструкция\")*3+(L1186=\"капремонт\")*2,0)*10","v":0}]
[null,null,14,{"$f":"IF(AND(D1195<>\"\",G1209<>\"\"),D1195,\"\")","v":""},{"$f":"IF(AND(E1195<>\"\",G1209<>\"\"),E1195,\"\")","v":""},null,null,null,null,null,null,null,null,null,null,null,null,null,{"$f":"IF(Q1209>=2020,R1209-Q1209+1,\"\")","v":""},null,{"$f":"IF(Q1209>=2020,S1209*T1209,\"\")","v":""},null,null,null,null,null,null,null,null,null,null,null,null,{"$f":"SUM(AI1209:AL1209)","v":0},null,null,null,null,{"$f":"SUM(AN1209:AQ1209)","v":0},null,null,null,null,{"$f":"SUM(AS1209:AV1209)","v":0},null,null,null,null,null,null,{"$f":"SUM(AH1209,AM1209,AR1209)","v":0},{"$f":"SUM(AL1209,AQ1209,AV1209)","v":0},{"$f":"IF(AY1209=0,0,AZ1209/AY1209)","v":0},{"$f":"IF((AY1209+AX1209)=0,0,AX1209/(AX1209+AY1209))","v":0},null,null,null,null,null,null,null,null,null,null,null,null,null,null,null,null,null,null,null,null,null,null,null,null,null,null,null,null,null,null,null,null,null,null,null,null,null,null,null,null,null,{"$f":"((L1209=\"создание\")*7+(L1209=\"расширение\")*7 +(L1209=\"внедрение\")*7+(L1209=\"строительство\")*4+(L1209=\"реконструкция\")*3+(L1209=\"капремонт\")*2 +(L1209=\"приобретение\")*1+(L1209=\"установка\")*1)*10","v":0},null,{"$f":"IF(P1209=\"коммунальная инфраструктура\",(L1209=\"строительство\")*3+(L1209=\"реконструкция\")*2+(L1209=\"капремонт\")*1,0)*10","v":0},null,{"$f":"IF(P1209=\"коммунальная инфраструктура\",(L1209=\"строительство\")*4+(L1209=\"реконструкция\")*3+(L1209=\"капремонт\")*2,0)*10","v":0}]
[null,null,4,{"$f":"IF(AND(D1217<>\"\",G1221<>\"\"),D1217,\"\")","v":""},{"$f":"IF(AND(E1217<>\"\",G1221<>\"\"),E1217,\"\")","v":""},null,null,null,null,null,null,null,null,null,null,null,null,null,{"$f":"IF(Q1221>=2020,R1221-Q1221+1,\"\")","v":""},null,{"$f":"IF(Q1221>=2020,S1221*T1221,\"\")","v":""},null,null,null,null,null,null,null,null,null,null,null,null,{"$f":"SUM(AI1221:AL1221)","v":0},null,null,null,null,{"$f":"SUM(AN1221:AQ1221)","v":0},null,null,null,null,{"$f":"SUM(AS1221:AV1221)","v":0},null,null,null,null,null,null,{"$f":"SUM(AH1221,AM1221,AR1221)","v":0},{"$f":"SUM(AL1221,AQ1221,AV1221)","v":0},{"$f":"IF(AY1221=0,0,AZ1221/AY1221)","v":0},{"$f":"IF((AY1221+AX1221)=0,0,AX1221/(AX1221+AY1221))","v":0},null,null,null,null,null,null,null,null,null,null,null,null,null,null,null,null,null,null,null,null,null,null,null,null,null,null,null,null,null,null,null,null,null,null,null,null,null,null,null,null,null,{"$f":"((L1221=\"создание\")*7+(L1221=\"расширение\")*7 +(L1221=\"внедрение\")*7+(L1221=\"строительство\")*4+(L1221=\"реконструкция\")*3+(L1221=\"капремонт\")*2 +(L1221=\"приобретение\")*1+(L1221=\"установка\")*1)*10","v":0},null,{"$f":"IF(P1221=\"коммунальная инфраструктура\",(L1221=\"строительство\")*3+(L1221=\"реконструкция\")*2+(L1221=\"капремонт\")*1,0)*10","v":0},null,{"$f":"IF(P1221=\"коммунальная инфраструктура\",(L1221=\"строительство\")*4+(L1221=\"реконструкция\")*3+(L1221=\"капремонт\")*2,0)*10","v":0}]
[null,null,"…",{"$f":"IF(AND(D1217<>\"\",G1238<>\"\"),D1217,\"\")","v":""},{"$f":"IF(AND(E1217<>\"\",G1238<>\"\"),E1217,\"\")","v":""},null,null,null,null,null,null,null,null,null,null,null,null,null,{"$f":"IF(Q1238>=2020,R1238-Q1238+1,\"\")","v":""},null,{"$f":"IF(Q1238>=2020,S1238*T1238,\"\")","v":""},null,null,null,null,null,null,null,null,null,null,null,null,{"$f":"SUM(AI1238:AL1238)","v":0},null,null,null,null,{"$f":"SUM(AN1238:AQ1238)","v":0},null,null,null,null,{"$f":"SUM(AS1238:AV1238)","v":0},null,null,null,null,null,null,{"$f":"SUM(AH1238,AM1238,AR1238)","v":0},{"$f":"SUM(AL1238,AQ1238,AV1238)","v":0},{"$f":"IF(AY1238=0,0,AZ1238/AY1238)","v":0},{"$f":"IF((AY1238+AX1238)=0,0,AX1238/(AX1238+AY1238))","v":0},null,null,null,null,null,null,null,null,null,null,null,null,null,null,null,null,null,null,null,null,null,null,null,null,null,null,null,null,null,null,null,null,null,null,null,null,null,null,null,null,null,{"$f":"((L1238=\"создание\")*7+(L1238=\"расширение\")*7 +(L1238=\"внедрение\")*7+(L1238=\"строительство\")*4+(L1238=\"реконструкция\")*3+(L1238=\"капремонт\")*2 +(L1238=\"приобретение\")*1+(L1238=\"установка\")*1)*10","v":0},null,{"$f":"IF(P1238=\"коммунальная инфраструктура\",(L1238=\"строительство\")*3+(L1238=\"реконструкция\")*2+(L1238=\"капремонт\")*1,0)*10","v":0},null,{"$f":"IF(P1238=\"коммунальная инфраструктура\",(L1238=\"строительство\")*4+(L1238=\"реконструкция\")*3+(L1238=\"капремонт\")*2,0)*10","v":0}]
[null,null,20,{"$f":"IF(AND(D1239<>\"\",G1259<>\"\"),D1239,\"\")","v":""},{"$f":"IF(AND(E1239<>\"\",G1259<>\"\"),E1239,\"\")","v":""},null,null,null,null,null,null,null,null,null,null,null,null,null,{"$f":"IF(Q1259>=2020,R1259-Q1259+1,\"\")","v":""},null,{"$f":"IF(Q1259>=2020,S1259*T1259,\"\")","v":""},null,null,null,null,null,null,null,null,null,null,null,null,{"$f":"SUM(AI1259:AL1259)","v":0},null,null,null,null,{"$f":"SUM(AN1259:AQ1259)","v":0},null,null,null,null,{"$f":"SUM(AS1259:AV1259)","v":0},null,null,null,null,null,null,{"$f":"SUM(AH1259,AM1259,AR1259)","v":0},{"$f":"SUM(AL1259,AQ1259,AV1259)","v":0},{"$f":"IF(AY1259=0,0,AZ1259/AY1259)","v":0},{"$f":"IF((AY1259+AX1259)=0,0,AX1259/(AX1259+AY1259))","v":0},null,null,null,null,null,null,null,null,null,null,null,null,null,null,null,null,null,null,null,null,null,null,null,null,null,null,null,null,null,null,null,null,null,null,null,null,null,null,null,null,null,{"$f":"((L1259=\"создание\")*7+(L1259=\"расширение\")*7 +(L1259=\"внедрение\")*7+(L1259=\"строительство\")*4+(L1259=\"реконструкция\")*3+(L1259=\"капремонт\")*2 +(L1259=\"приобретение\")*1+(L1259=\"установка\")*1)*10","v":0},null,{"$f":"IF(P1259=\"коммунальная инфраструктура\",(L1259=\"строительство\")*3+(L1259=\"реконструкция\")*2+(L1259=\"капремонт\")*1,0)*10","v":0},null,{"$f":"IF(P1259=\"коммунальная инфраструктура\",(L1259=\"строительство\")*4+(L1259=\"реконструкция\")*3+(L1259=\"капремонт\")*2,0)*10","v":0}]
[null,null,12,{"$f":"IF(AND(D1261<>\"\",G1273<>\"\"),D1261,\"\")","v":""},{"$f":"IF(AND(E1261<>\"\",G1273<>\"\"),E1261,\"\")","v":""},null,null,null,null,null,null,null,null,null,null,null,null,null,{"$f":"IF(Q1273>=2020,R1273-Q1273+1,\"\")","v":""},null,{"$f":"IF(Q1273>=2020,S1273*T1273,\"\")","v":""},null,null,null,null,null,null,null,null,null,null,null,null,{"$f":"SUM(AI1273:AL1273)","v":0},null,null,null,null,{"$f":"SUM(AN1273:AQ1273)","v":0},null,null,null,null,{"$f":"SUM(AS1273:AV1273)","v":0},null,null,null,null,null,null,{"$f":"SUM(AH1273,AM1273,AR1273)","v":0},{"$f":"SUM(AL1273,AQ1273,AV1273)","v":0},{"$f":"IF(AY1273=0,0,AZ1273/AY1273)","v":0},{"$f":"IF((AY1273+AX1273)=0,0,AX1273/(AX1273+AY1273))","v":0},null,null,null,null,null,null,null,null,null,null,null,null,null,null,null,null,null,null,null,null,null,null,null,null,null,null,null,null,null,null,null,null,null,null,null,null,null,null,null,null,null,{"$f":"((L1273=\"создание\")*7+(L1273=\"расширение\")*7 +(L1273=\"внедрение\")*7+(L1273=\"строительство\")*4+(L1273=\"реконструкция\")*3+(L1273=\"капремонт\")*2 +(L1273=\"приобретение\")*1+(L1273=\"установка\")*1)*10","v":0},null,{"$f":"IF(P1273=\"коммунальная инфраструктура\",(L1273=\"строительство\")*3+(L1273=\"реконструкция\")*2+(L1273=\"капремонт\")*1,0)*10","v":0},null,{"$f":"IF(P1273=\"коммунальная инфраструктура\",(L1273=\"строительство\")*4+(L1273=\"реконструкция\")*3+(L1273=\"капремонт\")*2,0)*10","v":0}]
[null,null,10,{"$f":"IF(AND(D1283<>\"\",G1293<>\"\"),D1283,\"\")","v":""},{"$f":"IF(AND(E1283<>\"\",G1293<>\"\"),E1283,\"\")","v":""},null,null,null,null,null,null,null,null,null,null,null,null,null,{"$f":"IF(Q1293>=2020,R1293-Q1293+1,\"\")","v":""},null,{"$f":"IF(Q1293>=2020,S1293*T1293,\"\")","v":""},null,null,null,null,null,null,null,null,null,null,null,null,{"$f":"SUM(AI1293:AL1293)","v":0},null,null,null,null,{"$f":"SUM(AN1293:AQ1293)","v":0},null,null,null,null,{"$f":"SUM(AS1293:AV1293)","v":0},null,null,null,null,null,null,{"$f":"SUM(AH1293,AM1293,AR1293)","v":0},{"$f":"SUM(AL1293,AQ1293,AV1293)","v":0},{"$f":"IF(AY1293=0,0,AZ1293/AY1293)","v":0},{"$f":"IF((AY1293+AX1293)=0,0,AX1293/(AX1293+AY1293))","v":0},null,null,null,null,null,null,null,null,null,null,null,null,null,null,null,null,null,null,null,null,null,null,null,null,null,null,null,null,null,null,null,null,null,null,null,null,null,null,null,null,null,{"$f":"((L1293=\"создание\")*7+(L1293=\"расширение\")*7 +(L1293=\"внедрение\")*7+(L1293=\"строительство\")*4+(L1293=\"реконструкция\")*3+(L1293=\"капремонт\")*2 +(L1293=\"приобретение\")*1+(L1293=\"установка\")*1)*10","v":0},null,{"$f":"IF(P1293=\"коммунальная инфраструктура\",(L1293=\"строительство\")*3+(L1293=\"реконструкция\")*2+(L1293=\"капремонт\")*1,0)*10","v":0},null,{"$f":"IF(P1293=\"коммунальная инфраструктура\",(L1293=\"строительство\")*4+(L1293=\"реконструкция\")*3+(L1293=\"капремонт\")*2,0)*10","v":0}]
[null,null,3,{"$f":"IF(AND(D1305<>\"\",G1308<>\"\"),D1305,\"\")","v":""},{"$f":"IF(AND(E1305<>\"\",G1308<>\"\"),E1305,\"\")","v":""},null,null,null,null,null,null,null,null,null,null,null,null,null,{"$f":"IF(Q1308>=2020,R1308-Q1308+1,\"\")","v":""},null,{"$f":"IF(Q1308>=2020,S1308*T1308,\"\")","v":""},null,null,null,null,null,null,null,null,null,null,null,null,{"$f":"SUM(AI1308:AL1308)","v":0},null,null,null,null,{"$f":"SUM(AN1308:AQ1308)","v":0},null,null,null,null,{"$f":"SUM(AS1308:AV1308)","v":0},null,null,null,null,null,null,{"$f":"SUM(AH1308,AM1308,AR1308)","v":0},{"$f":"SUM(AL1308,AQ1308,AV1308)","v":0},{"$f":"IF(AY1308=0,0,AZ1308/AY1308)","v":0},{"$f":"IF((AY1308+AX1308)=0,0,AX1308/(AX1308+AY1308))","v":0},null,null,null,null,null,null,null,null,null,null,null,null,null,null,null,null,null,null,null,null,null,null,null,null,null,null,null,null,null,null,null,null,null,null,null,null,null,null,null,null,null,{"$f":"((L1308=\"создание\")*7+(L1308=\"расширение\")*7 +(L1308=\"внедрение\")*7+(L1308=\"строительство\")*4+(L1308=\"реконструкция\")*3+(L1308=\"капремонт\")*2 +(L1308=\"приобретение\")*1+(L1308=\"установка\")*1)*10","v":0},null,{"$f":"IF(P1308=\"коммунальная инфраструктура\",(L1308=\"строительство\")*3+(L1308=\"реконструкция\")*2+(L1308=\"капремонт\")*1,0)*10","v":0},null,{"$f":"IF(P1308=\"коммунальная инфраструктура\",(L1308=\"строительство\")*4+(L1308=\"реконструкция\")*3+(L1308=\"капремонт\")*2,0)*10","v":0}]
[null,null,20,{"$f":"IF(AND(D1305<>\"\",G1325<>\"\"),D1305,\"\")","v":""},{"$f":"IF(AND(E1305<>\"\",G1325<>\"\"),E1305,\"\")","v":""},null,null,null,null,null,null,null,null,null,null,null,null,null,{"$f":"IF(Q1325>=2020,R1325-Q1325+1,\"\")","v":""},null,{"$f":"IF(Q1325>=2020,S1325*T1325,\"\")","v":""},null,null,null,null,null,null,null,null,null,null,null,null,{"$f":"SUM(AI1325:AL1325)","v":0},null,null,null,null,{"$f":"SUM(AN1325:AQ1325)","v":0},null,null,null,null,{"$f":"SUM(AS1325:AV1325)","v":0},null,null,null,null,null,null,{"$f":"SUM(AH1325,AM1325,AR1325)","v":0},{"$f":"SUM(AL1325,AQ1325,AV1325)","v":0},{"$f":"IF(AY1325=0,0,AZ1325/AY1325)","v":0},{"$f":"IF((AY1325+AX1325)=0,0,AX1325/(AX1325+AY1325))","v":0},null,null,null,null,null,null,null,null,null,null,null,null,null,null,null,null,null,null,null,null,null,null,null,null,null,null,null,null,null,null,null,null,null,null,null,null,null,null,null,null,null,{"$f":"((L1325=\"создание\")*7+(L1325=\"расширение\")*7 +(L1325=\"внедрение\")*7+(L1325=\"строительство\")*4+(L1325=\"реконструкция\")*3+(L1325=\"капремонт\")*2 +(L1325=\"приобретение\")*1+(L1325=\"установка\")*1)*10","v":0},null,{"$f":"IF(P1325=\"коммунальная инфраструктура\",(L1325=\"строительство\")*3+(L1325=\"реконструкция\")*2+(L1325=\"капремонт\")*1,0)*10","v":0},null,{"$f":"IF(P1325=\"коммунальная инфраструктура\",(L1325=\"строительство\")*4+(L1325=\"реконструкция\")*3+(L1325=\"капремонт\")*2,0)*10","v":0}]
[null,null,16,{"$f":"IF(AND(D1327<>\"\",G1343<>\"\"),D1327,\"\")","v":""},{"$f":"IF(AND(E1327<>\"\",G1343<>\"\"),E1327,\"\")","v":""},null,null,null,null,null,null,null,null,null,null,null,null,null,{"$f":"IF(Q1343>=2020,R1343-Q1343+1,\"\")","v":""},null,{"$f":"IF(Q1343>=2020,S1343*T1343,\"\")","v":""},null,null,null,null,null,null,null,null,null,null,null,null,{"$f":"SUM(AI1343:AL1343)","v":0},null,null,null,null,{"$f":"SUM(AN1343:AQ1343)","v":0},null,null,null,null,{"$f":"SUM(AS1343:AV1343)","v":0},null,null,null,null,null,null,{"$f":"SUM(AH1343,AM1343,AR1343)","v":0},{"$f":"SUM(AL1343,AQ1343,AV1343)","v":0},{"$f":"IF(AY1343=0,0,AZ1343/AY1343)","v":0},{"$f":"IF((AY1343+AX1343)=0,0,AX1343/(AX1343+AY1343))","v":0},null,null,null,null,null,null,null,null,null,null,null,null,null,null,null,null,null,null,null,null,null,null,null,null,null,null,null,null,null,null,null,null,null,null,null,null,null,null,null,null,null,{"$f":"((L1343=\"создание\")*7+(L1343=\"расширение\")*7 +(L1343=\"внедрение\")*7+(L1343=\"строительство\")*4+(L1343=\"реконструкция\")*3+(L1343=\"капремонт\")*2 +(L1343=\"приобретение\")*1+(L1343=\"установка\")*1)*10","v":0},null,{"$f":"IF(P1343=\"коммунальная инфраструктура\",(L1343=\"строительство\")*3+(L1343=\"реконструкция\")*2+(L1343=\"капремонт\")*1,0)*10","v":0},null,{"$f":"IF(P1343=\"коммунальная инфраструктура\",(L1343=\"строительство\")*4+(L1343=\"реконструкция\")*3+(L1343=\"капремонт\")*2,0)*10","v":0}]
[null,null,11,{"$f":"IF(AND(D1349<>\"\",G1360<>\"\"),D1349,\"\")","v":""},{"$f":"IF(AND(E1349<>\"\",G1360<>\"\"),E1349,\"\")","v":""},null,null,null,null,null,null,null,null,null,null,null,null,null,{"$f":"IF(Q1360>=2020,R1360-Q1360+1,\"\")","v":""},null,{"$f":"IF(Q1360>=2020,S1360*T1360,\"\")","v":""},null,null,null,null,null,null,null,null,null,null,null,null,{"$f":"SUM(AI1360:AL1360)","v":0},null,null,null,null,{"$f":"SUM(AN1360:AQ1360)","v":0},null,null,null,null,{"$f":"SUM(AS1360:AV1360)","v":0},null,null,null,null,null,null,{"$f":"SUM(AH1360,AM1360,AR1360)","v":0},{"$f":"SUM(AL1360,AQ1360,AV1360)","v":0},{"$f":"IF(AY1360=0,0,AZ1360/AY1360)","v":0},{"$f":"IF((AY1360+AX1360)=0,0,AX1360/(AX1360+AY1360))","v":0},null,null,null,null,null,null,null,null,null,null,null,null,null,null,null,null,null,null,null,null,null,null,null,null,null,null,null,null,null,null,null,null,null,null,null,null,null,null,null,null,null,{"$f":"((L1360=\"создание\")*7+(L1360=\"расширение\")*7 +(L1360=\"внедрение\")*7+(L1360=\"строительство\")*4+(L1360=\"реконструкция\")*3+(L1360=\"капремонт\")*2 +(L1360=\"приобретение\")*1+(L1360=\"установка\")*1)*10","v":0},null,{"$f":"IF(P1360=\"коммунальная инфраструктура\",(L1360=\"строительство\")*3+(L1360=\"реконструкция\")*2+(L1360=\"капремонт\")*1,0)*10","v":0},null,{"$f":"IF(P1360=\"коммунальная инфраструктура\",(L1360=\"строительство\")*4+(L1360=\"реконструкция\")*3+(L1360=\"капремонт\")*2,0)*10","v":0}]
[null,null,6,{"$f":"IF(AND(D1371<>\"\",G1377<>\"\"),D1371,\"\")","v":""},{"$f":"IF(AND(E1371<>\"\",G1377<>\"\"),E1371,\"\")","v":""},null,null,null,null,null,null,null,null,null,null,null,null,null,{"$f":"IF(Q1377>=2020,R1377-Q1377+1,\"\")","v":""},null,{"$f":"IF(Q1377>=2020,S1377*T1377,\"\")","v":""},null,null,null,null,null,null,null,null,null,null,null,null,{"$f":"SUM(AI1377:AL1377)","v":0},null,null,null,null,{"$f":"SUM(AN1377:AQ1377)","v":0},null,null,null,null,{"$f":"SUM(AS1377:AV1377)","v":0},null,null,null,null,null,null,{"$f":"SUM(AH1377,AM1377,AR1377)","v":0},{"$f":"SUM(AL1377,AQ1377,AV1377)","v":0},{"$f":"IF(AY1377=0,0,AZ1377/AY1377)","v":0},{"$f":"IF((AY1377+AX1377)=0,0,AX1377/(AX1377+AY1377))","v":0},null,null,null,null,null,null,null,null,null,null,null,null,null,null,null,null,null,null,null,null,null,null,null,null,null,null,null,null,null,null,null,null,null,null,null,null,null,null,null,null,null,{"$f":"((L1377=\"создание\")*7+(L1377=\"расширение\")*7 +(L1377=\"внедрение\")*7+(L1377=\"строительство\")*4+(L1377=\"реконструкция\")*3+(L1377=\"капремонт\")*2 +(L1377=\"приобретение\")*1+(L1377=\"установка\")*1)*10","v":0},null,{"$f":"IF(P1377=\"коммунальная инфраструктура\",(L1377=\"строительство\")*3+(L1377=\"реконструкция\")*2+(L1377=\"капремонт\")*1,0)*10","v":0},null,{"$f":"IF(P1377=\"коммунальная инфраструктура\",(L1377=\"строительство\")*4+(L1377=\"реконструкция\")*3+(L1377=\"капремонт\")*2,0)*10","v":0}]
[64,null,{"$f":"COUNTA(G1394:G1414)","v":0},null,null,null,null,null,null,null,null,null,null,null,null,null,{"$f":"MIN(Q1394:Q1414)","v":0},{"$f":"MAX(R1394:R1414)","v":0},{"$f":"MAX(S1394:S1414)","v":0},null,{"$f":"MAX(U1394:U1414)","v":0},null,null,null,null,null,{"$f":"IF(COUNTIF(AA1394:AA1414,\"НЕТ\")>0,\"ПД!\",\"ок\")","v":"ок"},null,{"$f":"IF(COUNTIF(AC1394:AC1414,\"НЕТ\")>0,\"ДОСМ!\",\"ок\")","v":"ок"},null,{"$f":"IF(COUNTIF(AE1394:AE1414,\"НЕТ\")>0,\"ФОИВ!\",\"ок\")","v":"ок"},{"$f":"IF(COUNTIF(AF1394:AF1414,\"НЕТ\")>0,\"ФОИВ!\",\"ок\")","v":"ок"},null,{"$f":"SUM(AH1394:AH1414)","v":0},{"$f":"SUM(AI1394:AI1414)","v":0},{"$f":"SUM(AJ1394:AJ1414)","v":0},{"$f":"SUM(AK1394:AK1414)","v":0},{"$f":"SUM(AL1394:AL1414)","v":0},{"$f":"SUM(AM1394:AM1414)","v":0},{"$f":"SUM(AN1394:AN1414)","v":0},{"$f":"SUM(AO1394:AO1414)","v":0},{"$f":"SUM(AP1394:AP1414)","v":0},{"$f":"SUM(AQ1394:AQ1414)","v":0},{"$f":"SUM(AR1394:AR1414)","v":0},{"$f":"SUM(AS1394:AS1414)","v":0},{"$f":"SUM(AT1394:AT1414)","v":0},{"$f":"SUM(AU1394:AU1414)","v":0},{"$f":"SUM(AV1394:AV1414)","v":0},{"$f":"SUM(AW1394:AW1414)","v":0},{"$f":"SUM(AX1394:AX1414)","v":0},{"$f":"SUM(AH1393,AM1393,AR1393)","v":0},{"$f":"AL1393+AQ1393+AV1393","v":0},{"$f":"IF(AY1393=0,0,AZ1393/AY1393)","v":0},{"$f":"IF((AY1393+AX1393)=0,0,AX1393/(AX1393+AY1393))","v":0},null,null,{"$f":"IFERROR(BD1393/BC1393,0)","v":0},null,null,{"$f":"IFERROR(BG1393/BF1393,0)","v":0},null,null,{"$f":"IFERROR(BJ1393/BI1393,0)","v":0},null,null,null,{"$f":"(SUM(BL1393:BN1393)>0)*1+(SUM(BL1393:BN1393)>=10)*1+(SUM(BL1393:BN1393)>=50)*1+(SUM(BL1393:BN1393)>=100)*1+(SUM(BL1393:BN1393)>=200)*1+(SUM(BL1393:BN1393)>=300)*1","v":0},{"$f":"IFERROR(SUM(BL1393:BN1393)/BC1393,0)","v":0},null,null,{"$f":"IFERROR(BQ1393/BR1393,0)","v":0},{"$f":"IF(BA1393<0.01,0,IF(BA1393>=0.1,10,ROUNDDOWN(BA1393/0.01,0)))","v":0},8,{"$f":"BT1393*BU1393","v":0},{"$f":"IF(BB1393<0.01,0,IF(BB1393>=0.1,10,ROUNDDOWN(BB1393/0.01,0)))","v":0},8,{"$f":"BW1393*BX1393","v":0},{"$f":"IF(U1393<=1,9,IF(U1393<=2,6,IF(U1393<=3,3,0)))*(C1393>0)","v":0},6,{"$f":"BZ1393*CA1393","v":0},{"$f":"IF(BH1393<0.51,0,10)","v":0},7,{"$f":"CC1393*CD1393","v":0},{"$f":"IF(BE1393<0.1,0,IF(BE1393>=0.9,10,ROUNDDOWN(BE1393/0.1,0)))","v":0},10,{"$f":"CF1393*CG1393","v":0},{"$f":"IF(BK1393<0.1,0,IF(BK1393>=0.6,10,ROUNDDOWN(BK1393/0.1,0)))","v":0},8,{"$f":"CI1393*CJ1393","v":0},{"$f":"IF(BP1393<0.05,0,IF(BP1393>=0.1,10,1))","v":0},10,{"$f":"CL1393*CM1393","v":0},{"$f":"IF(BS1393<0.1,0,IF(BS1393>=0.8,10,ROUNDDOWN(BS1393/0.1,0)))","v":0},10,{"$f":"CP1393*CO1393","v":0},{"$f":"ROUND(IF(C1393=0,0,SUM(CR1394:CR1414)/C1393),1)","v":0},{"$f":"((SUM(BL1393:BN1393)>=1)*1+(SUM(BL1393:BN1393)>=11)*1+(SUM(BL1393:BN1393)>=51)*3+(SUM(BL1393:BN1393)>=101)*2+(SUM(BL1393:BN1393)>=201)*2+(SUM(BL1393:BN1393)>=301)*4)*10","v":0},{"$f":"IFERROR(ROUND(SUM(CT1394:CT1414)/COUNTIF(P1394:P1414,\"коммунальная инфраструктура\"),1),0)","v":0},{"$f":"CS1393+CT1393","v":0},{"$f":"IFERROR(ROUND(SUM(CV1394:CV1414)/COUNTIF(P1394:P1414,\"коммунальная инфраструктура\"),1),0)","v":0},{"$f":"SUM(BV1393,BY1393,CB1393,CE1393,CH1393,CK1393,CN1393,CQ1393,CR1393,CU1393,CV1393)","v":0},{"$f":"VLOOKUP(D1393,РегионыФО,2,0)","v":{"$error":"#N/A"}}]
[null,null,19,{"$f":"IF(AND(D1393<>\"\",G1412<>\"\"),D1393,\"\")","v":""},{"$f":"IF(AND(E1393<>\"\",G1412<>\"\"),E1393,\"\")","v":""},null,null,null,null,null,null,null,null,null,null,null,null,null,{"$f":"IF(Q1412>=2020,R1412-Q1412+1,\"\")","v":""},null,{"$f":"IF(Q1412>=2020,S1412*T1412,\"\")","v":""},null,null,null,null,null,null,null,null,null,null,null,null,{"$f":"SUM(AI1412:AL1412)","v":0},null,null,null,null,{"$f":"SUM(AN1412:AQ1412)","v":0},null,null,null,null,{"$f":"SUM(AS1412:AV1412)","v":0},null,null,null,null,null,null,{"$f":"SUM(AH1412,AM1412,AR1412)","v":0},{"$f":"SUM(AL1412,AQ1412,AV1412)","v":0},{"$f":"IF(AY1412=0,0,AZ1412/AY1412)","v":0},{"$f":"IF((AY1412+AX1412)=0,0,AX1412/(AX1412+AY1412))","v":0},null,null,null,null,null,null,null,null,null,null,null,null,null,null,null,null,null,null,null,null,null,null,null,null,null,null,null,null,null,null,null,null,null,null,null,null,null,null,null,null,null,{"$f":"((L1412=\"создание\")*7+(L1412=\"расширение\")*7 +(L1412=\"внедрение\")*7+(L1412=\"строительство\")*4+(L1412=\"реконструкция\")*3+(L1412=\"капремонт\")*2 +(L1412=\"приобретение\")*1+(L1412=\"установка\")*1)*10","v":0},null,{"$f":"IF(P1412=\"коммунальная инфраструктура\",(L1412=\"строительство\")*3+(L1412=\"реконструкция\")*2+(L1412=\"капремонт\")*1,0)*10","v":0},null,{"$f":"IF(P1412=\"коммунальная инфраструктура\",(L1412=\"строительство\")*4+(L1412=\"реконструкция\")*3+(L1412=\"капремонт\")*2,0)*10","v":0}]
[null,null,12,{"$f":"IF(AND(D1415<>\"\",G1427<>\"\"),D1415,\"\")","v":""},{"$f":"IF(AND(E1415<>\"\",G1427<>\"\"),E1415,\"\")","v":""},null,null,null,null,null,null,null,null,null,null,null,null,null,{"$f":"IF(Q1427>=2020,R1427-Q1427+1,\"\")","v":""},null,{"$f":"IF(Q1427>=2020,S1427*T1427,\"\")","v":""},null,null,null,null,null,null,null,null,null,null,null,null,{"$f":"SUM(AI1427:AL1427)","v":0},null,null,null,null,{"$f":"SUM(AN1427:AQ1427)","v":0},null,null,null,null,{"$f":"SUM(AS1427:AV1427)","v":0},null,null,null,null,null,null,{"$f":"SUM(AH1427,AM1427,AR1427)","v":0},{"$f":"SUM(AL1427,AQ1427,AV1427)","v":0},{"$f":"IF(AY1427=0,0,AZ1427/AY1427)","v":0},{"$f":"IF((AY1427+AX1427)=0,0,AX1427/(AX1427+AY1427))","v":0},null,null,null,null,null,null,null,null,null,null,null,null,null,null,null,null,null,null,null,null,null,null,null,null,null,null,null,null,null,null,null,null,null,null,null,null,null,null,null,null,null,{"$f":"((L1427=\"создание\")*7+(L1427=\"расширение\")*7 +(L1427=\"внедрение\")*7+(L1427=\"строительство\")*4+(L1427=\"реконструкция\")*3+(L1427=\"капремонт\")*2 +(L1427=\"приобретение\")*1+(L1427=\"установка\")*1)*10","v":0},null,{"$f":"IF(P1427=\"коммунальная инфраструктура\",(L1427=\"строительство\")*3+(L1427=\"реконструкция\")*2+(L1427=\"капремонт\")*1,0)*10","v":0},null,{"$f":"IF(P1427=\"коммунальная инфраструктура\",(L1427=\"строительство\")*4+(L1427=\"реконструкция\")*3+(L1427=\"капремонт\")*2,0)*10","v":0}]
[null,null,16,{"$f":"IF(AND(D1415<>\"\",G1431<>\"\"),D1415,\"\")","v":""},{"$f":"IF(AND(E1415<>\"\",G1431<>\"\"),E1415,\"\")","v":""},null,null,null,null,null,null,null,null,null,null,null,null,null,{"$f":"IF(Q1431>=2020,R1431-Q1431+1,\"\")","v":""},null,{"$f":"IF(Q1431>=2020,S1431*T1431,\"\")","v":""},null,null,null,null,null,null,null,null,null,null,null,null,{"$f":"SUM(AI1431:AL1431)","v":0},null,null,null,null,{"$f":"SUM(AN1431:AQ1431)","v":0},null,null,null,null,{"$f":"SUM(AS1431:AV1431)","v":0},null,null,null,null,null,null,{"$f":"SUM(AH1431,AM1431,AR1431)","v":0},{"$f":"SUM(AL1431,AQ1431,AV1431)","v":0},{"$f":"IF(AY1431=0,0,AZ1431/AY1431)","v":0},{"$f":"IF((AY1431+AX1431)=0,0,AX1431/(AX1431+AY1431))","v":0},null,null,null,null,null,null,null,null,null,null,null,null,null,null,null,null,null,null,null,null,null,null,null,null,null,null,null,null,null,null,null,null,null,null,null,null,null,null,null,null,null,{"$f":"((L1431=\"создание\")*7+(L1431=\"расширение\")*7 +(L1431=\"внедрение\")*7+(L1431=\"строительство\")*4+(L1431=\"реконструкция\")*3+(L1431=\"капремонт\")*2 +(L1431=\"приобретение\")*1+(L1431=\"установка\")*1)*10","v":0},null,{"$f":"IF(P1431=\"коммунальная инфраструктура\",(L1431=\"строительство\")*3+(L1431=\"реконструкция\")*2+(L1431=\"капремонт\")*1,0)*10","v":0},null,{"$f":"IF(P1431=\"коммунальная инфраструктура\",(L1431=\"строительство\")*4+(L1431=\"реконструкция\")*3+(L1431=\"капремонт\")*2,0)*10","v":0}]
[null,null,11,{"$f":"IF(AND(D1437<>\"\",G1448<>\"\"),D1437,\"\")","v":""},{"$f":"IF(AND(E1437<>\"\",G1448<>\"\"),E1437,\"\")","v":""},null,null,null,null,null,null,null,null,null,null,null,null,null,{"$f":"IF(Q1448>=2020,R1448-Q1448+1,\"\")","v":""},null,{"$f":"IF(Q1448>=2020,S1448*T1448,\"\")","v":""},null,null,null,null,null,null,null,null,null,null,null,null,{"$f":"SUM(AI1448:AL1448)","v":0},null,null,null,null,{"$f":"SUM(AN1448:AQ1448)","v":0},null,null,null,null,{"$f":"SUM(AS1448:AV1448)","v":0},null,null,null,null,null,null,{"$f":"SUM(AH1448,AM1448,AR1448)","v":0},{"$f":"SUM(AL1448,AQ1448,AV1448)","v":0},{"$f":"IF(AY1448=0,0,AZ1448/AY1448)","v":0},{"$f":"IF((AY1448+AX1448)=0,0,AX1448/(AX1448+AY1448))","v":0},null,null,null,null,null,null,null,null,null,null,null,null,null,null,null,null,null,null,null,null,null,null,null,null,null,null,null,null,null,null,null,null,null,null,null,null,null,null,null,null,null,{"$f":"((L1448=\"создание\")*7+(L1448=\"расширение\")*7 +(L1448=\"внедрение\")*7+(L1448=\"строительство\")*4+(L1448=\"реконструкция\")*3+(L1448=\"капремонт\")*2 +(L1448=\"приобретение\")*1+(L1448=\"установка\")*1)*10","v":0},null,{"$f":"IF(P1448=\"коммунальная инфраструктура\",(L1448=\"строительство\")*3+(L1448=\"реконструкция\")*2+(L1448=\"капремонт\")*1,0)*10","v":0},null,{"$f":"IF(P1448=\"коммунальная инфраструктура\",(L1448=\"строительство\")*4+(L1448=\"реконструкция\")*3+(L1448=\"капремонт\")*2,0)*10","v":0}]
[null,null,18,{"$f":"IF(AND(D1459<>\"\",G1477<>\"\"),D1459,\"\")","v":""},{"$f":"IF(AND(E1459<>\"\",G1477<>\"\"),E1459,\"\")","v":""},null,null,null,null,null,null,null,null,null,null,null,null,null,{"$f":"IF(Q1477>=2020,R1477-Q1477+1,\"\")","v":""},null,{"$f":"IF(Q1477>=2020,S1477*T1477,\"\")","v":""},null,null,null,null,null,null,null,null,null,null,null,null,{"$f":"SUM(AI1477:AL1477)","v":0},null,null,null,null,{"$f":"SUM(AN1477:AQ1477)","v":0},null,null,null,null,{"$f":"SUM(AS1477:AV1477)","v":0},null,null,null,null,null,null,{"$f":"SUM(AH1477,AM1477,AR1477)","v":0},{"$f":"SUM(AL1477,AQ1477,AV1477)","v":0},{"$f":"IF(AY1477=0,0,AZ1477/AY1477)","v":0},{"$f":"IF((AY1477+AX1477)=0,0,AX1477/(AX1477+AY1477))","v":0},null,null,null,null,null,null,null,null,null,null,null,null,null,null,null,null,null,null,null,null,null,null,null,null,null,null,null,null,null,null,null,null,null,null,null,null,null,null,null,null,null,{"$f":"((L1477=\"создание\")*7+(L1477=\"расширение\")*7 +(L1477=\"внедрение\")*7+(L1477=\"строительство\")*4+(L1477=\"реконструкция\")*3+(L1477=\"капремонт\")*2 +(L1477=\"приобретение\")*1+(L1477=\"установка\")*1)*10","v":0},null,{"$f":"IF(P1477=\"коммунальная инфраструктура\",(L1477=\"строительство\")*3+(L1477=\"реконструкция\")*2+(L1477=\"капремонт\")*1,0)*10","v":0},null,{"$f":"IF(P1477=\"коммунальная инфраструктура\",(L1477=\"строительство\")*4+(L1477=\"реконструкция\")*3+(L1477=\"капремонт\")*2,0)*10","v":0}]
[null,null,2,{"$f":"IF(AND(D1481<>\"\",G1483<>\"\"),D1481,\"\")","v":""},{"$f":"IF(AND(E1481<>\"\",G1483<>\"\"),E1481,\"\")","v":""},null,null,null,null,null,null,null,null,null,null,null,null,null,{"$f":"IF(Q1483>=2020,R1483-Q1483+1,\"\")","v":""},null,{"$f":"IF(Q1483>=2020,S1483*T1483,\"\")","v":""},null,null,null,null,null,null,null,null,null,null,null,null,{"$f":"SUM(AI1483:AL1483)","v":0},null,null,null,null,{"$f":"SUM(AN1483:AQ1483)","v":0},null,null,null,null,{"$f":"SUM(AS1483:AV1483)","v":0},null,null,null,null,null,null,{"$f":"SUM(AH1483,AM1483,AR1483)","v":0},{"$f":"SUM(AL1483,AQ1483,AV1483)","v":0},{"$f":"IF(AY1483=0,0,AZ1483/AY1483)","v":0},{"$f":"IF((AY1483+AX1483)=0,0,AX1483/(AX1483+AY1483))","v":0},null,null,null,null,null,null,null,null,null,null,null,null,null,null,null,null,null,null,null,null,null,null,null,null,null,null,null,null,null,null,null,null,null,null,null,null,null,null,null,null,null,{"$f":"((L1483=\"создание\")*7+(L1483=\"расширение\")*7 +(L1483=\"внедрение\")*7+(L1483=\"строительство\")*4+(L1483=\"реконструкция\")*3+(L1483=\"капремонт\")*2 +(L1483=\"приобретение\")*1+(L1483=\"установка\")*1)*10","v":0},null,{"$f":"IF(P1483=\"коммунальная инфраструктура\",(L1483=\"строительство\")*3+(L1483=\"реконструкция\")*2+(L1483=\"капремонт\")*1,0)*10","v":0},null,{"$f":"IF(P1483=\"коммунальная инфраструктура\",(L1483=\"строительство\")*4+(L1483=\"реконструкция\")*3+(L1483=\"капремонт\")*2,0)*10","v":0}]
[null,null,19,{"$f":"IF(AND(D1481<>\"\",G1500<>\"\"),D1481,\"\")","v":""},{"$f":"IF(AND(E1481<>\"\",G1500<>\"\"),E1481,\"\")","v":""},null,null,null,null,null,null,null,null,null,null,null,null,null,{"$f":"IF(Q1500>=2020,R1500-Q1500+1,\"\")","v":""},null,{"$f":"IF(Q1500>=2020,S1500*T1500,\"\")","v":""},null,null,null,null,null,null,null,null,null,null,null,null,{"$f":"SUM(AI1500:AL1500)","v":0},null,null,null,null,{"$f":"SUM(AN1500:AQ1500)","v":0},null,null,null,null,{"$f":"SUM(AS1500:AV1500)","v":0},null,null,null,null,null,null,{"$f":"SUM(AH1500,AM1500,AR1500)","v":0},{"$f":"SUM(AL1500,AQ1500,AV1500)","v":0},{"$f":"IF(AY1500=0,0,AZ1500/AY1500)","v":0},{"$f":"IF((AY1500+AX1500)=0,0,AX1500/(AX1500+AY1500))","v":0},null,null,null,null,null,null,null,null,null,null,null,null,null,null,null,null,null,null,null,null,null,null,null,null,null,null,null,null,null,null,null,null,null,null,null,null,null,null,null,null,null,{"$f":"((L1500=\"создание\")*7+(L1500=\"расширение\")*7 +(L1500=\"внедрение\")*7+(L1500=\"строительство\")*4+(L1500=\"реконструкция\")*3+(L1500=\"капремонт\")*2 +(L1500=\"приобретение\")*1+(L1500=\"установка\")*1)*10","v":0},null,{"$f":"IF(P1500=\"коммунальная инфраструктура\",(L1500=\"строительство\")*3+(L1500=\"реконструкция\")*2+(L1500=\"капремонт\")*1,0)*10","v":0},null,{"$f":"IF(P1500=\"коммунальная инфраструктура\",(L1500=\"строительство\")*4+(L1500=\"реконструкция\")*3+(L1500=\"капремонт\")*2,0)*10","v":0}]
[null,null,2,{"$f":"IF(AND(D1525<>\"\",G1527<>\"\"),D1525,\"\")","v":""},{"$f":"IF(AND(E1525<>\"\",G1527<>\"\"),E1525,\"\")","v":""},null,null,null,null,null,null,null,null,null,null,null,null,null,{"$f":"IF(Q1527>=2020,R1527-Q1527+1,\"\")","v":""},null,{"$f":"IF(Q1527>=2020,S1527*T1527,\"\")","v":""},null,null,null,null,null,null,null,null,null,null,null,null,{"$f":"SUM(AI1527:AL1527)","v":0},null,null,null,null,{"$f":"SUM(AN1527:AQ1527)","v":0},null,null,null,null,{"$f":"SUM(AS1527:AV1527)","v":0},null,null,null,null,null,null,{"$f":"SUM(AH1527,AM1527,AR1527)","v":0},{"$f":"SUM(AL1527,AQ1527,AV1527)","v":0},{"$f":"IF(AY1527=0,0,AZ1527/AY1527)","v":0},{"$f":"IF((AY1527+AX1527)=0,0,AX1527/(AX1527+AY1527))","v":0},null,null,null,null,null,null,null,null,null,null,null,null,null,null,null,null,null,null,null,null,null,null,null,null,null,null,null,null,null,null,null,null,null,null,null,null,null,null,null,null,null,{"$f":"((L1527=\"создание\")*7+(L1527=\"расширение\")*7 +(L1527=\"внедрение\")*7+(L1527=\"строительство\")*4+(L1527=\"реконструкция\")*3+(L1527=\"капремонт\")*2 +(L1527=\"приобретение\")*1+(L1527=\"установка\")*1)*10","v":0},null,{"$f":"IF(P1527=\"коммунальная инфраструктура\",(L1527=\"строительство\")*3+(L1527=\"реконструкция\")*2+(L1527=\"капремонт\")*1,0)*10","v":0},null,{"$f":"IF(P1527=\"коммунальная инфраструктура\",(L1527=\"строительство\")*4+(L1527=\"реконструкция\")*3+(L1527=\"капремонт\")*2,0)*10","v":0}]
[null,null,10,{"$f":"IF(AND(D1525<>\"\",G1535<>\"\"),D1525,\"\")","v":""},{"$f":"IF(AND(E1525<>\"\",G1535<>\"\"),E1525,\"\")","v":""},null,null,null,null,null,null,null,null,null,null,null,null,null,{"$f":"IF(Q1535>=2020,R1535-Q1535+1,\"\")","v":""},null,{"$f":"IF(Q1535>=2020,S1535*T1535,\"\")","v":""},null,null,null,null,null,null,null,null,null,null,null,null,{"$f":"SUM(AI1535:AL1535)","v":0},null,null,null,null,{"$f":"SUM(AN1535:AQ1535)","v":0},null,null,null,null,{"$f":"SUM(AS1535:AV1535)","v":0},null,null,null,null,null,null,{"$f":"SUM(AH1535,AM1535,AR1535)","v":0},{"$f":"SUM(AL1535,AQ1535,AV1535)","v":0},{"$f":"IF(AY1535=0,0,AZ1535/AY1535)","v":0},{"$f":"IF((AY1535+AX1535)=0,0,AX1535/(AX1535+AY1535))","v":0},null,null,null,null,null,null,null,null,null,null,null,null,null,null,null,null,null,null,null,null,null,null,null,null,null,null,null,null,null,null,null,null,null,null,null,null,null,null,null,null,null,{"$f":"((L1535=\"создание\")*7+(L1535=\"расширение\")*7 +(L1535=\"внедрение\")*7+(L1535=\"строительство\")*4+(L1535=\"реконструкция\")*3+(L1535=\"капремонт\")*2 +(L1535=\"приобретение\")*1+(L1535=\"установка\")*1)*10","v":0},null,{"$f":"IF(P1535=\"коммунальная инфраструктура\",(L1535=\"строительство\")*3+(L1535=\"реконструкция\")*2+(L1535=\"капремонт\")*1,0)*10","v":0},null,{"$f":"IF(P1535=\"коммунальная инфраструктура\",(L1535=\"строительство\")*4+(L1535=\"реконструкция\")*3+(L1535=\"капремонт\")*2,0)*10","v":0}]
[null,null,19,{"$f":"IF(AND(D1525<>\"\",G1544<>\"\"),D1525,\"\")","v":""},{"$f":"IF(AND(E1525<>\"\",G1544<>\"\"),E1525,\"\")","v":""},null,null,null,null,null,null,null,null,null,null,null,null,null,{"$f":"IF(Q1544>=2020,R1544-Q1544+1,\"\")","v":""},null,{"$f":"IF(Q1544>=2020,S1544*T1544,\"\")","v":""},null,null,null,null,null,null,null,null,null,null,null,null,{"$f":"SUM(AI1544:AL1544)","v":0},null,null,null,null,{"$f":"SUM(AN1544:AQ1544)","v":0},null,null,null,null,{"$f":"SUM(AS1544:AV1544)","v":0},null,null,null,null,null,null,{"$f":"SUM(AH1544,AM1544,AR1544)","v":0},{"$f":"SUM(AL1544,AQ1544,AV1544)","v":0},{"$f":"IF(AY1544=0,0,AZ1544/AY1544)","v":0},{"$f":"IF((AY1544+AX1544)=0,0,AX1544/(AX1544+AY1544))","v":0},null,null,null,null,null,null,null,null,null,null,null,null,null,null,null,null,null,null,null,null,null,null,null,null,null,null,null,null,null,null,null,null,null,null,null,null,null,null,null,null,null,{"$f":"((L1544=\"создание\")*7+(L1544=\"расширение\")*7 +(L1544=\"внедрение\")*7+(L1544=\"строительство\")*4+(L1544=\"реконструкция\")*3+(L1544=\"капремонт\")*2 +(L1544=\"приобретение\")*1+(L1544=\"установка\")*1)*10","v":0},null,{"$f":"IF(P1544=\"коммунальная инфраструктура\",(L1544=\"строительство\")*3+(L1544=\"реконструкция\")*2+(L1544=\"капремонт\")*1,0)*10","v":0},null,{"$f":"IF(P1544=\"коммунальная инфраструктура\",(L1544=\"строительство\")*4+(L1544=\"реконструкция\")*3+(L1544=\"капремонт\")*2,0)*10","v":0}]
[null,null,1,{"$f":"IF(AND(D1569<>\"\",G1570<>\"\"),D1569,\"\")","v":""},{"$f":"IF(AND(E1569<>\"\",G1570<>\"\"),E1569,\"\")","v":""},null,null,null,null,null,null,null,null,null,null,null,null,null,{"$f":"IF(Q1570>=2020,R1570-Q1570+1,\"\")","v":""},null,{"$f":"IF(Q1570>=2020,ROUNDUP(S1570*T1570,0),\"\")","v":""},null,null,null,null,null,null,null,null,null,null,null,null,{"$f":"SUM(AI1570:AL1570)","v":0},null,null,null,null,{"$f":"SUM(AN1570:AQ1570)","v":0},null,null,null,null,{"$f":"SUM(AS1570:AV1570)","v":0},null,null,null,null,null,null,{"$f":"SUM(AH1570,AM1570,AR1570)","v":0},{"$f":"SUM(AL1570,AQ1570,AV1570)","v":0},{"$f":"IF(AY1570=0,0,AZ1570/AY1570)","v":0},{"$f":"IF((AY1570+AX1570)=0,0,AX1570/(AX1570+AY1570))","v":0},null,null,null,null,null,null,null,null,null,null,null,null,null,null,null,null,null,null,null,null,null,null,null,null,null,null,null,null,null,null,null,null,null,null,null,null,null,null,null,null,null,{"$f":"((L1570=\"создание\")*7+(L1570=\"расширение\")*7 +(L1570=\"внедрение\")*7+(L1570=\"строительство\")*4+(L1570=\"реконструкция\")*3+(L1570=\"капремонт\")*2 +(L1570=\"приобретение\")*1+(L1570=\"установка\")*1)*10","v":0},null,{"$f":"IF(P1570=\"коммунальная инфраструктура\",(L1570=\"строительство\")*3+(L1570=\"реконструкция\")*2+(L1570=\"капремонт\")*1,0)*10","v":0},null,{"$f":"IF(P1570=\"коммунальная инфраструктура\",(L1570=\"строительство\")*4+(L1570=\"реконструкция\")*3+(L1570=\"капремонт\")*2,0)*10","v":0}]
[null,null,18,{"$f":"IF(AND(D1569<>\"\",G1587<>\"\"),D1569,\"\")","v":""},{"$f":"IF(AND(E1569<>\"\",G1587<>\"\"),E1569,\"\")","v":""},null,null,null,null,null,null,null,null,null,null,null,null,null,{"$f":"IF(Q1587>=2020,R1587-Q1587+1,\"\")","v":""},null,{"$f":"IF(Q1587>=2020,S1587*T1587,\"\")","v":""},null,null,null,null,null,null,null,null,null,null,null,null,{"$f":"SUM(AI1587:AL1587)","v":0},null,null,null,null,{"$f":"SUM(AN1587:AQ1587)","v":0},null,null,null,null,{"$f":"SUM(AS1587:AV1587)","v":0},null,null,null,null,null,null,{"$f":"SUM(AH1587,AM1587,AR1587)","v":0},{"$f":"SUM(AL1587,AQ1587,AV1587)","v":0},{"$f":"IF(AY1587=0,0,AZ1587/AY1587)","v":0},{"$f":"IF((AY1587+AX1587)=0,0,AX1587/(AX1587+AY1587))","v":0},null,null,null,null,null,null,null,null,null,null,null,null,null,null,null,null,null,null,null,null,null,null,null,null,null,null,null,null,null,null,null,null,null,null,null,null,null,null,null,null,null,{"$f":"((L1587=\"создание\")*7+(L1587=\"расширение\")*7 +(L1587=\"внедрение\")*7+(L1587=\"строительство\")*4+(L1587=\"реконструкция\")*3+(L1587=\"капремонт\")*2 +(L1587=\"приобретение\")*1+(L1587=\"установка\")*1)*10","v":0},null,{"$f":"IF(P1587=\"коммунальная инфраструктура\",(L1587=\"строительство\")*3+(L1587=\"реконструкция\")*2+(L1587=\"капремонт\")*1,0)*10","v":0},null,{"$f":"IF(P1587=\"коммунальная инфраструктура\",(L1587=\"строительство\")*4+(L1587=\"реконструкция\")*3+(L1587=\"капремонт\")*2,0)*10","v":0}]
[null,null,3,{"$f":"IF(AND(D1591<>\"\",G1594<>\"\"),D1591,\"\")","v":""},{"$f":"IF(AND(E1591<>\"\",G1594<>\"\"),E1591,\"\")","v":""},null,null,null,null,null,null,null,null,null,null,null,null,null,{"$f":"IF(Q1594>=2020,R1594-Q1594+1,\"\")","v":""},null,{"$f":"IF(Q1594>=2020,S1594*T1594,\"\")","v":""},null,null,null,null,null,null,null,null,null,null,null,null,{"$f":"SUM(AI1594:AL1594)","v":0},null,null,null,null,{"$f":"SUM(AN1594:AQ1594)","v":0},null,null,null,null,{"$f":"SUM(AS1594:AV1594)","v":0},null,null,null,null,null,null,{"$f":"SUM(AH1594,AM1594,AR1594)","v":0},{"$f":"SUM(AL1594,AQ1594,AV1594)","v":0},{"$f":"IF(AY1594=0,0,AZ1594/AY1594)","v":0},{"$f":"IF((AY1594+AX1594)=0,0,AX1594/(AX1594+AY1594))","v":0},null,null,null,null,null,null,null,null,null,null,null,null,null,null,null,null,null,null,null,null,null,null,null,null,null,null,null,null,null,null,null,null,null,null,null,null,null,null,null,null,null,{"$f":"((L1594=\"создание\")*7+(L1594=\"расширение\")*7 +(L1594=\"внедрение\")*7+(L1594=\"строительство\")*4+(L1594=\"реконструкция\")*3+(L1594=\"капремонт\")*2 +(L1594=\"приобретение\")*1+(L1594=\"установка\")*1)*10","v":0},null,{"$f":"IF(P1594=\"коммунальная инфраструктура\",(L1594=\"строительство\")*3+(L1594=\"реконструкция\")*2+(L1594=\"капремонт\")*1,0)*10","v":0},null,{"$f":"IF(P1594=\"коммунальная инфраструктура\",(L1594=\"строительство\")*4+(L1594=\"реконструкция\")*3+(L1594=\"капремонт\")*2,0)*10","v":0}]
[null,null,9,{"$f":"IF(AND(D1613<>\"\",G1622<>\"\"),D1613,\"\")","v":""},{"$f":"IF(AND(E1613<>\"\",G1622<>\"\"),E1613,\"\")","v":""},null,null,null,null,null,null,null,null,null,null,null,null,null,{"$f":"IF(Q1622>=2020,R1622-Q1622+1,\"\")","v":""},null,{"$f":"IF(Q1622>=2020,S1622*T1622,\"\")","v":""},null,null,null,null,null,null,null,null,null,null,null,null,{"$f":"SUM(AI1622:AL1622)","v":0},null,null,null,null,{"$f":"SUM(AN1622:AQ1622)","v":0},null,null,null,null,{"$f":"SUM(AS1622:AV1622)","v":0},null,null,null,null,null,null,{"$f":"SUM(AH1622,AM1622,AR1622)","v":0},{"$f":"SUM(AL1622,AQ1622,AV1622)","v":0},{"$f":"IF(AY1622=0,0,AZ1622/AY1622)","v":0},{"$f":"IF((AY1622+AX1622)=0,0,AX1622/(AX1622+AY1622))","v":0},null,null,null,null,null,null,null,null,null,null,null,null,null,null,null,null,null,null,null,null,null,null,null,null,null,null,null,null,null,null,null,null,null,null,null,null,null,null,null,null,null,{"$f":"((L1622=\"создание\")*7+(L1622=\"расширение\")*7 +(L1622=\"внедрение\")*7+(L1622=\"строительство\")*4+(L1622=\"реконструкция\")*3+(L1622=\"капремонт\")*2 +(L1622=\"приобретение\")*1+(L1622=\"установка\")*1)*10","v":0},null,{"$f":"IF(P1622=\"коммунальная инфраструктура\",(L1622=\"строительство\")*3+(L1622=\"реконструкция\")*2+(L1622=\"капремонт\")*1,0)*10","v":0},null,{"$f":"IF(P1622=\"коммунальная инфраструктура\",(L1622=\"строительство\")*4+(L1622=\"реконструкция\")*3+(L1622=\"капремонт\")*2,0)*10","v":0}]
[null,null,4,{"$f":"IF(AND(D1635<>\"\",G1639<>\"\"),D1635,\"\")","v":""},{"$f":"IF(AND(E1635<>\"\",G1639<>\"\"),E1635,\"\")","v":""},null,null,null,null,null,null,null,null,null,null,null,null,null,{"$f":"IF(Q1639>=2020,R1639-Q1639+1,\"\")","v":""},null,{"$f":"IF(Q1639>=2020,S1639*T1639,\"\")","v":""},null,null,null,null,null,null,null,null,null,null,null,null,{"$f":"SUM(AI1639:AL1639)","v":0},null,null,null,null,{"$f":"SUM(AN1639:AQ1639)","v":0},null,null,null,null,{"$f":"SUM(AS1639:AV1639)","v":0},null,null,null,null,null,null,{"$f":"SUM(AH1639,AM1639,AR1639)","v":0},{"$f":"SUM(AL1639,AQ1639,AV1639)","v":0},{"$f":"IF(AY1639=0,0,AZ1639/AY1639)","v":0},{"$f":"IF((AY1639+AX1639)=0,0,AX1639/(AX1639+AY1639))","v":0},null,null,null,null,null,null,null,null,null,null,null,null,null,null,null,null,null,null,null,null,null,null,null,null,null,null,null,null,null,null,null,null,null,null,null,null,null,null,null,null,null,{"$f":"((L1639=\"создание\")*7+(L1639=\"расширение\")*7 +(L1639=\"внедрение\")*7+(L1639=\"строительство\")*4+(L1639=\"реконструкция\")*3+(L1639=\"капремонт\")*2 +(L1639=\"приобретение\")*1+(L1639=\"установка\")*1)*10","v":0},null,{"$f":"IF(P1639=\"коммунальная инфраструктура\",(L1639=\"строительство\")*3+(L1639=\"реконструкция\")*2+(L1639=\"капремонт\")*1,0)*10","v":0},null,{"$f":"IF(P1639=\"коммунальная инфраструктура\",(L1639=\"строительство\")*4+(L1639=\"реконструкция\")*3+(L1639=\"капремонт\")*2,0)*10","v":0}]
[null,null,9,{"$f":"IF(AND(D1635<>\"\",G1644<>\"\"),D1635,\"\")","v":""},{"$f":"IF(AND(E1635<>\"\",G1644<>\"\"),E1635,\"\")","v":""},null,null,null,null,null,null,null,null,null,null,null,null,null,{"$f":"IF(Q1644>=2020,R1644-Q1644+1,\"\")","v":""},null,{"$f":"IF(Q1644>=2020,S1644*T1644,\"\")","v":""},null,null,null,null,null,null,null,null,null,null,null,null,{"$f":"SUM(AI1644:AL1644)","v":0},null,null,null,null,{"$f":"SUM(AN1644:AQ1644)","v":0},null,null,null,null,{"$f":"SUM(AS1644:AV1644)","v":0},null,null,null,null,null,null,{"$f":"SUM(AH1644,AM1644,AR1644)","v":0},{"$f":"SUM(AL1644,AQ1644,AV1644)","v":0},{"$f":"IF(AY1644=0,0,AZ1644/AY1644)","v":0},{"$f":"IF((AY1644+AX1644)=0,0,AX1644/(AX1644+AY1644))","v":0},null,null,null,null,null,null,null,null,null,null,null,null,null,null,null,null,null,null,null,null,null,null,null,null,null,null,null,null,null,null,null,null,null,null,null,null,null,null,null,null,null,{"$f":"((L1644=\"создание\")*7+(L1644=\"расширение\")*7 +(L1644=\"внедрение\")*7+(L1644=\"строительство\")*4+(L1644=\"реконструкция\")*3+(L1644=\"капремонт\")*2 +(L1644=\"приобретение\")*1+(L1644=\"установка\")*1)*10","v":0},null,{"$f":"IF(P1644=\"коммунальная инфраструктура\",(L1644=\"строительство\")*3+(L1644=\"реконструкция\")*2+(L1644=\"капремонт\")*1,0)*10","v":0},null,{"$f":"IF(P1644=\"коммунальная инфраструктура\",(L1644=\"строительство\")*4+(L1644=\"реконструкция\")*3+(L1644=\"капремонт\")*2,0)*10","v":0}]
[null,null,17,{"$f":"IF(AND(D1657<>\"\",G1674<>\"\"),D1657,\"\")","v":""},{"$f":"IF(AND(E1657<>\"\",G1674<>\"\"),E1657,\"\")","v":""},null,null,null,null,null,null,null,null,null,null,null,null,null,{"$f":"IF(Q1674>=2020,R1674-Q1674+1,\"\")","v":""},null,{"$f":"IF(Q1674>=2020,S1674*T1674,\"\")","v":""},null,null,null,null,null,null,null,null,null,null,null,null,{"$f":"SUM(AI1674:AL1674)","v":0},null,null,null,null,{"$f":"SUM(AN1674:AQ1674)","v":0},null,null,null,null,{"$f":"SUM(AS1674:AV1674)","v":0},null,null,null,null,null,null,{"$f":"SUM(AH1674,AM1674,AR1674)","v":0},{"$f":"SUM(AL1674,AQ1674,AV1674)","v":0},{"$f":"IF(AY1674=0,0,AZ1674/AY1674)","v":0},{"$f":"IF((AY1674+AX1674)=0,0,AX1674/(AX1674+AY1674))","v":0},null,null,null,null,null,null,null,null,null,null,null,null,null,null,null,null,null,null,null,null,null,null,null,null,null,null,null,null,null,null,null,null,null,null,null,null,null,null,null,null,null,{"$f":"((L1674=\"создание\")*7+(L1674=\"расширение\")*7 +(L1674=\"внедрение\")*7+(L1674=\"строительство\")*4+(L1674=\"реконструкция\")*3+(L1674=\"капремонт\")*2 +(L1674=\"приобретение\")*1+(L1674=\"установка\")*1)*10","v":0},null,{"$f":"IF(P1674=\"коммунальная инфраструктура\",(L1674=\"строительство\")*3+(L1674=\"реконструкция\")*2+(L1674=\"капремонт\")*1,0)*10","v":0},null,{"$f":"IF(P1674=\"коммунальная инфраструктура\",(L1674=\"строительство\")*4+(L1674=\"реконструкция\")*3+(L1674=\"капремонт\")*2,0)*10","v":0}]
[null,null,"…",{"$f":"IF(AND(D1657<>\"\",G1678<>\"\"),D1657,\"\")","v":""},{"$f":"IF(AND(E1657<>\"\",G1678<>\"\"),E1657,\"\")","v":""},null,null,null,null,null,null,null,null,null,null,null,null,null,{"$f":"IF(Q1678>=2020,R1678-Q1678+1,\"\")","v":""},null,{"$f":"IF(Q1678>=2020,S1678*T1678,\"\")","v":""},null,null,null,null,null,null,null,null,null,null,null,null,{"$f":"SUM(AI1678:AL1678)","v":0},null,null,null,null,{"$f":"SUM(AN1678:AQ1678)","v":0},null,null,null,null,{"$f":"SUM(AS1678:AV1678)","v":0},null,null,null,null,null,null,{"$f":"SUM(AH1678,AM1678,AR1678)","v":0},{"$f":"SUM(AL1678,AQ1678,AV1678)","v":0},{"$f":"IF(AY1678=0,0,AZ1678/AY1678)","v":0},{"$f":"IF((AY1678+AX1678)=0,0,AX1678/(AX1678+AY1678))","v":0},null,null,null,null,null,null,null,null,null,null,null,null,null,null,null,null,null,null,null,null,null,null,null,null,null,null,null,null,null,null,null,null,null,null,null,null,null,null,null,null,null,{"$f":"((L1678=\"создание\")*7+(L1678=\"расширение\")*7 +(L1678=\"внедрение\")*7+(L1678=\"строительство\")*4+(L1678=\"реконструкция\")*3+(L1678=\"капремонт\")*2 +(L1678=\"приобретение\")*1+(L1678=\"установка\")*1)*10","v":0},null,{"$f":"IF(P1678=\"коммунальная инфраструктура\",(L1678=\"строительство\")*3+(L1678=\"реконструкция\")*2+(L1678=\"капремонт\")*1,0)*10","v":0},null,{"$f":"IF(P1678=\"коммунальная инфраструктура\",(L1678=\"строительство\")*4+(L1678=\"реконструкция\")*3+(L1678=\"капремонт\")*2,0)*10","v":0}]
[null,null,14,{"$f":"IF(AND(D1679<>\"\",G1693<>\"\"),D1679,\"\")","v":""},{"$f":"IF(AND(E1679<>\"\",G1693<>\"\"),E1679,\"\")","v":""},null,null,null,null,null,null,null,null,null,null,null,null,null,{"$f":"IF(Q1693>=2020,R1693-Q1693+1,\"\")","v":""},null,{"$f":"IF(Q1693>=2020,S1693*T1693,\"\")","v":""},null,null,null,null,null,null,null,null,null,null,null,null,{"$f":"SUM(AI1693:AL1693)","v":0},null,null,null,null,{"$f":"SUM(AN1693:AQ1693)","v":0},null,null,null,null,{"$f":"SUM(AS1693:AV1693)","v":0},null,null,null,null,null,null,{"$f":"SUM(AH1693,AM1693,AR1693)","v":0},{"$f":"SUM(AL1693,AQ1693,AV1693)","v":0},{"$f":"IF(AY1693=0,0,AZ1693/AY1693)","v":0},{"$f":"IF((AY1693+AX1693)=0,0,AX1693/(AX1693+AY1693))","v":0},null,null,null,null,null,null,null,null,null,null,null,null,null,null,null,null,null,null,null,null,null,null,null,null,null,null,null,null,null,null,null,null,null,null,null,null,null,null,null,null,null,{"$f":"((L1693=\"создание\")*7+(L1693=\"расширение\")*7 +(L1693=\"внедрение\")*7+(L1693=\"строительство\")*4+(L1693=\"реконструкция\")*3+(L1693=\"капремонт\")*2 +(L1693=\"приобретение\")*1+(L1693=\"установка\")*1)*10","v":0},null,{"$f":"IF(P1693=\"коммунальная инфраструктура\",(L1693=\"строительство\")*3+(L1693=\"реконструкция\")*2+(L1693=\"капремонт\")*1,0)*10","v":0},null,{"$f":"IF(P1693=\"коммунальная инфраструктура\",(L1693=\"строительство\")*4+(L1693=\"реконструкция\")*3+(L1693=\"капремонт\")*2,0)*10","v":0}]
[null,null,9,{"$f":"IF(AND(D1701<>\"\",G1710<>\"\"),D1701,\"\")","v":""},{"$f":"IF(AND(E1701<>\"\",G1710<>\"\"),E1701,\"\")","v":""},null,null,null,null,null,null,null,null,null,null,null,null,null,{"$f":"IF(Q1710>=2020,R1710-Q1710+1,\"\")","v":""},null,{"$f":"IF(Q1710>=2020,S1710*T1710,\"\")","v":""},null,null,null,null,null,null,null,null,null,null,null,null,{"$f":"SUM(AI1710:AL1710)","v":0},null,null,null,null,{"$f":"SUM(AN1710:AQ1710)","v":0},null,null,null,null,{"$f":"SUM(AS1710:AV1710)","v":0},null,null,null,null,null,null,{"$f":"SUM(AH1710,AM1710,AR1710)","v":0},{"$f":"SUM(AL1710,AQ1710,AV1710)","v":0},{"$f":"IF(AY1710=0,0,AZ1710/AY1710)","v":0},{"$f":"IF((AY1710+AX1710)=0,0,AX1710/(AX1710+AY1710))","v":0},null,null,null,null,null,null,null,null,null,null,null,null,null,null,null,null,null,null,null,null,null,null,null,null,null,null,null,null,null,null,null,null,null,null,null,null,null,null,null,null,null,{"$f":"((L1710=\"создание\")*7+(L1710=\"расширение\")*7 +(L1710=\"внедрение\")*7+(L1710=\"строительство\")*4+(L1710=\"реконструкция\")*3+(L1710=\"капремонт\")*2 +(L1710=\"приобретение\")*1+(L1710=\"установка\")*1)*10","v":0},null,{"$f":"IF(P1710=\"коммунальная инфраструктура\",(L1710=\"строительство\")*3+(L1710=\"реконструкция\")*2+(L1710=\"капремонт\")*1,0)*10","v":0},null,{"$f":"IF(P1710=\"коммунальная инфраструктура\",(L1710=\"строительство\")*4+(L1710=\"реконструкция\")*3+(L1710=\"капремонт\")*2,0)*10","v":0}]
[null,null,5,{"$f":"IF(AND(D1723<>\"\",G1728<>\"\"),D1723,\"\")","v":""},{"$f":"IF(AND(E1723<>\"\",G1728<>\"\"),E1723,\"\")","v":""},null,null,null,null,null,null,null,null,null,null,null,null,null,{"$f":"IF(Q1728>=2020,R1728-Q1728+1,\"\")","v":""},null,{"$f":"IF(Q1728>=2020,S1728*T1728,\"\")","v":""},null,null,null,null,null,null,null,null,null,null,null,null,{"$f":"SUM(AI1728:AL1728)","v":0},null,null,null,null,{"$f":"SUM(AN1728:AQ1728)","v":0},null,null,null,null,{"$f":"SUM(AS1728:AV1728)","v":0},null,null,null,null,null,null,{"$f":"SUM(AH1728,AM1728,AR1728)","v":0},{"$f":"SUM(AL1728,AQ1728,AV1728)","v":0},{"$f":"IF(AY1728=0,0,AZ1728/AY1728)","v":0},{"$f":"IF((AY1728+AX1728)=0,0,AX1728/(AX1728+AY1728))","v":0},null,null,null,null,null,null,null,null,null,null,null,null,null,null,null,null,null,null,null,null,null,null,null,null,null,null,null,null,null,null,null,null,null,null,null,null,null,null,null,null,null,{"$f":"((L1728=\"создание\")*7+(L1728=\"расширение\")*7 +(L1728=\"внедрение\")*7+(L1728=\"строительство\")*4+(L1728=\"реконструкция\")*3+(L1728=\"капремонт\")*2 +(L1728=\"приобретение\")*1+(L1728=\"установка\")*1)*10","v":0},null,{"$f":"IF(P1728=\"коммунальная инфраструктура\",(L1728=\"строительство\")*3+(L1728=\"реконструкция\")*2+(L1728=\"капремонт\")*1,0)*10","v":0},null,{"$f":"IF(P1728=\"коммунальная инфраструктура\",(L1728=\"строительство\")*4+(L1728=\"реконструкция\")*3+(L1728=\"капремонт\")*2,0)*10","v":0}]
[80,null,{"$f":"COUNTA(G1746:G1766)","v":0},null,null,null,null,null,null,null,null,null,null,null,null,null,{"$f":"MIN(Q1746:Q1766)","v":0},{"$f":"MAX(R1746:R1766)","v":0},{"$f":"MAX(S1746:S1766)","v":0},null,{"$f":"MAX(U1746:U1766)","v":0},null,null,null,null,null,{"$f":"IF(COUNTIF(AA1746:AA1766,\"НЕТ\")>0,\"ПД!\",\"ок\")","v":"ок"},null,{"$f":"IF(COUNTIF(AC1746:AC1766,\"НЕТ\")>0,\"ДОСМ!\",\"ок\")","v":"ок"},null,{"$f":"IF(COUNTIF(AE1746:AE1766,\"НЕТ\")>0,\"ФОИВ!\",\"ок\")","v":"ок"},{"$f":"IF(COUNTIF(AF1746:AF1766,\"НЕТ\")>0,\"ФОИВ!\",\"ок\")","v":"ок"},null,{"$f":"SUM(AH1746:AH1766)","v":0},{"$f":"SUM(AI1746:AI1766)","v":0},{"$f":"SUM(AJ1746:AJ1766)","v":0},{"$f":"SUM(AK1746:AK1766)","v":0},{"$f":"SUM(AL1746:AL1766)","v":0},{"$f":"SUM(AM1746:AM1766)","v":0},{"$f":"SUM(AN1746:AN1766)","v":0},{"$f":"SUM(AO1746:AO1766)","v":0},{"$f":"SUM(AP1746:AP1766)","v":0},{"$f":"SUM(AQ1746:AQ1766)","v":0},{"$f":"SUM(AR1746:AR1766)","v":0},{"$f":"SUM(AS1746:AS1766)","v":0},{"$f":"SUM(AT1746:AT1766)","v":0},{"$f":"SUM(AU1746:AU1766)","v":0},{"$f":"SUM(AV1746:AV1766)","v":0},{"$f":"SUM(AW1746:AW1766)","v":0},{"$f":"SUM(AX1746:AX1766)","v":0},{"$f":"SUM(AH1745,AM1745,AR1745)","v":0},{"$f":"AL1745+AQ1745+AV1745","v":0},{"$f":"IF(AY1745=0,0,AZ1745/AY1745)","v":0},{"$f":"IF((AY1745+AX1745)=0,0,AX1745/(AX1745+AY1745))","v":0},null,null,{"$f":"IFERROR(BD1745/BC1745,0)","v":0},null,null,{"$f":"IFERROR(BG1745/BF1745,0)","v":0},null,null,{"$f":"IFERROR(BJ1745/BI1745,0)","v":0},null,null,null,{"$f":"(SUM(BL1745:BN1745)>0)*1+(SUM(BL1745:BN1745)>=10)*1+(SUM(BL1745:BN1745)>=50)*1+(SUM(BL1745:BN1745)>=100)*1+(SUM(BL1745:BN1745)>=200)*1+(SUM(BL1745:BN1745)>=300)*1","v":0},{"$f":"IFERROR(SUM(BL1745:BN1745)/BC1745,0)","v":0},null,null,{"$f":"IFERROR(BQ1745/BR1745,0)","v":0},{"$f":"IF(BA1745<0.01,0,IF(BA1745>=0.1,10,ROUNDDOWN(BA1745/0.01,0)))","v":0},8,{"$f":"BT1745*BU1745","v":0},{"$f":"IF(BB1745<0.01,0,IF(BB1745>=0.1,10,ROUNDDOWN(BB1745/0.01,0)))","v":0},8,{"$f":"BW1745*BX1745","v":0},{"$f":"IF(U1745<=1,9,IF(U1745<=2,6,IF(U1745<=3,3,0)))*(C1745>0)","v":0},6,{"$f":"BZ1745*CA1745","v":0},{"$f":"IF(BH1745<0.51,0,10)","v":0},7,{"$f":"CC1745*CD1745","v":0},{"$f":"IF(BE1745<0.1,0,IF(BE1745>=0.9,10,ROUNDDOWN(BE1745/0.1,0)))","v":0},10,{"$f":"CF1745*CG1745","v":0},{"$f":"IF(BK1745<0.1,0,IF(BK1745>=0.6,10,ROUNDDOWN(BK1745/0.1,0)))","v":0},8,{"$f":"CI1745*CJ1745","v":0},{"$f":"IF(BP1745<0.05,0,IF(BP1745>=0.1,10,1))","v":0},10,{"$f":"CL1745*CM1745","v":0},{"$f":"IF(BS1745<0.1,0,IF(BS1745>=0.8,10,ROUNDDOWN(BS1745/0.1,0)))","v":0},10,{"$f":"CP1745*CO1745","v":0},{"$f":"ROUND(IF(C1745=0,0,SUM(CR1746:CR1766)/C1745),1)","v":0},{"$f":"((SUM(BL1745:BN1745)>=1)*1+(SUM(BL1745:BN1745)>=11)*1+(SUM(BL1745:BN1745)>=51)*3+(SUM(BL1745:BN1745)>=101)*2+(SUM(BL1745:BN1745)>=201)*2+(SUM(BL1745:BN1745)>=301)*4)*10","v":0},{"$f":"IFERROR(ROUND(SUM(CT1746:CT1766)/COUNTIF(P1746:P1766,\"коммунальная инфраструктура\"),1),0)","v":0},{"$f":"CS1745+CT1745","v":0},{"$f":"IFERROR(ROUND(SUM(CV1746:CV1766)/COUNTIF(P1746:P1766,\"коммунальная инфраструктура\"),1),0)","v":0},{"$f":"SUM(BV1745,BY1745,CB1745,CE1745,CH1745,CK1745,CN1745,CQ1745,CR1745,CU1745,CV1745)","v":0},{"$f":"VLOOKUP(D1745,РегионыФО,2,0)","v":{"$error":"#N/A"}}]
[null,null,17,{"$f":"IF(AND(D1745<>\"\",G1762<>\"\"),D1745,\"\")","v":""},{"$f":"IF(AND(E1745<>\"\",G1762<>\"\"),E1745,\"\")","v":""},null,null,null,null,null,null,null,null,null,null,null,null,null,{"$f":"IF(Q1762>=2020,R1762-Q1762+1,\"\")","v":""},null,{"$f":"IF(Q1762>=2020,S1762*T1762,\"\")","v":""},null,null,null,null,null,null,null,null,null,null,null,null,{"$f":"SUM(AI1762:AL1762)","v":0},null,null,null,null,{"$f":"SUM(AN1762:AQ1762)","v":0},null,null,null,null,{"$f":"SUM(AS1762:AV1762)","v":0},null,null,null,null,null,null,{"$f":"SUM(AH1762,AM1762,AR1762)","v":0},{"$f":"SUM(AL1762,AQ1762,AV1762)","v":0},{"$f":"IF(AY1762=0,0,AZ1762/AY1762)","v":0},{"$f":"IF((AY1762+AX1762)=0,0,AX1762/(AX1762+AY1762))","v":0},null,null,null,null,null,null,null,null,null,null,null,null,null,null,null,null,null,null,null,null,null,null,null,null,null,null,null,null,null,null,null,null,null,null,null,null,null,null,null,null,null,{"$f":"((L1762=\"создание\")*7+(L1762=\"расширение\")*7 +(L1762=\"внедрение\")*7+(L1762=\"строительство\")*4+(L1762=\"реконструкция\")*3+(L1762=\"капремонт\")*2 +(L1762=\"приобретение\")*1+(L1762=\"установка\")*1)*10","v":0},null,{"$f":"IF(P1762=\"коммунальная инфраструктура\",(L1762=\"строительство\")*3+(L1762=\"реконструкция\")*2+(L1762=\"капремонт\")*1,0)*10","v":0},null,{"$f":"IF(P1762=\"коммунальная инфраструктура\",(L1762=\"строительство\")*4+(L1762=\"реконструкция\")*3+(L1762=\"капремонт\")*2,0)*10","v":0}]
[null,null,11,{"$f":"IF(AND(D1767<>\"\",G1778<>\"\"),D1767,\"\")","v":""},{"$f":"IF(AND(E1767<>\"\",G1778<>\"\"),E1767,\"\")","v":""},null,null,null,null,null,null,null,null,null,null,null,null,null,{"$f":"IF(Q1778>=2020,R1778-Q1778+1,\"\")","v":""},null,{"$f":"IF(Q1778>=2020,S1778*T1778,\"\")","v":""},null,null,null,null,null,null,null,null,null,null,null,null,{"$f":"SUM(AI1778:AL1778)","v":0},null,null,null,null,{"$f":"SUM(AN1778:AQ1778)","v":0},null,null,null,null,{"$f":"SUM(AS1778:AV1778)","v":0},null,null,null,null,null,null,{"$f":"SUM(AH1778,AM1778,AR1778)","v":0},{"$f":"SUM(AL1778,AQ1778,AV1778)","v":0},{"$f":"IF(AY1778=0,0,AZ1778/AY1778)","v":0},{"$f":"IF((AY1778+AX1778)=0,0,AX1778/(AX1778+AY1778))","v":0},null,null,null,null,null,null,null,null,null,null,null,null,null,null,null,null,null,null,null,null,null,null,null,null,null,null,null,null,null,null,null,null,null,null,null,null,null,null,null,null,null,{"$f":"((L1778=\"создание\")*7+(L1778=\"расширение\")*7 +(L1778=\"внедрение\")*7+(L1778=\"строительство\")*4+(L1778=\"реконструкция\")*3+(L1778=\"капремонт\")*2 +(L1778=\"приобретение\")*1+(L1778=\"установка\")*1)*10","v":0},null,{"$f":"IF(P1778=\"коммунальная инфраструктура\",(L1778=\"строительство\")*3+(L1778=\"реконструкция\")*2+(L1778=\"капремонт\")*1,0)*10","v":0},null,{"$f":"IF(P1778=\"коммунальная инфраструктура\",(L1778=\"строительство\")*4+(L1778=\"реконструкция\")*3+(L1778=\"капремонт\")*2,0)*10","v":0}]
[null,null,8,{"$f":"IF(AND(D1789<>\"\",G1797<>\"\"),D1789,\"\")","v":""},{"$f":"IF(AND(E1789<>\"\",G1797<>\"\"),E1789,\"\")","v":""},null,null,null,null,null,null,null,null,null,null,null,null,null,{"$f":"IF(Q1797>=2020,R1797-Q1797+1,\"\")","v":""},null,{"$f":"IF(Q1797>=2020,S1797*T1797,\"\")","v":""},null,null,null,null,null,null,null,null,null,null,null,null,{"$f":"SUM(AI1797:AL1797)","v":0},null,null,null,null,{"$f":"SUM(AN1797:AQ1797)","v":0},null,null,null,null,{"$f":"SUM(AS1797:AV1797)","v":0},null,null,null,null,null,null,{"$f":"SUM(AH1797,AM1797,AR1797)","v":0},{"$f":"SUM(AL1797,AQ1797,AV1797)","v":0},{"$f":"IF(AY1797=0,0,AZ1797/AY1797)","v":0},{"$f":"IF((AY1797+AX1797)=0,0,AX1797/(AX1797+AY1797))","v":0},null,null,null,null,null,null,null,null,null,null,null,null,null,null,null,null,null,null,null,null,null,null,null,null,null,null,null,null,null,null,null,null,null,null,null,null,null,null,null,null,null,{"$f":"((L1797=\"создание\")*7+(L1797=\"расширение\")*7 +(L1797=\"внедрение\")*7+(L1797=\"строительство\")*4+(L1797=\"реконструкция\")*3+(L1797=\"капремонт\")*2 +(L1797=\"приобретение\")*1+(L1797=\"установка\")*1)*10","v":0},null,{"$f":"IF(P1797=\"коммунальная инфраструктура\",(L1797=\"строительство\")*3+(L1797=\"реконструкция\")*2+(L1797=\"капремонт\")*1,0)*10","v":0},null,{"$f":"IF(P1797=\"коммунальная инфраструктура\",(L1797=\"строительство\")*4+(L1797=\"реконструкция\")*3+(L1797=\"капремонт\")*2,0)*10","v":0}]
[null,null,1,{"$f":"IF(AND(D1811<>\"\",G1812<>\"\"),D1811,\"\")","v":""},{"$f":"IF(AND(E1811<>\"\",G1812<>\"\"),E1811,\"\")","v":""},null,null,null,null,null,null,null,null,null,null,null,null,null,{"$f":"IF(Q1812>=2020,R1812-Q1812+1,\"\")","v":""},null,{"$f":"IF(Q1812>=2020,ROUNDUP(S1812*T1812,0),\"\")","v":""},null,null,null,null,null,null,null,null,null,null,null,null,{"$f":"SUM(AI1812:AL1812)","v":0},null,null,null,null,{"$f":"SUM(AN1812:AQ1812)","v":0},null,null,null,null,{"$f":"SUM(AS1812:AV1812)","v":0},null,null,null,null,null,null,{"$f":"SUM(AH1812,AM1812,AR1812)","v":0},{"$f":"SUM(AL1812,AQ1812,AV1812)","v":0},{"$f":"IF(AY1812=0,0,AZ1812/AY1812)","v":0},{"$f":"IF((AY1812+AX1812)=0,0,AX1812/(AX1812+AY1812))","v":0},null,null,null,null,null,null,null,null,null,null,null,null,null,null,null,null,null,null,null,null,null,null,null,null,null,null,null,null,null,null,null,null,null,null,null,null,null,null,null,null,null,{"$f":"((L1812=\"создание\")*7+(L1812=\"расширение\")*7 +(L1812=\"внедрение\")*7+(L1812=\"строительство\")*4+(L1812=\"реконструкция\")*3+(L1812=\"капремонт\")*2 +(L1812=\"приобретение\")*1+(L1812=\"установка\")*1)*10","v":0},null,{"$f":"IF(P1812=\"коммунальная инфраструктура\",(L1812=\"строительство\")*3+(L1812=\"реконструкция\")*2+(L1812=\"капремонт\")*1,0)*10","v":0},null,{"$f":"IF(P1812=\"коммунальная инфраструктура\",(L1812=\"строительство\")*4+(L1812=\"реконструкция\")*3+(L1812=\"капремонт\")*2,0)*10","v":0}]
[null,null,"…",{"$f":"IF(AND(D1811<>\"\",G1832<>\"\"),D1811,\"\")","v":""},{"$f":"IF(AND(E1811<>\"\",G1832<>\"\"),E1811,\"\")","v":""},null,null,null,null,null,null,null,null,null,null,null,null,null,{"$f":"IF(Q1832>=2020,R1832-Q1832+1,\"\")","v":""},null,{"$f":"IF(Q1832>=2020,S1832*T1832,\"\")","v":""},null,null,null,null,null,null,null,null,null,null,null,null,{"$f":"SUM(AI1832:AL1832)","v":0},null,null,null,null,{"$f":"SUM(AN1832:AQ1832)","v":0},null,null,null,null,{"$f":"SUM(AS1832:AV1832)","v":0},null,null,null,null,null,null,{"$f":"SUM(AH1832,AM1832,AR1832)","v":0},{"$f":"SUM(AL1832,AQ1832,AV1832)","v":0},{"$f":"IF(AY1832=0,0,AZ1832/AY1832)","v":0},{"$f":"IF((AY1832+AX1832)=0,0,AX1832/(AX1832+AY1832))","v":0},null,null,null,null,null,null,null,null,null,null,null,null,null,null,null,null,null,null,null,null,null,null,null,null,null,null,null,null,null,null,null,null,null,null,null,null,null,null,null,null,null,{"$f":"((L1832=\"создание\")*7+(L1832=\"расширение\")*7 +(L1832=\"внедрение\")*7+(L1832=\"строительство\")*4+(L1832=\"реконструкция\")*3+(L1832=\"капремонт\")*2 +(L1832=\"приобретение\")*1+(L1832=\"установка\")*1)*10","v":0},null,{"$f":"IF(P1832=\"коммунальная инфраструктура\",(L1832=\"строительство\")*3+(L1832=\"реконструкция\")*2+(L1832=\"капремонт\")*1,0)*10","v":0},null,{"$f":"IF(P1832=\"коммунальная инфраструктура\",(L1832=\"строительство\")*4+(L1832=\"реконструкция\")*3+(L1832=\"капремонт\")*2,0)*10","v":0}]
[null,null,16,{"$f":"IF(AND(D1833<>\"\",G1849<>\"\"),D1833,\"\")","v":""},{"$f":"IF(AND(E1833<>\"\",G1849<>\"\"),E1833,\"\")","v":""},null,null,null,null,null,null,null,null,null,null,null,null,null,{"$f":"IF(Q1849>=2020,R1849-Q1849+1,\"\")","v":""},null,{"$f":"IF(Q1849>=2020,S1849*T1849,\"\")","v":""},null,null,null,null,null,null,null,null,null,null,null,null,{"$f":"SUM(AI1849:AL1849)","v":0},null,null,null,null,{"$f":"SUM(AN1849:AQ1849)","v":0},null,null,null,null,{"$f":"SUM(AS1849:AV1849)","v":0},null,null,null,null,null,null,{"$f":"SUM(AH1849,AM1849,AR1849)","v":0},{"$f":"SUM(AL1849,AQ1849,AV1849)","v":0},{"$f":"IF(AY1849=0,0,AZ1849/AY1849)","v":0},{"$f":"IF((AY1849+AX1849)=0,0,AX1849/(AX1849+AY1849))","v":0},null,null,null,null,null,null,null,null,null,null,null,null,null,null,null,null,null,null,null,null,null,null,null,null,null,null,null,null,null,null,null,null,null,null,null,null,null,null,null,null,null,{"$f":"((L1849=\"создание\")*7+(L1849=\"расширение\")*7 +(L1849=\"внедрение\")*7+(L1849=\"строительство\")*4+(L1849=\"реконструкция\")*3+(L1849=\"капремонт\")*2 +(L1849=\"приобретение\")*1+(L1849=\"установка\")*1)*10","v":0},null,{"$f":"IF(P1849=\"коммунальная инфраструктура\",(L1849=\"строительство\")*3+(L1849=\"реконструкция\")*2+(L1849=\"капремонт\")*1,0)*10","v":0},null,{"$f":"IF(P1849=\"коммунальная инфраструктура\",(L1849=\"строительство\")*4+(L1849=\"реконструкция\")*3+(L1849=\"капремонт\")*2,0)*10","v":0}]
[null,null,7,{"$f":"IF(AND(D1855<>\"\",G1862<>\"\"),D1855,\"\")","v":""},{"$f":"IF(AND(E1855<>\"\",G1862<>\"\"),E1855,\"\")","v":""},null,null,null,null,null,null,null,null,null,null,null,null,null,{"$f":"IF(Q1862>=2020,R1862-Q1862+1,\"\")","v":""},null,{"$f":"IF(Q1862>=2020,S1862*T1862,\"\")","v":""},null,null,null,null,null,null,null,null,null,null,null,null,{"$f":"SUM(AI1862:AL1862)","v":0},null,null,null,null,{"$f":"SUM(AN1862:AQ1862)","v":0},null,null,null,null,{"$f":"SUM(AS1862:AV1862)","v":0},null,null,null,null,null,null,{"$f":"SUM(AH1862,AM1862,AR1862)","v":0},{"$f":"SUM(AL1862,AQ1862,AV1862)","v":0},{"$f":"IF(AY1862=0,0,AZ1862/AY1862)","v":0},{"$f":"IF((AY1862+AX1862)=0,0,AX1862/(AX1862+AY1862))","v":0},null,null,null,null,null,null,null,null,null,null,null,null,null,null,null,null,null,null,null,null,null,null,null,null,null,null,null,null,null,null,null,null,null,null,null,null,null,null,null,null,null,{"$f":"((L1862=\"создание\")*7+(L1862=\"расширение\")*7 +(L1862=\"внедрение\")*7+(L1862=\"строительство\")*4+(L1862=\"реконструкция\")*3+(L1862=\"капремонт\")*2 +(L1862=\"приобретение\")*1+(L1862=\"установка\")*1)*10","v":0},null,{"$f":"IF(P1862=\"коммунальная инфраструктура\",(L1862=\"строительство\")*3+(L1862=\"реконструкция\")*2+(L1862=\"капремонт\")*1,0)*10","v":0},null,{"$f":"IF(P1862=\"коммунальная инфраструктура\",(L1862=\"строительство\")*4+(L1862=\"реконструкция\")*3+(L1862=\"капремонт\")*2,0)*10","v":0}]
[null,null,7,{"$f":"IF(AND(D1877<>\"\",G1884<>\"\"),D1877,\"\")","v":""},{"$f":"IF(AND(E1877<>\"\",G1884<>\"\"),E1877,\"\")","v":""},null,null,null,null,null,null,null,null,null,null,null,null,null,{"$f":"IF(Q1884>=2020,R1884-Q1884+1,\"\")","v":""},null,{"$f":"IF(Q1884>=2020,S1884*T1884,\"\")","v":""},null,null,null,null,null,null,null,null,null,null,null,null,{"$f":"SUM(AI1884:AL1884)","v":0},null,null,null,null,{"$f":"SUM(AN1884:AQ1884)","v":0},null,null,null,null,{"$f":"SUM(AS1884:AV1884)","v":0},null,null,null,null,null,null,{"$f":"SUM(AH1884,AM1884,AR1884)","v":0},{"$f":"SUM(AL1884,AQ1884,AV1884)","v":0},{"$f":"IF(AY1884=0,0,AZ1884/AY1884)","v":0},{"$f":"IF((AY1884+AX1884)=0,0,AX1884/(AX1884+AY1884))","v":0},null,null,null,null,null,null,null,null,null,null,null,null,null,null,null,null,null,null,null,null,null,null,null,null,null,null,null,null,null,null,null,null,null,null,null,null,null,null,null,null,null,{"$f":"((L1884=\"создание\")*7+(L1884=\"расширение\")*7 +(L1884=\"внедрение\")*7+(L1884=\"строительство\")*4+(L1884=\"реконструкция\")*3+(L1884=\"капремонт\")*2 +(L1884=\"приобретение\")*1+(L1884=\"установка\")*1)*10","v":0},null,{"$f":"IF(P1884=\"коммунальная инфраструктура\",(L1884=\"строительство\")*3+(L1884=\"реконструкция\")*2+(L1884=\"капремонт\")*1,0)*10","v":0},null,{"$f":"IF(P1884=\"коммунальная инфраструктура\",(L1884=\"строительство\")*4+(L1884=\"реконструкция\")*3+(L1884=\"капремонт\")*2,0)*10","v":0}]
[null,null,2,{"$f":"IF(AND(D1899<>\"\",G1901<>\"\"),D1899,\"\")","v":""},{"$f":"IF(AND(E1899<>\"\",G1901<>\"\"),E1899,\"\")","v":""},null,null,null,null,null,null,null,null,null,null,null,null,null,{"$f":"IF(Q1901>=2020,R1901-Q1901+1,\"\")","v":""},null,{"$f":"IF(Q1901>=2020,S1901*T1901,\"\")","v":""},null,null,null,null,null,null,null,null,null,null,null,null,{"$f":"SUM(AI1901:AL1901)","v":0},null,null,null,null,{"$f":"SUM(AN1901:AQ1901)","v":0},null,null,null,null,{"$f":"SUM(AS1901:AV1901)","v":0},null,null,null,null,null,null,{"$f":"SUM(AH1901,AM1901,AR1901)","v":0},{"$f":"SUM(AL1901,AQ1901,AV1901)","v":0},{"$f":"IF(AY1901=0,0,AZ1901/AY1901)","v":0},{"$f":"IF((AY1901+AX1901)=0,0,AX1901/(AX1901+AY1901))","v":0},null,null,null,null,null,null,null,null,null,null,null,null,null,null,null,null,null,null,null,null,null,null,null,null,null,null,null,null,null,null,null,null,null,null,null,null,null,null,null,null,null,{"$f":"((L1901=\"создание\")*7+(L1901=\"расширение\")*7 +(L1901=\"внедрение\")*7+(L1901=\"строительство\")*4+(L1901=\"реконструкция\")*3+(L1901=\"капремонт\")*2 +(L1901=\"приобретение\")*1+(L1901=\"установка\")*1)*10","v":0},null,{"$f":"IF(P1901=\"коммунальная инфраструктура\",(L1901=\"строительство\")*3+(L1901=\"реконструкция\")*2+(L1901=\"капремонт\")*1,0)*10","v":0},null,{"$f":"IF(P1901=\"коммунальная инфраструктура\",(L1901=\"строительство\")*4+(L1901=\"реконструкция\")*3+(L1901=\"капремонт\")*2,0)*10","v":0}]
[null,null,13,{"$f":"IF(AND(D1899<>\"\",G1912<>\"\"),D1899,\"\")","v":""},{"$f":"IF(AND(E1899<>\"\",G1912<>\"\"),E1899,\"\")","v":""},null,null,null,null,null,null,null,null,null,null,null,null,null,{"$f":"IF(Q1912>=2020,R1912-Q1912+1,\"\")","v":""},null,{"$f":"IF(Q1912>=2020,S1912*T1912,\"\")","v":""},null,null,null,null,null,null,null,null,null,null,null,null,{"$f":"SUM(AI1912:AL1912)","v":0},null,null,null,null,{"$f":"SUM(AN1912:AQ1912)","v":0},null,null,null,null,{"$f":"SUM(AS1912:AV1912)","v":0},null,null,null,null,null,null,{"$f":"SUM(AH1912,AM1912,AR1912)","v":0},{"$f":"SUM(AL1912,AQ1912,AV1912)","v":0},{"$f":"IF(AY1912=0,0,AZ1912/AY1912)","v":0},{"$f":"IF((AY1912+AX1912)=0,0,AX1912/(AX1912+AY1912))","v":0},null,null,null,null,null,null,null,null,null,null,null,null,null,null,null,null,null,null,null,null,null,null,null,null,null,null,null,null,null,null,null,null,null,null,null,null,null,null,null,null,null,{"$f":"((L1912=\"создание\")*7+(L1912=\"расширение\")*7 +(L1912=\"внедрение\")*7+(L1912=\"строительство\")*4+(L1912=\"реконструкция\")*3+(L1912=\"капремонт\")*2 +(L1912=\"приобретение\")*1+(L1912=\"установка\")*1)*10","v":0},null,{"$f":"IF(P1912=\"коммунальная инфраструктура\",(L1912=\"строительство\")*3+(L1912=\"реконструкция\")*2+(L1912=\"капремонт\")*1,0)*10","v":0},null,{"$f":"IF(P1912=\"коммунальная инфраструктура\",(L1912=\"строительство\")*4+(L1912=\"реконструкция\")*3+(L1912=\"капремонт\")*2,0)*10","v":0}]
[null,null,15,{"$f":"IF(AND(D1921<>\"\",G1936<>\"\"),D1921,\"\")","v":""},{"$f":"IF(AND(E1921<>\"\",G1936<>\"\"),E1921,\"\")","v":""},null,null,null,null,null,null,null,null,null,null,null,null,null,{"$f":"IF(Q1936>=2020,R1936-Q1936+1,\"\")","v":""},null,{"$f":"IF(Q1936>=2020,S1936*T1936,\"\")","v":""},null,null,null,null,null,null,null,null,null,null,null,null,{"$f":"SUM(AI1936:AL1936)","v":0},null,null,null,null,{"$f":"SUM(AN1936:AQ1936)","v":0},null,null,null,null,{"$f":"SUM(AS1936:AV1936)","v":0},null,null,null,null,null,null,{"$f":"SUM(AH1936,AM1936,AR1936)","v":0},{"$f":"SUM(AL1936,AQ1936,AV1936)","v":0},{"$f":"IF(AY1936=0,0,AZ1936/AY1936)","v":0},{"$f":"IF((AY1936+AX1936)=0,0,AX1936/(AX1936+AY1936))","v":0},null,null,null,null,null,null,null,null,null,null,null,null,null,null,null,null,null,null,null,null,null,null,null,null,null,null,null,null,null,null,null,null,null,null,null,null,null,null,null,null,null,{"$f":"((L1936=\"создание\")*7+(L1936=\"расширение\")*7 +(L1936=\"внедрение\")*7+(L1936=\"строительство\")*4+(L1936=\"реконструкция\")*3+(L1936=\"капремонт\")*2 +(L1936=\"приобретение\")*1+(L1936=\"установка\")*1)*10","v":0},null,{"$f":"IF(P1936=\"коммунальная инфраструктура\",(L1936=\"строительство\")*3+(L1936=\"реконструкция\")*2+(L1936=\"капремонт\")*1,0)*10","v":0},null,{"$f":"IF(P1936=\"коммунальная инфраструктура\",(L1936=\"строительство\")*4+(L1936=\"реконструкция\")*3+(L1936=\"капремонт\")*2,0)*10","v":0}]
[null,null,3,{"$f":"IF(AND(D1943<>\"\",G1946<>\"\"),D1943,\"\")","v":""},{"$f":"IF(AND(E1943<>\"\",G1946<>\"\"),E1943,\"\")","v":""},null,null,null,null,null,null,null,null,null,null,null,null,null,{"$f":"IF(Q1946>=2020,R1946-Q1946+1,\"\")","v":""},null,{"$f":"IF(Q1946>=2020,S1946*T1946,\"\")","v":""},null,null,null,null,null,null,null,null,null,null,null,null,{"$f":"SUM(AI1946:AL1946)","v":0},null,null,null,null,{"$f":"SUM(AN1946:AQ1946)","v":0},null,null,null,null,{"$f":"SUM(AS1946:AV1946)","v":0},null,null,null,null,null,null,{"$f":"SUM(AH1946,AM1946,AR1946)","v":0},{"$f":"SUM(AL1946,AQ1946,AV1946)","v":0},{"$f":"IF(AY1946=0,0,AZ1946/AY1946)","v":0},{"$f":"IF((AY1946+AX1946)=0,0,AX1946/(AX1946+AY1946))","v":0},null,null,null,null,null,null,null,null,null,null,null,null,null,null,null,null,null,null,null,null,null,null,null,null,null,null,null,null,null,null,null,null,null,null,null,null,null,null,null,null,null,{"$f":"((L1946=\"создание\")*7+(L1946=\"расширение\")*7 +(L1946=\"внедрение\")*7+(L1946=\"строительство\")*4+(L1946=\"реконструкция\")*3+(L1946=\"капремонт\")*2 +(L1946=\"приобретение\")*1+(L1946=\"установка\")*1)*10","v":0},null,{"$f":"IF(P1946=\"коммунальная инфраструктура\",(L1946=\"строительство\")*3+(L1946=\"реконструкция\")*2+(L1946=\"капремонт\")*1,0)*10","v":0},null,{"$f":"IF(P1946=\"коммунальная инфраструктура\",(L1946=\"строительство\")*4+(L1946=\"реконструкция\")*3+(L1946=\"капремонт\")*2,0)*10","v":0}]
[null,null,12,{"$f":"IF(AND(D1943<>\"\",G1955<>\"\"),D1943,\"\")","v":""},{"$f":"IF(AND(E1943<>\"\",G1955<>\"\"),E1943,\"\")","v":""},null,null,null,null,null,null,null,null,null,null,null,null,null,{"$f":"IF(Q1955>=2020,R1955-Q1955+1,\"\")","v":""},null,{"$f":"IF(Q1955>=2020,S1955*T1955,\"\")","v":""},null,null,null,null,null,null,null,null,null,null,null,null,{"$f":"SUM(AI1955:AL1955)","v":0},null,null,null,null,{"$f":"SUM(AN1955:AQ1955)","v":0},null,null,null,null,{"$f":"SUM(AS1955:AV1955)","v":0},null,null,null,null,null,null,{"$f":"SUM(AH1955,AM1955,AR1955)","v":0},{"$f":"SUM(AL1955,AQ1955,AV1955)","v":0},{"$f":"IF(AY1955=0,0,AZ1955/AY1955)","v":0},{"$f":"IF((AY1955+AX1955)=0,0,AX1955/(AX1955+AY1955))","v":0},null,null,null,null,null,null,null,null,null,null,null,null,null,null,null,null,null,null,null,null,null,null,null,null,null,null,null,null,null,null,null,null,null,null,null,null,null,null,null,null,null,{"$f":"((L1955=\"создание\")*7+(L1955=\"расширение\")*7 +(L1955=\"внедрение\")*7+(L1955=\"строительство\")*4+(L1955=\"реконструкция\")*3+(L1955=\"капремонт\")*2 +(L1955=\"приобретение\")*1+(L1955=\"установка\")*1)*10","v":0},null,{"$f":"IF(P1955=\"коммунальная инфраструктура\",(L1955=\"строительство\")*3+(L1955=\"реконструкция\")*2+(L1955=\"капремонт\")*1,0)*10","v":0},null,{"$f":"IF(P1955=\"коммунальная инфраструктура\",(L1955=\"строительство\")*4+(L1955=\"реконструкция\")*3+(L1955=\"капремонт\")*2,0)*10","v":0}]
[null,null,7,{"$f":"IF(AND(D1965<>\"\",G1972<>\"\"),D1965,\"\")","v":""},{"$f":"IF(AND(E1965<>\"\",G1972<>\"\"),E1965,\"\")","v":""},null,null,null,null,null,null,null,null,null,null,null,null,null,{"$f":"IF(Q1972>=2020,R1972-Q1972+1,\"\")","v":""},null,{"$f":"IF(Q1972>=2020,S1972*T1972,\"\")","v":""},null,null,null,null,null,null,null,null,null,null,null,null,{"$f":"SUM(AI1972:AL1972)","v":0},null,null,null,null,{"$f":"SUM(AN1972:AQ1972)","v":0},null,null,null,null,{"$f":"SUM(AS1972:AV1972)","v":0},null,null,null,null,null,null,{"$f":"SUM(AH1972,AM1972,AR1972)","v":0},{"$f":"SUM(AL1972,AQ1972,AV1972)","v":0},{"$f":"IF(AY1972=0,0,AZ1972/AY1972)","v":0},{"$f":"IF((AY1972+AX1972)=0,0,AX1972/(AX1972+AY1972))","v":0},null,null,null,null,null,null,null,null,null,null,null,null,null,null,null,null,null,null,null,null,null,null,null,null,null,null,null,null,null,null,null,null,null,null,null,null,null,null,null,null,null,{"$f":"((L1972=\"создание\")*7+(L1972=\"расширение\")*7 +(L1972=\"внедрение\")*7+(L1972=\"строительство\")*4+(L1972=\"реконструкция\")*3+(L1972=\"капремонт\")*2 +(L1972=\"приобретение\")*1+(L1972=\"установка\")*1)*10","v":0},null,{"$f":"IF(P1972=\"коммунальная инфраструктура\",(L1972=\"строительство\")*3+(L1972=\"реконструкция\")*2+(L1972=\"капремонт\")*1,0)*10","v":0},null,{"$f":"IF(P1972=\"коммунальная инфраструктура\",(L1972=\"строительство\")*4+(L1972=\"реконструкция\")*3+(L1972=\"капремонт\")*2,0)*10","v":0}]
[null,null,9,{"$f":"IF(AND(D1987<>\"\",G1996<>\"\"),D1987,\"\")","v":""},{"$f":"IF(AND(E1987<>\"\",G1996<>\"\"),E1987,\"\")","v":""},null,null,null,null,null,null,null,null,null,null,null,null,null,{"$f":"IF(Q1996>=2020,R1996-Q1996+1,\"\")","v":""},null,{"$f":"IF(Q1996>=2020,S1996*T1996,\"\")","v":""},null,null,null,null,null,null,null,null,null,null,null,null,{"$f":"SUM(AI1996:AL1996)","v":0},null,null,null,null,{"$f":"SUM(AN1996:AQ1996)","v":0},null,null,null,null,{"$f":"SUM(AS1996:AV1996)","v":0},null,null,null,null,null,null,{"$f":"SUM(AH1996,AM1996,AR1996)","v":0},{"$f":"SUM(AL1996,AQ1996,AV1996)","v":0},{"$f":"IF(AY1996=0,0,AZ1996/AY1996)","v":0},{"$f":"IF((AY1996+AX1996)=0,0,AX1996/(AX1996+AY1996))","v":0},null,null,null,null,null,null,null,null,null,null,null,null,null,null,null,null,null,null,null,null,null,null,null,null,null,null,null,null,null,null,null,null,null,null,null,null,null,null,null,null,null,{"$f":"((L1996=\"создание\")*7+(L1996=\"расширение\")*7 +(L1996=\"внедрение\")*7+(L1996=\"строительство\")*4+(L1996=\"реконструкция\")*3+(L1996=\"капремонт\")*2 +(L1996=\"приобретение\")*1+(L1996=\"установка\")*1)*10","v":0},null,{"$f":"IF(P1996=\"коммунальная инфраструктура\",(L1996=\"строительство\")*3+(L1996=\"реконструкция\")*2+(L1996=\"капремонт\")*1,0)*10","v":0},null,{"$f":"IF(P1996=\"коммунальная инфраструктура\",(L1996=\"строительство\")*4+(L1996=\"реконструкция\")*3+(L1996=\"капремонт\")*2,0)*10","v":0}]
[null,null,20,{"$f":"IF(AND(D1987<>\"\",G2007<>\"\"),D1987,\"\")","v":""},{"$f":"IF(AND(E1987<>\"\",G2007<>\"\"),E1987,\"\")","v":""},null,null,null,null,null,null,null,null,null,null,null,null,null,{"$f":"IF(Q2007>=2020,R2007-Q2007+1,\"\")","v":""},null,{"$f":"IF(Q2007>=2020,S2007*T2007,\"\")","v":""},null,null,null,null,null,null,null,null,null,null,null,null,{"$f":"SUM(AI2007:AL2007)","v":0},null,null,null,null,{"$f":"SUM(AN2007:AQ2007)","v":0},null,null,null,null,{"$f":"SUM(AS2007:AV2007)","v":0},null,null,null,null,null,null,{"$f":"SUM(AH2007,AM2007,AR2007)","v":0},{"$f":"SUM(AL2007,AQ2007,AV2007)","v":0},{"$f":"IF(AY2007=0,0,AZ2007/AY2007)","v":0},{"$f":"IF((AY2007+AX2007)=0,0,AX2007/(AX2007+AY2007))","v":0},null,null,null,null,null,null,null,null,null,null,null,null,null,null,null,null,null,null,null,null,null,null,null,null,null,null,null,null,null,null,null,null,null,null,null,null,null,null,null,null,null,{"$f":"((L2007=\"создание\")*7+(L2007=\"расширение\")*7 +(L2007=\"внедрение\")*7+(L2007=\"строительство\")*4+(L2007=\"реконструкция\")*3+(L2007=\"капремонт\")*2 +(L2007=\"приобретение\")*1+(L2007=\"установка\")*1)*10","v":0},null,{"$f":"IF(P2007=\"коммунальная инфраструктура\",(L2007=\"строительство\")*3+(L2007=\"реконструкция\")*2+(L2007=\"капремонт\")*1,0)*10","v":0},null,{"$f":"IF(P2007=\"коммунальная инфраструктура\",(L2007=\"строительство\")*4+(L2007=\"реконструкция\")*3+(L2007=\"капремонт\")*2,0)*10","v":0}]
[null,null,15,{"$f":"IF(AND(D2009<>\"\",G2024<>\"\"),D2009,\"\")","v":""},{"$f":"IF(AND(E2009<>\"\",G2024<>\"\"),E2009,\"\")","v":""},null,null,null,null,null,null,null,null,null,null,null,null,null,{"$f":"IF(Q2024>=2020,R2024-Q2024+1,\"\")","v":""},null,{"$f":"IF(Q2024>=2020,S2024*T2024,\"\")","v":""},null,null,null,null,null,null,null,null,null,null,null,null,{"$f":"SUM(AI2024:AL2024)","v":0},null,null,null,null,{"$f":"SUM(AN2024:AQ2024)","v":0},null,null,null,null,{"$f":"SUM(AS2024:AV2024)","v":0},null,null,null,null,null,null,{"$f":"SUM(AH2024,AM2024,AR2024)","v":0},{"$f":"SUM(AL2024,AQ2024,AV2024)","v":0},{"$f":"IF(AY2024=0,0,AZ2024/AY2024)","v":0},{"$f":"IF((AY2024+AX2024)=0,0,AX2024/(AX2024+AY2024))","v":0},null,null,null,null,null,null,null,null,null,null,null,null,null,null,null,null,null,null,null,null,null,null,null,null,null,null,null,null,null,null,null,null,null,null,null,null,null,null,null,null,null,{"$f":"((L2024=\"создание\")*7+(L2024=\"расширение\")*7 +(L2024=\"внедрение\")*7+(L2024=\"строительство\")*4+(L2024=\"реконструкция\")*3+(L2024=\"капремонт\")*2 +(L2024=\"приобретение\")*1+(L2024=\"установка\")*1)*10","v":0},null,{"$f":"IF(P2024=\"коммунальная инфраструктура\",(L2024=\"строительство\")*3+(L2024=\"реконструкция\")*2+(L2024=\"капремонт\")*1,0)*10","v":0},null,{"$f":"IF(P2024=\"коммунальная инфраструктура\",(L2024=\"строительство\")*4+(L2024=\"реконструкция\")*3+(L2024=\"капремонт\")*2,0)*10","v":0}]
[null,null,15,{"$f":"IF(AND(D2031<>\"\",G2046<>\"\"),D2031,\"\")","v":""},{"$f":"IF(AND(E2031<>\"\",G2046<>\"\"),E2031,\"\")","v":""},null,null,null,null,null,null,null,null,null,null,null,null,null,{"$f":"IF(Q2046>=2020,R2046-Q2046+1,\"\")","v":""},null,{"$f":"IF(Q2046>=2020,S2046*T2046,\"\")","v":""},null,null,null,null,null,null,null,null,null,null,null,null,{"$f":"SUM(AI2046:AL2046)","v":0},null,null,null,null,{"$f":"SUM(AN2046:AQ2046)","v":0},null,null,null,null,{"$f":"SUM(AS2046:AV2046)","v":0},null,null,null,null,null,null,{"$f":"SUM(AH2046,AM2046,AR2046)","v":0},{"$f":"SUM(AL2046,AQ2046,AV2046)","v":0},{"$f":"IF(AY2046=0,0,AZ2046/AY2046)","v":0},{"$f":"IF((AY2046+AX2046)=0,0,AX2046/(AX2046+AY2046))","v":0},null,null,null,null,null,null,null,null,null,null,null,null,null,null,null,null,null,null,null,null,null,null,null,null,null,null,null,null,null,null,null,null,null,null,null,null,null,null,null,null,null,{"$f":"((L2046=\"создание\")*7+(L2046=\"расширение\")*7 +(L2046=\"внедрение\")*7+(L2046=\"строительство\")*4+(L2046=\"реконструкция\")*3+(L2046=\"капремонт\")*2 +(L2046=\"приобретение\")*1+(L2046=\"установка\")*1)*10","v":0},null,{"$f":"IF(P2046=\"коммунальная инфраструктура\",(L2046=\"строительство\")*3+(L2046=\"реконструкция\")*2+(L2046=\"капремонт\")*1,0)*10","v":0},null,{"$f":"IF(P2046=\"коммунальная инфраструктура\",(L2046=\"строительство\")*4+(L2046=\"реконструкция\")*3+(L2046=\"капремонт\")*2,0)*10","v":0}]
[null,null,6,{"$f":"IF(AND(D2053<>\"\",G2059<>\"\"),D2053,\"\")","v":""},{"$f":"IF(AND(E2053<>\"\",G2059<>\"\"),E2053,\"\")","v":""},null,null,null,null,null,null,null,null,null,null,null,null,null,{"$f":"IF(Q2059>=2020,R2059-Q2059+1,\"\")","v":""},null,{"$f":"IF(Q2059>=2020,S2059*T2059,\"\")","v":""},null,null,null,null,null,null,null,null,null,null,null,null,{"$f":"SUM(AI2059:AL2059)","v":0},null,null,null,null,{"$f":"SUM(AN2059:AQ2059)","v":0},null,null,null,null,{"$f":"SUM(AS2059:AV2059)","v":0},null,null,null,null,null,null,{"$f":"SUM(AH2059,AM2059,AR2059)","v":0},{"$f":"SUM(AL2059,AQ2059,AV2059)","v":0},{"$f":"IF(AY2059=0,0,AZ2059/AY2059)","v":0},{"$f":"IF((AY2059+AX2059)=0,0,AX2059/(AX2059+AY2059))","v":0},null,null,null,null,null,null,null,null,null,null,null,null,null,null,null,null,null,null,null,null,null,null,null,null,null,null,null,null,null,null,null,null,null,null,null,null,null,null,null,null,null,{"$f":"((L2059=\"создание\")*7+(L2059=\"расширение\")*7 +(L2059=\"внедрение\")*7+(L2059=\"строительство\")*4+(L2059=\"реконструкция\")*3+(L2059=\"капремонт\")*2 +(L2059=\"приобретение\")*1+(L2059=\"установка\")*1)*10","v":0},null,{"$f":"IF(P2059=\"коммунальная инфраструктура\",(L2059=\"строительство\")*3+(L2059=\"реконструкция\")*2+(L2059=\"капремонт\")*1,0)*10","v":0},null,{"$f":"IF(P2059=\"коммунальная инфраструктура\",(L2059=\"строительство\")*4+(L2059=\"реконструкция\")*3+(L2059=\"капремонт\")*2,0)*10","v":0}]
[null,null,5,{"$f":"IF(AND(D2075<>\"\",G2080<>\"\"),D2075,\"\")","v":""},{"$f":"IF(AND(E2075<>\"\",G2080<>\"\"),E2075,\"\")","v":""},null,null,null,null,null,null,null,null,null,null,null,null,null,{"$f":"IF(Q2080>=2020,R2080-Q2080+1,\"\")","v":""},null,{"$f":"IF(Q2080>=2020,S2080*T2080,\"\")","v":""},null,null,null,null,null,null,null,null,null,null,null,null,{"$f":"SUM(AI2080:AL2080)","v":0},null,null,null,null,{"$f":"SUM(AN2080:AQ2080)","v":0},null,null,null,null,{"$f":"SUM(AS2080:AV2080)","v":0},null,null,null,null,null,null,{"$f":"SUM(AH2080,AM2080,AR2080)","v":0},{"$f":"SUM(AL2080,AQ2080,AV2080)","v":0},{"$f":"IF(AY2080=0,0,AZ2080/AY2080)","v":0},{"$f":"IF((AY2080+AX2080)=0,0,AX2080/(AX2080+AY2080))","v":0},null,null,null,null,null,null,null,null,null,null,null,null,null,null,null,null,null,null,null,null,null,null,null,null,null,null,null,null,null,null,null,null,null,null,null,null,null,null,null,null,null,{"$f":"((L2080=\"создание\")*7+(L2080=\"расширение\")*7 +(L2080=\"внедрение\")*7+(L2080=\"строительство\")*4+(L2080=\"реконструкция\")*3+(L2080=\"капремонт\")*2 +(L2080=\"приобретение\")*1+(L2080=\"установка\")*1)*10","v":0},null,{"$f":"IF(P2080=\"коммунальная инфраструктура\",(L2080=\"строительство\")*3+(L2080=\"реконструкция\")*2+(L2080=\"капремонт\")*1,0)*10","v":0},null,{"$f":"IF(P2080=\"коммунальная инфраструктура\",(L2080=\"строительство\")*4+(L2080=\"реконструкция\")*3+(L2080=\"капремонт\")*2,0)*10","v":0}]
[null,null,19,{"$f":"IF(AND(D2075<>\"\",G2094<>\"\"),D2075,\"\")","v":""},{"$f":"IF(AND(E2075<>\"\",G2094<>\"\"),E2075,\"\")","v":""},null,null,null,null,null,null,null,null,null,null,null,null,null,{"$f":"IF(Q2094>=2020,R2094-Q2094+1,\"\")","v":""},null,{"$f":"IF(Q2094>=2020,S2094*T2094,\"\")","v":""},null,null,null,null,null,null,null,null,null,null,null,null,{"$f":"SUM(AI2094:AL2094)","v":0},null,null,null,null,{"$f":"SUM(AN2094:AQ2094)","v":0},null,null,null,null,{"$f":"SUM(AS2094:AV2094)","v":0},null,null,null,null,null,null,{"$f":"SUM(AH2094,AM2094,AR2094)","v":0},{"$f":"SUM(AL2094,AQ2094,AV2094)","v":0},{"$f":"IF(AY2094=0,0,AZ2094/AY2094)","v":0},{"$f":"IF((AY2094+AX2094)=0,0,AX2094/(AX2094+AY2094))","v":0},null,null,null,null,null,null,null,null,null,null,null,null,null,null,null,null,null,null,null,null,null,null,null,null,null,null,null,null,null,null,null,null,null,null,null,null,null,null,null,null,null,{"$f":"((L2094=\"создание\")*7+(L2094=\"расширение\")*7 +(L2094=\"внедрение\")*7+(L2094=\"строительство\")*4+(L2094=\"реконструкция\")*3+(L2094=\"капремонт\")*2 +(L2094=\"приобретение\")*1+(L2094=\"установка\")*1)*10","v":0},null,{"$f":"IF(P2094=\"коммунальная инфраструктура\",(L2094=\"строительство\")*3+(L2094=\"реконструкция\")*2+(L2094=\"капремонт\")*1,0)*10","v":0},null,{"$f":"IF(P2094=\"коммунальная инфраструктура\",(L2094=\"строительство\")*4+(L2094=\"реконструкция\")*3+(L2094=\"капремонт\")*2,0)*10","v":0}]
[null,null,14,{"$f":"IF(AND(D2097<>\"\",G2111<>\"\"),D2097,\"\")","v":""},{"$f":"IF(AND(E2097<>\"\",G2111<>\"\"),E2097,\"\")","v":""},null,null,null,null,null,null,null,null,null,null,null,null,null,{"$f":"IF(Q2111>=2020,R2111-Q2111+1,\"\")","v":""},null,{"$f":"IF(Q2111>=2020,S2111*T2111,\"\")","v":""},null,null,null,null,null,null,null,null,null,null,null,null,{"$f":"SUM(AI2111:AL2111)","v":0},null,null,null,null,{"$f":"SUM(AN2111:AQ2111)","v":0},null,null,null,null,{"$f":"SUM(AS2111:AV2111)","v":0},null,null,null,null,null,null,{"$f":"SUM(AH2111,AM2111,AR2111)","v":0},{"$f":"SUM(AL2111,AQ2111,AV2111)","v":0},{"$f":"IF(AY2111=0,0,AZ2111/AY2111)","v":0},{"$f":"IF((AY2111+AX2111)=0,0,AX2111/(AX2111+AY2111))","v":0},null,null,null,null,null,null,null,null,null,null,null,null,null,null,null,null,null,null,null,null,null,null,null,null,null,null,null,null,null,null,null,null,null,null,null,null,null,null,null,null,null,{"$f":"((L2111=\"создание\")*7+(L2111=\"расширение\")*7 +(L2111=\"внедрение\")*7+(L2111=\"строительство\")*4+(L2111=\"реконструкция\")*3+(L2111=\"капремонт\")*2 +(L2111=\"приобретение\")*1+(L2111=\"установка\")*1)*10","v":0},null,{"$f":"IF(P2111=\"коммунальная инфраструктура\",(L2111=\"строительство\")*3+(L2111=\"реконструкция\")*2+(L2111=\"капремонт\")*1,0)*10","v":0},null,{"$f":"IF(P2111=\"коммунальная инфраструктура\",(L2111=\"строительство\")*4+(L2111=\"реконструкция\")*3+(L2111=\"капремонт\")*2,0)*10","v":0}]
[null,null,11,{"$f":"IF(AND(D2119<>\"\",G2130<>\"\"),D2119,\"\")","v":""},{"$f":"IF(AND(E2119<>\"\",G2130<>\"\"),E2119,\"\")","v":""},null,null,null,null,null,null,null,null,null,null,null,null,null,{"$f":"IF(Q2130>=2020,R2130-Q2130+1,\"\")","v":""},null,{"$f":"IF(Q2130>=2020,S2130*T2130,\"\")","v":""},null,null,null,null,null,null,null,null,null,null,null,null,{"$f":"SUM(AI2130:AL2130)","v":0},null,null,null,null,{"$f":"SUM(AN2130:AQ2130)","v":0},null,null,null,null,{"$f":"SUM(AS2130:AV2130)","v":0},null,null,null,null,null,null,{"$f":"SUM(AH2130,AM2130,AR2130)","v":0},{"$f":"SUM(AL2130,AQ2130,AV2130)","v":0},{"$f":"IF(AY2130=0,0,AZ2130/AY2130)","v":0},{"$f":"IF((AY2130+AX2130)=0,0,AX2130/(AX2130+AY2130))","v":0},null,null,null,null,null,null,null,null,null,null,null,null,null,null,null,null,null,null,null,null,null,null,null,null,null,null,null,null,null,null,null,null,null,null,null,null,null,null,null,null,null,{"$f":"((L2130=\"создание\")*7+(L2130=\"расширение\")*7 +(L2130=\"внедрение\")*7+(L2130=\"строительство\")*4+(L2130=\"реконструкция\")*3+(L2130=\"капремонт\")*2 +(L2130=\"приобретение\")*1+(L2130=\"установка\")*1)*10","v":0},null,{"$f":"IF(P2130=\"коммунальная инфраструктура\",(L2130=\"строительство\")*3+(L2130=\"реконструкция\")*2+(L2130=\"капремонт\")*1,0)*10","v":0},null,{"$f":"IF(P2130=\"коммунальная инфраструктура\",(L2130=\"строительство\")*4+(L2130=\"реконструкция\")*3+(L2130=\"капремонт\")*2,0)*10","v":0}]
[null,null,5,{"$f":"IF(AND(D2141<>\"\",G2146<>\"\"),D2141,\"\")","v":""},{"$f":"IF(AND(E2141<>\"\",G2146<>\"\"),E2141,\"\")","v":""},null,null,null,null,null,null,null,null,null,null,null,null,null,{"$f":"IF(Q2146>=2020,R2146-Q2146+1,\"\")","v":""},null,{"$f":"IF(Q2146>=2020,S2146*T2146,\"\")","v":""},null,null,null,null,null,null,null,null,null,null,null,null,{"$f":"SUM(AI2146:AL2146)","v":0},null,null,null,null,{"$f":"SUM(AN2146:AQ2146)","v":0},null,null,null,null,{"$f":"SUM(AS2146:AV2146)","v":0},null,null,null,null,null,null,{"$f":"SUM(AH2146,AM2146,AR2146)","v":0},{"$f":"SUM(AL2146,AQ2146,AV2146)","v":0},{"$f":"IF(AY2146=0,0,AZ2146/AY2146)","v":0},{"$f":"IF((AY2146+AX2146)=0,0,AX2146/(AX2146+AY2146))","v":0},null,null,null,null,null,null,null,null,null,null,null,null,null,null,null,null,null,null,null,null,null,null,null,null,null,null,null,null,null,null,null,null,null,null,null,null,null,null,null,null,null,{"$f":"((L2146=\"создание\")*7+(L2146=\"расширение\")*7 +(L2146=\"внедрение\")*7+(L2146=\"строительство\")*4+(L2146=\"реконструкция\")*3+(L2146=\"капремонт\")*2 +(L2146=\"приобретение\")*1+(L2146=\"установка\")*1)*10","v":0},null,{"$f":"IF(P2146=\"коммунальная инфраструктура\",(L2146=\"строительство\")*3+(L2146=\"реконструкция\")*2+(L2146=\"капремонт\")*1,0)*10","v":0},null,{"$f":"IF(P2146=\"коммунальная инфраструктура\",(L2146=\"строительство\")*4+(L2146=\"реконструкция\")*3+(L2146=\"капремонт\")*2,0)*10","v":0}]
[99,null,{"$f":"COUNTA(G2164:G2184)","v":0},null,null,null,null,null,null,null,null,null,null,null,null,null,{"$f":"MIN(Q2164:Q2184)","v":0},{"$f":"MAX(R2164:R2184)","v":0},{"$f":"MAX(S2164:S2184)","v":0},null,{"$f":"MAX(U2164:U2184)","v":0},null,null,null,null,null,{"$f":"IF(COUNTIF(AA2164:AA2184,\"НЕТ\")>0,\"ПД!\",\"ок\")","v":"ок"},null,{"$f":"IF(COUNTIF(AC2164:AC2184,\"НЕТ\")>0,\"ДОСМ!\",\"ок\")","v":"ок"},null,{"$f":"IF(COUNTIF(AE2164:AE2184,\"НЕТ\")>0,\"ФОИВ!\",\"ок\")","v":"ок"},{"$f":"IF(COUNTIF(AF2164:AF2184,\"НЕТ\")>0,\"ФОИВ!\",\"ок\")","v":"ок"},null,{"$f":"SUM(AH2164:AH2184)","v":0},{"$f":"SUM(AI2164:AI2184)","v":0},{"$f":"SUM(AJ2164:AJ2184)","v":0},{"$f":"SUM(AK2164:AK2184)","v":0},{"$f":"SUM(AL2164:AL2184)","v":0},{"$f":"SUM(AM2164:AM2184)","v":0},{"$f":"SUM(AN2164:AN2184)","v":0},{"$f":"SUM(AO2164:AO2184)","v":0},{"$f":"SUM(AP2164:AP2184)","v":0},{"$f":"SUM(AQ2164:AQ2184)","v":0},{"$f":"SUM(AR2164:AR2184)","v":0},{"$f":"SUM(AS2164:AS2184)","v":0},{"$f":"SUM(AT2164:AT2184)","v":0},{"$f":"SUM(AU2164:AU2184)","v":0},{"$f":"SUM(AV2164:AV2184)","v":0},{"$f":"SUM(AW2164:AW2184)","v":0},{"$f":"SUM(AX2164:AX2184)","v":0},{"$f":"SUM(AH2163,AM2163,AR2163)","v":0},{"$f":"AL2163+AQ2163+AV2163","v":0},{"$f":"IF(AY2163=0,0,AZ2163/AY2163)","v":0},{"$f":"IF((AY2163+AX2163)=0,0,AX2163/(AX2163+AY2163))","v":0},null,null,{"$f":"IFERROR(BD2163/BC2163,0)","v":0},null,null,{"$f":"IFERROR(BG2163/BF2163,0)","v":0},null,null,{"$f":"IFERROR(BJ2163/BI2163,0)","v":0},null,null,null,{"$f":"(SUM(BL2163:BN2163)>0)*1+(SUM(BL2163:BN2163)>=10)*1+(SUM(BL2163:BN2163)>=50)*1+(SUM(BL2163:BN2163)>=100)*1+(SUM(BL2163:BN2163)>=200)*1+(SUM(BL2163:BN2163)>=300)*1","v":0},{"$f":"IFERROR(SUM(BL2163:BN2163)/BC2163,0)","v":0},null,null,{"$f":"IFERROR(BQ2163/BR2163,0)","v":0},{"$f":"IF(BA2163<0.01,0,IF(BA2163>=0.1,10,ROUNDDOWN(BA2163/0.01,0)))","v":0},8,{"$f":"BT2163*BU2163","v":0},{"$f":"IF(BB2163<0.01,0,IF(BB2163>=0.1,10,ROUNDDOWN(BB2163/0.01,0)))","v":0},8,{"$f":"BW2163*BX2163","v":0},{"$f":"IF(U2163<=1,9,IF(U2163<=2,6,IF(U2163<=3,3,0)))*(C2163>0)","v":0},6,{"$f":"BZ2163*CA2163","v":0},{"$f":"IF(BH2163<0.51,0,10)","v":0},7,{"$f":"CC2163*CD2163","v":0},{"$f":"IF(BE2163<0.1,0,IF(BE2163>=0.9,10,ROUNDDOWN(BE2163/0.1,0)))","v":0},10,{"$f":"CF2163*CG2163","v":0},{"$f":"IF(BK2163<0.1,0,IF(BK2163>=0.6,10,ROUNDDOWN(BK2163/0.1,0)))","v":0},8,{"$f":"CI2163*CJ2163","v":0},{"$f":"IF(BP2163<0.05,0,IF(BP2163>=0.1,10,1))","v":0},10,{"$f":"CL2163*CM2163","v":0},{"$f":"IF(BS2163<0.1,0,IF(BS2163>=0.8,10,ROUNDDOWN(BS2163/0.1,0)))","v":0},10,{"$f":"CP2163*CO2163","v":0},{"$f":"ROUND(IF(C2163=0,0,SUM(CR2164:CR2184)/C2163),1)","v":0},{"$f":"((SUM(BL2163:BN2163)>=1)*1+(SUM(BL2163:BN2163)>=11)*1+(SUM(BL2163:BN2163)>=51)*3+(SUM(BL2163:BN2163)>=101)*2+(SUM(BL2163:BN2163)>=201)*2+(SUM(BL2163:BN2163)>=301)*4)*10","v":0},{"$f":"IFERROR(ROUND(SUM(CT2164:CT2184)/COUNTIF(P2164:P2184,\"коммунальная инфраструктура\"),1),0)","v":0},{"$f":"CS2163+CT2163","v":0},{"$f":"IFERROR(ROUND(SUM(CV2164:CV2184)/COUNTIF(P2164:P2184,\"коммунальная инфраструктура\"),1),0)","v":0},{"$f":"SUM(BV2163,BY2163,CB2163,CE2163,CH2163,CK2163,CN2163,CQ2163,CR2163,CU2163,CV2163)","v":0},{"$f":"VLOOKUP(D2163,РегионыФО,2,0)","v":{"$error":"#N/A"}}]
[null,null,17,{"$f":"IF(AND(D2163<>\"\",G2180<>\"\"),D2163,\"\")","v":""},{"$f":"IF(AND(E2163<>\"\",G2180<>\"\"),E2163,\"\")","v":""},null,null,null,null,null,null,null,null,null,null,null,null,null,{"$f":"IF(Q2180>=2020,R2180-Q2180+1,\"\")","v":""},null,{"$f":"IF(Q2180>=2020,S2180*T2180,\"\")","v":""},null,null,null,null,null,null,null,null,null,null,null,null,{"$f":"SUM(AI2180:AL2180)","v":0},null,null,null,null,{"$f":"SUM(AN2180:AQ2180)","v":0},null,null,null,null,{"$f":"SUM(AS2180:AV2180)","v":0},null,null,null,null,null,null,{"$f":"SUM(AH2180,AM2180,AR2180)","v":0},{"$f":"SUM(AL2180,AQ2180,AV2180)","v":0},{"$f":"IF(AY2180=0,0,AZ2180/AY2180)","v":0},{"$f":"IF((AY2180+AX2180)=0,0,AX2180/(AX2180+AY2180))","v":0},null,null,null,null,null,null,null,null,null,null,null,null,null,null,null,null,null,null,null,null,null,null,null,null,null,null,null,null,null,null,null,null,null,null,null,null,null,null,null,null,null,{"$f":"((L2180=\"создание\")*7+(L2180=\"расширение\")*7 +(L2180=\"внедрение\")*7+(L2180=\"строительство\")*4+(L2180=\"реконструкция\")*3+(L2180=\"капремонт\")*2 +(L2180=\"приобретение\")*1+(L2180=\"установка\")*1)*10","v":0},null,{"$f":"IF(P2180=\"коммунальная инфраструктура\",(L2180=\"строительство\")*3+(L2180=\"реконструкция\")*2+(L2180=\"капремонт\")*1,0)*10","v":0},null,{"$f":"IF(P2180=\"коммунальная инфраструктура\",(L2180=\"строительство\")*4+(L2180=\"реконструкция\")*3+(L2180=\"капремонт\")*2,0)*10","v":0}]
[null,null,13,{"$f":"IF(AND(D2185<>\"\",G2198<>\"\"),D2185,\"\")","v":""},{"$f":"IF(AND(E2185<>\"\",G2198<>\"\"),E2185,\"\")","v":""},null,null,null,null,null,null,null,null,null,null,null,null,null,{"$f":"IF(Q2198>=2020,R2198-Q2198+1,\"\")","v":""},null,{"$f":"IF(Q2198>=2020,S2198*T2198,\"\")","v":""},null,null,null,null,null,null,null,null,null,null,null,null,{"$f":"SUM(AI2198:AL2198)","v":0},null,null,null,null,{"$f":"SUM(AN2198:AQ2198)","v":0},null,null,null,null,{"$f":"SUM(AS2198:AV2198)","v":0},null,null,null,null,null,null,{"$f":"SUM(AH2198,AM2198,AR2198)","v":0},{"$f":"SUM(AL2198,AQ2198,AV2198)","v":0},{"$f":"IF(AY2198=0,0,AZ2198/AY2198)","v":0},{"$f":"IF((AY2198+AX2198)=0,0,AX2198/(AX2198+AY2198))","v":0},null,null,null,null,null,null,null,null,null,null,null,null,null,null,null,null,null,null,null,null,null,null,null,null,null,null,null,null,null,null,null,null,null,null,null,null,null,null,null,null,null,{"$f":"((L2198=\"создание\")*7+(L2198=\"расширение\")*7 +(L2198=\"внедрение\")*7+(L2198=\"строительство\")*4+(L2198=\"реконструкция\")*3+(L2198=\"капремонт\")*2 +(L2198=\"приобретение\")*1+(L2198=\"установка\")*1)*10","v":0},null,{"$f":"IF(P2198=\"коммунальная инфраструктура\",(L2198=\"строительство\")*3+(L2198=\"реконструкция\")*2+(L2198=\"капремонт\")*1,0)*10","v":0},null,{"$f":"IF(P2198=\"коммунальная инфраструктура\",(L2198=\"строительство\")*4+(L2198=\"реконструкция\")*3+(L2198=\"капремонт\")*2,0)*10","v":0}]
[null,null,7,{"$f":"IF(AND(D2207<>\"\",G2214<>\"\"),D2207,\"\")","v":""},{"$f":"IF(AND(E2207<>\"\",G2214<>\"\"),E2207,\"\")","v":""},null,null,null,null,null,null,null,null,null,null,null,null,null,{"$f":"IF(Q2214>=2020,R2214-Q2214+1,\"\")","v":""},null,{"$f":"IF(Q2214>=2020,S2214*T2214,\"\")","v":""},null,null,null,null,null,null,null,null,null,null,null,null,{"$f":"SUM(AI2214:AL2214)","v":0},null,null,null,null,{"$f":"SUM(AN2214:AQ2214)","v":0},null,null,null,null,{"$f":"SUM(AS2214:AV2214)","v":0},null,null,null,null,null,null,{"$f":"SUM(AH2214,AM2214,AR2214)","v":0},{"$f":"SUM(AL2214,AQ2214,AV2214)","v":0},{"$f":"IF(AY2214=0,0,AZ2214/AY2214)","v":0},{"$f":"IF((AY2214+AX2214)=0,0,AX2214/(AX2214+AY2214))","v":0},null,null,null,null,null,null,null,null,null,null,null,null,null,null,null,null,null,null,null,null,null,null,null,null,null,null,null,null,null,null,null,null,null,null,null,null,null,null,null,null,null,{"$f":"((L2214=\"создание\")*7+(L2214=\"расширение\")*7 +(L2214=\"внедрение\")*7+(L2214=\"строительство\")*4+(L2214=\"реконструкция\")*3+(L2214=\"капремонт\")*2 +(L2214=\"приобретение\")*1+(L2214=\"установка\")*1)*10","v":0},null,{"$f":"IF(P2214=\"коммунальная инфраструктура\",(L2214=\"строительство\")*3+(L2214=\"реконструкция\")*2+(L2214=\"капремонт\")*1,0)*10","v":0},null,{"$f":"IF(P2214=\"коммунальная инфраструктура\",(L2214=\"строительство\")*4+(L2214=\"реконструкция\")*3+(L2214=\"капремонт\")*2,0)*10","v":0}]
[null,null,10,{"$f":"IF(AND(D2207<>\"\",G2217<>\"\"),D2207,\"\")","v":""},{"$f":"IF(AND(E2207<>\"\",G2217<>\"\"),E2207,\"\")","v":""},null,null,null,null,null,null,null,null,null,null,null,null,null,{"$f":"IF(Q2217>=2020,R2217-Q2217+1,\"\")","v":""},null,{"$f":"IF(Q2217>=2020,S2217*T2217,\"\")","v":""},null,null,null,null,null,null,null,null,null,null,null,null,{"$f":"SUM(AI2217:AL2217)","v":0},null,null,null,null,{"$f":"SUM(AN2217:AQ2217)","v":0},null,null,null,null,{"$f":"SUM(AS2217:AV2217)","v":0},null,null,null,null,null,null,{"$f":"SUM(AH2217,AM2217,AR2217)","v":0},{"$f":"SUM(AL2217,AQ2217,AV2217)","v":0},{"$f":"IF(AY2217=0,0,AZ2217/AY2217)","v":0},{"$f":"IF((AY2217+AX2217)=0,0,AX2217/(AX2217+AY2217))","v":0},null,null,null,null,null,null,null,null,null,null,null,null,null,null,null,null,null,null,null,null,null,null,null,null,null,null,null,null,null,null,null,null,null,null,null,null,null,null,null,null,null,{"$f":"((L2217=\"создание\")*7+(L2217=\"расширение\")*7 +(L2217=\"внедрение\")*7+(L2217=\"строительство\")*4+(L2217=\"реконструкция\")*3+(L2217=\"капремонт\")*2 +(L2217=\"приобретение\")*1+(L2217=\"установка\")*1)*10","v":0},null,{"$f":"IF(P2217=\"коммунальная инфраструктура\",(L2217=\"строительство\")*3+(L2217=\"реконструкция\")*2+(L2217=\"капремонт\")*1,0)*10","v":0},null,{"$f":"IF(P2217=\"коммунальная инфраструктура\",(L2217=\"строительство\")*4+(L2217=\"реконструкция\")*3+(L2217=\"капремонт\")*2,0)*10","v":0}]
[null,null,5,{"$f":"IF(AND(D2229<>\"\",G2234<>\"\"),D2229,\"\")","v":""},{"$f":"IF(AND(E2229<>\"\",G2234<>\"\"),E2229,\"\")","v":""},null,null,null,null,null,null,null,null,null,null,null,null,null,{"$f":"IF(Q2234>=2020,R2234-Q2234+1,\"\")","v":""},null,{"$f":"IF(Q2234>=2020,S2234*T2234,\"\")","v":""},null,null,null,null,null,null,null,null,null,null,null,null,{"$f":"SUM(AI2234:AL2234)","v":0},null,null,null,null,{"$f":"SUM(AN2234:AQ2234)","v":0},null,null,null,null,{"$f":"SUM(AS2234:AV2234)","v":0},null,null,null,null,null,null,{"$f":"SUM(AH2234,AM2234,AR2234)","v":0},{"$f":"SUM(AL2234,AQ2234,AV2234)","v":0},{"$f":"IF(AY2234=0,0,AZ2234/AY2234)","v":0},{"$f":"IF((AY2234+AX2234)=0,0,AX2234/(AX2234+AY2234))","v":0},null,null,null,null,null,null,null,null,null,null,null,null,null,null,null,null,null,null,null,null,null,null,null,null,null,null,null,null,null,null,null,null,null,null,null,null,null,null,null,null,null,{"$f":"((L2234=\"создание\")*7+(L2234=\"расширение\")*7 +(L2234=\"внедрение\")*7+(L2234=\"строительство\")*4+(L2234=\"реконструкция\")*3+(L2234=\"капремонт\")*2 +(L2234=\"приобретение\")*1+(L2234=\"установка\")*1)*10","v":0},null,{"$f":"IF(P2234=\"коммунальная инфраструктура\",(L2234=\"строительство\")*3+(L2234=\"реконструкция\")*2+(L2234=\"капремонт\")*1,0)*10","v":0},null,{"$f":"IF(P2234=\"коммунальная инфраструктура\",(L2234=\"строительство\")*4+(L2234=\"реконструкция\")*3+(L2234=\"капремонт\")*2,0)*10","v":0}]
[null,null,13,{"$f":"IF(AND(D2251<>\"\",G2264<>\"\"),D2251,\"\")","v":""},{"$f":"IF(AND(E2251<>\"\",G2264<>\"\"),E2251,\"\")","v":""},null,null,null,null,null,null,null,null,null,null,null,null,null,{"$f":"IF(Q2264>=2020,R2264-Q2264+1,\"\")","v":""},null,{"$f":"IF(Q2264>=2020,S2264*T2264,\"\")","v":""},null,null,null,null,null,null,null,null,null,null,null,null,{"$f":"SUM(AI2264:AL2264)","v":0},null,null,null,null,{"$f":"SUM(AN2264:AQ2264)","v":0},null,null,null,null,{"$f":"SUM(AS2264:AV2264)","v":0},null,null,null,null,null,null,{"$f":"SUM(AH2264,AM2264,AR2264)","v":0},{"$f":"SUM(AL2264,AQ2264,AV2264)","v":0},{"$f":"IF(AY2264=0,0,AZ2264/AY2264)","v":0},{"$f":"IF((AY2264+AX2264)=0,0,AX2264/(AX2264+AY2264))","v":0},null,null,null,null,null,null,null,null,null,null,null,null,null,null,null,null,null,null,null,null,null,null,null,null,null,null,null,null,null,null,null,null,null,null,null,null,null,null,null,null,null,{"$f":"((L2264=\"создание\")*7+(L2264=\"расширение\")*7 +(L2264=\"внедрение\")*7+(L2264=\"строительство\")*4+(L2264=\"реконструкция\")*3+(L2264=\"капремонт\")*2 +(L2264=\"приобретение\")*1+(L2264=\"установка\")*1)*10","v":0},null,{"$f":"IF(P2264=\"коммунальная инфраструктура\",(L2264=\"строительство\")*3+(L2264=\"реконструкция\")*2+(L2264=\"капремонт\")*1,0)*10","v":0},null,{"$f":"IF(P2264=\"коммунальная инфраструктура\",(L2264=\"строительство\")*4+(L2264=\"реконструкция\")*3+(L2264=\"капремонт\")*2,0)*10","v":0}]
[null,null,18,{"$f":"IF(AND(D2251<>\"\",G2269<>\"\"),D2251,\"\")","v":""},{"$f":"IF(AND(E2251<>\"\",G2269<>\"\"),E2251,\"\")","v":""},null,null,null,null,null,null,null,null,null,null,null,null,null,{"$f":"IF(Q2269>=2020,R2269-Q2269+1,\"\")","v":""},null,{"$f":"IF(Q2269>=2020,S2269*T2269,\"\")","v":""},null,null,null,null,null,null,null,null,null,null,null,null,{"$f":"SUM(AI2269:AL2269)","v":0},null,null,null,null,{"$f":"SUM(AN2269:AQ2269)","v":0},null,null,null,null,{"$f":"SUM(AS2269:AV2269)","v":0},null,null,null,null,null,null,{"$f":"SUM(AH2269,AM2269,AR2269)","v":0},{"$f":"SUM(AL2269,AQ2269,AV2269)","v":0},{"$f":"IF(AY2269=0,0,AZ2269/AY2269)","v":0},{"$f":"IF((AY2269+AX2269)=0,0,AX2269/(AX2269+AY2269))","v":0},null,null,null,null,null,null,null,null,null,null,null,null,null,null,null,null,null,null,null,null,null,null,null,null,null,null,null,null,null,null,null,null,null,null,null,null,null,null,null,null,null,{"$f":"((L2269=\"создание\")*7+(L2269=\"расширение\")*7 +(L2269=\"внедрение\")*7+(L2269=\"строительство\")*4+(L2269=\"реконструкция\")*3+(L2269=\"капремонт\")*2 +(L2269=\"приобретение\")*1+(L2269=\"установка\")*1)*10","v":0},null,{"$f":"IF(P2269=\"коммунальная инфраструктура\",(L2269=\"строительство\")*3+(L2269=\"реконструкция\")*2+(L2269=\"капремонт\")*1,0)*10","v":0},null,{"$f":"IF(P2269=\"коммунальная инфраструктура\",(L2269=\"строительство\")*4+(L2269=\"реконструкция\")*3+(L2269=\"капремонт\")*2,0)*10","v":0}]
[null,null,8,{"$f":"IF(AND(D2273<>\"\",G2281<>\"\"),D2273,\"\")","v":""},{"$f":"IF(AND(E2273<>\"\",G2281<>\"\"),E2273,\"\")","v":""},null,null,null,null,null,null,null,null,null,null,null,null,null,{"$f":"IF(Q2281>=2020,R2281-Q2281+1,\"\")","v":""},null,{"$f":"IF(Q2281>=2020,S2281*T2281,\"\")","v":""},null,null,null,null,null,null,null,null,null,null,null,null,{"$f":"SUM(AI2281:AL2281)","v":0},null,null,null,null,{"$f":"SUM(AN2281:AQ2281)","v":0},null,null,null,null,{"$f":"SUM(AS2281:AV2281)","v":0},null,null,null,null,null,null,{"$f":"SUM(AH2281,AM2281,AR2281)","v":0},{"$f":"SUM(AL2281,AQ2281,AV2281)","v":0},{"$f":"IF(AY2281=0,0,AZ2281/AY2281)","v":0},{"$f":"IF((AY2281+AX2281)=0,0,AX2281/(AX2281+AY2281))","v":0},null,null,null,null,null,null,null,null,null,null,null,null,null,null,null,null,null,null,null,null,null,null,null,null,null,null,null,null,null,null,null,null,null,null,null,null,null,null,null,null,null,{"$f":"((L2281=\"создание\")*7+(L2281=\"расширение\")*7 +(L2281=\"внедрение\")*7+(L2281=\"строительство\")*4+(L2281=\"реконструкция\")*3+(L2281=\"капремонт\")*2 +(L2281=\"приобретение\")*1+(L2281=\"установка\")*1)*10","v":0},null,{"$f":"IF(P2281=\"коммунальная инфраструктура\",(L2281=\"строительство\")*3+(L2281=\"реконструкция\")*2+(L2281=\"капремонт\")*1,0)*10","v":0},null,{"$f":"IF(P2281=\"коммунальная инфраструктура\",(L2281=\"строительство\")*4+(L2281=\"реконструкция\")*3+(L2281=\"капремонт\")*2,0)*10","v":0}]
[null,null,9,{"$f":"IF(AND(D2295<>\"\",G2304<>\"\"),D2295,\"\")","v":""},{"$f":"IF(AND(E2295<>\"\",G2304<>\"\"),E2295,\"\")","v":""},null,null,null,null,null,null,null,null,null,null,null,null,null,{"$f":"IF(Q2304>=2020,R2304-Q2304+1,\"\")","v":""},null,{"$f":"IF(Q2304>=2020,S2304*T2304,\"\")","v":""},null,null,null,null,null,null,null,null,null,null,null,null,{"$f":"SUM(AI2304:AL2304)","v":0},null,null,null,null,{"$f":"SUM(AN2304:AQ2304)","v":0},null,null,null,null,{"$f":"SUM(AS2304:AV2304)","v":0},null,null,null,null,null,null,{"$f":"SUM(AH2304,AM2304,AR2304)","v":0},{"$f":"SUM(AL2304,AQ2304,AV2304)","v":0},{"$f":"IF(AY2304=0,0,AZ2304/AY2304)","v":0},{"$f":"IF((AY2304+AX2304)=0,0,AX2304/(AX2304+AY2304))","v":0},null,null,null,null,null,null,null,null,null,null,null,null,null,null,null,null,null,null,null,null,null,null,null,null,null,null,null,null,null,null,null,null,null,null,null,null,null,null,null,null,null,{"$f":"((L2304=\"создание\")*7+(L2304=\"расширение\")*7 +(L2304=\"внедрение\")*7+(L2304=\"строительство\")*4+(L2304=\"реконструкция\")*3+(L2304=\"капремонт\")*2 +(L2304=\"приобретение\")*1+(L2304=\"установка\")*1)*10","v":0},null,{"$f":"IF(P2304=\"коммунальная инфраструктура\",(L2304=\"строительство\")*3+(L2304=\"реконструкция\")*2+(L2304=\"капремонт\")*1,0)*10","v":0},null,{"$f":"IF(P2304=\"коммунальная инфраструктура\",(L2304=\"строительство\")*4+(L2304=\"реконструкция\")*3+(L2304=\"капремонт\")*2,0)*10","v":0}]
[null,null,4,{"$f":"IF(AND(D2317<>\"\",G2321<>\"\"),D2317,\"\")","v":""},{"$f":"IF(AND(E2317<>\"\",G2321<>\"\"),E2317,\"\")","v":""},null,null,null,null,null,null,null,null,null,null,null,null,null,{"$f":"IF(Q2321>=2020,R2321-Q2321+1,\"\")","v":""},null,{"$f":"IF(Q2321>=2020,S2321*T2321,\"\")","v":""},null,null,null,null,null,null,null,null,null,null,null,null,{"$f":"SUM(AI2321:AL2321)","v":0},null,null,null,null,{"$f":"SUM(AN2321:AQ2321)","v":0},null,null,null,null,{"$f":"SUM(AS2321:AV2321)","v":0},null,null,null,null,null,null,{"$f":"SUM(AH2321,AM2321,AR2321)","v":0},{"$f":"SUM(AL2321,AQ2321,AV2321)","v":0},{"$f":"IF(AY2321=0,0,AZ2321/AY2321)","v":0},{"$f":"IF((AY2321+AX2321)=0,0,AX2321/(AX2321+AY2321))","v":0},null,null,null,null,null,null,null,null,null,null,null,null,null,null,null,null,null,null,null,null,null,null,null,null,null,null,null,null,null,null,null,null,null,null,null,null,null,null,null,null,null,{"$f":"((L2321=\"создание\")*7+(L2321=\"расширение\")*7 +(L2321=\"внедрение\")*7+(L2321=\"строительство\")*4+(L2321=\"реконструкция\")*3+(L2321=\"капремонт\")*2 +(L2321=\"приобретение\")*1+(L2321=\"установка\")*1)*10","v":0},null,{"$f":"IF(P2321=\"коммунальная инфраструктура\",(L2321=\"строительство\")*3+(L2321=\"реконструкция\")*2+(L2321=\"капремонт\")*1,0)*10","v":0},null,{"$f":"IF(P2321=\"коммунальная инфраструктура\",(L2321=\"строительство\")*4+(L2321=\"реконструкция\")*3+(L2321=\"капремонт\")*2,0)*10","v":0}]
[null,null,14,{"$f":"IF(AND(D2317<>\"\",G2331<>\"\"),D2317,\"\")","v":""},{"$f":"IF(AND(E2317<>\"\",G2331<>\"\"),E2317,\"\")","v":""},null,null,null,null,null,null,null,null,null,null,null,null,null,{"$f":"IF(Q2331>=2020,R2331-Q2331+1,\"\")","v":""},null,{"$f":"IF(Q2331>=2020,S2331*T2331,\"\")","v":""},null,null,null,null,null,null,null,null,null,null,null,null,{"$f":"SUM(AI2331:AL2331)","v":0},null,null,null,null,{"$f":"SUM(AN2331:AQ2331)","v":0},null,null,null,null,{"$f":"SUM(AS2331:AV2331)","v":0},null,null,null,null,null,null,{"$f":"SUM(AH2331,AM2331,AR2331)","v":0},{"$f":"SUM(AL2331,AQ2331,AV2331)","v":0},{"$f":"IF(AY2331=0,0,AZ2331/AY2331)","v":0},{"$f":"IF((AY2331+AX2331)=0,0,AX2331/(AX2331+AY2331))","v":0},null,null,null,null,null,null,null,null,null,null,null,null,null,null,null,null,null,null,null,null,null,null,null,null,null,null,null,null,null,null,null,null,null,null,null,null,null,null,null,null,null,{"$f":"((L2331=\"создание\")*7+(L2331=\"расширение\")*7 +(L2331=\"внедрение\")*7+(L2331=\"строительство\")*4+(L2331=\"реконструкция\")*3+(L2331=\"капремонт\")*2 +(L2331=\"приобретение\")*1+(L2331=\"установка\")*1)*10","v":0},null,{"$f":"IF(P2331=\"коммунальная инфраструктура\",(L2331=\"строительство\")*3+(L2331=\"реконструкция\")*2+(L2331=\"капремонт\")*1,0)*10","v":0},null,{"$f":"IF(P2331=\"коммунальная инфраструктура\",(L2331=\"строительство\")*4+(L2331=\"реконструкция\")*3+(L2331=\"капремонт\")*2,0)*10","v":0}]
[null,null,17,{"$f":"IF(AND(D2339<>\"\",G2356<>\"\"),D2339,\"\")","v":""},{"$f":"IF(AND(E2339<>\"\",G2356<>\"\"),E2339,\"\")","v":""},null,null,null,null,null,null,null,null,null,null,null,null,null,{"$f":"IF(Q2356>=2020,R2356-Q2356+1,\"\")","v":""},null,{"$f":"IF(Q2356>=2020,S2356*T2356,\"\")","v":""},null,null,null,null,null,null,null,null,null,null,null,null,{"$f":"SUM(AI2356:AL2356)","v":0},null,null,null,null,{"$f":"SUM(AN2356:AQ2356)","v":0},null,null,null,null,{"$f":"SUM(AS2356:AV2356)","v":0},null,null,null,null,null,null,{"$f":"SUM(AH2356,AM2356,AR2356)","v":0},{"$f":"SUM(AL2356,AQ2356,AV2356)","v":0},{"$f":"IF(AY2356=0,0,AZ2356/AY2356)","v":0},{"$f":"IF((AY2356+AX2356)=0,0,AX2356/(AX2356+AY2356))","v":0},null,null,null,null,null,null,null,null,null,null,null,null,null,null,null,null,null,null,null,null,null,null,null,null,null,null,null,null,null,null,null,null,null,null,null,null,null,null,null,null,null,{"$f":"((L2356=\"создание\")*7+(L2356=\"расширение\")*7 +(L2356=\"внедрение\")*7+(L2356=\"строительство\")*4+(L2356=\"реконструкция\")*3+(L2356=\"капремонт\")*2 +(L2356=\"приобретение\")*1+(L2356=\"установка\")*1)*10","v":0},null,{"$f":"IF(P2356=\"коммунальная инфраструктура\",(L2356=\"строительство\")*3+(L2356=\"реконструкция\")*2+(L2356=\"капремонт\")*1,0)*10","v":0},null,{"$f":"IF(P2356=\"коммунальная инфраструктура\",(L2356=\"строительство\")*4+(L2356=\"реконструкция\")*3+(L2356=\"капремонт\")*2,0)*10","v":0}]
[null,null,12,{"$f":"IF(AND(D2361<>\"\",G2373<>\"\"),D2361,\"\")","v":""},{"$f":"IF(AND(E2361<>\"\",G2373<>\"\"),E2361,\"\")","v":""},null,null,null,null,null,null,null,null,null,null,null,null,null,{"$f":"IF(Q2373>=2020,R2373-Q2373+1,\"\")","v":""},null,{"$f":"IF(Q2373>=2020,S2373*T2373,\"\")","v":""},null,null,null,null,null,null,null,null,null,null,null,null,{"$f":"SUM(AI2373:AL2373)","v":0},null,null,null,null,{"$f":"SUM(AN2373:AQ2373)","v":0},null,null,null,null,{"$f":"SUM(AS2373:AV2373)","v":0},null,null,null,null,null,null,{"$f":"SUM(AH2373,AM2373,AR2373)","v":0},{"$f":"SUM(AL2373,AQ2373,AV2373)","v":0},{"$f":"IF(AY2373=0,0,AZ2373/AY2373)","v":0},{"$f":"IF((AY2373+AX2373)=0,0,AX2373/(AX2373+AY2373))","v":0},null,null,null,null,null,null,null,null,null,null,null,null,null,null,null,null,null,null,null,null,null,null,null,null,null,null,null,null,null,null,null,null,null,null,null,null,null,null,null,null,null,{"$f":"((L2373=\"создание\")*7+(L2373=\"расширение\")*7 +(L2373=\"внедрение\")*7+(L2373=\"строительство\")*4+(L2373=\"реконструкция\")*3+(L2373=\"капремонт\")*2 +(L2373=\"приобретение\")*1+(L2373=\"установка\")*1)*10","v":0},null,{"$f":"IF(P2373=\"коммунальная инфраструктура\",(L2373=\"строительство\")*3+(L2373=\"реконструкция\")*2+(L2373=\"капремонт\")*1,0)*10","v":0},null,{"$f":"IF(P2373=\"коммунальная инфраструктура\",(L2373=\"строительство\")*4+(L2373=\"реконструкция\")*3+(L2373=\"капремонт\")*2,0)*10","v":0}]
[null,null,20,{"$f":"IF(AND(D2361<>\"\",G2381<>\"\"),D2361,\"\")","v":""},{"$f":"IF(AND(E2361<>\"\",G2381<>\"\"),E2361,\"\")","v":""},null,null,null,null,null,null,null,null,null,null,null,null,null,{"$f":"IF(Q2381>=2020,R2381-Q2381+1,\"\")","v":""},null,{"$f":"IF(Q2381>=2020,S2381*T2381,\"\")","v":""},null,null,null,null,null,null,null,null,null,null,null,null,{"$f":"SUM(AI2381:AL2381)","v":0},null,null,null,null,{"$f":"SUM(AN2381:AQ2381)","v":0},null,null,null,null,{"$f":"SUM(AS2381:AV2381)","v":0},null,null,null,null,null,null,{"$f":"SUM(AH2381,AM2381,AR2381)","v":0},{"$f":"SUM(AL2381,AQ2381,AV2381)","v":0},{"$f":"IF(AY2381=0,0,AZ2381/AY2381)","v":0},{"$f":"IF((AY2381+AX2381)=0,0,AX2381/(AX2381+AY2381))","v":0},null,null,null,null,null,null,null,null,null,null,null,null,null,null,null,null,null,null,null,null,null,null,null,null,null,null,null,null,null,null,null,null,null,null,null,null,null,null,null,null,null,{"$f":"((L2381=\"создание\")*7+(L2381=\"расширение\")*7 +(L2381=\"внедрение\")*7+(L2381=\"строительство\")*4+(L2381=\"реконструкция\")*3+(L2381=\"капремонт\")*2 +(L2381=\"приобретение\")*1+(L2381=\"установка\")*1)*10","v":0},null,{"$f":"IF(P2381=\"коммунальная инфраструктура\",(L2381=\"строительство\")*3+(L2381=\"реконструкция\")*2+(L2381=\"капремонт\")*1,0)*10","v":0},null,{"$f":"IF(P2381=\"коммунальная инфраструктура\",(L2381=\"строительство\")*4+(L2381=\"реконструкция\")*3+(L2381=\"капремонт\")*2,0)*10","v":0}]
[null,null,3,{"$f":"IF(AND(D2405<>\"\",G2408<>\"\"),D2405,\"\")","v":""},{"$f":"IF(AND(E2405<>\"\",G2408<>\"\"),E2405,\"\")","v":""},null,null,null,null,null,null,null,null,null,null,null,null,null,{"$f":"IF(Q2408>=2020,R2408-Q2408+1,\"\")","v":""},null,{"$f":"IF(Q2408>=2020,S2408*T2408,\"\")","v":""},null,null,null,null,null,null,null,null,null,null,null,null,{"$f":"SUM(AI2408:AL2408)","v":0},null,null,null,null,{"$f":"SUM(AN2408:AQ2408)","v":0},null,null,null,null,{"$f":"SUM(AS2408:AV2408)","v":0},null,null,null,null,null,null,{"$f":"SUM(AH2408,AM2408,AR2408)","v":0},{"$f":"SUM(AL2408,AQ2408,AV2408)","v":0},{"$f":"IF(AY2408=0,0,AZ2408/AY2408)","v":0},{"$f":"IF((AY2408+AX2408)=0,0,AX2408/(AX2408+AY2408))","v":0},null,null,null,null,null,null,null,null,null,null,null,null,null,null,null,null,null,null,null,null,null,null,null,null,null,null,null,null,null,null,null,null,null,null,null,null,null,null,null,null,null,{"$f":"((L2408=\"создание\")*7+(L2408=\"расширение\")*7 +(L2408=\"внедрение\")*7+(L2408=\"строительство\")*4+(L2408=\"реконструкция\")*3+(L2408=\"капремонт\")*2 +(L2408=\"приобретение\")*1+(L2408=\"установка\")*1)*10","v":0},null,{"$f":"IF(P2408=\"коммунальная инфраструктура\",(L2408=\"строительство\")*3+(L2408=\"реконструкция\")*2+(L2408=\"капремонт\")*1,0)*10","v":0},null,{"$f":"IF(P2408=\"коммунальная инфраструктура\",(L2408=\"строительство\")*4+(L2408=\"реконструкция\")*3+(L2408=\"капремонт\")*2,0)*10","v":0}]
[null,null,10,{"$f":"IF(AND(D2405<>\"\",G2415<>\"\"),D2405,\"\")","v":""},{"$f":"IF(AND(E2405<>\"\",G2415<>\"\"),E2405,\"\")","v":""},null,null,null,null,null,null,null,null,null,null,null,null,null,{"$f":"IF(Q2415>=2020,R2415-Q2415+1,\"\")","v":""},null,{"$f":"IF(Q2415>=2020,S2415*T2415,\"\")","v":""},null,null,null,null,null,null,null,null,null,null,null,null,{"$f":"SUM(AI2415:AL2415)","v":0},null,null,null,null,{"$f":"SUM(AN2415:AQ2415)","v":0},null,null,null,null,{"$f":"SUM(AS2415:AV2415)","v":0},null,null,null,null,null,null,{"$f":"SUM(AH2415,AM2415,AR2415)","v":0},{"$f":"SUM(AL2415,AQ2415,AV2415)","v":0},{"$f":"IF(AY2415=0,0,AZ2415/AY2415)","v":0},{"$f":"IF((AY2415+AX2415)=0,0,AX2415/(AX2415+AY2415))","v":0},null,null,null,null,null,null,null,null,null,null,null,null,null,null,null,null,null,null,null,null,null,null,null,null,null,null,null,null,null,null,null,null,null,null,null,null,null,null,null,null,null,{"$f":"((L2415=\"создание\")*7+(L2415=\"расширение\")*7 +(L2415=\"внедрение\")*7+(L2415=\"строительство\")*4+(L2415=\"реконструкция\")*3+(L2415=\"капремонт\")*2 +(L2415=\"приобретение\")*1+(L2415=\"установка\")*1)*10","v":0},null,{"$f":"IF(P2415=\"коммунальная инфраструктура\",(L2415=\"строительство\")*3+(L2415=\"реконструкция\")*2+(L2415=\"капремонт\")*1,0)*10","v":0},null,{"$f":"IF(P2415=\"коммунальная инфраструктура\",(L2415=\"строительство\")*4+(L2415=\"реконструкция\")*3+(L2415=\"капремонт\")*2,0)*10","v":0}]
[null,null,16,{"$f":"IF(AND(D2427<>\"\",G2443<>\"\"),D2427,\"\")","v":""},{"$f":"IF(AND(E2427<>\"\",G2443<>\"\"),E2427,\"\")","v":""},null,null,null,null,null,null,null,null,null,null,null,null,null,{"$f":"IF(Q2443>=2020,R2443-Q2443+1,\"\")","v":""},null,{"$f":"IF(Q2443>=2020,S2443*T2443,\"\")","v":""},null,null,null,null,null,null,null,null,null,null,null,null,{"$f":"SUM(AI2443:AL2443)","v":0},null,null,null,null,{"$f":"SUM(AN2443:AQ2443)","v":0},null,null,null,null,{"$f":"SUM(AS2443:AV2443)","v":0},null,null,null,null,null,null,{"$f":"SUM(AH2443,AM2443,AR2443)","v":0},{"$f":"SUM(AL2443,AQ2443,AV2443)","v":0},{"$f":"IF(AY2443=0,0,AZ2443/AY2443)","v":0},{"$f":"IF((AY2443+AX2443)=0,0,AX2443/(AX2443+AY2443))","v":0},null,null,null,null,null,null,null,null,null,null,null,null,null,null,null,null,null,null,null,null,null,null,null,null,null,null,null,null,null,null,null,null,null,null,null,null,null,null,null,null,null,{"$f":"((L2443=\"создание\")*7+(L2443=\"расширение\")*7 +(L2443=\"внедрение\")*7+(L2443=\"строительство\")*4+(L2443=\"реконструкция\")*3+(L2443=\"капремонт\")*2 +(L2443=\"приобретение\")*1+(L2443=\"установка\")*1)*10","v":0},null,{"$f":"IF(P2443=\"коммунальная инфраструктура\",(L2443=\"строительство\")*3+(L2443=\"реконструкция\")*2+(L2443=\"капремонт\")*1,0)*10","v":0},null,{"$f":"IF(P2443=\"коммунальная инфраструктура\",(L2443=\"строительство\")*4+(L2443=\"реконструкция\")*3+(L2443=\"капремонт\")*2,0)*10","v":0}]
[null,null,11,{"$f":"IF(AND(D2449<>\"\",G2460<>\"\"),D2449,\"\")","v":""},{"$f":"IF(AND(E2449<>\"\",G2460<>\"\"),E2449,\"\")","v":""},null,null,null,null,null,null,null,null,null,null,null,null,null,{"$f":"IF(Q2460>=2020,R2460-Q2460+1,\"\")","v":""},null,{"$f":"IF(Q2460>=2020,S2460*T2460,\"\")","v":""},null,null,null,null,null,null,null,null,null,null,null,null,{"$f":"SUM(AI2460:AL2460)","v":0},null,null,null,null,{"$f":"SUM(AN2460:AQ2460)","v":0},null,null,null,null,{"$f":"SUM(AS2460:AV2460)","v":0},null,null,null,null,null,null,{"$f":"SUM(AH2460,AM2460,AR2460)","v":0},{"$f":"SUM(AL2460,AQ2460,AV2460)","v":0},{"$f":"IF(AY2460=0,0,AZ2460/AY2460)","v":0},{"$f":"IF((AY2460+AX2460)=0,0,AX2460/(AX2460+AY2460))","v":0},null,null,null,null,null,null,null,null,null,null,null,null,null,null,null,null,null,null,null,null,null,null,null,null,null,null,null,null,null,null,null,null,null,null,null,null,null,null,null,null,null,{"$f":"((L2460=\"создание\")*7+(L2460=\"расширение\")*7 +(L2460=\"внедрение\")*7+(L2460=\"строительство\")*4+(L2460=\"реконструкция\")*3+(L2460=\"капремонт\")*2 +(L2460=\"приобретение\")*1+(L2460=\"установка\")*1)*10","v":0},null,{"$f":"IF(P2460=\"коммунальная инфраструктура\",(L2460=\"строительство\")*3+(L2460=\"реконструкция\")*2+(L2460=\"капремонт\")*1,0)*10","v":0},null,{"$f":"IF(P2460=\"коммунальная инфраструктура\",(L2460=\"строительство\")*4+(L2460=\"реконструкция\")*3+(L2460=\"капремонт\")*2,0)*10","v":0}]
[null,null,16,{"$f":"IF(AND(D2449<>\"\",G2465<>\"\"),D2449,\"\")","v":""},{"$f":"IF(AND(E2449<>\"\",G2465<>\"\"),E2449,\"\")","v":""},null,null,null,null,null,null,null,null,null,null,null,null,null,{"$f":"IF(Q2465>=2020,R2465-Q2465+1,\"\")","v":""},null,{"$f":"IF(Q2465>=2020,S2465*T2465,\"\")","v":""},null,null,null,null,null,null,null,null,null,null,null,null,{"$f":"SUM(AI2465:AL2465)","v":0},null,null,null,null,{"$f":"SUM(AN2465:AQ2465)","v":0},null,null,null,null,{"$f":"SUM(AS2465:AV2465)","v":0},null,null,null,null,null,null,{"$f":"SUM(AH2465,AM2465,AR2465)","v":0},{"$f":"SUM(AL2465,AQ2465,AV2465)","v":0},{"$f":"IF(AY2465=0,0,AZ2465/AY2465)","v":0},{"$f":"IF((AY2465+AX2465)=0,0,AX2465/(AX2465+AY2465))","v":0},null,null,null,null,null,null,null,null,null,null,null,null,null,null,null,null,null,null,null,null,null,null,null,null,null,null,null,null,null,null,null,null,null,null,null,null,null,null,null,null,null,{"$f":"((L2465=\"создание\")*7+(L2465=\"расширение\")*7 +(L2465=\"внедрение\")*7+(L2465=\"строительство\")*4+(L2465=\"реконструкция\")*3+(L2465=\"капремонт\")*2 +(L2465=\"приобретение\")*1+(L2465=\"установка\")*1)*10","v":0},null,{"$f":"IF(P2465=\"коммунальная инфраструктура\",(L2465=\"строительство\")*3+(L2465=\"реконструкция\")*2+(L2465=\"капремонт\")*1,0)*10","v":0},null,{"$f":"IF(P2465=\"коммунальная инфраструктура\",(L2465=\"строительство\")*4+(L2465=\"реконструкция\")*3+(L2465=\"капремонт\")*2,0)*10","v":0}]
[null,null,8,{"$f":"IF(AND(D2471<>\"\",G2479<>\"\"),D2471,\"\")","v":""},{"$f":"IF(AND(E2471<>\"\",G2479<>\"\"),E2471,\"\")","v":""},null,null,null,null,null,null,null,null,null,null,null,null,null,{"$f":"IF(Q2479>=2020,R2479-Q2479+1,\"\")","v":""},null,{"$f":"IF(Q2479>=2020,S2479*T2479,\"\")","v":""},null,null,null,null,null,null,null,null,null,null,null,null,{"$f":"SUM(AI2479:AL2479)","v":0},null,null,null,null,{"$f":"SUM(AN2479:AQ2479)","v":0},null,null,null,null,{"$f":"SUM(AS2479:AV2479)","v":0},null,null,null,null,null,null,{"$f":"SUM(AH2479,AM2479,AR2479)","v":0},{"$f":"SUM(AL2479,AQ2479,AV2479)","v":0},{"$f":"IF(AY2479=0,0,AZ2479/AY2479)","v":0},{"$f":"IF((AY2479+AX2479)=0,0,AX2479/(AX2479+AY2479))","v":0},null,null,null,null,null,null,null,null,null,null,null,null,null,null,null,null,null,null,null,null,null,null,null,null,null,null,null,null,null,null,null,null,null,null,null,null,null,null,null,null,null,{"$f":"((L2479=\"создание\")*7+(L2479=\"расширение\")*7 +(L2479=\"внедрение\")*7+(L2479=\"строительство\")*4+(L2479=\"реконструкция\")*3+(L2479=\"капремонт\")*2 +(L2479=\"приобретение\")*1+(L2479=\"установка\")*1)*10","v":0},null,{"$f":"IF(P2479=\"коммунальная инфраструктура\",(L2479=\"строительство\")*3+(L2479=\"реконструкция\")*2+(L2479=\"капремонт\")*1,0)*10","v":0},null,{"$f":"IF(P2479=\"коммунальная инфраструктура\",(L2479=\"строительство\")*4+(L2479=\"реконструкция\")*3+(L2479=\"капремонт\")*2,0)*10","v":0}]
[null,null,3,{"$f":"IF(AND(D2493<>\"\",G2496<>\"\"),D2493,\"\")","v":""},{"$f":"IF(AND(E2493<>\"\",G2496<>\"\"),E2493,\"\")","v":""},null,null,null,null,null,null,null,null,null,null,null,null,null,{"$f":"IF(Q2496>=2020,R2496-Q2496+1,\"\")","v":""},null,{"$f":"IF(Q2496>=2020,S2496*T2496,\"\")","v":""},null,null,null,null,null,null,null,null,null,null,null,null,{"$f":"SUM(AI2496:AL2496)","v":0},null,null,null,null,{"$f":"SUM(AN2496:AQ2496)","v":0},null,null,null,null,{"$f":"SUM(AS2496:AV2496)","v":0},null,null,null,null,null,null,{"$f":"SUM(AH2496,AM2496,AR2496)","v":0},{"$f":"SUM(AL2496,AQ2496,AV2496)","v":0},{"$f":"IF(AY2496=0,0,AZ2496/AY2496)","v":0},{"$f":"IF((AY2496+AX2496)=0,0,AX2496/(AX2496+AY2496))","v":0},null,null,null,null,null,null,null,null,null,null,null,null,null,null,null,null,null,null,null,null,null,null,null,null,null,null,null,null,null,null,null,null,null,null,null,null,null,null,null,null,null,{"$f":"((L2496=\"создание\")*7+(L2496=\"расширение\")*7 +(L2496=\"внедрение\")*7+(L2496=\"строительство\")*4+(L2496=\"реконструкция\")*3+(L2496=\"капремонт\")*2 +(L2496=\"приобретение\")*1+(L2496=\"установка\")*1)*10","v":0},null,{"$f":"IF(P2496=\"коммунальная инфраструктура\",(L2496=\"строительство\")*3+(L2496=\"реконструкция\")*2+(L2496=\"капремонт\")*1,0)*10","v":0},null,{"$f":"IF(P2496=\"коммунальная инфраструктура\",(L2496=\"строительство\")*4+(L2496=\"реконструкция\")*3+(L2496=\"капремонт\")*2,0)*10","v":0}]
[115,null,{"$f":"COUNTA(G2516:G2536)","v":0},null,null,null,null,null,null,null,null,null,null,null,null,null,{"$f":"MIN(Q2516:Q2536)","v":0},{"$f":"MAX(R2516:R2536)","v":0},{"$f":"MAX(S2516:S2536)","v":0},null,{"$f":"MAX(U2516:U2536)","v":0},null,null,null,null,null,{"$f":"IF(COUNTIF(AA2516:AA2536,\"НЕТ\")>0,\"ПД!\",\"ок\")","v":"ок"},null,{"$f":"IF(COUNTIF(AC2516:AC2536,\"НЕТ\")>0,\"ДОСМ!\",\"ок\")","v":"ок"},null,{"$f":"IF(COUNTIF(AE2516:AE2536,\"НЕТ\")>0,\"ФОИВ!\",\"ок\")","v":"ок"},{"$f":"IF(COUNTIF(AF2516:AF2536,\"НЕТ\")>0,\"ФОИВ!\",\"ок\")","v":"ок"},null,{"$f":"SUM(AH2516:AH2536)","v":0},{"$f":"SUM(AI2516:AI2536)","v":0},{"$f":"SUM(AJ2516:AJ2536)","v":0},{"$f":"SUM(AK2516:AK2536)","v":0},{"$f":"SUM(AL2516:AL2536)","v":0},{"$f":"SUM(AM2516:AM2536)","v":0},{"$f":"SUM(AN2516:AN2536)","v":0},{"$f":"SUM(AO2516:AO2536)","v":0},{"$f":"SUM(AP2516:AP2536)","v":0},{"$f":"SUM(AQ2516:AQ2536)","v":0},{"$f":"SUM(AR2516:AR2536)","v":0},{"$f":"SUM(AS2516:AS2536)","v":0},{"$f":"SUM(AT2516:AT2536)","v":0},{"$f":"SUM(AU2516:AU2536)","v":0},{"$f":"SUM(AV2516:AV2536)","v":0},{"$f":"SUM(AW2516:AW2536)","v":0},{"$f":"SUM(AX2516:AX2536)","v":0},{"$f":"SUM(AH2515,AM2515,AR2515)","v":0},{"$f":"AL2515+AQ2515+AV2515","v":0},{"$f":"IF(AY2515=0,0,AZ2515/AY2515)","v":0},{"$f":"IF((AY2515+AX2515)=0,0,AX2515/(AX2515+AY2515))","v":0},null,null,{"$f":"IFERROR(BD2515/BC2515,0)","v":0},null,null,{"$f":"IFERROR(BG2515/BF2515,0)","v":0},null,null,{"$f":"IFERROR(BJ2515/BI2515,0)","v":0},null,null,null,{"$f":"(SUM(BL2515:BN2515)>0)*1+(SUM(BL2515:BN2515)>=10)*1+(SUM(BL2515:BN2515)>=50)*1+(SUM(BL2515:BN2515)>=100)*1+(SUM(BL2515:BN2515)>=200)*1+(SUM(BL2515:BN2515)>=300)*1","v":0},{"$f":"IFERROR(SUM(BL2515:BN2515)/BC2515,0)","v":0},null,null,{"$f":"IFERROR(BQ2515/BR2515,0)","v":0},{"$f":"IF(BA2515<0.01,0,IF(BA2515>=0.1,10,ROUNDDOWN(BA2515/0.01,0)))","v":0},8,{"$f":"BT2515*BU2515","v":0},{"$f":"IF(BB2515<0.01,0,IF(BB2515>=0.1,10,ROUNDDOWN(BB2515/0.01,0)))","v":0},8,{"$f":"BW2515*BX2515","v":0},{"$f":"IF(U2515<=1,9,IF(U2515<=2,6,IF(U2515<=3,3,0)))*(C2515>0)","v":0},6,{"$f":"BZ2515*CA2515","v":0},{"$f":"IF(BH2515<0.51,0,10)","v":0},7,{"$f":"CC2515*CD2515","v":0},{"$f":"IF(BE2515<0.1,0,IF(BE2515>=0.9,10,ROUNDDOWN(BE2515/0.1,0)))","v":0},10,{"$f":"CF2515*CG2515","v":0},{"$f":"IF(BK2515<0.1,0,IF(BK2515>=0.6,10,ROUNDDOWN(BK2515/0.1,0)))","v":0},8,{"$f":"CI2515*CJ2515","v":0},{"$f":"IF(BP2515<0.05,0,IF(BP2515>=0.1,10,1))","v":0},10,{"$f":"CL2515*CM2515","v":0},{"$f":"IF(BS2515<0.1,0,IF(BS2515>=0.8,10,ROUNDDOWN(BS2515/0.1,0)))","v":0},10,{"$f":"CP2515*CO2515","v":0},{"$f":"ROUND(IF(C2515=0,0,SUM(CR2516:CR2536)/C2515),1)","v":0},{"$f":"((SUM(BL2515:BN2515)>=1)*1+(SUM(BL2515:BN2515)>=11)*1+(SUM(BL2515:BN2515)>=51)*3+(SUM(BL2515:BN2515)>=101)*2+(SUM(BL2515:BN2515)>=201)*2+(SUM(BL2515:BN2515)>=301)*4)*10","v":0},{"$f":"IFERROR(ROUND(SUM(CT2516:CT2536)/COUNTIF(P2516:P2536,\"коммунальная инфраструктура\"),1),0)","v":0},{"$f":"CS2515+CT2515","v":0},{"$f":"IFERROR(ROUND(SUM(CV2516:CV2536)/COUNTIF(P2516:P2536,\"коммунальная инфраструктура\"),1),0)","v":0},{"$f":"SUM(BV2515,BY2515,CB2515,CE2515,CH2515,CK2515,CN2515,CQ2515,CR2515,CU2515,CV2515)","v":0},{"$f":"VLOOKUP(D2515,РегионыФО,2,0)","v":{"$error":"#N/A"}}]
[null,null,16,{"$f":"IF(AND(D2515<>\"\",G2531<>\"\"),D2515,\"\")","v":""},{"$f":"IF(AND(E2515<>\"\",G2531<>\"\"),E2515,\"\")","v":""},null,null,null,null,null,null,null,null,null,null,null,null,null,{"$f":"IF(Q2531>=2020,R2531-Q2531+1,\"\")","v":""},null,{"$f":"IF(Q2531>=2020,S2531*T2531,\"\")","v":""},null,null,null,null,null,null,null,null,null,null,null,null,{"$f":"SUM(AI2531:AL2531)","v":0},null,null,null,null,{"$f":"SUM(AN2531:AQ2531)","v":0},null,null,null,null,{"$f":"SUM(AS2531:AV2531)","v":0},null,null,null,null,null,null,{"$f":"SUM(AH2531,AM2531,AR2531)","v":0},{"$f":"SUM(AL2531,AQ2531,AV2531)","v":0},{"$f":"IF(AY2531=0,0,AZ2531/AY2531)","v":0},{"$f":"IF((AY2531+AX2531)=0,0,AX2531/(AX2531+AY2531))","v":0},null,null,null,null,null,null,null,null,null,null,null,null,null,null,null,null,null,null,null,null,null,null,null,null,null,null,null,null,null,null,null,null,null,null,null,null,null,null,null,null,null,{"$f":"((L2531=\"создание\")*7+(L2531=\"расширение\")*7 +(L2531=\"внедрение\")*7+(L2531=\"строительство\")*4+(L2531=\"реконструкция\")*3+(L2531=\"капремонт\")*2 +(L2531=\"приобретение\")*1+(L2531=\"установка\")*1)*10","v":0},null,{"$f":"IF(P2531=\"коммунальная инфраструктура\",(L2531=\"строительство\")*3+(L2531=\"реконструкция\")*2+(L2531=\"капремонт\")*1,0)*10","v":0},null,{"$f":"IF(P2531=\"коммунальная инфраструктура\",(L2531=\"строительство\")*4+(L2531=\"реконструкция\")*3+(L2531=\"капремонт\")*2,0)*10","v":0}]
[null,null,12,{"$f":"IF(AND(D2537<>\"\",G2549<>\"\"),D2537,\"\")","v":""},{"$f":"IF(AND(E2537<>\"\",G2549<>\"\"),E2537,\"\")","v":""},null,null,null,null,null,null,null,null,null,null,null,null,null,{"$f":"IF(Q2549>=2020,R2549-Q2549+1,\"\")","v":""},null,{"$f":"IF(Q2549>=2020,S2549*T2549,\"\")","v":""},null,null,null,null,null,null,null,null,null,null,null,null,{"$f":"SUM(AI2549:AL2549)","v":0},null,null,null,null,{"$f":"SUM(AN2549:AQ2549)","v":0},null,null,null,null,{"$f":"SUM(AS2549:AV2549)","v":0},null,null,null,null,null,null,{"$f":"SUM(AH2549,AM2549,AR2549)","v":0},{"$f":"SUM(AL2549,AQ2549,AV2549)","v":0},{"$f":"IF(AY2549=0,0,AZ2549/AY2549)","v":0},{"$f":"IF((AY2549+AX2549)=0,0,AX2549/(AX2549+AY2549))","v":0},null,null,null,null,null,null,null,null,null,null,null,null,null,null,null,null,null,null,null,null,null,null,null,null,null,null,null,null,null,null,null,null,null,null,null,null,null,null,null,null,null,{"$f":"((L2549=\"создание\")*7+(L2549=\"расширение\")*7 +(L2549=\"внедрение\")*7+(L2549=\"строительство\")*4+(L2549=\"реконструкция\")*3+(L2549=\"капремонт\")*2 +(L2549=\"приобретение\")*1+(L2549=\"установка\")*1)*10","v":0},null,{"$f":"IF(P2549=\"коммунальная инфраструктура\",(L2549=\"строительство\")*3+(L2549=\"реконструкция\")*2+(L2549=\"капремонт\")*1,0)*10","v":0},null,{"$f":"IF(P2549=\"коммунальная инфраструктура\",(L2549=\"строительство\")*4+(L2549=\"реконструкция\")*3+(L2549=\"капремонт\")*2,0)*10","v":0}]
[null,null,7,{"$f":"IF(AND(D2559<>\"\",G2566<>\"\"),D2559,\"\")","v":""},{"$f":"IF(AND(E2559<>\"\",G2566<>\"\"),E2559,\"\")","v":""},null,null,null,null,null,null,null,null,null,null,null,null,null,{"$f":"IF(Q2566>=2020,R2566-Q2566+1,\"\")","v":""},null,{"$f":"IF(Q2566>=2020,S2566*T2566,\"\")","v":""},null,null,null,null,null,null,null,null,null,null,null,null,{"$f":"SUM(AI2566:AL2566)","v":0},null,null,null,null,{"$f":"SUM(AN2566:AQ2566)","v":0},null,null,null,null,{"$f":"SUM(AS2566:AV2566)","v":0},null,null,null,null,null,null,{"$f":"SUM(AH2566,AM2566,AR2566)","v":0},{"$f":"SUM(AL2566,AQ2566,AV2566)","v":0},{"$f":"IF(AY2566=0,0,AZ2566/AY2566)","v":0},{"$f":"IF((AY2566+AX2566)=0,0,AX2566/(AX2566+AY2566))","v":0},null,null,null,null,null,null,null,null,null,null,null,null,null,null,null,null,null,null,null,null,null,null,null,null,null,null,null,null,null,null,null,null,null,null,null,null,null,null,null,null,null,{"$f":"((L2566=\"создание\")*7+(L2566=\"расширение\")*7 +(L2566=\"внедрение\")*7+(L2566=\"строительство\")*4+(L2566=\"реконструкция\")*3+(L2566=\"капремонт\")*2 +(L2566=\"приобретение\")*1+(L2566=\"установка\")*1)*10","v":0},null,{"$f":"IF(P2566=\"коммунальная инфраструктура\",(L2566=\"строительство\")*3+(L2566=\"реконструкция\")*2+(L2566=\"капремонт\")*1,0)*10","v":0},null,{"$f":"IF(P2566=\"коммунальная инфраструктура\",(L2566=\"строительство\")*4+(L2566=\"реконструкция\")*3+(L2566=\"капремонт\")*2,0)*10","v":0}]
[null,null,2,{"$f":"IF(AND(D2581<>\"\",G2583<>\"\"),D2581,\"\")","v":""},{"$f":"IF(AND(E2581<>\"\",G2583<>\"\"),E2581,\"\")","v":""},null,null,null,null,null,null,null,null,null,null,null,null,null,{"$f":"IF(Q2583>=2020,R2583-Q2583+1,\"\")","v":""},null,{"$f":"IF(Q2583>=2020,S2583*T2583,\"\")","v":""},null,null,null,null,null,null,null,null,null,null,null,null,{"$f":"SUM(AI2583:AL2583)","v":0},null,null,null,null,{"$f":"SUM(AN2583:AQ2583)","v":0},null,null,null,null,{"$f":"SUM(AS2583:AV2583)","v":0},null,null,null,null,null,null,{"$f":"SUM(AH2583,AM2583,AR2583)","v":0},{"$f":"SUM(AL2583,AQ2583,AV2583)","v":0},{"$f":"IF(AY2583=0,0,AZ2583/AY2583)","v":0},{"$f":"IF((AY2583+AX2583)=0,0,AX2583/(AX2583+AY2583))","v":0},null,null,null,null,null,null,null,null,null,null,null,null,null,null,null,null,null,null,null,null,null,null,null,null,null,null,null,null,null,null,null,null,null,null,null,null,null,null,null,null,null,{"$f":"((L2583=\"создание\")*7+(L2583=\"расширение\")*7 +(L2583=\"внедрение\")*7+(L2583=\"строительство\")*4+(L2583=\"реконструкция\")*3+(L2583=\"капремонт\")*2 +(L2583=\"приобретение\")*1+(L2583=\"установка\")*1)*10","v":0},null,{"$f":"IF(P2583=\"коммунальная инфраструктура\",(L2583=\"строительство\")*3+(L2583=\"реконструкция\")*2+(L2583=\"капремонт\")*1,0)*10","v":0},null,{"$f":"IF(P2583=\"коммунальная инфраструктура\",(L2583=\"строительство\")*4+(L2583=\"реконструкция\")*3+(L2583=\"капремонт\")*2,0)*10","v":0}]
[null,null,18,{"$f":"IF(AND(D2581<>\"\",G2599<>\"\"),D2581,\"\")","v":""},{"$f":"IF(AND(E2581<>\"\",G2599<>\"\"),E2581,\"\")","v":""},null,null,null,null,null,null,null,null,null,null,null,null,null,{"$f":"IF(Q2599>=2020,R2599-Q2599+1,\"\")","v":""},null,{"$f":"IF(Q2599>=2020,S2599*T2599,\"\")","v":""},null,null,null,null,null,null,null,null,null,null,null,null,{"$f":"SUM(AI2599:AL2599)","v":0},null,null,null,null,{"$f":"SUM(AN2599:AQ2599)","v":0},null,null,null,null,{"$f":"SUM(AS2599:AV2599)","v":0},null,null,null,null,null,null,{"$f":"SUM(AH2599,AM2599,AR2599)","v":0},{"$f":"SUM(AL2599,AQ2599,AV2599)","v":0},{"$f":"IF(AY2599=0,0,AZ2599/AY2599)","v":0},{"$f":"IF((AY2599+AX2599)=0,0,AX2599/(AX2599+AY2599))","v":0},null,null,null,null,null,null,null,null,null,null,null,null,null,null,null,null,null,null,null,null,null,null,null,null,null,null,null,null,null,null,null,null,null,null,null,null,null,null,null,null,null,{"$f":"((L2599=\"создание\")*7+(L2599=\"расширение\")*7 +(L2599=\"внедрение\")*7+(L2599=\"строительство\")*4+(L2599=\"реконструкция\")*3+(L2599=\"капремонт\")*2 +(L2599=\"приобретение\")*1+(L2599=\"установка\")*1)*10","v":0},null,{"$f":"IF(P2599=\"коммунальная инфраструктура\",(L2599=\"строительство\")*3+(L2599=\"реконструкция\")*2+(L2599=\"капремонт\")*1,0)*10","v":0},null,{"$f":"IF(P2599=\"коммунальная инфраструктура\",(L2599=\"строительство\")*4+(L2599=\"реконструкция\")*3+(L2599=\"капремонт\")*2,0)*10","v":0}]
[null,null,15,{"$f":"IF(AND(D2603<>\"\",G2618<>\"\"),D2603,\"\")","v":""},{"$f":"IF(AND(E2603<>\"\",G2618<>\"\"),E2603,\"\")","v":""},null,null,null,null,null,null,null,null,null,null,null,null,null,{"$f":"IF(Q2618>=2020,R2618-Q2618+1,\"\")","v":""},null,{"$f":"IF(Q2618>=2020,S2618*T2618,\"\")","v":""},null,null,null,null,null,null,null,null,null,null,null,null,{"$f":"SUM(AI2618:AL2618)","v":0},null,null,null,null,{"$f":"SUM(AN2618:AQ2618)","v":0},null,null,null,null,{"$f":"SUM(AS2618:AV2618)","v":0},null,null,null,null,null,null,{"$f":"SUM(AH2618,AM2618,AR2618)","v":0},{"$f":"SUM(AL2618,AQ2618,AV2618)","v":0},{"$f":"IF(AY2618=0,0,AZ2618/AY2618)","v":0},{"$f":"IF((AY2618+AX2618)=0,0,AX2618/(AX2618+AY2618))","v":0},null,null,null,null,null,null,null,null,null,null,null,null,null,null,null,null,null,null,null,null,null,null,null,null,null,null,null,null,null,null,null,null,null,null,null,null,null,null,null,null,null,{"$f":"((L2618=\"создание\")*7+(L2618=\"расширение\")*7 +(L2618=\"внедрение\")*7+(L2618=\"строительство\")*4+(L2618=\"реконструкция\")*3+(L2618=\"капремонт\")*2 +(L2618=\"приобретение\")*1+(L2618=\"установка\")*1)*10","v":0},null,{"$f":"IF(P2618=\"коммунальная инфраструктура\",(L2618=\"строительство\")*3+(L2618=\"реконструкция\")*2+(L2618=\"капремонт\")*1,0)*10","v":0},null,{"$f":"IF(P2618=\"коммунальная инфраструктура\",(L2618=\"строительство\")*4+(L2618=\"реконструкция\")*3+(L2618=\"капремонт\")*2,0)*10","v":0}]
[null,null,10,{"$f":"IF(AND(D2625<>\"\",G2635<>\"\"),D2625,\"\")","v":""},{"$f":"IF(AND(E2625<>\"\",G2635<>\"\"),E2625,\"\")","v":""},null,null,null,null,null,null,null,null,null,null,null,null,null,{"$f":"IF(Q2635>=2020,R2635-Q2635+1,\"\")","v":""},null,{"$f":"IF(Q2635>=2020,S2635*T2635,\"\")","v":""},null,null,null,null,null,null,null,null,null,null,null,null,{"$f":"SUM(AI2635:AL2635)","v":0},null,null,null,null,{"$f":"SUM(AN2635:AQ2635)","v":0},null,null,null,null,{"$f":"SUM(AS2635:AV2635)","v":0},null,null,null,null,null,null,{"$f":"SUM(AH2635,AM2635,AR2635)","v":0},{"$f":"SUM(AL2635,AQ2635,AV2635)","v":0},{"$f":"IF(AY2635=0,0,AZ2635/AY2635)","v":0},{"$f":"IF((AY2635+AX2635)=0,0,AX2635/(AX2635+AY2635))","v":0},null,null,null,null,null,null,null,null,null,null,null,null,null,null,null,null,null,null,null,null,null,null,null,null,null,null,null,null,null,null,null,null,null,null,null,null,null,null,null,null,null,{"$f":"((L2635=\"создание\")*7+(L2635=\"расширение\")*7 +(L2635=\"внедрение\")*7+(L2635=\"строительство\")*4+(L2635=\"реконструкция\")*3+(L2635=\"капремонт\")*2 +(L2635=\"приобретение\")*1+(L2635=\"установка\")*1)*10","v":0},null,{"$f":"IF(P2635=\"коммунальная инфраструктура\",(L2635=\"строительство\")*3+(L2635=\"реконструкция\")*2+(L2635=\"капремонт\")*1,0)*10","v":0},null,{"$f":"IF(P2635=\"коммунальная инфраструктура\",(L2635=\"строительство\")*4+(L2635=\"реконструкция\")*3+(L2635=\"капремонт\")*2,0)*10","v":0}]
[null,null,2,{"$f":"IF(AND(D2647<>\"\",G2649<>\"\"),D2647,\"\")","v":""},{"$f":"IF(AND(E2647<>\"\",G2649<>\"\"),E2647,\"\")","v":""},null,null,null,null,null,null,null,null,null,null,null,null,null,{"$f":"IF(Q2649>=2020,R2649-Q2649+1,\"\")","v":""},null,{"$f":"IF(Q2649>=2020,S2649*T2649,\"\")","v":""},null,null,null,null,null,null,null,null,null,null,null,null,{"$f":"SUM(AI2649:AL2649)","v":0},null,null,null,null,{"$f":"SUM(AN2649:AQ2649)","v":0},null,null,null,null,{"$f":"SUM(AS2649:AV2649)","v":0},null,null,null,null,null,null,{"$f":"SUM(AH2649,AM2649,AR2649)","v":0},{"$f":"SUM(AL2649,AQ2649,AV2649)","v":0},{"$f":"IF(AY2649=0,0,AZ2649/AY2649)","v":0},{"$f":"IF((AY2649+AX2649)=0,0,AX2649/(AX2649+AY2649))","v":0},null,null,null,null,null,null,null,null,null,null,null,null,null,null,null,null,null,null,null,null,null,null,null,null,null,null,null,null,null,null,null,null,null,null,null,null,null,null,null,null,null,{"$f":"((L2649=\"создание\")*7+(L2649=\"расширение\")*7 +(L2649=\"внедрение\")*7+(L2649=\"строительство\")*4+(L2649=\"реконструкция\")*3+(L2649=\"капремонт\")*2 +(L2649=\"приобретение\")*1+(L2649=\"установка\")*1)*10","v":0},null,{"$f":"IF(P2649=\"коммунальная инфраструктура\",(L2649=\"строительство\")*3+(L2649=\"реконструкция\")*2+(L2649=\"капремонт\")*1,0)*10","v":0},null,{"$f":"IF(P2649=\"коммунальная инфраструктура\",(L2649=\"строительство\")*4+(L2649=\"реконструкция\")*3+(L2649=\"капремонт\")*2,0)*10","v":0}]
[null,null,1,{"$f":"IF(AND(D2669<>\"\",G2670<>\"\"),D2669,\"\")","v":""},{"$f":"IF(AND(E2669<>\"\",G2670<>\"\"),E2669,\"\")","v":""},null,null,null,null,null,null,null,null,null,null,null,null,null,{"$f":"IF(Q2670>=2020,R2670-Q2670+1,\"\")","v":""},null,{"$f":"IF(Q2670>=2020,ROUNDUP(S2670*T2670,0),\"\")","v":""},null,null,null,null,null,null,null,null,null,null,null,null,{"$f":"SUM(AI2670:AL2670)","v":0},null,null,null,null,{"$f":"SUM(AN2670:AQ2670)","v":0},null,null,null,null,{"$f":"SUM(AS2670:AV2670)","v":0},null,null,null,null,null,null,{"$f":"SUM(AH2670,AM2670,AR2670)","v":0},{"$f":"SUM(AL2670,AQ2670,AV2670)","v":0},{"$f":"IF(AY2670=0,0,AZ2670/AY2670)","v":0},{"$f":"IF((AY2670+AX2670)=0,0,AX2670/(AX2670+AY2670))","v":0},null,null,null,null,null,null,null,null,null,null,null,null,null,null,null,null,null,null,null,null,null,null,null,null,null,null,null,null,null,null,null,null,null,null,null,null,null,null,null,null,null,{"$f":"((L2670=\"создание\")*7+(L2670=\"расширение\")*7 +(L2670=\"внедрение\")*7+(L2670=\"строительство\")*4+(L2670=\"реконструкция\")*3+(L2670=\"капремонт\")*2 +(L2670=\"приобретение\")*1+(L2670=\"установка\")*1)*10","v":0},null,{"$f":"IF(P2670=\"коммунальная инфраструктура\",(L2670=\"строительство\")*3+(L2670=\"реконструкция\")*2+(L2670=\"капремонт\")*1,0)*10","v":0},null,{"$f":"IF(P2670=\"коммунальная инфраструктура\",(L2670=\"строительство\")*4+(L2670=\"реконструкция\")*3+(L2670=\"капремонт\")*2,0)*10","v":0}]
[null,null,14,{"$f":"IF(AND(D2669<>\"\",G2683<>\"\"),D2669,\"\")","v":""},{"$f":"IF(AND(E2669<>\"\",G2683<>\"\"),E2669,\"\")","v":""},null,null,null,null,null,null,null,null,null,null,null,null,null,{"$f":"IF(Q2683>=2020,R2683-Q2683+1,\"\")","v":""},null,{"$f":"IF(Q2683>=2020,S2683*T2683,\"\")","v":""},null,null,null,null,null,null,null,null,null,null,null,null,{"$f":"SUM(AI2683:AL2683)","v":0},null,null,null,null,{"$f":"SUM(AN2683:AQ2683)","v":0},null,null,null,null,{"$f":"SUM(AS2683:AV2683)","v":0},null,null,null,null,null,null,{"$f":"SUM(AH2683,AM2683,AR2683)","v":0},{"$f":"SUM(AL2683,AQ2683,AV2683)","v":0},{"$f":"IF(AY2683=0,0,AZ2683/AY2683)","v":0},{"$f":"IF((AY2683+AX2683)=0,0,AX2683/(AX2683+AY2683))","v":0},null,null,null,null,null,null,null,null,null,null,null,null,null,null,null,null,null,null,null,null,null,null,null,null,null,null,null,null,null,null,null,null,null,null,null,null,null,null,null,null,null,{"$f":"((L2683=\"создание\")*7+(L2683=\"расширение\")*7 +(L2683=\"внедрение\")*7+(L2683=\"строительство\")*4+(L2683=\"реконструкция\")*3+(L2683=\"капремонт\")*2 +(L2683=\"приобретение\")*1+(L2683=\"установка\")*1)*10","v":0},null,{"$f":"IF(P2683=\"коммунальная инфраструктура\",(L2683=\"строительство\")*3+(L2683=\"реконструкция\")*2+(L2683=\"капремонт\")*1,0)*10","v":0},null,{"$f":"IF(P2683=\"коммунальная инфраструктура\",(L2683=\"строительство\")*4+(L2683=\"реконструкция\")*3+(L2683=\"капремонт\")*2,0)*10","v":0}]
[null,null,14,{"$f":"IF(AND(D2691<>\"\",G2705<>\"\"),D2691,\"\")","v":""},{"$f":"IF(AND(E2691<>\"\",G2705<>\"\"),E2691,\"\")","v":""},null,null,null,null,null,null,null,null,null,null,null,null,null,{"$f":"IF(Q2705>=2020,R2705-Q2705+1,\"\")","v":""},null,{"$f":"IF(Q2705>=2020,S2705*T2705,\"\")","v":""},null,null,null,null,null,null,null,null,null,null,null,null,{"$f":"SUM(AI2705:AL2705)","v":0},null,null,null,null,{"$f":"SUM(AN2705:AQ2705)","v":0},null,null,null,null,{"$f":"SUM(AS2705:AV2705)","v":0},null,null,null,null,null,null,{"$f":"SUM(AH2705,AM2705,AR2705)","v":0},{"$f":"SUM(AL2705,AQ2705,AV2705)","v":0},{"$f":"IF(AY2705=0,0,AZ2705/AY2705)","v":0},{"$f":"IF((AY2705+AX2705)=0,0,AX2705/(AX2705+AY2705))","v":0},null,null,null,null,null,null,null,null,null,null,null,null,null,null,null,null,null,null,null,null,null,null,null,null,null,null,null,null,null,null,null,null,null,null,null,null,null,null,null,null,null,{"$f":"((L2705=\"создание\")*7+(L2705=\"расширение\")*7 +(L2705=\"внедрение\")*7+(L2705=\"строительство\")*4+(L2705=\"реконструкция\")*3+(L2705=\"капремонт\")*2 +(L2705=\"приобретение\")*1+(L2705=\"установка\")*1)*10","v":0},null,{"$f":"IF(P2705=\"коммунальная инфраструктура\",(L2705=\"строительство\")*3+(L2705=\"реконструкция\")*2+(L2705=\"капремонт\")*1,0)*10","v":0},null,{"$f":"IF(P2705=\"коммунальная инфраструктура\",(L2705=\"строительство\")*4+(L2705=\"реконструкция\")*3+(L2705=\"капремонт\")*2,0)*10","v":0}]
[null,null,9,{"$f":"IF(AND(D2713<>\"\",G2722<>\"\"),D2713,\"\")","v":""},{"$f":"IF(AND(E2713<>\"\",G2722<>\"\"),E2713,\"\")","v":""},null,null,null,null,null,null,null,null,null,null,null,null,null,{"$f":"IF(Q2722>=2020,R2722-Q2722+1,\"\")","v":""},null,{"$f":"IF(Q2722>=2020,S2722*T2722,\"\")","v":""},null,null,null,null,null,null,null,null,null,null,null,null,{"$f":"SUM(AI2722:AL2722)","v":0},null,null,null,null,{"$f":"SUM(AN2722:AQ2722)","v":0},null,null,null,null,{"$f":"SUM(AS2722:AV2722)","v":0},null,null,null,null,null,null,{"$f":"SUM(AH2722,AM2722,AR2722)","v":0},{"$f":"SUM(AL2722,AQ2722,AV2722)","v":0},{"$f":"IF(AY2722=0,0,AZ2722/AY2722)","v":0},{"$f":"IF((AY2722+AX2722)=0,0,AX2722/(AX2722+AY2722))","v":0},null,null,null,null,null,null,null,null,null,null,null,null,null,null,null,null,null,null,null,null,null,null,null,null,null,null,null,null,null,null,null,null,null,null,null,null,null,null,null,null,null,{"$f":"((L2722=\"создание\")*7+(L2722=\"расширение\")*7 +(L2722=\"внедрение\")*7+(L2722=\"строительство\")*4+(L2722=\"реконструкция\")*3+(L2722=\"капремонт\")*2 +(L2722=\"приобретение\")*1+(L2722=\"установка\")*1)*10","v":0},null,{"$f":"IF(P2722=\"коммунальная инфраструктура\",(L2722=\"строительство\")*3+(L2722=\"реконструкция\")*2+(L2722=\"капремонт\")*1,0)*10","v":0},null,{"$f":"IF(P2722=\"коммунальная инфраструктура\",(L2722=\"строительство\")*4+(L2722=\"реконструкция\")*3+(L2722=\"капремонт\")*2,0)*10","v":0}]
[null,null,20,{"$f":"IF(AND(D2713<>\"\",G2733<>\"\"),D2713,\"\")","v":""},{"$f":"IF(AND(E2713<>\"\",G2733<>\"\"),E2713,\"\")","v":""},null,null,null,null,null,null,null,null,null,null,null,null,null,{"$f":"IF(Q2733>=2020,R2733-Q2733+1,\"\")","v":""},null,{"$f":"IF(Q2733>=2020,S2733*T2733,\"\")","v":""},null,null,null,null,null,null,null,null,null,null,null,null,{"$f":"SUM(AI2733:AL2733)","v":0},null,null,null,null,{"$f":"SUM(AN2733:AQ2733)","v":0},null,null,null,null,{"$f":"SUM(AS2733:AV2733)","v":0},null,null,null,null,null,null,{"$f":"SUM(AH2733,AM2733,AR2733)","v":0},{"$f":"SUM(AL2733,AQ2733,AV2733)","v":0},{"$f":"IF(AY2733=0,0,AZ2733/AY2733)","v":0},{"$f":"IF((AY2733+AX2733)=0,0,AX2733/(AX2733+AY2733))","v":0},null,null,null,null,null,null,null,null,null,null,null,null,null,null,null,null,null,null,null,null,null,null,null,null,null,null,null,null,null,null,null,null,null,null,null,null,null,null,null,null,null,{"$f":"((L2733=\"создание\")*7+(L2733=\"расширение\")*7 +(L2733=\"внедрение\")*7+(L2733=\"строительство\")*4+(L2733=\"реконструкция\")*3+(L2733=\"капремонт\")*2 +(L2733=\"приобретение\")*1+(L2733=\"установка\")*1)*10","v":0},null,{"$f":"IF(P2733=\"коммунальная инфраструктура\",(L2733=\"строительство\")*3+(L2733=\"реконструкция\")*2+(L2733=\"капремонт\")*1,0)*10","v":0},null,{"$f":"IF(P2733=\"коммунальная инфраструктура\",(L2733=\"строительство\")*4+(L2733=\"реконструкция\")*3+(L2733=\"капремонт\")*2,0)*10","v":0}]
[null,null,6,{"$f":"IF(AND(D2735<>\"\",G2741<>\"\"),D2735,\"\")","v":""},{"$f":"IF(AND(E2735<>\"\",G2741<>\"\"),E2735,\"\")","v":""},null,null,null,null,null,null,null,null,null,null,null,null,null,{"$f":"IF(Q2741>=2020,R2741-Q2741+1,\"\")","v":""},null,{"$f":"IF(Q2741>=2020,S2741*T2741,\"\")","v":""},null,null,null,null,null,null,null,null,null,null,null,null,{"$f":"SUM(AI2741:AL2741)","v":0},null,null,null,null,{"$f":"SUM(AN2741:AQ2741)","v":0},null,null,null,null,{"$f":"SUM(AS2741:AV2741)","v":0},null,null,null,null,null,null,{"$f":"SUM(AH2741,AM2741,AR2741)","v":0},{"$f":"SUM(AL2741,AQ2741,AV2741)","v":0},{"$f":"IF(AY2741=0,0,AZ2741/AY2741)","v":0},{"$f":"IF((AY2741+AX2741)=0,0,AX2741/(AX2741+AY2741))","v":0},null,null,null,null,null,null,null,null,null,null,null,null,null,null,null,null,null,null,null,null,null,null,null,null,null,null,null,null,null,null,null,null,null,null,null,null,null,null,null,null,null,{"$f":"((L2741=\"создание\")*7+(L2741=\"расширение\")*7 +(L2741=\"внедрение\")*7+(L2741=\"строительство\")*4+(L2741=\"реконструкция\")*3+(L2741=\"капремонт\")*2 +(L2741=\"приобретение\")*1+(L2741=\"установка\")*1)*10","v":0},null,{"$f":"IF(P2741=\"коммунальная инфраструктура\",(L2741=\"строительство\")*3+(L2741=\"реконструкция\")*2+(L2741=\"капремонт\")*1,0)*10","v":0},null,{"$f":"IF(P2741=\"коммунальная инфраструктура\",(L2741=\"строительство\")*4+(L2741=\"реконструкция\")*3+(L2741=\"капремонт\")*2,0)*10","v":0}]
[null,null,1,{"$f":"IF(AND(D2757<>\"\",G2758<>\"\"),D2757,\"\")","v":""},{"$f":"IF(AND(E2757<>\"\",G2758<>\"\"),E2757,\"\")","v":""},null,null,null,null,null,null,null,null,null,null,null,null,null,{"$f":"IF(Q2758>=2020,R2758-Q2758+1,\"\")","v":""},null,{"$f":"IF(Q2758>=2020,ROUNDUP(S2758*T2758,0),\"\")","v":""},null,null,null,null,null,null,null,null,null,null,null,null,{"$f":"SUM(AI2758:AL2758)","v":0},null,null,null,null,{"$f":"SUM(AN2758:AQ2758)","v":0},null,null,null,null,{"$f":"SUM(AS2758:AV2758)","v":0},null,null,null,null,null,null,{"$f":"SUM(AH2758,AM2758,AR2758)","v":0},{"$f":"SUM(AL2758,AQ2758,AV2758)","v":0},{"$f":"IF(AY2758=0,0,AZ2758/AY2758)","v":0},{"$f":"IF((AY2758+AX2758)=0,0,AX2758/(AX2758+AY2758))","v":0},null,null,null,null,null,null,null,null,null,null,null,null,null,null,null,null,null,null,null,null,null,null,null,null,null,null,null,null,null,null,null,null,null,null,null,null,null,null,null,null,null,{"$f":"((L2758=\"создание\")*7+(L2758=\"расширение\")*7 +(L2758=\"внедрение\")*7+(L2758=\"строительство\")*4+(L2758=\"реконструкция\")*3+(L2758=\"капремонт\")*2 +(L2758=\"приобретение\")*1+(L2758=\"установка\")*1)*10","v":0},null,{"$f":"IF(P2758=\"коммунальная инфраструктура\",(L2758=\"строительство\")*3+(L2758=\"реконструкция\")*2+(L2758=\"капремонт\")*1,0)*10","v":0},null,{"$f":"IF(P2758=\"коммунальная инфраструктура\",(L2758=\"строительство\")*4+(L2758=\"реконструкция\")*3+(L2758=\"капремонт\")*2,0)*10","v":0}]
[null,null,4,{"$f":"IF(AND(D2779<>\"\",G2783<>\"\"),D2779,\"\")","v":""},{"$f":"IF(AND(E2779<>\"\",G2783<>\"\"),E2779,\"\")","v":""},null,null,null,null,null,null,null,null,null,null,null,null,null,{"$f":"IF(Q2783>=2020,R2783-Q2783+1,\"\")","v":""},null,{"$f":"IF(Q2783>=2020,S2783*T2783,\"\")","v":""},null,null,null,null,null,null,null,null,null,null,null,null,{"$f":"SUM(AI2783:AL2783)","v":0},null,null,null,null,{"$f":"SUM(AN2783:AQ2783)","v":0},null,null,null,null,{"$f":"SUM(AS2783:AV2783)","v":0},null,null,null,null,null,null,{"$f":"SUM(AH2783,AM2783,AR2783)","v":0},{"$f":"SUM(AL2783,AQ2783,AV2783)","v":0},{"$f":"IF(AY2783=0,0,AZ2783/AY2783)","v":0},{"$f":"IF((AY2783+AX2783)=0,0,AX2783/(AX2783+AY2783))","v":0},null,null,null,null,null,null,null,null,null,null,null,null,null,null,null,null,null,null,null,null,null,null,null,null,null,null,null,null,null,null,null,null,null,null,null,null,null,null,null,null,null,{"$f":"((L2783=\"создание\")*7+(L2783=\"расширение\")*7 +(L2783=\"внедрение\")*7+(L2783=\"строительство\")*4+(L2783=\"реконструкция\")*3+(L2783=\"капремонт\")*2 +(L2783=\"приобретение\")*1+(L2783=\"установка\")*1)*10","v":0},null,{"$f":"IF(P2783=\"коммунальная инфраструктура\",(L2783=\"строительство\")*3+(L2783=\"реконструкция\")*2+(L2783=\"капремонт\")*1,0)*10","v":0},null,{"$f":"IF(P2783=\"коммунальная инфраструктура\",(L2783=\"строительство\")*4+(L2783=\"реконструкция\")*3+(L2783=\"капремонт\")*2,0)*10","v":0}]
[null,null,14,{"$f":"IF(AND(D2779<>\"\",G2793<>\"\"),D2779,\"\")","v":""},{"$f":"IF(AND(E2779<>\"\",G2793<>\"\"),E2779,\"\")","v":""},null,null,null,null,null,null,null,null,null,null,null,null,null,{"$f":"IF(Q2793>=2020,R2793-Q2793+1,\"\")","v":""},null,{"$f":"IF(Q2793>=2020,S2793*T2793,\"\")","v":""},null,null,null,null,null,null,null,null,null,null,null,null,{"$f":"SUM(AI2793:AL2793)","v":0},null,null,null,null,{"$f":"SUM(AN2793:AQ2793)","v":0},null,null,null,null,{"$f":"SUM(AS2793:AV2793)","v":0},null,null,null,null,null,null,{"$f":"SUM(AH2793,AM2793,AR2793)","v":0},{"$f":"SUM(AL2793,AQ2793,AV2793)","v":0},{"$f":"IF(AY2793=0,0,AZ2793/AY2793)","v":0},{"$f":"IF((AY2793+AX2793)=0,0,AX2793/(AX2793+AY2793))","v":0},null,null,null,null,null,null,null,null,null,null,null,null,null,null,null,null,null,null,null,null,null,null,null,null,null,null,null,null,null,null,null,null,null,null,null,null,null,null,null,null,null,{"$f":"((L2793=\"создание\")*7+(L2793=\"расширение\")*7 +(L2793=\"внедрение\")*7+(L2793=\"строительство\")*4+(L2793=\"реконструкция\")*3+(L2793=\"капремонт\")*2 +(L2793=\"приобретение\")*1+(L2793=\"установка\")*1)*10","v":0},null,{"$f":"IF(P2793=\"коммунальная инфраструктура\",(L2793=\"строительство\")*3+(L2793=\"реконструкция\")*2+(L2793=\"капремонт\")*1,0)*10","v":0},null,{"$f":"IF(P2793=\"коммунальная инфраструктура\",(L2793=\"строительство\")*4+(L2793=\"реконструкция\")*3+(L2793=\"капремонт\")*2,0)*10","v":0}]
[null,null,16,{"$f":"IF(AND(D2801<>\"\",G2817<>\"\"),D2801,\"\")","v":""},{"$f":"IF(AND(E2801<>\"\",G2817<>\"\"),E2801,\"\")","v":""},null,null,null,null,null,null,null,null,null,null,null,null,null,{"$f":"IF(Q2817>=2020,R2817-Q2817+1,\"\")","v":""},null,{"$f":"IF(Q2817>=2020,S2817*T2817,\"\")","v":""},null,null,null,null,null,null,null,null,null,null,null,null,{"$f":"SUM(AI2817:AL2817)","v":0},null,null,null,null,{"$f":"SUM(AN2817:AQ2817)","v":0},null,null,null,null,{"$f":"SUM(AS2817:AV2817)","v":0},null,null,null,null,null,null,{"$f":"SUM(AH2817,AM2817,AR2817)","v":0},{"$f":"SUM(AL2817,AQ2817,AV2817)","v":0},{"$f":"IF(AY2817=0,0,AZ2817/AY2817)","v":0},{"$f":"IF((AY2817+AX2817)=0,0,AX2817/(AX2817+AY2817))","v":0},null,null,null,null,null,null,null,null,null,null,null,null,null,null,null,null,null,null,null,null,null,null,null,null,null,null,null,null,null,null,null,null,null,null,null,null,null,null,null,null,null,{"$f":"((L2817=\"создание\")*7+(L2817=\"расширение\")*7 +(L2817=\"внедрение\")*7+(L2817=\"строительство\")*4+(L2817=\"реконструкция\")*3+(L2817=\"капремонт\")*2 +(L2817=\"приобретение\")*1+(L2817=\"установка\")*1)*10","v":0},null,{"$f":"IF(P2817=\"коммунальная инфраструктура\",(L2817=\"строительство\")*3+(L2817=\"реконструкция\")*2+(L2817=\"капремонт\")*1,0)*10","v":0},null,{"$f":"IF(P2817=\"коммунальная инфраструктура\",(L2817=\"строительство\")*4+(L2817=\"реконструкция\")*3+(L2817=\"капремонт\")*2,0)*10","v":0}]
[null,null,5,{"$f":"IF(AND(D2823<>\"\",G2828<>\"\"),D2823,\"\")","v":""},{"$f":"IF(AND(E2823<>\"\",G2828<>\"\"),E2823,\"\")","v":""},null,null,null,null,null,null,null,null,null,null,null,null,null,{"$f":"IF(Q2828>=2020,R2828-Q2828+1,\"\")","v":""},null,{"$f":"IF(Q2828>=2020,S2828*T2828,\"\")","v":""},null,null,null,null,null,null,null,null,null,null,null,null,{"$f":"SUM(AI2828:AL2828)","v":0},null,null,null,null,{"$f":"SUM(AN2828:AQ2828)","v":0},null,null,null,null,{"$f":"SUM(AS2828:AV2828)","v":0},null,null,null,null,null,null,{"$f":"SUM(AH2828,AM2828,AR2828)","v":0},{"$f":"SUM(AL2828,AQ2828,AV2828)","v":0},{"$f":"IF(AY2828=0,0,AZ2828/AY2828)","v":0},{"$f":"IF((AY2828+AX2828)=0,0,AX2828/(AX2828+AY2828))","v":0},null,null,null,null,null,null,null,null,null,null,null,null,null,null,null,null,null,null,null,null,null,null,null,null,null,null,null,null,null,null,null,null,null,null,null,null,null,null,null,null,null,{"$f":"((L2828=\"создание\")*7+(L2828=\"расширение\")*7 +(L2828=\"внедрение\")*7+(L2828=\"строительство\")*4+(L2828=\"реконструкция\")*3+(L2828=\"капремонт\")*2 +(L2828=\"приобретение\")*1+(L2828=\"установка\")*1)*10","v":0},null,{"$f":"IF(P2828=\"коммунальная инфраструктура\",(L2828=\"строительство\")*3+(L2828=\"реконструкция\")*2+(L2828=\"капремонт\")*1,0)*10","v":0},null,{"$f":"IF(P2828=\"коммунальная инфраструктура\",(L2828=\"строительство\")*4+(L2828=\"реконструкция\")*3+(L2828=\"капремонт\")*2,0)*10","v":0}]
[130,null,{"$f":"COUNTA(G2846:G2866)","v":0},null,null,null,null,null,null,null,null,null,null,null,null,null,{"$f":"MIN(Q2846:Q2866)","v":0},{"$f":"MAX(R2846:R2866)","v":0},{"$f":"MAX(S2846:S2866)","v":0},null,{"$f":"MAX(U2846:U2866)","v":0},null,null,null,null,null,{"$f":"IF(COUNTIF(AA2846:AA2866,\"НЕТ\")>0,\"ПД!\",\"ок\")","v":"ок"},null,{"$f":"IF(COUNTIF(AC2846:AC2866,\"НЕТ\")>0,\"ДОСМ!\",\"ок\")","v":"ок"},null,{"$f":"IF(COUNTIF(AE2846:AE2866,\"НЕТ\")>0,\"ФОИВ!\",\"ок\")","v":"ок"},{"$f":"IF(COUNTIF(AF2846:AF2866,\"НЕТ\")>0,\"ФОИВ!\",\"ок\")","v":"ок"},null,{"$f":"SUM(AH2846:AH2866)","v":0},{"$f":"SUM(AI2846:AI2866)","v":0},{"$f":"SUM(AJ2846:AJ2866)","v":0},{"$f":"SUM(AK2846:AK2866)","v":0},{"$f":"SUM(AL2846:AL2866)","v":0},{"$f":"SUM(AM2846:AM2866)","v":0},{"$f":"SUM(AN2846:AN2866)","v":0},{"$f":"SUM(AO2846:AO2866)","v":0},{"$f":"SUM(AP2846:AP2866)","v":0},{"$f":"SUM(AQ2846:AQ2866)","v":0},{"$f":"SUM(AR2846:AR2866)","v":0},{"$f":"SUM(AS2846:AS2866)","v":0},{"$f":"SUM(AT2846:AT2866)","v":0},{"$f":"SUM(AU2846:AU2866)","v":0},{"$f":"SUM(AV2846:AV2866)","v":0},{"$f":"SUM(AW2846:AW2866)","v":0},{"$f":"SUM(AX2846:AX2866)","v":0},{"$f":"SUM(AH2845,AM2845,AR2845)","v":0},{"$f":"AL2845+AQ2845+AV2845","v":0},{"$f":"IF(AY2845=0,0,AZ2845/AY2845)","v":0},{"$f":"IF((AY2845+AX2845)=0,0,AX2845/(AX2845+AY2845))","v":0},null,null,{"$f":"IFERROR(BD2845/BC2845,0)","v":0},null,null,{"$f":"IFERROR(BG2845/BF2845,0)","v":0},null,null,{"$f":"IFERROR(BJ2845/BI2845,0)","v":0},null,null,null,{"$f":"(SUM(BL2845:BN2845)>0)*1+(SUM(BL2845:BN2845)>=10)*1+(SUM(BL2845:BN2845)>=50)*1+(SUM(BL2845:BN2845)>=100)*1+(SUM(BL2845:BN2845)>=200)*1+(SUM(BL2845:BN2845)>=300)*1","v":0},{"$f":"IFERROR(SUM(BL2845:BN2845)/BC2845,0)","v":0},null,null,{"$f":"IFERROR(BQ2845/BR2845,0)","v":0},{"$f":"IF(BA2845<0.01,0,IF(BA2845>=0.1,10,ROUNDDOWN(BA2845/0.01,0)))","v":0},8,{"$f":"BT2845*BU2845","v":0},{"$f":"IF(BB2845<0.01,0,IF(BB2845>=0.1,10,ROUNDDOWN(BB2845/0.01,0)))","v":0},8,{"$f":"BW2845*BX2845","v":0},{"$f":"IF(U2845<=1,9,IF(U2845<=2,6,IF(U2845<=3,3,0)))*(C2845>0)","v":0},6,{"$f":"BZ2845*CA2845","v":0},{"$f":"IF(BH2845<0.51,0,10)","v":0},7,{"$f":"CC2845*CD2845","v":0},{"$f":"IF(BE2845<0.1,0,IF(BE2845>=0.9,10,ROUNDDOWN(BE2845/0.1,0)))","v":0},10,{"$f":"CF2845*CG2845","v":0},{"$f":"IF(BK2845<0.1,0,IF(BK2845>=0.6,10,ROUNDDOWN(BK2845/0.1,0)))","v":0},8,{"$f":"CI2845*CJ2845","v":0},{"$f":"IF(BP2845<0.05,0,IF(BP2845>=0.1,10,1))","v":0},10,{"$f":"CL2845*CM2845","v":0},{"$f":"IF(BS2845<0.1,0,IF(BS2845>=0.8,10,ROUNDDOWN(BS2845/0.1,0)))","v":0},10,{"$f":"CP2845*CO2845","v":0},{"$f":"ROUND(IF(C2845=0,0,SUM(CR2846:CR2866)/C2845),1)","v":0},{"$f":"((SUM(BL2845:BN2845)>=1)*1+(SUM(BL2845:BN2845)>=11)*1+(SUM(BL2845:BN2845)>=51)*3+(SUM(BL2845:BN2845)>=101)*2+(SUM(BL2845:BN2845)>=201)*2+(SUM(BL2845:BN2845)>=301)*4)*10","v":0},{"$f":"IFERROR(ROUND(SUM(CT2846:CT2866)/COUNTIF(P2846:P2866,\"коммунальная инфраструктура\"),1),0)","v":0},{"$f":"CS2845+CT2845","v":0},{"$f":"IFERROR(ROUND(SUM(CV2846:CV2866)/COUNTIF(P2846:P2866,\"коммунальная инфраструктура\"),1),0)","v":0},{"$f":"SUM(BV2845,BY2845,CB2845,CE2845,CH2845,CK2845,CN2845,CQ2845,CR2845,CU2845,CV2845)","v":0},{"$f":"VLOOKUP(D2845,РегионыФО,2,0)","v":{"$error":"#N/A"}}]
[131,null,{"$f":"COUNTA(G2868:G2888)","v":0},null,null,null,null,null,null,null,null,null,null,null,null,null,{"$f":"MIN(Q2868:Q2888)","v":0},{"$f":"MAX(R2868:R2888)","v":0},{"$f":"MAX(S2868:S2888)","v":0},null,{"$f":"MAX(U2868:U2888)","v":0},null,null,null,null,null,{"$f":"IF(COUNTIF(AA2868:AA2888,\"НЕТ\")>0,\"ПД!\",\"ок\")","v":"ок"},null,{"$f":"IF(COUNTIF(AC2868:AC2888,\"НЕТ\")>0,\"ДОСМ!\",\"ок\")","v":"ок"},null,{"$f":"IF(COUNTIF(AE2868:AE2888,\"НЕТ\")>0,\"ФОИВ!\",\"ок\")","v":"ок"},{"$f":"IF(COUNTIF(AF2868:AF2888,\"НЕТ\")>0,\"ФОИВ!\",\"ок\")","v":"ок"},null,{"$f":"SUM(AH2868:AH2888)","v":0},{"$f":"SUM(AI2868:AI2888)","v":0},{"$f":"SUM(AJ2868:AJ2888)","v":0},{"$f":"SUM(AK2868:AK2888)","v":0},{"$f":"SUM(AL2868:AL2888)","v":0},{"$f":"SUM(AM2868:AM2888)","v":0},{"$f":"SUM(AN2868:AN2888)","v":0},{"$f":"SUM(AO2868:AO2888)","v":0},{"$f":"SUM(AP2868:AP2888)","v":0},{"$f":"SUM(AQ2868:AQ2888)","v":0},{"$f":"SUM(AR2868:AR2888)","v":0},{"$f":"SUM(AS2868:AS2888)","v":0},{"$f":"SUM(AT2868:AT2888)","v":0},{"$f":"SUM(AU2868:AU2888)","v":0},{"$f":"SUM(AV2868:AV2888)","v":0},{"$f":"SUM(AW2868:AW2888)","v":0},{"$f":"SUM(AX2868:AX2888)","v":0},{"$f":"SUM(AH2867,AM2867,AR2867)","v":0},{"$f":"AL2867+AQ2867+AV2867","v":0},{"$f":"IF(AY2867=0,0,AZ2867/AY2867)","v":0},{"$f":"IF((AY2867+AX2867)=0,0,AX2867/(AX2867+AY2867))","v":0},null,null,{"$f":"IFERROR(BD2867/BC2867,0)","v":0},null,null,{"$f":"IFERROR(BG2867/BF2867,0)","v":0},null,null,{"$f":"IFERROR(BJ2867/BI2867,0)","v":0},null,null,null,{"$f":"(SUM(BL2867:BN2867)>0)*1+(SUM(BL2867:BN2867)>=10)*1+(SUM(BL2867:BN2867)>=50)*1+(SUM(BL2867:BN2867)>=100)*1+(SUM(BL2867:BN2867)>=200)*1+(SUM(BL2867:BN2867)>=300)*1","v":0},{"$f":"IFERROR(SUM(BL2867:BN2867)/BC2867,0)","v":0},null,null,{"$f":"IFERROR(BQ2867/BR2867,0)","v":0},{"$f":"IF(BA2867<0.01,0,IF(BA2867>=0.1,10,ROUNDDOWN(BA2867/0.01,0)))","v":0},8,{"$f":"BT2867*BU2867","v":0},{"$f":"IF(BB2867<0.01,0,IF(BB2867>=0.1,10,ROUNDDOWN(BB2867/0.01,0)))","v":0},8,{"$f":"BW2867*BX2867","v":0},{"$f":"IF(U2867<=1,9,IF(U2867<=2,6,IF(U2867<=3,3,0)))*(C2867>0)","v":0},6,{"$f":"BZ2867*CA2867","v":0},{"$f":"IF(BH2867<0.51,0,10)","v":0},7,{"$f":"CC2867*CD2867","v":0},{"$f":"IF(BE2867<0.1,0,IF(BE2867>=0.9,10,ROUNDDOWN(BE2867/0.1,0)))","v":0},10,{"$f":"CF2867*CG2867","v":0},{"$f":"IF(BK2867<0.1,0,IF(BK2867>=0.6,10,ROUNDDOWN(BK2867/0.1,0)))","v":0},8,{"$f":"CI2867*CJ2867","v":0},{"$f":"IF(BP2867<0.05,0,IF(BP2867>=0.1,10,1))","v":0},10,{"$f":"CL2867*CM2867","v":0},{"$f":"IF(BS2867<0.1,0,IF(BS2867>=0.8,10,ROUNDDOWN(BS2867/0.1,0)))","v":0},10,{"$f":"CP2867*CO2867","v":0},{"$f":"ROUND(IF(C2867=0,0,SUM(CR2868:CR2888)/C2867),1)","v":0},{"$f":"((SUM(BL2867:BN2867)>=1)*1+(SUM(BL2867:BN2867)>=11)*1+(SUM(BL2867:BN2867)>=51)*3+(SUM(BL2867:BN2867)>=101)*2+(SUM(BL2867:BN2867)>=201)*2+(SUM(BL2867:BN2867)>=301)*4)*10","v":0},{"$f":"IFERROR(ROUND(SUM(CT2868:CT2888)/COUNTIF(P2868:P2888,\"коммунальная инфраструктура\"),1),0)","v":0},{"$f":"CS2867+CT2867","v":0},{"$f":"IFERROR(ROUND(SUM(CV2868:CV2888)/COUNTIF(P2868:P2888,\"коммунальная инфраструктура\"),1),0)","v":0},{"$f":"SUM(BV2867,BY2867,CB2867,CE2867,CH2867,CK2867,CN2867,CQ2867,CR2867,CU2867,CV2867)","v":0},{"$f":"VLOOKUP(D2867,РегионыФО,2,0)","v":{"$error":"#N/A"}}]
[null,null,13,{"$f":"IF(AND(D2867<>\"\",G2880<>\"\"),D2867,\"\")","v":""},{"$f":"IF(AND(E2867<>\"\",G2880<>\"\"),E2867,\"\")","v":""},null,null,null,null,null,null,null,null,null,null,null,null,null,{"$f":"IF(Q2880>=2020,R2880-Q2880+1,\"\")","v":""},null,{"$f":"IF(Q2880>=2020,S2880*T2880,\"\")","v":""},null,null,null,null,null,null,null,null,null,null,null,null,{"$f":"SUM(AI2880:AL2880)","v":0},null,null,null,null,{"$f":"SUM(AN2880:AQ2880)","v":0},null,null,null,null,{"$f":"SUM(AS2880:AV2880)","v":0},null,null,null,null,null,null,{"$f":"SUM(AH2880,AM2880,AR2880)","v":0},{"$f":"SUM(AL2880,AQ2880,AV2880)","v":0},{"$f":"IF(AY2880=0,0,AZ2880/AY2880)","v":0},{"$f":"IF((AY2880+AX2880)=0,0,AX2880/(AX2880+AY2880))","v":0},null,null,null,null,null,null,null,null,null,null,null,null,null,null,null,null,null,null,null,null,null,null,null,null,null,null,null,null,null,null,null,null,null,null,null,null,null,null,null,null,null,{"$f":"((L2880=\"создание\")*7+(L2880=\"расширение\")*7 +(L2880=\"внедрение\")*7+(L2880=\"строительство\")*4+(L2880=\"реконструкция\")*3+(L2880=\"капремонт\")*2 +(L2880=\"приобретение\")*1+(L2880=\"установка\")*1)*10","v":0},null,{"$f":"IF(P2880=\"коммунальная инфраструктура\",(L2880=\"строительство\")*3+(L2880=\"реконструкция\")*2+(L2880=\"капремонт\")*1,0)*10","v":0},null,{"$f":"IF(P2880=\"коммунальная инфраструктура\",(L2880=\"строительство\")*4+(L2880=\"реконструкция\")*3+(L2880=\"капремонт\")*2,0)*10","v":0}]
[null,null,8,{"$f":"IF(AND(D2889<>\"\",G2897<>\"\"),D2889,\"\")","v":""},{"$f":"IF(AND(E2889<>\"\",G2897<>\"\"),E2889,\"\")","v":""},null,null,null,null,null,null,null,null,null,null,null,null,null,{"$f":"IF(Q2897>=2020,R2897-Q2897+1,\"\")","v":""},null,{"$f":"IF(Q2897>=2020,S2897*T2897,\"\")","v":""},null,null,null,null,null,null,null,null,null,null,null,null,{"$f":"SUM(AI2897:AL2897)","v":0},null,null,null,null,{"$f":"SUM(AN2897:AQ2897)","v":0},null,null,null,null,{"$f":"SUM(AS2897:AV2897)","v":0},null,null,null,null,null,null,{"$f":"SUM(AH2897,AM2897,AR2897)","v":0},{"$f":"SUM(AL2897,AQ2897,AV2897)","v":0},{"$f":"IF(AY2897=0,0,AZ2897/AY2897)","v":0},{"$f":"IF((AY2897+AX2897)=0,0,AX2897/(AX2897+AY2897))","v":0},null,null,null,null,null,null,null,null,null,null,null,null,null,null,null,null,null,null,null,null,null,null,null,null,null,null,null,null,null,null,null,null,null,null,null,null,null,null,null,null,null,{"$f":"((L2897=\"создание\")*7+(L2897=\"расширение\")*7 +(L2897=\"внедрение\")*7+(L2897=\"строительство\")*4+(L2897=\"реконструкция\")*3+(L2897=\"капремонт\")*2 +(L2897=\"приобретение\")*1+(L2897=\"установка\")*1)*10","v":0},null,{"$f":"IF(P2897=\"коммунальная инфраструктура\",(L2897=\"строительство\")*3+(L2897=\"реконструкция\")*2+(L2897=\"капремонт\")*1,0)*10","v":0},null,{"$f":"IF(P2897=\"коммунальная инфраструктура\",(L2897=\"строительство\")*4+(L2897=\"реконструкция\")*3+(L2897=\"капремонт\")*2,0)*10","v":0}]
[null,null,6,{"$f":"IF(AND(D2911<>\"\",G2917<>\"\"),D2911,\"\")","v":""},{"$f":"IF(AND(E2911<>\"\",G2917<>\"\"),E2911,\"\")","v":""},null,null,null,null,null,null,null,null,null,null,null,null,null,{"$f":"IF(Q2917>=2020,R2917-Q2917+1,\"\")","v":""},null,{"$f":"IF(Q2917>=2020,S2917*T2917,\"\")","v":""},null,null,null,null,null,null,null,null,null,null,null,null,{"$f":"SUM(AI2917:AL2917)","v":0},null,null,null,null,{"$f":"SUM(AN2917:AQ2917)","v":0},null,null,null,null,{"$f":"SUM(AS2917:AV2917)","v":0},null,null,null,null,null,null,{"$f":"SUM(AH2917,AM2917,AR2917)","v":0},{"$f":"SUM(AL2917,AQ2917,AV2917)","v":0},{"$f":"IF(AY2917=0,0,AZ2917/AY2917)","v":0},{"$f":"IF((AY2917+AX2917)=0,0,AX2917/(AX2917+AY2917))","v":0},null,null,null,null,null,null,null,null,null,null,null,null,null,null,null,null,null,null,null,null,null,null,null,null,null,null,null,null,null,null,null,null,null,null,null,null,null,null,null,null,null,{"$f":"((L2917=\"создание\")*7+(L2917=\"расширение\")*7 +(L2917=\"внедрение\")*7+(L2917=\"строительство\")*4+(L2917=\"реконструкция\")*3+(L2917=\"капремонт\")*2 +(L2917=\"приобретение\")*1+(L2917=\"установка\")*1)*10","v":0},null,{"$f":"IF(P2917=\"коммунальная инфраструктура\",(L2917=\"строительство\")*3+(L2917=\"реконструкция\")*2+(L2917=\"капремонт\")*1,0)*10","v":0},null,{"$f":"IF(P2917=\"коммунальная инфраструктура\",(L2917=\"строительство\")*4+(L2917=\"реконструкция\")*3+(L2917=\"капремонт\")*2,0)*10","v":0}]
[null,null,"…",{"$f":"IF(AND(D2911<>\"\",G2932<>\"\"),D2911,\"\")","v":""},{"$f":"IF(AND(E2911<>\"\",G2932<>\"\"),E2911,\"\")","v":""},null,null,null,null,null,null,null,null,null,null,null,null,null,{"$f":"IF(Q2932>=2020,R2932-Q2932+1,\"\")","v":""},null,{"$f":"IF(Q2932>=2020,S2932*T2932,\"\")","v":""},null,null,null,null,null,null,null,null,null,null,null,null,{"$f":"SUM(AI2932:AL2932)","v":0},null,null,null,null,{"$f":"SUM(AN2932:AQ2932)","v":0},null,null,null,null,{"$f":"SUM(AS2932:AV2932)","v":0},null,null,null,null,null,null,{"$f":"SUM(AH2932,AM2932,AR2932)","v":0},{"$f":"SUM(AL2932,AQ2932,AV2932)","v":0},{"$f":"IF(AY2932=0,0,AZ2932/AY2932)","v":0},{"$f":"IF((AY2932+AX2932)=0,0,AX2932/(AX2932+AY2932))","v":0},null,null,null,null,null,null,null,null,null,null,null,null,null,null,null,null,null,null,null,null,null,null,null,null,null,null,null,null,null,null,null,null,null,null,null,null,null,null,null,null,null,{"$f":"((L2932=\"создание\")*7+(L2932=\"расширение\")*7 +(L2932=\"внедрение\")*7+(L2932=\"строительство\")*4+(L2932=\"реконструкция\")*3+(L2932=\"капремонт\")*2 +(L2932=\"приобретение\")*1+(L2932=\"установка\")*1)*10","v":0},null,{"$f":"IF(P2932=\"коммунальная инфраструктура\",(L2932=\"строительство\")*3+(L2932=\"реконструкция\")*2+(L2932=\"капремонт\")*1,0)*10","v":0},null,{"$f":"IF(P2932=\"коммунальная инфраструктура\",(L2932=\"строительство\")*4+(L2932=\"реконструкция\")*3+(L2932=\"капремонт\")*2,0)*10","v":0}]
[null,null,18,{"$f":"IF(AND(D2933<>\"\",G2951<>\"\"),D2933,\"\")","v":""},{"$f":"IF(AND(E2933<>\"\",G2951<>\"\"),E2933,\"\")","v":""},null,null,null,null,null,null,null,null,null,null,null,null,null,{"$f":"IF(Q2951>=2020,R2951-Q2951+1,\"\")","v":""},null,{"$f":"IF(Q2951>=2020,S2951*T2951,\"\")","v":""},null,null,null,null,null,null,null,null,null,null,null,null,{"$f":"SUM(AI2951:AL2951)","v":0},null,null,null,null,{"$f":"SUM(AN2951:AQ2951)","v":0},null,null,null,null,{"$f":"SUM(AS2951:AV2951)","v":0},null,null,null,null,null,null,{"$f":"SUM(AH2951,AM2951,AR2951)","v":0},{"$f":"SUM(AL2951,AQ2951,AV2951)","v":0},{"$f":"IF(AY2951=0,0,AZ2951/AY2951)","v":0},{"$f":"IF((AY2951+AX2951)=0,0,AX2951/(AX2951+AY2951))","v":0},null,null,null,null,null,null,null,null,null,null,null,null,null,null,null,null,null,null,null,null,null,null,null,null,null,null,null,null,null,null,null,null,null,null,null,null,null,null,null,null,null,{"$f":"((L2951=\"создание\")*7+(L2951=\"расширение\")*7 +(L2951=\"внедрение\")*7+(L2951=\"строительство\")*4+(L2951=\"реконструкция\")*3+(L2951=\"капремонт\")*2 +(L2951=\"приобретение\")*1+(L2951=\"установка\")*1)*10","v":0},null,{"$f":"IF(P2951=\"коммунальная инфраструктура\",(L2951=\"строительство\")*3+(L2951=\"реконструкция\")*2+(L2951=\"капремонт\")*1,0)*10","v":0},null,{"$f":"IF(P2951=\"коммунальная инфраструктура\",(L2951=\"строительство\")*4+(L2951=\"реконструкция\")*3+(L2951=\"капремонт\")*2,0)*10","v":0}]
[null,null,12,{"$f":"IF(AND(D2955<>\"\",G2967<>\"\"),D2955,\"\")","v":""},{"$f":"IF(AND(E2955<>\"\",G2967<>\"\"),E2955,\"\")","v":""},null,null,null,null,null,null,null,null,null,null,null,null,null,{"$f":"IF(Q2967>=2020,R2967-Q2967+1,\"\")","v":""},null,{"$f":"IF(Q2967>=2020,S2967*T2967,\"\")","v":""},null,null,null,null,null,null,null,null,null,null,null,null,{"$f":"SUM(AI2967:AL2967)","v":0},null,null,null,null,{"$f":"SUM(AN2967:AQ2967)","v":0},null,null,null,null,{"$f":"SUM(AS2967:AV2967)","v":0},null,null,null,null,null,null,{"$f":"SUM(AH2967,AM2967,AR2967)","v":0},{"$f":"SUM(AL2967,AQ2967,AV2967)","v":0},{"$f":"IF(AY2967=0,0,AZ2967/AY2967)","v":0},{"$f":"IF((AY2967+AX2967)=0,0,AX2967/(AX2967+AY2967))","v":0},null,null,null,null,null,null,null,null,null,null,null,null,null,null,null,null,null,null,null,null,null,null,null,null,null,null,null,null,null,null,null,null,null,null,null,null,null,null,null,null,null,{"$f":"((L2967=\"создание\")*7+(L2967=\"расширение\")*7 +(L2967=\"внедрение\")*7+(L2967=\"строительство\")*4+(L2967=\"реконструкция\")*3+(L2967=\"капремонт\")*2 +(L2967=\"приобретение\")*1+(L2967=\"установка\")*1)*10","v":0},null,{"$f":"IF(P2967=\"коммунальная инфраструктура\",(L2967=\"строительство\")*3+(L2967=\"реконструкция\")*2+(L2967=\"капремонт\")*1,0)*10","v":0},null,{"$f":"IF(P2967=\"коммунальная инфраструктура\",(L2967=\"строительство\")*4+(L2967=\"реконструкция\")*3+(L2967=\"капремонт\")*2,0)*10","v":0}]
[null,null,7,{"$f":"IF(AND(D2977<>\"\",G2984<>\"\"),D2977,\"\")","v":""},{"$f":"IF(AND(E2977<>\"\",G2984<>\"\"),E2977,\"\")","v":""},null,null,null,null,null,null,null,null,null,null,null,null,null,{"$f":"IF(Q2984>=2020,R2984-Q2984+1,\"\")","v":""},null,{"$f":"IF(Q2984>=2020,S2984*T2984,\"\")","v":""},null,null,null,null,null,null,null,null,null,null,null,null,{"$f":"SUM(AI2984:AL2984)","v":0},null,null,null,null,{"$f":"SUM(AN2984:AQ2984)","v":0},null,null,null,null,{"$f":"SUM(AS2984:AV2984)","v":0},null,null,null,null,null,null,{"$f":"SUM(AH2984,AM2984,AR2984)","v":0},{"$f":"SUM(AL2984,AQ2984,AV2984)","v":0},{"$f":"IF(AY2984=0,0,AZ2984/AY2984)","v":0},{"$f":"IF((AY2984+AX2984)=0,0,AX2984/(AX2984+AY2984))","v":0},null,null,null,null,null,null,null,null,null,null,null,null,null,null,null,null,null,null,null,null,null,null,null,null,null,null,null,null,null,null,null,null,null,null,null,null,null,null,null,null,null,{"$f":"((L2984=\"создание\")*7+(L2984=\"расширение\")*7 +(L2984=\"внедрение\")*7+(L2984=\"строительство\")*4+(L2984=\"реконструкция\")*3+(L2984=\"капремонт\")*2 +(L2984=\"приобретение\")*1+(L2984=\"установка\")*1)*10","v":0},null,{"$f":"IF(P2984=\"коммунальная инфраструктура\",(L2984=\"строительство\")*3+(L2984=\"реконструкция\")*2+(L2984=\"капремонт\")*1,0)*10","v":0},null,{"$f":"IF(P2984=\"коммунальная инфраструктура\",(L2984=\"строительство\")*4+(L2984=\"реконструкция\")*3+(L2984=\"капремонт\")*2,0)*10","v":0}]
[null,null,2,{"$f":"IF(AND(D2999<>\"\",G3001<>\"\"),D2999,\"\")","v":""},{"$f":"IF(AND(E2999<>\"\",G3001<>\"\"),E2999,\"\")","v":""},null,null,null,null,null,null,null,null,null,null,null,null,null,{"$f":"IF(Q3001>=2020,R3001-Q3001+1,\"\")","v":""},null,{"$f":"IF(Q3001>=2020,S3001*T3001,\"\")","v":""},null,null,null,null,null,null,null,null,null,null,null,null,{"$f":"SUM(AI3001:AL3001)","v":0},null,null,null,null,{"$f":"SUM(AN3001:AQ3001)","v":0},null,null,null,null,{"$f":"SUM(AS3001:AV3001)","v":0},null,null,null,null,null,null,{"$f":"SUM(AH3001,AM3001,AR3001)","v":0},{"$f":"SUM(AL3001,AQ3001,AV3001)","v":0},{"$f":"IF(AY3001=0,0,AZ3001/AY3001)","v":0},{"$f":"IF((AY3001+AX3001)=0,0,AX3001/(AX3001+AY3001))","v":0},null,null,null,null,null,null,null,null,null,null,null,null,null,null,null,null,null,null,null,null,null,null,null,null,null,null,null,null,null,null,null,null,null,null,null,null,null,null,null,null,null,{"$f":"((L3001=\"создание\")*7+(L3001=\"расширение\")*7 +(L3001=\"внедрение\")*7+(L3001=\"строительство\")*4+(L3001=\"реконструкция\")*3+(L3001=\"капремонт\")*2 +(L3001=\"приобретение\")*1+(L3001=\"установка\")*1)*10","v":0},null,{"$f":"IF(P3001=\"коммунальная инфраструктура\",(L3001=\"строительство\")*3+(L3001=\"реконструкция\")*2+(L3001=\"капремонт\")*1,0)*10","v":0},null,{"$f":"IF(P3001=\"коммунальная инфраструктура\",(L3001=\"строительство\")*4+(L3001=\"реконструкция\")*3+(L3001=\"капремонт\")*2,0)*10","v":0}]
[null,null,4,{"$f":"IF(AND(D2999<>\"\",G3003<>\"\"),D2999,\"\")","v":""},{"$f":"IF(AND(E2999<>\"\",G3003<>\"\"),E2999,\"\")","v":""},null,null,null,null,null,null,null,null,null,null,null,null,null,{"$f":"IF(Q3003>=2020,R3003-Q3003+1,\"\")","v":""},null,{"$f":"IF(Q3003>=2020,S3003*T3003,\"\")","v":""},null,null,null,null,null,null,null,null,null,null,null,null,{"$f":"SUM(AI3003:AL3003)","v":0},null,null,null,null,{"$f":"SUM(AN3003:AQ3003)","v":0},null,null,null,null,{"$f":"SUM(AS3003:AV3003)","v":0},null,null,null,null,null,null,{"$f":"SUM(AH3003,AM3003,AR3003)","v":0},{"$f":"SUM(AL3003,AQ3003,AV3003)","v":0},{"$f":"IF(AY3003=0,0,AZ3003/AY3003)","v":0},{"$f":"IF((AY3003+AX3003)=0,0,AX3003/(AX3003+AY3003))","v":0},null,null,null,null,null,null,null,null,null,null,null,null,null,null,null,null,null,null,null,null,null,null,null,null,null,null,null,null,null,null,null,null,null,null,null,null,null,null,null,null,null,{"$f":"((L3003=\"создание\")*7+(L3003=\"расширение\")*7 +(L3003=\"внедрение\")*7+(L3003=\"строительство\")*4+(L3003=\"реконструкция\")*3+(L3003=\"капремонт\")*2 +(L3003=\"приобретение\")*1+(L3003=\"установка\")*1)*10","v":0},null,{"$f":"IF(P3003=\"коммунальная инфраструктура\",(L3003=\"строительство\")*3+(L3003=\"реконструкция\")*2+(L3003=\"капремонт\")*1,0)*10","v":0},null,{"$f":"IF(P3003=\"коммунальная инфраструктура\",(L3003=\"строительство\")*4+(L3003=\"реконструкция\")*3+(L3003=\"капремонт\")*2,0)*10","v":0}]
[null,null,"…",{"$f":"IF(AND(D2999<>\"\",G3020<>\"\"),D2999,\"\")","v":""},{"$f":"IF(AND(E2999<>\"\",G3020<>\"\"),E2999,\"\")","v":""},null,null,null,null,null,null,null,null,null,null,null,null,null,{"$f":"IF(Q3020>=2020,R3020-Q3020+1,\"\")","v":""},null,{"$f":"IF(Q3020>=2020,S3020*T3020,\"\")","v":""},null,null,null,null,null,null,null,null,null,null,null,null,{"$f":"SUM(AI3020:AL3020)","v":0},null,null,null,null,{"$f":"SUM(AN3020:AQ3020)","v":0},null,null,null,null,{"$f":"SUM(AS3020:AV3020)","v":0},null,null,null,null,null,null,{"$f":"SUM(AH3020,AM3020,AR3020)","v":0},{"$f":"SUM(AL3020,AQ3020,AV3020)","v":0},{"$f":"IF(AY3020=0,0,AZ3020/AY3020)","v":0},{"$f":"IF((AY3020+AX3020)=0,0,AX3020/(AX3020+AY3020))","v":0},null,null,null,null,null,null,null,null,null,null,null,null,null,null,null,null,null,null,null,null,null,null,null,null,null,null,null,null,null,null,null,null,null,null,null,null,null,null,null,null,null,{"$f":"((L3020=\"создание\")*7+(L3020=\"расширение\")*7 +(L3020=\"внедрение\")*7+(L3020=\"строительство\")*4+(L3020=\"реконструкция\")*3+(L3020=\"капремонт\")*2 +(L3020=\"приобретение\")*1+(L3020=\"установка\")*1)*10","v":0},null,{"$f":"IF(P3020=\"коммунальная инфраструктура\",(L3020=\"строительство\")*3+(L3020=\"реконструкция\")*2+(L3020=\"капремонт\")*1,0)*10","v":0},null,{"$f":"IF(P3020=\"коммунальная инфраструктура\",(L3020=\"строительство\")*4+(L3020=\"реконструкция\")*3+(L3020=\"капремонт\")*2,0)*10","v":0}]
[null,null,13,{"$f":"IF(AND(D3021<>\"\",G3034<>\"\"),D3021,\"\")","v":""},{"$f":"IF(AND(E3021<>\"\",G3034<>\"\"),E3021,\"\")","v":""},null,null,null,null,null,null,null,null,null,null,null,null,null,{"$f":"IF(Q3034>=2020,R3034-Q3034+1,\"\")","v":""},null,{"$f":"IF(Q3034>=2020,S3034*T3034,\"\")","v":""},null,null,null,null,null,null,null,null,null,null,null,null,{"$f":"SUM(AI3034:AL3034)","v":0},null,null,null,null,{"$f":"SUM(AN3034:AQ3034)","v":0},null,null,null,null,{"$f":"SUM(AS3034:AV3034)","v":0},null,null,null,null,null,null,{"$f":"SUM(AH3034,AM3034,AR3034)","v":0},{"$f":"SUM(AL3034,AQ3034,AV3034)","v":0},{"$f":"IF(AY3034=0,0,AZ3034/AY3034)","v":0},{"$f":"IF((AY3034+AX3034)=0,0,AX3034/(AX3034+AY3034))","v":0},null,null,null,null,null,null,null,null,null,null,null,null,null,null,null,null,null,null,null,null,null,null,null,null,null,null,null,null,null,null,null,null,null,null,null,null,null,null,null,null,null,{"$f":"((L3034=\"создание\")*7+(L3034=\"расширение\")*7 +(L3034=\"внедрение\")*7+(L3034=\"строительство\")*4+(L3034=\"реконструкция\")*3+(L3034=\"капремонт\")*2 +(L3034=\"приобретение\")*1+(L3034=\"установка\")*1)*10","v":0},null,{"$f":"IF(P3034=\"коммунальная инфраструктура\",(L3034=\"строительство\")*3+(L3034=\"реконструкция\")*2+(L3034=\"капремонт\")*1,0)*10","v":0},null,{"$f":"IF(P3034=\"коммунальная инфраструктура\",(L3034=\"строительство\")*4+(L3034=\"реконструкция\")*3+(L3034=\"капремонт\")*2,0)*10","v":0}]
[null,null,12,{"$f":"IF(AND(D3043<>\"\",G3055<>\"\"),D3043,\"\")","v":""},{"$f":"IF(AND(E3043<>\"\",G3055<>\"\"),E3043,\"\")","v":""},null,null,null,null,null,null,null,null,null,null,null,null,null,{"$f":"IF(Q3055>=2020,R3055-Q3055+1,\"\")","v":""},null,{"$f":"IF(Q3055>=2020,S3055*T3055,\"\")","v":""},null,null,null,null,null,null,null,null,null,null,null,null,{"$f":"SUM(AI3055:AL3055)","v":0},null,null,null,null,{"$f":"SUM(AN3055:AQ3055)","v":0},null,null,null,null,{"$f":"SUM(AS3055:AV3055)","v":0},null,null,null,null,null,null,{"$f":"SUM(AH3055,AM3055,AR3055)","v":0},{"$f":"SUM(AL3055,AQ3055,AV3055)","v":0},{"$f":"IF(AY3055=0,0,AZ3055/AY3055)","v":0},{"$f":"IF((AY3055+AX3055)=0,0,AX3055/(AX3055+AY3055))","v":0},null,null,null,null,null,null,null,null,null,null,null,null,null,null,null,null,null,null,null,null,null,null,null,null,null,null,null,null,null,null,null,null,null,null,null,null,null,null,null,null,null,{"$f":"((L3055=\"создание\")*7+(L3055=\"расширение\")*7 +(L3055=\"внедрение\")*7+(L3055=\"строительство\")*4+(L3055=\"реконструкция\")*3+(L3055=\"капремонт\")*2 +(L3055=\"приобретение\")*1+(L3055=\"установка\")*1)*10","v":0},null,{"$f":"IF(P3055=\"коммунальная инфраструктура\",(L3055=\"строительство\")*3+(L3055=\"реконструкция\")*2+(L3055=\"капремонт\")*1,0)*10","v":0},null,{"$f":"IF(P3055=\"коммунальная инфраструктура\",(L3055=\"строительство\")*4+(L3055=\"реконструкция\")*3+(L3055=\"капремонт\")*2,0)*10","v":0}]
[null,null,3,{"$f":"IF(AND(D3065<>\"\",G3068<>\"\"),D3065,\"\")","v":""},{"$f":"IF(AND(E3065<>\"\",G3068<>\"\"),E3065,\"\")","v":""},null,null,null,null,null,null,null,null,null,null,null,null,null,{"$f":"IF(Q3068>=2020,R3068-Q3068+1,\"\")","v":""},null,{"$f":"IF(Q3068>=2020,S3068*T3068,\"\")","v":""},null,null,null,null,null,null,null,null,null,null,null,null,{"$f":"SUM(AI3068:AL3068)","v":0},null,null,null,null,{"$f":"SUM(AN3068:AQ3068)","v":0},null,null,null,null,{"$f":"SUM(AS3068:AV3068)","v":0},null,null,null,null,null,null,{"$f":"SUM(AH3068,AM3068,AR3068)","v":0},{"$f":"SUM(AL3068,AQ3068,AV3068)","v":0},{"$f":"IF(AY3068=0,0,AZ3068/AY3068)","v":0},{"$f":"IF((AY3068+AX3068)=0,0,AX3068/(AX3068+AY3068))","v":0},null,null,null,null,null,null,null,null,null,null,null,null,null,null,null,null,null,null,null,null,null,null,null,null,null,null,null,null,null,null,null,null,null,null,null,null,null,null,null,null,null,{"$f":"((L3068=\"создание\")*7+(L3068=\"расширение\")*7 +(L3068=\"внедрение\")*7+(L3068=\"строительство\")*4+(L3068=\"реконструкция\")*3+(L3068=\"капремонт\")*2 +(L3068=\"приобретение\")*1+(L3068=\"установка\")*1)*10","v":0},null,{"$f":"IF(P3068=\"коммунальная инфраструктура\",(L3068=\"строительство\")*3+(L3068=\"реконструкция\")*2+(L3068=\"капремонт\")*1,0)*10","v":0},null,{"$f":"IF(P3068=\"коммунальная инфраструктура\",(L3068=\"строительство\")*4+(L3068=\"реконструкция\")*3+(L3068=\"капремонт\")*2,0)*10","v":0}]
[null,null,3,{"$f":"IF(AND(D3087<>\"\",G3090<>\"\"),D3087,\"\")","v":""},{"$f":"IF(AND(E3087<>\"\",G3090<>\"\"),E3087,\"\")","v":""},null,null,null,null,null,null,null,null,null,null,null,null,null,{"$f":"IF(Q3090>=2020,R3090-Q3090+1,\"\")","v":""},null,{"$f":"IF(Q3090>=2020,S3090*T3090,\"\")","v":""},null,null,null,null,null,null,null,null,null,null,null,null,{"$f":"SUM(AI3090:AL3090)","v":0},null,null,null,null,{"$f":"SUM(AN3090:AQ3090)","v":0},null,null,null,null,{"$f":"SUM(AS3090:AV3090)","v":0},null,null,null,null,null,null,{"$f":"SUM(AH3090,AM3090,AR3090)","v":0},{"$f":"SUM(AL3090,AQ3090,AV3090)","v":0},{"$f":"IF(AY3090=0,0,AZ3090/AY3090)","v":0},{"$f":"IF((AY3090+AX3090)=0,0,AX3090/(AX3090+AY3090))","v":0},null,null,null,null,null,null,null,null,null,null,null,null,null,null,null,null,null,null,null,null,null,null,null,null,null,null,null,null,null,null,null,null,null,null,null,null,null,null,null,null,null,{"$f":"((L3090=\"создание\")*7+(L3090=\"расширение\")*7 +(L3090=\"внедрение\")*7+(L3090=\"строительство\")*4+(L3090=\"реконструкция\")*3+(L3090=\"капремонт\")*2 +(L3090=\"приобретение\")*1+(L3090=\"установка\")*1)*10","v":0},null,{"$f":"IF(P3090=\"коммунальная инфраструктура\",(L3090=\"строительство\")*3+(L3090=\"реконструкция\")*2+(L3090=\"капремонт\")*1,0)*10","v":0},null,{"$f":"IF(P3090=\"коммунальная инфраструктура\",(L3090=\"строительство\")*4+(L3090=\"реконструкция\")*3+(L3090=\"капремонт\")*2,0)*10","v":0}]
[null,null,20,{"$f":"IF(AND(D3087<>\"\",G3107<>\"\"),D3087,\"\")","v":""},{"$f":"IF(AND(E3087<>\"\",G3107<>\"\"),E3087,\"\")","v":""},null,null,null,null,null,null,null,null,null,null,null,null,null,{"$f":"IF(Q3107>=2020,R3107-Q3107+1,\"\")","v":""},null,{"$f":"IF(Q3107>=2020,S3107*T3107,\"\")","v":""},null,null,null,null,null,null,null,null,null,null,null,null,{"$f":"SUM(AI3107:AL3107)","v":0},null,null,null,null,{"$f":"SUM(AN3107:AQ3107)","v":0},null,null,null,null,{"$f":"SUM(AS3107:AV3107)","v":0},null,null,null,null,null,null,{"$f":"SUM(AH3107,AM3107,AR3107)","v":0},{"$f":"SUM(AL3107,AQ3107,AV3107)","v":0},{"$f":"IF(AY3107=0,0,AZ3107/AY3107)","v":0},{"$f":"IF((AY3107+AX3107)=0,0,AX3107/(AX3107+AY3107))","v":0},null,null,null,null,null,null,null,null,null,null,null,null,null,null,null,null,null,null,null,null,null,null,null,null,null,null,null,null,null,null,null,null,null,null,null,null,null,null,null,null,null,{"$f":"((L3107=\"создание\")*7+(L3107=\"расширение\")*7 +(L3107=\"внедрение\")*7+(L3107=\"строительство\")*4+(L3107=\"реконструкция\")*3+(L3107=\"капремонт\")*2 +(L3107=\"приобретение\")*1+(L3107=\"установка\")*1)*10","v":0},null,{"$f":"IF(P3107=\"коммунальная инфраструктура\",(L3107=\"строительство\")*3+(L3107=\"реконструкция\")*2+(L3107=\"капремонт\")*1,0)*10","v":0},null,{"$f":"IF(P3107=\"коммунальная инфраструктура\",(L3107=\"строительство\")*4+(L3107=\"реконструкция\")*3+(L3107=\"капремонт\")*2,0)*10","v":0}]
[null,null,9,{"$f":"IF(AND(D3109<>\"\",G3118<>\"\"),D3109,\"\")","v":""},{"$f":"IF(AND(E3109<>\"\",G3118<>\"\"),E3109,\"\")","v":""},null,null,null,null,null,null,null,null,null,null,null,null,null,{"$f":"IF(Q3118>=2020,R3118-Q3118+1,\"\")","v":""},null,{"$f":"IF(Q3118>=2020,S3118*T3118,\"\")","v":""},null,null,null,null,null,null,null,null,null,null,null,null,{"$f":"SUM(AI3118:AL3118)","v":0},null,null,null,null,{"$f":"SUM(AN3118:AQ3118)","v":0},null,null,null,null,{"$f":"SUM(AS3118:AV3118)","v":0},null,null,null,null,null,null,{"$f":"SUM(AH3118,AM3118,AR3118)","v":0},{"$f":"SUM(AL3118,AQ3118,AV3118)","v":0},{"$f":"IF(AY3118=0,0,AZ3118/AY3118)","v":0},{"$f":"IF((AY3118+AX3118)=0,0,AX3118/(AX3118+AY3118))","v":0},null,null,null,null,null,null,null,null,null,null,null,null,null,null,null,null,null,null,null,null,null,null,null,null,null,null,null,null,null,null,null,null,null,null,null,null,null,null,null,null,null,{"$f":"((L3118=\"создание\")*7+(L3118=\"расширение\")*7 +(L3118=\"внедрение\")*7+(L3118=\"строительство\")*4+(L3118=\"реконструкция\")*3+(L3118=\"капремонт\")*2 +(L3118=\"приобретение\")*1+(L3118=\"установка\")*1)*10","v":0},null,{"$f":"IF(P3118=\"коммунальная инфраструктура\",(L3118=\"строительство\")*3+(L3118=\"реконструкция\")*2+(L3118=\"капремонт\")*1,0)*10","v":0},null,{"$f":"IF(P3118=\"коммунальная инфраструктура\",(L3118=\"строительство\")*4+(L3118=\"реконструкция\")*3+(L3118=\"капремонт\")*2,0)*10","v":0}]
[null,null,11,{"$f":"IF(AND(D3131<>\"\",G3142<>\"\"),D3131,\"\")","v":""},{"$f":"IF(AND(E3131<>\"\",G3142<>\"\"),E3131,\"\")","v":""},null,null,null,null,null,null,null,null,null,null,null,null,null,{"$f":"IF(Q3142>=2020,R3142-Q3142+1,\"\")","v":""},null,{"$f":"IF(Q3142>=2020,S3142*T3142,\"\")","v":""},null,null,null,null,null,null,null,null,null,null,null,null,{"$f":"SUM(AI3142:AL3142)","v":0},null,null,null,null,{"$f":"SUM(AN3142:AQ3142)","v":0},null,null,null,null,{"$f":"SUM(AS3142:AV3142)","v":0},null,null,null,null,null,null,{"$f":"SUM(AH3142,AM3142,AR3142)","v":0},{"$f":"SUM(AL3142,AQ3142,AV3142)","v":0},{"$f":"IF(AY3142=0,0,AZ3142/AY3142)","v":0},{"$f":"IF((AY3142+AX3142)=0,0,AX3142/(AX3142+AY3142))","v":0},null,null,null,null,null,null,null,null,null,null,null,null,null,null,null,null,null,null,null,null,null,null,null,null,null,null,null,null,null,null,null,null,null,null,null,null,null,null,null,null,null,{"$f":"((L3142=\"создание\")*7+(L3142=\"расширение\")*7 +(L3142=\"внедрение\")*7+(L3142=\"строительство\")*4+(L3142=\"реконструкция\")*3+(L3142=\"капремонт\")*2 +(L3142=\"приобретение\")*1+(L3142=\"установка\")*1)*10","v":0},null,{"$f":"IF(P3142=\"коммунальная инфраструктура\",(L3142=\"строительство\")*3+(L3142=\"реконструкция\")*2+(L3142=\"капремонт\")*1,0)*10","v":0},null,{"$f":"IF(P3142=\"коммунальная инфраструктура\",(L3142=\"строительство\")*4+(L3142=\"реконструкция\")*3+(L3142=\"капремонт\")*2,0)*10","v":0}]
[null,null,6,{"$f":"IF(AND(D3153<>\"\",G3159<>\"\"),D3153,\"\")","v":""},{"$f":"IF(AND(E3153<>\"\",G3159<>\"\"),E3153,\"\")","v":""},null,null,null,null,null,null,null,null,null,null,null,null,null,{"$f":"IF(Q3159>=2020,R3159-Q3159+1,\"\")","v":""},null,{"$f":"IF(Q3159>=2020,S3159*T3159,\"\")","v":""},null,null,null,null,null,null,null,null,null,null,null,null,{"$f":"SUM(AI3159:AL3159)","v":0},null,null,null,null,{"$f":"SUM(AN3159:AQ3159)","v":0},null,null,null,null,{"$f":"SUM(AS3159:AV3159)","v":0},null,null,null,null,null,null,{"$f":"SUM(AH3159,AM3159,AR3159)","v":0},{"$f":"SUM(AL3159,AQ3159,AV3159)","v":0},{"$f":"IF(AY3159=0,0,AZ3159/AY3159)","v":0},{"$f":"IF((AY3159+AX3159)=0,0,AX3159/(AX3159+AY3159))","v":0},null,null,null,null,null,null,null,null,null,null,null,null,null,null,null,null,null,null,null,null,null,null,null,null,null,null,null,null,null,null,null,null,null,null,null,null,null,null,null,null,null,{"$f":"((L3159=\"создание\")*7+(L3159=\"расширение\")*7 +(L3159=\"внедрение\")*7+(L3159=\"строительство\")*4+(L3159=\"реконструкция\")*3+(L3159=\"капремонт\")*2 +(L3159=\"приобретение\")*1+(L3159=\"установка\")*1)*10","v":0},null,{"$f":"IF(P3159=\"коммунальная инфраструктура\",(L3159=\"строительство\")*3+(L3159=\"реконструкция\")*2+(L3159=\"капремонт\")*1,0)*10","v":0},null,{"$f":"IF(P3159=\"коммунальная инфраструктура\",(L3159=\"строительство\")*4+(L3159=\"реконструкция\")*3+(L3159=\"капремонт\")*2,0)*10","v":0}]
[null,null,15,{"$f":"IF(AND(D3153<>\"\",G3168<>\"\"),D3153,\"\")","v":""},{"$f":"IF(AND(E3153<>\"\",G3168<>\"\"),E3153,\"\")","v":""},null,null,null,null,null,null,null,null,null,null,null,null,null,{"$f":"IF(Q3168>=2020,R3168-Q3168+1,\"\")","v":""},null,{"$f":"IF(Q3168>=2020,S3168*T3168,\"\")","v":""},null,null,null,null,null,null,null,null,null,null,null,null,{"$f":"SUM(AI3168:AL3168)","v":0},null,null,null,null,{"$f":"SUM(AN3168:AQ3168)","v":0},null,null,null,null,{"$f":"SUM(AS3168:AV3168)","v":0},null,null,null,null,null,null,{"$f":"SUM(AH3168,AM3168,AR3168)","v":0},{"$f":"SUM(AL3168,AQ3168,AV3168)","v":0},{"$f":"IF(AY3168=0,0,AZ3168/AY3168)","v":0},{"$f":"IF((AY3168+AX3168)=0,0,AX3168/(AX3168+AY3168))","v":0},null,null,null,null,null,null,null,null,null,null,null,null,null,null,null,null,null,null,null,null,null,null,null,null,null,null,null,null,null,null,null,null,null,null,null,null,null,null,null,null,null,{"$f":"((L3168=\"создание\")*7+(L3168=\"расширение\")*7 +(L3168=\"внедрение\")*7+(L3168=\"строительство\")*4+(L3168=\"реконструкция\")*3+(L3168=\"капремонт\")*2 +(L3168=\"приобретение\")*1+(L3168=\"установка\")*1)*10","v":0},null,{"$f":"IF(P3168=\"коммунальная инфраструктура\",(L3168=\"строительство\")*3+(L3168=\"реконструкция\")*2+(L3168=\"капремонт\")*1,0)*10","v":0},null,{"$f":"IF(P3168=\"коммунальная инфраструктура\",(L3168=\"строительство\")*4+(L3168=\"реконструкция\")*3+(L3168=\"капремонт\")*2,0)*10","v":0}]
[null,null,19,{"$f":"IF(AND(D3175<>\"\",G3194<>\"\"),D3175,\"\")","v":""},{"$f":"IF(AND(E3175<>\"\",G3194<>\"\"),E3175,\"\")","v":""},null,null,null,null,null,null,null,null,null,null,null,null,null,{"$f":"IF(Q3194>=2020,R3194-Q3194+1,\"\")","v":""},null,{"$f":"IF(Q3194>=2020,S3194*T3194,\"\")","v":""},null,null,null,null,null,null,null,null,null,null,null,null,{"$f":"SUM(AI3194:AL3194)","v":0},null,null,null,null,{"$f":"SUM(AN3194:AQ3194)","v":0},null,null,null,null,{"$f":"SUM(AS3194:AV3194)","v":0},null,null,null,null,null,null,{"$f":"SUM(AH3194,AM3194,AR3194)","v":0},{"$f":"SUM(AL3194,AQ3194,AV3194)","v":0},{"$f":"IF(AY3194=0,0,AZ3194/AY3194)","v":0},{"$f":"IF((AY3194+AX3194)=0,0,AX3194/(AX3194+AY3194))","v":0},null,null,null,null,null,null,null,null,null,null,null,null,null,null,null,null,null,null,null,null,null,null,null,null,null,null,null,null,null,null,null,null,null,null,null,null,null,null,null,null,null,{"$f":"((L3194=\"создание\")*7+(L3194=\"расширение\")*7 +(L3194=\"внедрение\")*7+(L3194=\"строительство\")*4+(L3194=\"реконструкция\")*3+(L3194=\"капремонт\")*2 +(L3194=\"приобретение\")*1+(L3194=\"установка\")*1)*10","v":0},null,{"$f":"IF(P3194=\"коммунальная инфраструктура\",(L3194=\"строительство\")*3+(L3194=\"реконструкция\")*2+(L3194=\"капремонт\")*1,0)*10","v":0},null,{"$f":"IF(P3194=\"коммунальная инфраструктура\",(L3194=\"строительство\")*4+(L3194=\"реконструкция\")*3+(L3194=\"капремонт\")*2,0)*10","v":0}]
[null,null,5,{"$f":"IF(AND(D3197<>\"\",G3202<>\"\"),D3197,\"\")","v":""},{"$f":"IF(AND(E3197<>\"\",G3202<>\"\"),E3197,\"\")","v":""},null,null,null,null,null,null,null,null,null,null,null,null,null,{"$f":"IF(Q3202>=2020,R3202-Q3202+1,\"\")","v":""},null,{"$f":"IF(Q3202>=2020,S3202*T3202,\"\")","v":""},null,null,null,null,null,null,null,null,null,null,null,null,{"$f":"SUM(AI3202:AL3202)","v":0},null,null,null,null,{"$f":"SUM(AN3202:AQ3202)","v":0},null,null,null,null,{"$f":"SUM(AS3202:AV3202)","v":0},null,null,null,null,null,null,{"$f":"SUM(AH3202,AM3202,AR3202)","v":0},{"$f":"SUM(AL3202,AQ3202,AV3202)","v":0},{"$f":"IF(AY3202=0,0,AZ3202/AY3202)","v":0},{"$f":"IF((AY3202+AX3202)=0,0,AX3202/(AX3202+AY3202))","v":0},null,null,null,null,null,null,null,null,null,null,null,null,null,null,null,null,null,null,null,null,null,null,null,null,null,null,null,null,null,null,null,null,null,null,null,null,null,null,null,null,null,{"$f":"((L3202=\"создание\")*7+(L3202=\"расширение\")*7 +(L3202=\"внедрение\")*7+(L3202=\"строительство\")*4+(L3202=\"реконструкция\")*3+(L3202=\"капремонт\")*2 +(L3202=\"приобретение\")*1+(L3202=\"установка\")*1)*10","v":0},null,{"$f":"IF(P3202=\"коммунальная инфраструктура\",(L3202=\"строительство\")*3+(L3202=\"реконструкция\")*2+(L3202=\"капремонт\")*1,0)*10","v":0},null,{"$f":"IF(P3202=\"коммунальная инфраструктура\",(L3202=\"строительство\")*4+(L3202=\"реконструкция\")*3+(L3202=\"капремонт\")*2,0)*10","v":0}]
[null,null,10,{"$f":"IF(AND(D3219<>\"\",G3229<>\"\"),D3219,\"\")","v":""},{"$f":"IF(AND(E3219<>\"\",G3229<>\"\"),E3219,\"\")","v":""},null,null,null,null,null,null,null,null,null,null,null,null,null,{"$f":"IF(Q3229>=2020,R3229-Q3229+1,\"\")","v":""},null,{"$f":"IF(Q3229>=2020,S3229*T3229,\"\")","v":""},null,null,null,null,null,null,null,null,null,null,null,null,{"$f":"SUM(AI3229:AL3229)","v":0},null,null,null,null,{"$f":"SUM(AN3229:AQ3229)","v":0},null,null,null,null,{"$f":"SUM(AS3229:AV3229)","v":0},null,null,null,null,null,null,{"$f":"SUM(AH3229,AM3229,AR3229)","v":0},{"$f":"SUM(AL3229,AQ3229,AV3229)","v":0},{"$f":"IF(AY3229=0,0,AZ3229/AY3229)","v":0},{"$f":"IF((AY3229+AX3229)=0,0,AX3229/(AX3229+AY3229))","v":0},null,null,null,null,null,null,null,null,null,null,null,null,null,null,null,null,null,null,null,null,null,null,null,null,null,null,null,null,null,null,null,null,null,null,null,null,null,null,null,null,null,{"$f":"((L3229=\"создание\")*7+(L3229=\"расширение\")*7 +(L3229=\"внедрение\")*7+(L3229=\"строительство\")*4+(L3229=\"реконструкция\")*3+(L3229=\"капремонт\")*2 +(L3229=\"приобретение\")*1+(L3229=\"установка\")*1)*10","v":0},null,{"$f":"IF(P3229=\"коммунальная инфраструктура\",(L3229=\"строительство\")*3+(L3229=\"реконструкция\")*2+(L3229=\"капремонт\")*1,0)*10","v":0},null,{"$f":"IF(P3229=\"коммунальная инфраструктура\",(L3229=\"строительство\")*4+(L3229=\"реконструкция\")*3+(L3229=\"капремонт\")*2,0)*10","v":0}]
[null,null,5,{"$f":"IF(AND(D3241<>\"\",G3246<>\"\"),D3241,\"\")","v":""},{"$f":"IF(AND(E3241<>\"\",G3246<>\"\"),E3241,\"\")","v":""},null,null,null,null,null,null,null,null,null,null,null,null,null,{"$f":"IF(Q3246>=2020,R3246-Q3246+1,\"\")","v":""},null,{"$f":"IF(Q3246>=2020,S3246*T3246,\"\")","v":""},null,null,null,null,null,null,null,null,null,null,null,null,{"$f":"SUM(AI3246:AL3246)","v":0},null,null,null,null,{"$f":"SUM(AN3246:AQ3246)","v":0},null,null,null,null,{"$f":"SUM(AS3246:AV3246)","v":0},null,null,null,null,null,null,{"$f":"SUM(AH3246,AM3246,AR3246)","v":0},{"$f":"SUM(AL3246,AQ3246,AV3246)","v":0},{"$f":"IF(AY3246=0,0,AZ3246/AY3246)","v":0},{"$f":"IF((AY3246+AX3246)=0,0,AX3246/(AX3246+AY3246))","v":0},null,null,null,null,null,null,null,null,null,null,null,null,null,null,null,null,null,null,null,null,null,null,null,null,null,null,null,null,null,null,null,null,null,null,null,null,null,null,null,null,null,{"$f":"((L3246=\"создание\")*7+(L3246=\"расширение\")*7 +(L3246=\"внедрение\")*7+(L3246=\"строительство\")*4+(L3246=\"реконструкция\")*3+(L3246=\"капремонт\")*2 +(L3246=\"приобретение\")*1+(L3246=\"установка\")*1)*10","v":0},null,{"$f":"IF(P3246=\"коммунальная инфраструктура\",(L3246=\"строительство\")*3+(L3246=\"реконструкция\")*2+(L3246=\"капремонт\")*1,0)*10","v":0},null,{"$f":"IF(P3246=\"коммунальная инфраструктура\",(L3246=\"строительство\")*4+(L3246=\"реконструкция\")*3+(L3246=\"капремонт\")*2,0)*10","v":0}]
[null,null,11,{"$f":"IF(AND(D3241<>\"\",G3252<>\"\"),D3241,\"\")","v":""},{"$f":"IF(AND(E3241<>\"\",G3252<>\"\"),E3241,\"\")","v":""},null,null,null,null,null,null,null,null,null,null,null,null,null,{"$f":"IF(Q3252>=2020,R3252-Q3252+1,\"\")","v":""},null,{"$f":"IF(Q3252>=2020,S3252*T3252,\"\")","v":""},null,null,null,null,null,null,null,null,null,null,null,null,{"$f":"SUM(AI3252:AL3252)","v":0},null,null,null,null,{"$f":"SUM(AN3252:AQ3252)","v":0},null,null,null,null,{"$f":"SUM(AS3252:AV3252)","v":0},null,null,null,null,null,null,{"$f":"SUM(AH3252,AM3252,AR3252)","v":0},{"$f":"SUM(AL3252,AQ3252,AV3252)","v":0},{"$f":"IF(AY3252=0,0,AZ3252/AY3252)","v":0},{"$f":"IF((AY3252+AX3252)=0,0,AX3252/(AX3252+AY3252))","v":0},null,null,null,null,null,null,null,null,null,null,null,null,null,null,null,null,null,null,null,null,null,null,null,null,null,null,null,null,null,null,null,null,null,null,null,null,null,null,null,null,null,{"$f":"((L3252=\"создание\")*7+(L3252=\"расширение\")*7 +(L3252=\"внедрение\")*7+(L3252=\"строительство\")*4+(L3252=\"реконструкция\")*3+(L3252=\"капремонт\")*2 +(L3252=\"приобретение\")*1+(L3252=\"установка\")*1)*10","v":0},null,{"$f":"IF(P3252=\"коммунальная инфраструктура\",(L3252=\"строительство\")*3+(L3252=\"реконструкция\")*2+(L3252=\"капремонт\")*1,0)*10","v":0},null,{"$f":"IF(P3252=\"коммунальная инфраструктура\",(L3252=\"строительство\")*4+(L3252=\"реконструкция\")*3+(L3252=\"капремонт\")*2,0)*10","v":0}]
[null,null,2,{"$f":"IF(AND(D3263<>\"\",G3265<>\"\"),D3263,\"\")","v":""},{"$f":"IF(AND(E3263<>\"\",G3265<>\"\"),E3263,\"\")","v":""},null,null,null,null,null,null,null,null,null,null,null,null,null,{"$f":"IF(Q3265>=2020,R3265-Q3265+1,\"\")","v":""},null,{"$f":"IF(Q3265>=2020,S3265*T3265,\"\")","v":""},null,null,null,null,null,null,null,null,null,null,null,null,{"$f":"SUM(AI3265:AL3265)","v":0},null,null,null,null,{"$f":"SUM(AN3265:AQ3265)","v":0},null,null,null,null,{"$f":"SUM(AS3265:AV3265)","v":0},null,null,null,null,null,null,{"$f":"SUM(AH3265,AM3265,AR3265)","v":0},{"$f":"SUM(AL3265,AQ3265,AV3265)","v":0},{"$f":"IF(AY3265=0,0,AZ3265/AY3265)","v":0},{"$f":"IF((AY3265+AX3265)=0,0,AX3265/(AX3265+AY3265))","v":0},null,null,null,null,null,null,null,null,null,null,null,null,null,null,null,null,null,null,null,null,null,null,null,null,null,null,null,null,null,null,null,null,null,null,null,null,null,null,null,null,null,{"$f":"((L3265=\"создание\")*7+(L3265=\"расширение\")*7 +(L3265=\"внедрение\")*7+(L3265=\"строительство\")*4+(L3265=\"реконструкция\")*3+(L3265=\"капремонт\")*2 +(L3265=\"приобретение\")*1+(L3265=\"установка\")*1)*10","v":0},null,{"$f":"IF(P3265=\"коммунальная инфраструктура\",(L3265=\"строительство\")*3+(L3265=\"реконструкция\")*2+(L3265=\"капремонт\")*1,0)*10","v":0},null,{"$f":"IF(P3265=\"коммунальная инфраструктура\",(L3265=\"строительство\")*4+(L3265=\"реконструкция\")*3+(L3265=\"капремонт\")*2,0)*10","v":0}]
[null,null,19,{"$f":"IF(AND(D3263<>\"\",G3282<>\"\"),D3263,\"\")","v":""},{"$f":"IF(AND(E3263<>\"\",G3282<>\"\"),E3263,\"\")","v":""},null,null,null,null,null,null,null,null,null,null,null,null,null,{"$f":"IF(Q3282>=2020,R3282-Q3282+1,\"\")","v":""},null,{"$f":"IF(Q3282>=2020,S3282*T3282,\"\")","v":""},null,null,null,null,null,null,null,null,null,null,null,null,{"$f":"SUM(AI3282:AL3282)","v":0},null,null,null,null,{"$f":"SUM(AN3282:AQ3282)","v":0},null,null,null,null,{"$f":"SUM(AS3282:AV3282)","v":0},null,null,null,null,null,null,{"$f":"SUM(AH3282,AM3282,AR3282)","v":0},{"$f":"SUM(AL3282,AQ3282,AV3282)","v":0},{"$f":"IF(AY3282=0,0,AZ3282/AY3282)","v":0},{"$f":"IF((AY3282+AX3282)=0,0,AX3282/(AX3282+AY3282))","v":0},null,null,null,null,null,null,null,null,null,null,null,null,null,null,null,null,null,null,null,null,null,null,null,null,null,null,null,null,null,null,null,null,null,null,null,null,null,null,null,null,null,{"$f":"((L3282=\"создание\")*7+(L3282=\"расширение\")*7 +(L3282=\"внедрение\")*7+(L3282=\"строительство\")*4+(L3282=\"реконструкция\")*3+(L3282=\"капремонт\")*2 +(L3282=\"приобретение\")*1+(L3282=\"установка\")*1)*10","v":0},null,{"$f":"IF(P3282=\"коммунальная инфраструктура\",(L3282=\"строительство\")*3+(L3282=\"реконструкция\")*2+(L3282=\"капремонт\")*1,0)*10","v":0},null,{"$f":"IF(P3282=\"коммунальная инфраструктура\",(L3282=\"строительство\")*4+(L3282=\"реконструкция\")*3+(L3282=\"капремонт\")*2,0)*10","v":0}]
[null,null,18,{"$f":"IF(AND(D3285<>\"\",G3303<>\"\"),D3285,\"\")","v":""},{"$f":"IF(AND(E3285<>\"\",G3303<>\"\"),E3285,\"\")","v":""},null,null,null,null,null,null,null,null,null,null,null,null,null,{"$f":"IF(Q3303>=2020,R3303-Q3303+1,\"\")","v":""},null,{"$f":"IF(Q3303>=2020,S3303*T3303,\"\")","v":""},null,null,null,null,null,null,null,null,null,null,null,null,{"$f":"SUM(AI3303:AL3303)","v":0},null,null,null,null,{"$f":"SUM(AN3303:AQ3303)","v":0},null,null,null,null,{"$f":"SUM(AS3303:AV3303)","v":0},null,null,null,null,null,null,{"$f":"SUM(AH3303,AM3303,AR3303)","v":0},{"$f":"SUM(AL3303,AQ3303,AV3303)","v":0},{"$f":"IF(AY3303=0,0,AZ3303/AY3303)","v":0},{"$f":"IF((AY3303+AX3303)=0,0,AX3303/(AX3303+AY3303))","v":0},null,null,null,null,null,null,null,null,null,null,null,null,null,null,null,null,null,null,null,null,null,null,null,null,null,null,null,null,null,null,null,null,null,null,null,null,null,null,null,null,null,{"$f":"((L3303=\"создание\")*7+(L3303=\"расширение\")*7 +(L3303=\"внедрение\")*7+(L3303=\"строительство\")*4+(L3303=\"реконструкция\")*3+(L3303=\"капремонт\")*2 +(L3303=\"приобретение\")*1+(L3303=\"установка\")*1)*10","v":0},null,{"$f":"IF(P3303=\"коммунальная инфраструктура\",(L3303=\"строительство\")*3+(L3303=\"реконструкция\")*2+(L3303=\"капремонт\")*1,0)*10","v":0},null,{"$f":"IF(P3303=\"коммунальная инфраструктура\",(L3303=\"строительство\")*4+(L3303=\"реконструкция\")*3+(L3303=\"капремонт\")*2,0)*10","v":0}]
[null,null,10,{"$f":"IF(AND(D3307<>\"\",G3317<>\"\"),D3307,\"\")","v":""},{"$f":"IF(AND(E3307<>\"\",G3317<>\"\"),E3307,\"\")","v":""},null,null,null,null,null,null,null,null,null,null,null,null,null,{"$f":"IF(Q3317>=2020,R3317-Q3317+1,\"\")","v":""},null,{"$f":"IF(Q3317>=2020,S3317*T3317,\"\")","v":""},null,null,null,null,null,null,null,null,null,null,null,null,{"$f":"SUM(AI3317:AL3317)","v":0},null,null,null,null,{"$f":"SUM(AN3317:AQ3317)","v":0},null,null,null,null,{"$f":"SUM(AS3317:AV3317)","v":0},null,null,null,null,null,null,{"$f":"SUM(AH3317,AM3317,AR3317)","v":0},{"$f":"SUM(AL3317,AQ3317,AV3317)","v":0},{"$f":"IF(AY3317=0,0,AZ3317/AY3317)","v":0},{"$f":"IF((AY3317+AX3317)=0,0,AX3317/(AX3317+AY3317))","v":0},null,null,null,null,null,null,null,null,null,null,null,null,null,null,null,null,null,null,null,null,null,null,null,null,null,null,null,null,null,null,null,null,null,null,null,null,null,null,null,null,null,{"$f":"((L3317=\"создание\")*7+(L3317=\"расширение\")*7 +(L3317=\"внедрение\")*7+(L3317=\"строительство\")*4+(L3317=\"реконструкция\")*3+(L3317=\"капремонт\")*2 +(L3317=\"приобретение\")*1+(L3317=\"установка\")*1)*10","v":0},null,{"$f":"IF(P3317=\"коммунальная инфраструктура\",(L3317=\"строительство\")*3+(L3317=\"реконструкция\")*2+(L3317=\"капремонт\")*1,0)*10","v":0},null,{"$f":"IF(P3317=\"коммунальная инфраструктура\",(L3317=\"строительство\")*4+(L3317=\"реконструкция\")*3+(L3317=\"капремонт\")*2,0)*10","v":0}]
[null,null,7,{"$f":"IF(AND(D3329<>\"\",G3336<>\"\"),D3329,\"\")","v":""},{"$f":"IF(AND(E3329<>\"\",G3336<>\"\"),E3329,\"\")","v":""},null,null,null,null,null,null,null,null,null,null,null,null,null,{"$f":"IF(Q3336>=2020,R3336-Q3336+1,\"\")","v":""},null,{"$f":"IF(Q3336>=2020,S3336*T3336,\"\")","v":""},null,null,null,null,null,null,null,null,null,null,null,null,{"$f":"SUM(AI3336:AL3336)","v":0},null,null,null,null,{"$f":"SUM(AN3336:AQ3336)","v":0},null,null,null,null,{"$f":"SUM(AS3336:AV3336)","v":0},null,null,null,null,null,null,{"$f":"SUM(AH3336,AM3336,AR3336)","v":0},{"$f":"SUM(AL3336,AQ3336,AV3336)","v":0},{"$f":"IF(AY3336=0,0,AZ3336/AY3336)","v":0},{"$f":"IF((AY3336+AX3336)=0,0,AX3336/(AX3336+AY3336))","v":0},null,null,null,null,null,null,null,null,null,null,null,null,null,null,null,null,null,null,null,null,null,null,null,null,null,null,null,null,null,null,null,null,null,null,null,null,null,null,null,null,null,{"$f":"((L3336=\"создание\")*7+(L3336=\"расширение\")*7 +(L3336=\"внедрение\")*7+(L3336=\"строительство\")*4+(L3336=\"реконструкция\")*3+(L3336=\"капремонт\")*2 +(L3336=\"приобретение\")*1+(L3336=\"установка\")*1)*10","v":0},null,{"$f":"IF(P3336=\"коммунальная инфраструктура\",(L3336=\"строительство\")*3+(L3336=\"реконструкция\")*2+(L3336=\"капремонт\")*1,0)*10","v":0},null,{"$f":"IF(P3336=\"коммунальная инфраструктура\",(L3336=\"строительство\")*4+(L3336=\"реконструкция\")*3+(L3336=\"капремонт\")*2,0)*10","v":0}]
[null,null,1,{"$f":"IF(AND(D3351<>\"\",G3352<>\"\"),D3351,\"\")","v":""},{"$f":"IF(AND(E3351<>\"\",G3352<>\"\"),E3351,\"\")","v":""},null,null,null,null,null,null,null,null,null,null,null,null,null,{"$f":"IF(Q3352>=2020,R3352-Q3352+1,\"\")","v":""},null,{"$f":"IF(Q3352>=2020,ROUNDUP(S3352*T3352,0),\"\")","v":""},null,null,null,null,null,null,null,null,null,null,null,null,{"$f":"SUM(AI3352:AL3352)","v":0},null,null,null,null,{"$f":"SUM(AN3352:AQ3352)","v":0},null,null,null,null,{"$f":"SUM(AS3352:AV3352)","v":0},null,null,null,null,null,null,{"$f":"SUM(AH3352,AM3352,AR3352)","v":0},{"$f":"SUM(AL3352,AQ3352,AV3352)","v":0},{"$f":"IF(AY3352=0,0,AZ3352/AY3352)","v":0},{"$f":"IF((AY3352+AX3352)=0,0,AX3352/(AX3352+AY3352))","v":0},null,null,null,null,null,null,null,null,null,null,null,null,null,null,null,null,null,null,null,null,null,null,null,null,null,null,null,null,null,null,null,null,null,null,null,null,null,null,null,null,null,{"$f":"((L3352=\"создание\")*7+(L3352=\"расширение\")*7 +(L3352=\"внедрение\")*7+(L3352=\"строительство\")*4+(L3352=\"реконструкция\")*3+(L3352=\"капремонт\")*2 +(L3352=\"приобретение\")*1+(L3352=\"установка\")*1)*10","v":0},null,{"$f":"IF(P3352=\"коммунальная инфраструктура\",(L3352=\"строительство\")*3+(L3352=\"реконструкция\")*2+(L3352=\"капремонт\")*1,0)*10","v":0},null,{"$f":"IF(P3352=\"коммунальная инфраструктура\",(L3352=\"строительство\")*4+(L3352=\"реконструкция\")*3+(L3352=\"капремонт\")*2,0)*10","v":0}]
[null,null,18,{"$f":"IF(AND(D3351<>\"\",G3369<>\"\"),D3351,\"\")","v":""},{"$f":"IF(AND(E3351<>\"\",G3369<>\"\"),E3351,\"\")","v":""},null,null,null,null,null,null,null,null,null,null,null,null,null,{"$f":"IF(Q3369>=2020,R3369-Q3369+1,\"\")","v":""},null,{"$f":"IF(Q3369>=2020,S3369*T3369,\"\")","v":""},null,null,null,null,null,null,null,null,null,null,null,null,{"$f":"SUM(AI3369:AL3369)","v":0},null,null,null,null,{"$f":"SUM(AN3369:AQ3369)","v":0},null,null,null,null,{"$f":"SUM(AS3369:AV3369)","v":0},null,null,null,null,null,null,{"$f":"SUM(AH3369,AM3369,AR3369)","v":0},{"$f":"SUM(AL3369,AQ3369,AV3369)","v":0},{"$f":"IF(AY3369=0,0,AZ3369/AY3369)","v":0},{"$f":"IF((AY3369+AX3369)=0,0,AX3369/(AX3369+AY3369))","v":0},null,null,null,null,null,null,null,null,null,null,null,null,null,null,null,null,null,null,null,null,null,null,null,null,null,null,null,null,null,null,null,null,null,null,null,null,null,null,null,null,null,{"$f":"((L3369=\"создание\")*7+(L3369=\"расширение\")*7 +(L3369=\"внедрение\")*7+(L3369=\"строительство\")*4+(L3369=\"реконструкция\")*3+(L3369=\"капремонт\")*2 +(L3369=\"приобретение\")*1+(L3369=\"установка\")*1)*10","v":0},null,{"$f":"IF(P3369=\"коммунальная инфраструктура\",(L3369=\"строительство\")*3+(L3369=\"реконструкция\")*2+(L3369=\"капремонт\")*1,0)*10","v":0},null,{"$f":"IF(P3369=\"коммунальная инфраструктура\",(L3369=\"строительство\")*4+(L3369=\"реконструкция\")*3+(L3369=\"капремонт\")*2,0)*10","v":0}]
[null,null,13,{"$f":"IF(AND(D3373<>\"\",G3386<>\"\"),D3373,\"\")","v":""},{"$f":"IF(AND(E3373<>\"\",G3386<>\"\"),E3373,\"\")","v":""},null,null,null,null,null,null,null,null,null,null,null,null,null,{"$f":"IF(Q3386>=2020,R3386-Q3386+1,\"\")","v":""},null,{"$f":"IF(Q3386>=2020,S3386*T3386,\"\")","v":""},null,null,null,null,null,null,null,null,null,null,null,null,{"$f":"SUM(AI3386:AL3386)","v":0},null,null,null,null,{"$f":"SUM(AN3386:AQ3386)","v":0},null,null,null,null,{"$f":"SUM(AS3386:AV3386)","v":0},null,null,null,null,null,null,{"$f":"SUM(AH3386,AM3386,AR3386)","v":0},{"$f":"SUM(AL3386,AQ3386,AV3386)","v":0},{"$f":"IF(AY3386=0,0,AZ3386/AY3386)","v":0},{"$f":"IF((AY3386+AX3386)=0,0,AX3386/(AX3386+AY3386))","v":0},null,null,null,null,null,null,null,null,null,null,null,null,null,null,null,null,null,null,null,null,null,null,null,null,null,null,null,null,null,null,null,null,null,null,null,null,null,null,null,null,null,{"$f":"((L3386=\"создание\")*7+(L3386=\"расширение\")*7 +(L3386=\"внедрение\")*7+(L3386=\"строительство\")*4+(L3386=\"реконструкция\")*3+(L3386=\"капремонт\")*2 +(L3386=\"приобретение\")*1+(L3386=\"установка\")*1)*10","v":0},null,{"$f":"IF(P3386=\"коммунальная инфраструктура\",(L3386=\"строительство\")*3+(L3386=\"реконструкция\")*2+(L3386=\"капремонт\")*1,0)*10","v":0},null,{"$f":"IF(P3386=\"коммунальная инфраструктура\",(L3386=\"строительство\")*4+(L3386=\"реконструкция\")*3+(L3386=\"капремонт\")*2,0)*10","v":0}]
[null,null,9,{"$f":"IF(AND(D3395<>\"\",G3404<>\"\"),D3395,\"\")","v":""},{"$f":"IF(AND(E3395<>\"\",G3404<>\"\"),E3395,\"\")","v":""},null,null,null,null,null,null,null,null,null,null,null,null,null,{"$f":"IF(Q3404>=2020,R3404-Q3404+1,\"\")","v":""},null,{"$f":"IF(Q3404>=2020,S3404*T3404,\"\")","v":""},null,null,null,null,null,null,null,null,null,null,null,null,{"$f":"SUM(AI3404:AL3404)","v":0},null,null,null,null,{"$f":"SUM(AN3404:AQ3404)","v":0},null,null,null,null,{"$f":"SUM(AS3404:AV3404)","v":0},null,null,null,null,null,null,{"$f":"SUM(AH3404,AM3404,AR3404)","v":0},{"$f":"SUM(AL3404,AQ3404,AV3404)","v":0},{"$f":"IF(AY3404=0,0,AZ3404/AY3404)","v":0},{"$f":"IF((AY3404+AX3404)=0,0,AX3404/(AX3404+AY3404))","v":0},null,null,null,null,null,null,null,null,null,null,null,null,null,null,null,null,null,null,null,null,null,null,null,null,null,null,null,null,null,null,null,null,null,null,null,null,null,null,null,null,null,{"$f":"((L3404=\"создание\")*7+(L3404=\"расширение\")*7 +(L3404=\"внедрение\")*7+(L3404=\"строительство\")*4+(L3404=\"реконструкция\")*3+(L3404=\"капремонт\")*2 +(L3404=\"приобретение\")*1+(L3404=\"установка\")*1)*10","v":0},null,{"$f":"IF(P3404=\"коммунальная инфраструктура\",(L3404=\"строительство\")*3+(L3404=\"реконструкция\")*2+(L3404=\"капремонт\")*1,0)*10","v":0},null,{"$f":"IF(P3404=\"коммунальная инфраструктура\",(L3404=\"строительство\")*4+(L3404=\"реконструкция\")*3+(L3404=\"капремонт\")*2,0)*10","v":0}]
[null,null,4,{"$f":"IF(AND(D3417<>\"\",G3421<>\"\"),D3417,\"\")","v":""},{"$f":"IF(AND(E3417<>\"\",G3421<>\"\"),E3417,\"\")","v":""},null,null,null,null,null,null,null,null,null,null,null,null,null,{"$f":"IF(Q3421>=2020,R3421-Q3421+1,\"\")","v":""},null,{"$f":"IF(Q3421>=2020,S3421*T3421,\"\")","v":""},null,null,null,null,null,null,null,null,null,null,null,null,{"$f":"SUM(AI3421:AL3421)","v":0},null,null,null,null,{"$f":"SUM(AN3421:AQ3421)","v":0},null,null,null,null,{"$f":"SUM(AS3421:AV3421)","v":0},null,null,null,null,null,null,{"$f":"SUM(AH3421,AM3421,AR3421)","v":0},{"$f":"SUM(AL3421,AQ3421,AV3421)","v":0},{"$f":"IF(AY3421=0,0,AZ3421/AY3421)","v":0},{"$f":"IF((AY3421+AX3421)=0,0,AX3421/(AX3421+AY3421))","v":0},null,null,null,null,null,null,null,null,null,null,null,null,null,null,null,null,null,null,null,null,null,null,null,null,null,null,null,null,null,null,null,null,null,null,null,null,null,null,null,null,null,{"$f":"((L3421=\"создание\")*7+(L3421=\"расширение\")*7 +(L3421=\"внедрение\")*7+(L3421=\"строительство\")*4+(L3421=\"реконструкция\")*3+(L3421=\"капремонт\")*2 +(L3421=\"приобретение\")*1+(L3421=\"установка\")*1)*10","v":0},null,{"$f":"IF(P3421=\"коммунальная инфраструктура\",(L3421=\"строительство\")*3+(L3421=\"реконструкция\")*2+(L3421=\"капремонт\")*1,0)*10","v":0},null,{"$f":"IF(P3421=\"коммунальная инфраструктура\",(L3421=\"строительство\")*4+(L3421=\"реконструкция\")*3+(L3421=\"капремонт\")*2,0)*10","v":0}]
[null,null,20,{"$f":"IF(AND(D3417<>\"\",G3437<>\"\"),D3417,\"\")","v":""},{"$f":"IF(AND(E3417<>\"\",G3437<>\"\"),E3417,\"\")","v":""},null,null,null,null,null,null,null,null,null,null,null,null,null,{"$f":"IF(Q3437>=2020,R3437-Q3437+1,\"\")","v":""},null,{"$f":"IF(Q3437>=2020,S3437*T3437,\"\")","v":""},null,null,null,null,null,null,null,null,null,null,null,null,{"$f":"SUM(AI3437:AL3437)","v":0},null,null,null,null,{"$f":"SUM(AN3437:AQ3437)","v":0},null,null,null,null,{"$f":"SUM(AS3437:AV3437)","v":0},null,null,null,null,null,null,{"$f":"SUM(AH3437,AM3437,AR3437)","v":0},{"$f":"SUM(AL3437,AQ3437,AV3437)","v":0},{"$f":"IF(AY3437=0,0,AZ3437/AY3437)","v":0},{"$f":"IF((AY3437+AX3437)=0,0,AX3437/(AX3437+AY3437))","v":0},null,null,null,null,null,null,null,null,null,null,null,null,null,null,null,null,null,null,null,null,null,null,null,null,null,null,null,null,null,null,null,null,null,null,null,null,null,null,null,null,null,{"$f":"((L3437=\"создание\")*7+(L3437=\"расширение\")*7 +(L3437=\"внедрение\")*7+(L3437=\"строительство\")*4+(L3437=\"реконструкция\")*3+(L3437=\"капремонт\")*2 +(L3437=\"приобретение\")*1+(L3437=\"установка\")*1)*10","v":0},null,{"$f":"IF(P3437=\"коммунальная инфраструктура\",(L3437=\"строительство\")*3+(L3437=\"реконструкция\")*2+(L3437=\"капремонт\")*1,0)*10","v":0},null,{"$f":"IF(P3437=\"коммунальная инфраструктура\",(L3437=\"строительство\")*4+(L3437=\"реконструкция\")*3+(L3437=\"капремонт\")*2,0)*10","v":0}]
[null,null,17,{"$f":"IF(AND(D3439<>\"\",G3456<>\"\"),D3439,\"\")","v":""},{"$f":"IF(AND(E3439<>\"\",G3456<>\"\"),E3439,\"\")","v":""},null,null,null,null,null,null,null,null,null,null,null,null,null,{"$f":"IF(Q3456>=2020,R3456-Q3456+1,\"\")","v":""},null,{"$f":"IF(Q3456>=2020,S3456*T3456,\"\")","v":""},null,null,null,null,null,null,null,null,null,null,null,null,{"$f":"SUM(AI3456:AL3456)","v":0},null,null,null,null,{"$f":"SUM(AN3456:AQ3456)","v":0},null,null,null,null,{"$f":"SUM(AS3456:AV3456)","v":0},null,null,null,null,null,null,{"$f":"SUM(AH3456,AM3456,AR3456)","v":0},{"$f":"SUM(AL3456,AQ3456,AV3456)","v":0},{"$f":"IF(AY3456=0,0,AZ3456/AY3456)","v":0},{"$f":"IF((AY3456+AX3456)=0,0,AX3456/(AX3456+AY3456))","v":0},null,null,null,null,null,null,null,null,null,null,null,null,null,null,null,null,null,null,null,null,null,null,null,null,null,null,null,null,null,null,null,null,null,null,null,null,null,null,null,null,null,{"$f":"((L3456=\"создание\")*7+(L3456=\"расширение\")*7 +(L3456=\"внедрение\")*7+(L3456=\"строительство\")*4+(L3456=\"реконструкция\")*3+(L3456=\"капремонт\")*2 +(L3456=\"приобретение\")*1+(L3456=\"установка\")*1)*10","v":0},null,{"$f":"IF(P3456=\"коммунальная инфраструктура\",(L3456=\"строительство\")*3+(L3456=\"реконструкция\")*2+(L3456=\"капремонт\")*1,0)*10","v":0},null,{"$f":"IF(P3456=\"коммунальная инфраструктура\",(L3456=\"строительство\")*4+(L3456=\"реконструкция\")*3+(L3456=\"капремонт\")*2,0)*10","v":0}]
[null,null,9,{"$f":"IF(AND(D3461<>\"\",G3470<>\"\"),D3461,\"\")","v":""},{"$f":"IF(AND(E3461<>\"\",G3470<>\"\"),E3461,\"\")","v":""},null,null,null,null,null,null,null,null,null,null,null,null,null,{"$f":"IF(Q3470>=2020,R3470-Q3470+1,\"\")","v":""},null,{"$f":"IF(Q3470>=2020,S3470*T3470,\"\")","v":""},null,null,null,null,null,null,null,null,null,null,null,null,{"$f":"SUM(AI3470:AL3470)","v":0},null,null,null,null,{"$f":"SUM(AN3470:AQ3470)","v":0},null,null,null,null,{"$f":"SUM(AS3470:AV3470)","v":0},null,null,null,null,null,null,{"$f":"SUM(AH3470,AM3470,AR3470)","v":0},{"$f":"SUM(AL3470,AQ3470,AV3470)","v":0},{"$f":"IF(AY3470=0,0,AZ3470/AY3470)","v":0},{"$f":"IF((AY3470+AX3470)=0,0,AX3470/(AX3470+AY3470))","v":0},null,null,null,null,null,null,null,null,null,null,null,null,null,null,null,null,null,null,null,null,null,null,null,null,null,null,null,null,null,null,null,null,null,null,null,null,null,null,null,null,null,{"$f":"((L3470=\"создание\")*7+(L3470=\"расширение\")*7 +(L3470=\"внедрение\")*7+(L3470=\"строительство\")*4+(L3470=\"реконструкция\")*3+(L3470=\"капремонт\")*2 +(L3470=\"приобретение\")*1+(L3470=\"установка\")*1)*10","v":0},null,{"$f":"IF(P3470=\"коммунальная инфраструктура\",(L3470=\"строительство\")*3+(L3470=\"реконструкция\")*2+(L3470=\"капремонт\")*1,0)*10","v":0},null,{"$f":"IF(P3470=\"коммунальная инфраструктура\",(L3470=\"строительство\")*4+(L3470=\"реконструкция\")*3+(L3470=\"капремонт\")*2,0)*10","v":0}]
[null,null,8,{"$f":"IF(AND(D3483<>\"\",G3491<>\"\"),D3483,\"\")","v":""},{"$f":"IF(AND(E3483<>\"\",G3491<>\"\"),E3483,\"\")","v":""},null,null,null,null,null,null,null,null,null,null,null,null,null,{"$f":"IF(Q3491>=2020,R3491-Q3491+1,\"\")","v":""},null,{"$f":"IF(Q3491>=2020,S3491*T3491,\"\")","v":""},null,null,null,null,null,null,null,null,null,null,null,null,{"$f":"SUM(AI3491:AL3491)","v":0},null,null,null,null,{"$f":"SUM(AN3491:AQ3491)","v":0},null,null,null,null,{"$f":"SUM(AS3491:AV3491)","v":0},null,null,null,null,null,null,{"$f":"SUM(AH3491,AM3491,AR3491)","v":0},{"$f":"SUM(AL3491,AQ3491,AV3491)","v":0},{"$f":"IF(AY3491=0,0,AZ3491/AY3491)","v":0},{"$f":"IF((AY3491+AX3491)=0,0,AX3491/(AX3491+AY3491))","v":0},null,null,null,null,null,null,null,null,null,null,null,null,null,null,null,null,null,null,null,null,null,null,null,null,null,null,null,null,null,null,null,null,null,null,null,null,null,null,null,null,null,{"$f":"((L3491=\"создание\")*7+(L3491=\"расширение\")*7 +(L3491=\"внедрение\")*7+(L3491=\"строительство\")*4+(L3491=\"реконструкция\")*3+(L3491=\"капремонт\")*2 +(L3491=\"приобретение\")*1+(L3491=\"установка\")*1)*10","v":0},null,{"$f":"IF(P3491=\"коммунальная инфраструктура\",(L3491=\"строительство\")*3+(L3491=\"реконструкция\")*2+(L3491=\"капремонт\")*1,0)*10","v":0},null,{"$f":"IF(P3491=\"коммунальная инфраструктура\",(L3491=\"строительство\")*4+(L3491=\"реконструкция\")*3+(L3491=\"капремонт\")*2,0)*10","v":0}]
[null,null,3,{"$f":"IF(AND(D3505<>\"\",G3508<>\"\"),D3505,\"\")","v":""},{"$f":"IF(AND(E3505<>\"\",G3508<>\"\"),E3505,\"\")","v":""},null,null,null,null,null,null,null,null,null,null,null,null,null,{"$f":"IF(Q3508>=2020,R3508-Q3508+1,\"\")","v":""},null,{"$f":"IF(Q3508>=2020,S3508*T3508,\"\")","v":""},null,null,null,null,null,null,null,null,null,null,null,null,{"$f":"SUM(AI3508:AL3508)","v":0},null,null,null,null,{"$f":"SUM(AN3508:AQ3508)","v":0},null,null,null,null,{"$f":"SUM(AS3508:AV3508)","v":0},null,null,null,null,null,null,{"$f":"SUM(AH3508,AM3508,AR3508)","v":0},{"$f":"SUM(AL3508,AQ3508,AV3508)","v":0},{"$f":"IF(AY3508=0,0,AZ3508/AY3508)","v":0},{"$f":"IF((AY3508+AX3508)=0,0,AX3508/(AX3508+AY3508))","v":0},null,null,null,null,null,null,null,null,null,null,null,null,null,null,null,null,null,null,null,null,null,null,null,null,null,null,null,null,null,null,null,null,null,null,null,null,null,null,null,null,null,{"$f":"((L3508=\"создание\")*7+(L3508=\"расширение\")*7 +(L3508=\"внедрение\")*7+(L3508=\"строительство\")*4+(L3508=\"реконструкция\")*3+(L3508=\"капремонт\")*2 +(L3508=\"приобретение\")*1+(L3508=\"установка\")*1)*10","v":0},null,{"$f":"IF(P3508=\"коммунальная инфраструктура\",(L3508=\"строительство\")*3+(L3508=\"реконструкция\")*2+(L3508=\"капремонт\")*1,0)*10","v":0},null,{"$f":"IF(P3508=\"коммунальная инфраструктура\",(L3508=\"строительство\")*4+(L3508=\"реконструкция\")*3+(L3508=\"капремонт\")*2,0)*10","v":0}]
[null,null,16,{"$f":"IF(AND(D3505<>\"\",G3521<>\"\"),D3505,\"\")","v":""},{"$f":"IF(AND(E3505<>\"\",G3521<>\"\"),E3505,\"\")","v":""},null,null,null,null,null,null,null,null,null,null,null,null,null,{"$f":"IF(Q3521>=2020,R3521-Q3521+1,\"\")","v":""},null,{"$f":"IF(Q3521>=2020,S3521*T3521,\"\")","v":""},null,null,null,null,null,null,null,null,null,null,null,null,{"$f":"SUM(AI3521:AL3521)","v":0},null,null,null,null,{"$f":"SUM(AN3521:AQ3521)","v":0},null,null,null,null,{"$f":"SUM(AS3521:AV3521)","v":0},null,null,null,null,null,null,{"$f":"SUM(AH3521,AM3521,AR3521)","v":0},{"$f":"SUM(AL3521,AQ3521,AV3521)","v":0},{"$f":"IF(AY3521=0,0,AZ3521/AY3521)","v":0},{"$f":"IF((AY3521+AX3521)=0,0,AX3521/(AX3521+AY3521))","v":0},null,null,null,null,null,null,null,null,null,null,null,null,null,null,null,null,null,null,null,null,null,null,null,null,null,null,null,null,null,null,null,null,null,null,null,null,null,null,null,null,null,{"$f":"((L3521=\"создание\")*7+(L3521=\"расширение\")*7 +(L3521=\"внедрение\")*7+(L3521=\"строительство\")*4+(L3521=\"реконструкция\")*3+(L3521=\"капремонт\")*2 +(L3521=\"приобретение\")*1+(L3521=\"установка\")*1)*10","v":0},null,{"$f":"IF(P3521=\"коммунальная инфраструктура\",(L3521=\"строительство\")*3+(L3521=\"реконструкция\")*2+(L3521=\"капремонт\")*1,0)*10","v":0},null,{"$f":"IF(P3521=\"коммунальная инфраструктура\",(L3521=\"строительство\")*4+(L3521=\"реконструкция\")*3+(L3521=\"капремонт\")*2,0)*10","v":0}]
[161,null,{"$f":"COUNTA(G3528:G3548)","v":0},null,null,null,null,null,null,null,null,null,null,null,null,null,{"$f":"MIN(Q3528:Q3548)","v":0},{"$f":"MAX(R3528:R3548)","v":0},{"$f":"MAX(S3528:S3548)","v":0},null,{"$f":"MAX(U3528:U3548)","v":0},null,null,null,null,null,{"$f":"IF(COUNTIF(AA3528:AA3548,\"НЕТ\")>0,\"ПД!\",\"ок\")","v":"ок"},null,{"$f":"IF(COUNTIF(AC3528:AC3548,\"НЕТ\")>0,\"ДОСМ!\",\"ок\")","v":"ок"},null,{"$f":"IF(COUNTIF(AE3528:AE3548,\"НЕТ\")>0,\"ФОИВ!\",\"ок\")","v":"ок"},{"$f":"IF(COUNTIF(AF3528:AF3548,\"НЕТ\")>0,\"ФОИВ!\",\"ок\")","v":"ок"},null,{"$f":"SUM(AH3528:AH3548)","v":0},{"$f":"SUM(AI3528:AI3548)","v":0},{"$f":"SUM(AJ3528:AJ3548)","v":0},{"$f":"SUM(AK3528:AK3548)","v":0},{"$f":"SUM(AL3528:AL3548)","v":0},{"$f":"SUM(AM3528:AM3548)","v":0},{"$f":"SUM(AN3528:AN3548)","v":0},{"$f":"SUM(AO3528:AO3548)","v":0},{"$f":"SUM(AP3528:AP3548)","v":0},{"$f":"SUM(AQ3528:AQ3548)","v":0},{"$f":"SUM(AR3528:AR3548)","v":0},{"$f":"SUM(AS3528:AS3548)","v":0},{"$f":"SUM(AT3528:AT3548)","v":0},{"$f":"SUM(AU3528:AU3548)","v":0},{"$f":"SUM(AV3528:AV3548)","v":0},{"$f":"SUM(AW3528:AW3548)","v":0},{"$f":"SUM(AX3528:AX3548)","v":0},{"$f":"SUM(AH3527,AM3527,AR3527)","v":0},{"$f":"AL3527+AQ3527+AV3527","v":0},{"$f":"IF(AY3527=0,0,AZ3527/AY3527)","v":0},{"$f":"IF((AY3527+AX3527)=0,0,AX3527/(AX3527+AY3527))","v":0},null,null,{"$f":"IFERROR(BD3527/BC3527,0)","v":0},null,null,{"$f":"IFERROR(BG3527/BF3527,0)","v":0},null,null,{"$f":"IFERROR(BJ3527/BI3527,0)","v":0},null,null,null,{"$f":"(SUM(BL3527:BN3527)>0)*1+(SUM(BL3527:BN3527)>=10)*1+(SUM(BL3527:BN3527)>=50)*1+(SUM(BL3527:BN3527)>=100)*1+(SUM(BL3527:BN3527)>=200)*1+(SUM(BL3527:BN3527)>=300)*1","v":0},{"$f":"IFERROR(SUM(BL3527:BN3527)/BC3527,0)","v":0},null,null,{"$f":"IFERROR(BQ3527/BR3527,0)","v":0},{"$f":"IF(BA3527<0.01,0,IF(BA3527>=0.1,10,ROUNDDOWN(BA3527/0.01,0)))","v":0},8,{"$f":"BT3527*BU3527","v":0},{"$f":"IF(BB3527<0.01,0,IF(BB3527>=0.1,10,ROUNDDOWN(BB3527/0.01,0)))","v":0},8,{"$f":"BW3527*BX3527","v":0},{"$f":"IF(U3527<=1,9,IF(U3527<=2,6,IF(U3527<=3,3,0)))*(C3527>0)","v":0},6,{"$f":"BZ3527*CA3527","v":0},{"$f":"IF(BH3527<0.51,0,10)","v":0},7,{"$f":"CC3527*CD3527","v":0},{"$f":"IF(BE3527<0.1,0,IF(BE3527>=0.9,10,ROUNDDOWN(BE3527/0.1,0)))","v":0},10,{"$f":"CF3527*CG3527","v":0},{"$f":"IF(BK3527<0.1,0,IF(BK3527>=0.6,10,ROUNDDOWN(BK3527/0.1,0)))","v":0},8,{"$f":"CI3527*CJ3527","v":0},{"$f":"IF(BP3527<0.05,0,IF(BP3527>=0.1,10,1))","v":0},10,{"$f":"CL3527*CM3527","v":0},{"$f":"IF(BS3527<0.1,0,IF(BS3527>=0.8,10,ROUNDDOWN(BS3527/0.1,0)))","v":0},10,{"$f":"CP3527*CO3527","v":0},{"$f":"ROUND(IF(C3527=0,0,SUM(CR3528:CR3548)/C3527),1)","v":0},{"$f":"((SUM(BL3527:BN3527)>=1)*1+(SUM(BL3527:BN3527)>=11)*1+(SUM(BL3527:BN3527)>=51)*3+(SUM(BL3527:BN3527)>=101)*2+(SUM(BL3527:BN3527)>=201)*2+(SUM(BL3527:BN3527)>=301)*4)*10","v":0},{"$f":"IFERROR(ROUND(SUM(CT3528:CT3548)/COUNTIF(P3528:P3548,\"коммунальная инфраструктура\"),1),0)","v":0},{"$f":"CS3527+CT3527","v":0},{"$f":"IFERROR(ROUND(SUM(CV3528:CV3548)/COUNTIF(P3528:P3548,\"коммунальная инфраструктура\"),1),0)","v":0},{"$f":"SUM(BV3527,BY3527,CB3527,CE3527,CH3527,CK3527,CN3527,CQ3527,CR3527,CU3527,CV3527)","v":0},{"$f":"VLOOKUP(D3527,РегионыФО,2,0)","v":{"$error":"#N/A"}}]
[null,null,17,{"$f":"IF(AND(D3527<>\"\",G3544<>\"\"),D3527,\"\")","v":""},{"$f":"IF(AND(E3527<>\"\",G3544<>\"\"),E3527,\"\")","v":""},null,null,null,null,null,null,null,null,null,null,null,null,null,{"$f":"IF(Q3544>=2020,R3544-Q3544+1,\"\")","v":""},null,{"$f":"IF(Q3544>=2020,S3544*T3544,\"\")","v":""},null,null,null,null,null,null,null,null,null,null,null,null,{"$f":"SUM(AI3544:AL3544)","v":0},null,null,null,null,{"$f":"SUM(AN3544:AQ3544)","v":0},null,null,null,null,{"$f":"SUM(AS3544:AV3544)","v":0},null,null,null,null,null,null,{"$f":"SUM(AH3544,AM3544,AR3544)","v":0},{"$f":"SUM(AL3544,AQ3544,AV3544)","v":0},{"$f":"IF(AY3544=0,0,AZ3544/AY3544)","v":0},{"$f":"IF((AY3544+AX3544)=0,0,AX3544/(AX3544+AY3544))","v":0},null,null,null,null,null,null,null,null,null,null,null,null,null,null,null,null,null,null,null,null,null,null,null,null,null,null,null,null,null,null,null,null,null,null,null,null,null,null,null,null,null,{"$f":"((L3544=\"создание\")*7+(L3544=\"расширение\")*7 +(L3544=\"внедрение\")*7+(L3544=\"строительство\")*4+(L3544=\"реконструкция\")*3+(L3544=\"капремонт\")*2 +(L3544=\"приобретение\")*1+(L3544=\"установка\")*1)*10","v":0},null,{"$f":"IF(P3544=\"коммунальная инфраструктура\",(L3544=\"строительство\")*3+(L3544=\"реконструкция\")*2+(L3544=\"капремонт\")*1,0)*10","v":0},null,{"$f":"IF(P3544=\"коммунальная инфраструктура\",(L3544=\"строительство\")*4+(L3544=\"реконструкция\")*3+(L3544=\"капремонт\")*2,0)*10","v":0}]
[163,null,{"$f":"COUNTA(G3572:G3592)","v":0},null,null,null,null,null,null,null,null,null,null,null,null,null,{"$f":"MIN(Q3572:Q3592)","v":0},{"$f":"MAX(R3572:R3592)","v":0},{"$f":"MAX(S3572:S3592)","v":0},null,{"$f":"MAX(U3572:U3592)","v":0},null,null,null,null,null,{"$f":"IF(COUNTIF(AA3572:AA3592,\"НЕТ\")>0,\"ПД!\",\"ок\")","v":"ок"},null,{"$f":"IF(COUNTIF(AC3572:AC3592,\"НЕТ\")>0,\"ДОСМ!\",\"ок\")","v":"ок"},null,{"$f":"IF(COUNTIF(AE3572:AE3592,\"НЕТ\")>0,\"ФОИВ!\",\"ок\")","v":"ок"},{"$f":"IF(COUNTIF(AF3572:AF3592,\"НЕТ\")>0,\"ФОИВ!\",\"ок\")","v":"ок"},null,{"$f":"SUM(AH3572:AH3592)","v":0},{"$f":"SUM(AI3572:AI3592)","v":0},{"$f":"SUM(AJ3572:AJ3592)","v":0},{"$f":"SUM(AK3572:AK3592)","v":0},{"$f":"SUM(AL3572:AL3592)","v":0},{"$f":"SUM(AM3572:AM3592)","v":0},{"$f":"SUM(AN3572:AN3592)","v":0},{"$f":"SUM(AO3572:AO3592)","v":0},{"$f":"SUM(AP3572:AP3592)","v":0},{"$f":"SUM(AQ3572:AQ3592)","v":0},{"$f":"SUM(AR3572:AR3592)","v":0},{"$f":"SUM(AS3572:AS3592)","v":0},{"$f":"SUM(AT3572:AT3592)","v":0},{"$f":"SUM(AU3572:AU3592)","v":0},{"$f":"SUM(AV3572:AV3592)","v":0},{"$f":"SUM(AW3572:AW3592)","v":0},{"$f":"SUM(AX3572:AX3592)","v":0},{"$f":"SUM(AH3571,AM3571,AR3571)","v":0},{"$f":"AL3571+AQ3571+AV3571","v":0},{"$f":"IF(AY3571=0,0,AZ3571/AY3571)","v":0},{"$f":"IF((AY3571+AX3571)=0,0,AX3571/(AX3571+AY3571))","v":0},null,null,{"$f":"IFERROR(BD3571/BC3571,0)","v":0},null,null,{"$f":"IFERROR(BG3571/BF3571,0)","v":0},null,null,{"$f":"IFERROR(BJ3571/BI3571,0)","v":0},null,null,null,{"$f":"(SUM(BL3571:BN3571)>0)*1+(SUM(BL3571:BN3571)>=10)*1+(SUM(BL3571:BN3571)>=50)*1+(SUM(BL3571:BN3571)>=100)*1+(SUM(BL3571:BN3571)>=200)*1+(SUM(BL3571:BN3571)>=300)*1","v":0},{"$f":"IFERROR(SUM(BL3571:BN3571)/BC3571,0)","v":0},null,null,{"$f":"IFERROR(BQ3571/BR3571,0)","v":0},{"$f":"IF(BA3571<0.01,0,IF(BA3571>=0.1,10,ROUNDDOWN(BA3571/0.01,0)))","v":0},8,{"$f":"BT3571*BU3571","v":0},{"$f":"IF(BB3571<0.01,0,IF(BB3571>=0.1,10,ROUNDDOWN(BB3571/0.01,0)))","v":0},8,{"$f":"BW3571*BX3571","v":0},{"$f":"IF(U3571<=1,9,IF(U3571<=2,6,IF(U3571<=3,3,0)))*(C3571>0)","v":0},6,{"$f":"BZ3571*CA3571","v":0},{"$f":"IF(BH3571<0.51,0,10)","v":0},7,{"$f":"CC3571*CD3571","v":0},{"$f":"IF(BE3571<0.1,0,IF(BE3571>=0.9,10,ROUNDDOWN(BE3571/0.1,0)))","v":0},10,{"$f":"CF3571*CG3571","v":0},{"$f":"IF(BK3571<0.1,0,IF(BK3571>=0.6,10,ROUNDDOWN(BK3571/0.1,0)))","v":0},8,{"$f":"CI3571*CJ3571","v":0},{"$f":"IF(BP3571<0.05,0,IF(BP3571>=0.1,10,1))","v":0},10,{"$f":"CL3571*CM3571","v":0},{"$f":"IF(BS3571<0.1,0,IF(BS3571>=0.8,10,ROUNDDOWN(BS3571/0.1,0)))","v":0},10,{"$f":"CP3571*CO3571","v":0},{"$f":"ROUND(IF(C3571=0,0,SUM(CR3572:CR3592)/C3571),1)","v":0},{"$f":"((SUM(BL3571:BN3571)>=1)*1+(SUM(BL3571:BN3571)>=11)*1+(SUM(BL3571:BN3571)>=51)*3+(SUM(BL3571:BN3571)>=101)*2+(SUM(BL3571:BN3571)>=201)*2+(SUM(BL3571:BN3571)>=301)*4)*10","v":0},{"$f":"IFERROR(ROUND(SUM(CT3572:CT3592)/COUNTIF(P3572:P3592,\"коммунальная инфраструктура\"),1),0)","v":0},{"$f":"CS3571+CT3571","v":0},{"$f":"IFERROR(ROUND(SUM(CV3572:CV3592)/COUNTIF(P3572:P3592,\"коммунальная инфраструктура\"),1),0)","v":0},{"$f":"SUM(BV3571,BY3571,CB3571,CE3571,CH3571,CK3571,CN3571,CQ3571,CR3571,CU3571,CV3571)","v":0},{"$f":"VLOOKUP(D3571,РегионыФО,2,0)","v":{"$error":"#N/A"}}]
[null,null,8,{"$f":"IF(AND(D3571<>\"\",G3579<>\"\"),D3571,\"\")","v":""},{"$f":"IF(AND(E3571<>\"\",G3579<>\"\"),E3571,\"\")","v":""},null,null,null,null,null,null,null,null,null,null,null,null,null,{"$f":"IF(Q3579>=2020,R3579-Q3579+1,\"\")","v":""},null,{"$f":"IF(Q3579>=2020,S3579*T3579,\"\")","v":""},null,null,null,null,null,null,null,null,null,null,null,null,{"$f":"SUM(AI3579:AL3579)","v":0},null,null,null,null,{"$f":"SUM(AN3579:AQ3579)","v":0},null,null,null,null,{"$f":"SUM(AS3579:AV3579)","v":0},null,null,null,null,null,null,{"$f":"SUM(AH3579,AM3579,AR3579)","v":0},{"$f":"SUM(AL3579,AQ3579,AV3579)","v":0},{"$f":"IF(AY3579=0,0,AZ3579/AY3579)","v":0},{"$f":"IF((AY3579+AX3579)=0,0,AX3579/(AX3579+AY3579))","v":0},null,null,null,null,null,null,null,null,null,null,null,null,null,null,null,null,null,null,null,null,null,null,null,null,null,null,null,null,null,null,null,null,null,null,null,null,null,null,null,null,null,{"$f":"((L3579=\"создание\")*7+(L3579=\"расширение\")*7 +(L3579=\"внедрение\")*7+(L3579=\"строительство\")*4+(L3579=\"реконструкция\")*3+(L3579=\"капремонт\")*2 +(L3579=\"приобретение\")*1+(L3579=\"установка\")*1)*10","v":0},null,{"$f":"IF(P3579=\"коммунальная инфраструктура\",(L3579=\"строительство\")*3+(L3579=\"реконструкция\")*2+(L3579=\"капремонт\")*1,0)*10","v":0},null,{"$f":"IF(P3579=\"коммунальная инфраструктура\",(L3579=\"строительство\")*4+(L3579=\"реконструкция\")*3+(L3579=\"капремонт\")*2,0)*10","v":0}]
[null,null,11,{"$f":"IF(AND(D3593<>\"\",G3604<>\"\"),D3593,\"\")","v":""},{"$f":"IF(AND(E3593<>\"\",G3604<>\"\"),E3593,\"\")","v":""},null,null,null,null,null,null,null,null,null,null,null,null,null,{"$f":"IF(Q3604>=2020,R3604-Q3604+1,\"\")","v":""},null,{"$f":"IF(Q3604>=2020,S3604*T3604,\"\")","v":""},null,null,null,null,null,null,null,null,null,null,null,null,{"$f":"SUM(AI3604:AL3604)","v":0},null,null,null,null,{"$f":"SUM(AN3604:AQ3604)","v":0},null,null,null,null,{"$f":"SUM(AS3604:AV3604)","v":0},null,null,null,null,null,null,{"$f":"SUM(AH3604,AM3604,AR3604)","v":0},{"$f":"SUM(AL3604,AQ3604,AV3604)","v":0},{"$f":"IF(AY3604=0,0,AZ3604/AY3604)","v":0},{"$f":"IF((AY3604+AX3604)=0,0,AX3604/(AX3604+AY3604))","v":0},null,null,null,null,null,null,null,null,null,null,null,null,null,null,null,null,null,null,null,null,null,null,null,null,null,null,null,null,null,null,null,null,null,null,null,null,null,null,null,null,null,{"$f":"((L3604=\"создание\")*7+(L3604=\"расширение\")*7 +(L3604=\"внедрение\")*7+(L3604=\"строительство\")*4+(L3604=\"реконструкция\")*3+(L3604=\"капремонт\")*2 +(L3604=\"приобретение\")*1+(L3604=\"установка\")*1)*10","v":0},null,{"$f":"IF(P3604=\"коммунальная инфраструктура\",(L3604=\"строительство\")*3+(L3604=\"реконструкция\")*2+(L3604=\"капремонт\")*1,0)*10","v":0},null,{"$f":"IF(P3604=\"коммунальная инфраструктура\",(L3604=\"строительство\")*4+(L3604=\"реконструкция\")*3+(L3604=\"капремонт\")*2,0)*10","v":0}]
[null,null,"…",{"$f":"IF(AND(D3593<>\"\",G3614<>\"\"),D3593,\"\")","v":""},{"$f":"IF(AND(E3593<>\"\",G3614<>\"\"),E3593,\"\")","v":""},null,null,null,null,null,null,null,null,null,null,null,null,null,{"$f":"IF(Q3614>=2020,R3614-Q3614+1,\"\")","v":""},null,{"$f":"IF(Q3614>=2020,S3614*T3614,\"\")","v":""},null,null,null,null,null,null,null,null,null,null,null,null,{"$f":"SUM(AI3614:AL3614)","v":0},null,null,null,null,{"$f":"SUM(AN3614:AQ3614)","v":0},null,null,null,null,{"$f":"SUM(AS3614:AV3614)","v":0},null,null,null,null,null,null,{"$f":"SUM(AH3614,AM3614,AR3614)","v":0},{"$f":"SUM(AL3614,AQ3614,AV3614)","v":0},{"$f":"IF(AY3614=0,0,AZ3614/AY3614)","v":0},{"$f":"IF((AY3614+AX3614)=0,0,AX3614/(AX3614+AY3614))","v":0},null,null,null,null,null,null,null,null,null,null,null,null,null,null,null,null,null,null,null,null,null,null,null,null,null,null,null,null,null,null,null,null,null,null,null,null,null,null,null,null,null,{"$f":"((L3614=\"создание\")*7+(L3614=\"расширение\")*7 +(L3614=\"внедрение\")*7+(L3614=\"строительство\")*4+(L3614=\"реконструкция\")*3+(L3614=\"капремонт\")*2 +(L3614=\"приобретение\")*1+(L3614=\"установка\")*1)*10","v":0},null,{"$f":"IF(P3614=\"коммунальная инфраструктура\",(L3614=\"строительство\")*3+(L3614=\"реконструкция\")*2+(L3614=\"капремонт\")*1,0)*10","v":0},null,{"$f":"IF(P3614=\"коммунальная инфраструктура\",(L3614=\"строительство\")*4+(L3614=\"реконструкция\")*3+(L3614=\"капремонт\")*2,0)*10","v":0}]
[null,null,16,{"$f":"IF(AND(D3615<>\"\",G3631<>\"\"),D3615,\"\")","v":""},{"$f":"IF(AND(E3615<>\"\",G3631<>\"\"),E3615,\"\")","v":""},null,null,null,null,null,null,null,null,null,null,null,null,null,{"$f":"IF(Q3631>=2020,R3631-Q3631+1,\"\")","v":""},null,{"$f":"IF(Q3631>=2020,S3631*T3631,\"\")","v":""},null,null,null,null,null,null,null,null,null,null,null,null,{"$f":"SUM(AI3631:AL3631)","v":0},null,null,null,null,{"$f":"SUM(AN3631:AQ3631)","v":0},null,null,null,null,{"$f":"SUM(AS3631:AV3631)","v":0},null,null,null,null,null,null,{"$f":"SUM(AH3631,AM3631,AR3631)","v":0},{"$f":"SUM(AL3631,AQ3631,AV3631)","v":0},{"$f":"IF(AY3631=0,0,AZ3631/AY3631)","v":0},{"$f":"IF((AY3631+AX3631)=0,0,AX3631/(AX3631+AY3631))","v":0},null,null,null,null,null,null,null,null,null,null,null,null,null,null,null,null,null,null,null,null,null,null,null,null,null,null,null,null,null,null,null,null,null,null,null,null,null,null,null,null,null,{"$f":"((L3631=\"создание\")*7+(L3631=\"расширение\")*7 +(L3631=\"внедрение\")*7+(L3631=\"строительство\")*4+(L3631=\"реконструкция\")*3+(L3631=\"капремонт\")*2 +(L3631=\"приобретение\")*1+(L3631=\"установка\")*1)*10","v":0},null,{"$f":"IF(P3631=\"коммунальная инфраструктура\",(L3631=\"строительство\")*3+(L3631=\"реконструкция\")*2+(L3631=\"капремонт\")*1,0)*10","v":0},null,{"$f":"IF(P3631=\"коммунальная инфраструктура\",(L3631=\"строительство\")*4+(L3631=\"реконструкция\")*3+(L3631=\"капремонт\")*2,0)*10","v":0}]
[null,null,18,{"$f":"IF(AND(D3637<>\"\",G3655<>\"\"),D3637,\"\")","v":""},{"$f":"IF(AND(E3637<>\"\",G3655<>\"\"),E3637,\"\")","v":""},null,null,null,null,null,null,null,null,null,null,null,null,null,{"$f":"IF(Q3655>=2020,R3655-Q3655+1,\"\")","v":""},null,{"$f":"IF(Q3655>=2020,S3655*T3655,\"\")","v":""},null,null,null,null,null,null,null,null,null,null,null,null,{"$f":"SUM(AI3655:AL3655)","v":0},null,null,null,null,{"$f":"SUM(AN3655:AQ3655)","v":0},null,null,null,null,{"$f":"SUM(AS3655:AV3655)","v":0},null,null,null,null,null,null,{"$f":"SUM(AH3655,AM3655,AR3655)","v":0},{"$f":"SUM(AL3655,AQ3655,AV3655)","v":0},{"$f":"IF(AY3655=0,0,AZ3655/AY3655)","v":0},{"$f":"IF((AY3655+AX3655)=0,0,AX3655/(AX3655+AY3655))","v":0},null,null,null,null,null,null,null,null,null,null,null,null,null,null,null,null,null,null,null,null,null,null,null,null,null,null,null,null,null,null,null,null,null,null,null,null,null,null,null,null,null,{"$f":"((L3655=\"создание\")*7+(L3655=\"расширение\")*7 +(L3655=\"внедрение\")*7+(L3655=\"строительство\")*4+(L3655=\"реконструкция\")*3+(L3655=\"капремонт\")*2 +(L3655=\"приобретение\")*1+(L3655=\"установка\")*1)*10","v":0},null,{"$f":"IF(P3655=\"коммунальная инфраструктура\",(L3655=\"строительство\")*3+(L3655=\"реконструкция\")*2+(L3655=\"капремонт\")*1,0)*10","v":0},null,{"$f":"IF(P3655=\"коммунальная инфраструктура\",(L3655=\"строительство\")*4+(L3655=\"реконструкция\")*3+(L3655=\"капремонт\")*2,0)*10","v":0}]
[null,null,7,{"$f":"IF(AND(D3659<>\"\",G3666<>\"\"),D3659,\"\")","v":""},{"$f":"IF(AND(E3659<>\"\",G3666<>\"\"),E3659,\"\")","v":""},null,null,null,null,null,null,null,null,null,null,null,null,null,{"$f":"IF(Q3666>=2020,R3666-Q3666+1,\"\")","v":""},null,{"$f":"IF(Q3666>=2020,S3666*T3666,\"\")","v":""},null,null,null,null,null,null,null,null,null,null,null,null,{"$f":"SUM(AI3666:AL3666)","v":0},null,null,null,null,{"$f":"SUM(AN3666:AQ3666)","v":0},null,null,null,null,{"$f":"SUM(AS3666:AV3666)","v":0},null,null,null,null,null,null,{"$f":"SUM(AH3666,AM3666,AR3666)","v":0},{"$f":"SUM(AL3666,AQ3666,AV3666)","v":0},{"$f":"IF(AY3666=0,0,AZ3666/AY3666)","v":0},{"$f":"IF((AY3666+AX3666)=0,0,AX3666/(AX3666+AY3666))","v":0},null,null,null,null,null,null,null,null,null,null,null,null,null,null,null,null,null,null,null,null,null,null,null,null,null,null,null,null,null,null,null,null,null,null,null,null,null,null,null,null,null,{"$f":"((L3666=\"создание\")*7+(L3666=\"расширение\")*7 +(L3666=\"внедрение\")*7+(L3666=\"строительство\")*4+(L3666=\"реконструкция\")*3+(L3666=\"капремонт\")*2 +(L3666=\"приобретение\")*1+(L3666=\"установка\")*1)*10","v":0},null,{"$f":"IF(P3666=\"коммунальная инфраструктура\",(L3666=\"строительство\")*3+(L3666=\"реконструкция\")*2+(L3666=\"капремонт\")*1,0)*10","v":0},null,{"$f":"IF(P3666=\"коммунальная инфраструктура\",(L3666=\"строительство\")*4+(L3666=\"реконструкция\")*3+(L3666=\"капремонт\")*2,0)*10","v":0}]
[null,null,2,{"$f":"IF(AND(D3681<>\"\",G3683<>\"\"),D3681,\"\")","v":""},{"$f":"IF(AND(E3681<>\"\",G3683<>\"\"),E3681,\"\")","v":""},null,null,null,null,null,null,null,null,null,null,null,null,null,{"$f":"IF(Q3683>=2020,R3683-Q3683+1,\"\")","v":""},null,{"$f":"IF(Q3683>=2020,S3683*T3683,\"\")","v":""},null,null,null,null,null,null,null,null,null,null,null,null,{"$f":"SUM(AI3683:AL3683)","v":0},null,null,null,null,{"$f":"SUM(AN3683:AQ3683)","v":0},null,null,null,null,{"$f":"SUM(AS3683:AV3683)","v":0},null,null,null,null,null,null,{"$f":"SUM(AH3683,AM3683,AR3683)","v":0},{"$f":"SUM(AL3683,AQ3683,AV3683)","v":0},{"$f":"IF(AY3683=0,0,AZ3683/AY3683)","v":0},{"$f":"IF((AY3683+AX3683)=0,0,AX3683/(AX3683+AY3683))","v":0},null,null,null,null,null,null,null,null,null,null,null,null,null,null,null,null,null,null,null,null,null,null,null,null,null,null,null,null,null,null,null,null,null,null,null,null,null,null,null,null,null,{"$f":"((L3683=\"создание\")*7+(L3683=\"расширение\")*7 +(L3683=\"внедрение\")*7+(L3683=\"строительство\")*4+(L3683=\"реконструкция\")*3+(L3683=\"капремонт\")*2 +(L3683=\"приобретение\")*1+(L3683=\"установка\")*1)*10","v":0},null,{"$f":"IF(P3683=\"коммунальная инфраструктура\",(L3683=\"строительство\")*3+(L3683=\"реконструкция\")*2+(L3683=\"капремонт\")*1,0)*10","v":0},null,{"$f":"IF(P3683=\"коммунальная инфраструктура\",(L3683=\"строительство\")*4+(L3683=\"реконструкция\")*3+(L3683=\"капремонт\")*2,0)*10","v":0}]
[null,null,2,{"$f":"IF(AND(D3703<>\"\",G3705<>\"\"),D3703,\"\")","v":""},{"$f":"IF(AND(E3703<>\"\",G3705<>\"\"),E3703,\"\")","v":""},null,null,null,null,null,null,null,null,null,null,null,null,null,{"$f":"IF(Q3705>=2020,R3705-Q3705+1,\"\")","v":""},null,{"$f":"IF(Q3705>=2020,S3705*T3705,\"\")","v":""},null,null,null,null,null,null,null,null,null,null,null,null,{"$f":"SUM(AI3705:AL3705)","v":0},null,null,null,null,{"$f":"SUM(AN3705:AQ3705)","v":0},null,null,null,null,{"$f":"SUM(AS3705:AV3705)","v":0},null,null,null,null,null,null,{"$f":"SUM(AH3705,AM3705,AR3705)","v":0},{"$f":"SUM(AL3705,AQ3705,AV3705)","v":0},{"$f":"IF(AY3705=0,0,AZ3705/AY3705)","v":0},{"$f":"IF((AY3705+AX3705)=0,0,AX3705/(AX3705+AY3705))","v":0},null,null,null,null,null,null,null,null,null,null,null,null,null,null,null,null,null,null,null,null,null,null,null,null,null,null,null,null,null,null,null,null,null,null,null,null,null,null,null,null,null,{"$f":"((L3705=\"создание\")*7+(L3705=\"расширение\")*7 +(L3705=\"внедрение\")*7+(L3705=\"строительство\")*4+(L3705=\"реконструкция\")*3+(L3705=\"капремонт\")*2 +(L3705=\"приобретение\")*1+(L3705=\"установка\")*1)*10","v":0},null,{"$f":"IF(P3705=\"коммунальная инфраструктура\",(L3705=\"строительство\")*3+(L3705=\"реконструкция\")*2+(L3705=\"капремонт\")*1,0)*10","v":0},null,{"$f":"IF(P3705=\"коммунальная инфраструктура\",(L3705=\"строительство\")*4+(L3705=\"реконструкция\")*3+(L3705=\"капремонт\")*2,0)*10","v":0}]
[null,null,15,{"$f":"IF(AND(D3703<>\"\",G3718<>\"\"),D3703,\"\")","v":""},{"$f":"IF(AND(E3703<>\"\",G3718<>\"\"),E3703,\"\")","v":""},null,null,null,null,null,null,null,null,null,null,null,null,null,{"$f":"IF(Q3718>=2020,R3718-Q3718+1,\"\")","v":""},null,{"$f":"IF(Q3718>=2020,S3718*T3718,\"\")","v":""},null,null,null,null,null,null,null,null,null,null,null,null,{"$f":"SUM(AI3718:AL3718)","v":0},null,null,null,null,{"$f":"SUM(AN3718:AQ3718)","v":0},null,null,null,null,{"$f":"SUM(AS3718:AV3718)","v":0},null,null,null,null,null,null,{"$f":"SUM(AH3718,AM3718,AR3718)","v":0},{"$f":"SUM(AL3718,AQ3718,AV3718)","v":0},{"$f":"IF(AY3718=0,0,AZ3718/AY3718)","v":0},{"$f":"IF((AY3718+AX3718)=0,0,AX3718/(AX3718+AY3718))","v":0},null,null,null,null,null,null,null,null,null,null,null,null,null,null,null,null,null,null,null,null,null,null,null,null,null,null,null,null,null,null,null,null,null,null,null,null,null,null,null,null,null,{"$f":"((L3718=\"создание\")*7+(L3718=\"расширение\")*7 +(L3718=\"внедрение\")*7+(L3718=\"строительство\")*4+(L3718=\"реконструкция\")*3+(L3718=\"капремонт\")*2 +(L3718=\"приобретение\")*1+(L3718=\"установка\")*1)*10","v":0},null,{"$f":"IF(P3718=\"коммунальная инфраструктура\",(L3718=\"строительство\")*3+(L3718=\"реконструкция\")*2+(L3718=\"капремонт\")*1,0)*10","v":0},null,{"$f":"IF(P3718=\"коммунальная инфраструктура\",(L3718=\"строительство\")*4+(L3718=\"реконструкция\")*3+(L3718=\"капремонт\")*2,0)*10","v":0}]
[null,null,13,{"$f":"IF(AND(D3725<>\"\",G3738<>\"\"),D3725,\"\")","v":""},{"$f":"IF(AND(E3725<>\"\",G3738<>\"\"),E3725,\"\")","v":""},null,null,null,null,null,null,null,null,null,null,null,null,null,{"$f":"IF(Q3738>=2020,R3738-Q3738+1,\"\")","v":""},null,{"$f":"IF(Q3738>=2020,S3738*T3738,\"\")","v":""},null,null,null,null,null,null,null,null,null,null,null,null,{"$f":"SUM(AI3738:AL3738)","v":0},null,null,null,null,{"$f":"SUM(AN3738:AQ3738)","v":0},null,null,null,null,{"$f":"SUM(AS3738:AV3738)","v":0},null,null,null,null,null,null,{"$f":"SUM(AH3738,AM3738,AR3738)","v":0},{"$f":"SUM(AL3738,AQ3738,AV3738)","v":0},{"$f":"IF(AY3738=0,0,AZ3738/AY3738)","v":0},{"$f":"IF((AY3738+AX3738)=0,0,AX3738/(AX3738+AY3738))","v":0},null,null,null,null,null,null,null,null,null,null,null,null,null,null,null,null,null,null,null,null,null,null,null,null,null,null,null,null,null,null,null,null,null,null,null,null,null,null,null,null,null,{"$f":"((L3738=\"создание\")*7+(L3738=\"расширение\")*7 +(L3738=\"внедрение\")*7+(L3738=\"строительство\")*4+(L3738=\"реконструкция\")*3+(L3738=\"капремонт\")*2 +(L3738=\"приобретение\")*1+(L3738=\"установка\")*1)*10","v":0},null,{"$f":"IF(P3738=\"коммунальная инфраструктура\",(L3738=\"строительство\")*3+(L3738=\"реконструкция\")*2+(L3738=\"капремонт\")*1,0)*10","v":0},null,{"$f":"IF(P3738=\"коммунальная инфраструктура\",(L3738=\"строительство\")*4+(L3738=\"реконструкция\")*3+(L3738=\"капремонт\")*2,0)*10","v":0}]
[null,null,6,{"$f":"IF(AND(D3747<>\"\",G3753<>\"\"),D3747,\"\")","v":""},{"$f":"IF(AND(E3747<>\"\",G3753<>\"\"),E3747,\"\")","v":""},null,null,null,null,null,null,null,null,null,null,null,null,null,{"$f":"IF(Q3753>=2020,R3753-Q3753+1,\"\")","v":""},null,{"$f":"IF(Q3753>=2020,S3753*T3753,\"\")","v":""},null,null,null,null,null,null,null,null,null,null,null,null,{"$f":"SUM(AI3753:AL3753)","v":0},null,null,null,null,{"$f":"SUM(AN3753:AQ3753)","v":0},null,null,null,null,{"$f":"SUM(AS3753:AV3753)","v":0},null,null,null,null,null,null,{"$f":"SUM(AH3753,AM3753,AR3753)","v":0},{"$f":"SUM(AL3753,AQ3753,AV3753)","v":0},{"$f":"IF(AY3753=0,0,AZ3753/AY3753)","v":0},{"$f":"IF((AY3753+AX3753)=0,0,AX3753/(AX3753+AY3753))","v":0},null,null,null,null,null,null,null,null,null,null,null,null,null,null,null,null,null,null,null,null,null,null,null,null,null,null,null,null,null,null,null,null,null,null,null,null,null,null,null,null,null,{"$f":"((L3753=\"создание\")*7+(L3753=\"расширение\")*7 +(L3753=\"внедрение\")*7+(L3753=\"строительство\")*4+(L3753=\"реконструкция\")*3+(L3753=\"капремонт\")*2 +(L3753=\"приобретение\")*1+(L3753=\"установка\")*1)*10","v":0},null,{"$f":"IF(P3753=\"коммунальная инфраструктура\",(L3753=\"строительство\")*3+(L3753=\"реконструкция\")*2+(L3753=\"капремонт\")*1,0)*10","v":0},null,{"$f":"IF(P3753=\"коммунальная инфраструктура\",(L3753=\"строительство\")*4+(L3753=\"реконструкция\")*3+(L3753=\"капремонт\")*2,0)*10","v":0}]
[null,null,1,{"$f":"IF(AND(D3769<>\"\",G3770<>\"\"),D3769,\"\")","v":""},{"$f":"IF(AND(E3769<>\"\",G3770<>\"\"),E3769,\"\")","v":""},null,null,null,null,null,null,null,null,null,null,null,null,null,{"$f":"IF(Q3770>=2020,R3770-Q3770+1,\"\")","v":""},null,{"$f":"IF(Q3770>=2020,ROUNDUP(S3770*T3770,0),\"\")","v":""},null,null,null,null,null,null,null,null,null,null,null,null,{"$f":"SUM(AI3770:AL3770)","v":0},null,null,null,null,{"$f":"SUM(AN3770:AQ3770)","v":0},null,null,null,null,{"$f":"SUM(AS3770:AV3770)","v":0},null,null,null,null,null,null,{"$f":"SUM(AH3770,AM3770,AR3770)","v":0},{"$f":"SUM(AL3770,AQ3770,AV3770)","v":0},{"$f":"IF(AY3770=0,0,AZ3770/AY3770)","v":0},{"$f":"IF((AY3770+AX3770)=0,0,AX3770/(AX3770+AY3770))","v":0},null,null,null,null,null,null,null,null,null,null,null,null,null,null,null,null,null,null,null,null,null,null,null,null,null,null,null,null,null,null,null,null,null,null,null,null,null,null,null,null,null,{"$f":"((L3770=\"создание\")*7+(L3770=\"расширение\")*7 +(L3770=\"внедрение\")*7+(L3770=\"строительство\")*4+(L3770=\"реконструкция\")*3+(L3770=\"капремонт\")*2 +(L3770=\"приобретение\")*1+(L3770=\"установка\")*1)*10","v":0},null,{"$f":"IF(P3770=\"коммунальная инфраструктура\",(L3770=\"строительство\")*3+(L3770=\"реконструкция\")*2+(L3770=\"капремонт\")*1,0)*10","v":0},null,{"$f":"IF(P3770=\"коммунальная инфраструктура\",(L3770=\"строительство\")*4+(L3770=\"реконструкция\")*3+(L3770=\"капремонт\")*2,0)*10","v":0}]
[null,null,3,{"$f":"IF(AND(D3769<>\"\",G3772<>\"\"),D3769,\"\")","v":""},{"$f":"IF(AND(E3769<>\"\",G3772<>\"\"),E3769,\"\")","v":""},null,null,null,null,null,null,null,null,null,null,null,null,null,{"$f":"IF(Q3772>=2020,R3772-Q3772+1,\"\")","v":""},null,{"$f":"IF(Q3772>=2020,S3772*T3772,\"\")","v":""},null,null,null,null,null,null,null,null,null,null,null,null,{"$f":"SUM(AI3772:AL3772)","v":0},null,null,null,null,{"$f":"SUM(AN3772:AQ3772)","v":0},null,null,null,null,{"$f":"SUM(AS3772:AV3772)","v":0},null,null,null,null,null,null,{"$f":"SUM(AH3772,AM3772,AR3772)","v":0},{"$f":"SUM(AL3772,AQ3772,AV3772)","v":0},{"$f":"IF(AY3772=0,0,AZ3772/AY3772)","v":0},{"$f":"IF((AY3772+AX3772)=0,0,AX3772/(AX3772+AY3772))","v":0},null,null,null,null,null,null,null,null,null,null,null,null,null,null,null,null,null,null,null,null,null,null,null,null,null,null,null,null,null,null,null,null,null,null,null,null,null,null,null,null,null,{"$f":"((L3772=\"создание\")*7+(L3772=\"расширение\")*7 +(L3772=\"внедрение\")*7+(L3772=\"строительство\")*4+(L3772=\"реконструкция\")*3+(L3772=\"капремонт\")*2 +(L3772=\"приобретение\")*1+(L3772=\"установка\")*1)*10","v":0},null,{"$f":"IF(P3772=\"коммунальная инфраструктура\",(L3772=\"строительство\")*3+(L3772=\"реконструкция\")*2+(L3772=\"капремонт\")*1,0)*10","v":0},null,{"$f":"IF(P3772=\"коммунальная инфраструктура\",(L3772=\"строительство\")*4+(L3772=\"реконструкция\")*3+(L3772=\"капремонт\")*2,0)*10","v":0}]
[null,null,20,{"$f":"IF(AND(D3769<>\"\",G3789<>\"\"),D3769,\"\")","v":""},{"$f":"IF(AND(E3769<>\"\",G3789<>\"\"),E3769,\"\")","v":""},null,null,null,null,null,null,null,null,null,null,null,null,null,{"$f":"IF(Q3789>=2020,R3789-Q3789+1,\"\")","v":""},null,{"$f":"IF(Q3789>=2020,S3789*T3789,\"\")","v":""},null,null,null,null,null,null,null,null,null,null,null,null,{"$f":"SUM(AI3789:AL3789)","v":0},null,null,null,null,{"$f":"SUM(AN3789:AQ3789)","v":0},null,null,null,null,{"$f":"SUM(AS3789:AV3789)","v":0},null,null,null,null,null,null,{"$f":"SUM(AH3789,AM3789,AR3789)","v":0},{"$f":"SUM(AL3789,AQ3789,AV3789)","v":0},{"$f":"IF(AY3789=0,0,AZ3789/AY3789)","v":0},{"$f":"IF((AY3789+AX3789)=0,0,AX3789/(AX3789+AY3789))","v":0},null,null,null,null,null,null,null,null,null,null,null,null,null,null,null,null,null,null,null,null,null,null,null,null,null,null,null,null,null,null,null,null,null,null,null,null,null,null,null,null,null,{"$f":"((L3789=\"создание\")*7+(L3789=\"расширение\")*7 +(L3789=\"внедрение\")*7+(L3789=\"строительство\")*4+(L3789=\"реконструкция\")*3+(L3789=\"капремонт\")*2 +(L3789=\"приобретение\")*1+(L3789=\"установка\")*1)*10","v":0},null,{"$f":"IF(P3789=\"коммунальная инфраструктура\",(L3789=\"строительство\")*3+(L3789=\"реконструкция\")*2+(L3789=\"капремонт\")*1,0)*10","v":0},null,{"$f":"IF(P3789=\"коммунальная инфраструктура\",(L3789=\"строительство\")*4+(L3789=\"реконструкция\")*3+(L3789=\"капремонт\")*2,0)*10","v":0}]
[null,null,15,{"$f":"IF(AND(D3791<>\"\",G3806<>\"\"),D3791,\"\")","v":""},{"$f":"IF(AND(E3791<>\"\",G3806<>\"\"),E3791,\"\")","v":""},null,null,null,null,null,null,null,null,null,null,null,null,null,{"$f":"IF(Q3806>=2020,R3806-Q3806+1,\"\")","v":""},null,{"$f":"IF(Q3806>=2020,S3806*T3806,\"\")","v":""},null,null,null,null,null,null,null,null,null,null,null,null,{"$f":"SUM(AI3806:AL3806)","v":0},null,null,null,null,{"$f":"SUM(AN3806:AQ3806)","v":0},null,null,null,null,{"$f":"SUM(AS3806:AV3806)","v":0},null,null,null,null,null,null,{"$f":"SUM(AH3806,AM3806,AR3806)","v":0},{"$f":"SUM(AL3806,AQ3806,AV3806)","v":0},{"$f":"IF(AY3806=0,0,AZ3806/AY3806)","v":0},{"$f":"IF((AY3806+AX3806)=0,0,AX3806/(AX3806+AY3806))","v":0},null,null,null,null,null,null,null,null,null,null,null,null,null,null,null,null,null,null,null,null,null,null,null,null,null,null,null,null,null,null,null,null,null,null,null,null,null,null,null,null,null,{"$f":"((L3806=\"создание\")*7+(L3806=\"расширение\")*7 +(L3806=\"внедрение\")*7+(L3806=\"строительство\")*4+(L3806=\"реконструкция\")*3+(L3806=\"капремонт\")*2 +(L3806=\"приобретение\")*1+(L3806=\"установка\")*1)*10","v":0},null,{"$f":"IF(P3806=\"коммунальная инфраструктура\",(L3806=\"строительство\")*3+(L3806=\"реконструкция\")*2+(L3806=\"капремонт\")*1,0)*10","v":0},null,{"$f":"IF(P3806=\"коммунальная инфраструктура\",(L3806=\"строительство\")*4+(L3806=\"реконструкция\")*3+(L3806=\"капремонт\")*2,0)*10","v":0}]
[null,null,9,{"$f":"IF(AND(D3813<>\"\",G3822<>\"\"),D3813,\"\")","v":""},{"$f":"IF(AND(E3813<>\"\",G3822<>\"\"),E3813,\"\")","v":""},null,null,null,null,null,null,null,null,null,null,null,null,null,{"$f":"IF(Q3822>=2020,R3822-Q3822+1,\"\")","v":""},null,{"$f":"IF(Q3822>=2020,S3822*T3822,\"\")","v":""},null,null,null,null,null,null,null,null,null,null,null,null,{"$f":"SUM(AI3822:AL3822)","v":0},null,null,null,null,{"$f":"SUM(AN3822:AQ3822)","v":0},null,null,null,null,{"$f":"SUM(AS3822:AV3822)","v":0},null,null,null,null,null,null,{"$f":"SUM(AH3822,AM3822,AR3822)","v":0},{"$f":"SUM(AL3822,AQ3822,AV3822)","v":0},{"$f":"IF(AY3822=0,0,AZ3822/AY3822)","v":0},{"$f":"IF((AY3822+AX3822)=0,0,AX3822/(AX3822+AY3822))","v":0},null,null,null,null,null,null,null,null,null,null,null,null,null,null,null,null,null,null,null,null,null,null,null,null,null,null,null,null,null,null,null,null,null,null,null,null,null,null,null,null,null,{"$f":"((L3822=\"создание\")*7+(L3822=\"расширение\")*7 +(L3822=\"внедрение\")*7+(L3822=\"строительство\")*4+(L3822=\"реконструкция\")*3+(L3822=\"капремонт\")*2 +(L3822=\"приобретение\")*1+(L3822=\"установка\")*1)*10","v":0},null,{"$f":"IF(P3822=\"коммунальная инфраструктура\",(L3822=\"строительство\")*3+(L3822=\"реконструкция\")*2+(L3822=\"капремонт\")*1,0)*10","v":0},null,{"$f":"IF(P3822=\"коммунальная инфраструктура\",(L3822=\"строительство\")*4+(L3822=\"реконструкция\")*3+(L3822=\"капремонт\")*2,0)*10","v":0}]
[null,null,6,{"$f":"IF(AND(D3835<>\"\",G3841<>\"\"),D3835,\"\")","v":""},{"$f":"IF(AND(E3835<>\"\",G3841<>\"\"),E3835,\"\")","v":""},null,null,null,null,null,null,null,null,null,null,null,null,null,{"$f":"IF(Q3841>=2020,R3841-Q3841+1,\"\")","v":""},null,{"$f":"IF(Q3841>=2020,S3841*T3841,\"\")","v":""},null,null,null,null,null,null,null,null,null,null,null,null,{"$f":"SUM(AI3841:AL3841)","v":0},null,null,null,null,{"$f":"SUM(AN3841:AQ3841)","v":0},null,null,null,null,{"$f":"SUM(AS3841:AV3841)","v":0},null,null,null,null,null,null,{"$f":"SUM(AH3841,AM3841,AR3841)","v":0},{"$f":"SUM(AL3841,AQ3841,AV3841)","v":0},{"$f":"IF(AY3841=0,0,AZ3841/AY3841)","v":0},{"$f":"IF((AY3841+AX3841)=0,0,AX3841/(AX3841+AY3841))","v":0},null,null,null,null,null,null,null,null,null,null,null,null,null,null,null,null,null,null,null,null,null,null,null,null,null,null,null,null,null,null,null,null,null,null,null,null,null,null,null,null,null,{"$f":"((L3841=\"создание\")*7+(L3841=\"расширение\")*7 +(L3841=\"внедрение\")*7+(L3841=\"строительство\")*4+(L3841=\"реконструкция\")*3+(L3841=\"капремонт\")*2 +(L3841=\"приобретение\")*1+(L3841=\"установка\")*1)*10","v":0},null,{"$f":"IF(P3841=\"коммунальная инфраструктура\",(L3841=\"строительство\")*3+(L3841=\"реконструкция\")*2+(L3841=\"капремонт\")*1,0)*10","v":0},null,{"$f":"IF(P3841=\"коммунальная инфраструктура\",(L3841=\"строительство\")*4+(L3841=\"реконструкция\")*3+(L3841=\"капремонт\")*2,0)*10","v":0}]
[null,null,"…",{"$f":"IF(AND(D3835<>\"\",G3856<>\"\"),D3835,\"\")","v":""},{"$f":"IF(AND(E3835<>\"\",G3856<>\"\"),E3835,\"\")","v":""},null,null,null,null,null,null,null,null,null,null,null,null,null,{"$f":"IF(Q3856>=2020,R3856-Q3856+1,\"\")","v":""},null,{"$f":"IF(Q3856>=2020,S3856*T3856,\"\")","v":""},null,null,null,null,null,null,null,null,null,null,null,null,{"$f":"SUM(AI3856:AL3856)","v":0},null,null,null,null,{"$f":"SUM(AN3856:AQ3856)","v":0},null,null,null,null,{"$f":"SUM(AS3856:AV3856)","v":0},null,null,null,null,null,null,{"$f":"SUM(AH3856,AM3856,AR3856)","v":0},{"$f":"SUM(AL3856,AQ3856,AV3856)","v":0},{"$f":"IF(AY3856=0,0,AZ3856/AY3856)","v":0},{"$f":"IF((AY3856+AX3856)=0,0,AX3856/(AX3856+AY3856))","v":0},null,null,null,null,null,null,null,null,null,null,null,null,null,null,null,null,null,null,null,null,null,null,null,null,null,null,null,null,null,null,null,null,null,null,null,null,null,null,null,null,null,{"$f":"((L3856=\"создание\")*7+(L3856=\"расширение\")*7 +(L3856=\"внедрение\")*7+(L3856=\"строительство\")*4+(L3856=\"реконструкция\")*3+(L3856=\"капремонт\")*2 +(L3856=\"приобретение\")*1+(L3856=\"установка\")*1)*10","v":0},null,{"$f":"IF(P3856=\"коммунальная инфраструктура\",(L3856=\"строительство\")*3+(L3856=\"реконструкция\")*2+(L3856=\"капремонт\")*1,0)*10","v":0},null,{"$f":"IF(P3856=\"коммунальная инфраструктура\",(L3856=\"строительство\")*4+(L3856=\"реконструкция\")*3+(L3856=\"капремонт\")*2,0)*10","v":0}]
[null,null,19,{"$f":"IF(AND(D3857<>\"\",G3876<>\"\"),D3857,\"\")","v":""},{"$f":"IF(AND(E3857<>\"\",G3876<>\"\"),E3857,\"\")","v":""},null,null,null,null,null,null,null,null,null,null,null,null,null,{"$f":"IF(Q3876>=2020,R3876-Q3876+1,\"\")","v":""},null,{"$f":"IF(Q3876>=2020,S3876*T3876,\"\")","v":""},null,null,null,null,null,null,null,null,null,null,null,null,{"$f":"SUM(AI3876:AL3876)","v":0},null,null,null,null,{"$f":"SUM(AN3876:AQ3876)","v":0},null,null,null,null,{"$f":"SUM(AS3876:AV3876)","v":0},null,null,null,null,null,null,{"$f":"SUM(AH3876,AM3876,AR3876)","v":0},{"$f":"SUM(AL3876,AQ3876,AV3876)","v":0},{"$f":"IF(AY3876=0,0,AZ3876/AY3876)","v":0},{"$f":"IF((AY3876+AX3876)=0,0,AX3876/(AX3876+AY3876))","v":0},null,null,null,null,null,null,null,null,null,null,null,null,null,null,null,null,null,null,null,null,null,null,null,null,null,null,null,null,null,null,null,null,null,null,null,null,null,null,null,null,null,{"$f":"((L3876=\"создание\")*7+(L3876=\"расширение\")*7 +(L3876=\"внедрение\")*7+(L3876=\"строительство\")*4+(L3876=\"реконструкция\")*3+(L3876=\"капремонт\")*2 +(L3876=\"приобретение\")*1+(L3876=\"установка\")*1)*10","v":0},null,{"$f":"IF(P3876=\"коммунальная инфраструктура\",(L3876=\"строительство\")*3+(L3876=\"реконструкция\")*2+(L3876=\"капремонт\")*1,0)*10","v":0},null,{"$f":"IF(P3876=\"коммунальная инфраструктура\",(L3876=\"строительство\")*4+(L3876=\"реконструкция\")*3+(L3876=\"капремонт\")*2,0)*10","v":0}]
[null,null,14,{"$f":"IF(AND(D3879<>\"\",G3893<>\"\"),D3879,\"\")","v":""},{"$f":"IF(AND(E3879<>\"\",G3893<>\"\"),E3879,\"\")","v":""},null,null,null,null,null,null,null,null,null,null,null,null,null,{"$f":"IF(Q3893>=2020,R3893-Q3893+1,\"\")","v":""},null,{"$f":"IF(Q3893>=2020,S3893*T3893,\"\")","v":""},null,null,null,null,null,null,null,null,null,null,null,null,{"$f":"SUM(AI3893:AL3893)","v":0},null,null,null,null,{"$f":"SUM(AN3893:AQ3893)","v":0},null,null,null,null,{"$f":"SUM(AS3893:AV3893)","v":0},null,null,null,null,null,null,{"$f":"SUM(AH3893,AM3893,AR3893)","v":0},{"$f":"SUM(AL3893,AQ3893,AV3893)","v":0},{"$f":"IF(AY3893=0,0,AZ3893/AY3893)","v":0},{"$f":"IF((AY3893+AX3893)=0,0,AX3893/(AX3893+AY3893))","v":0},null,null,null,null,null,null,null,null,null,null,null,null,null,null,null,null,null,null,null,null,null,null,null,null,null,null,null,null,null,null,null,null,null,null,null,null,null,null,null,null,null,{"$f":"((L3893=\"создание\")*7+(L3893=\"расширение\")*7 +(L3893=\"внедрение\")*7+(L3893=\"строительство\")*4+(L3893=\"реконструкция\")*3+(L3893=\"капремонт\")*2 +(L3893=\"приобретение\")*1+(L3893=\"установка\")*1)*10","v":0},null,{"$f":"IF(P3893=\"коммунальная инфраструктура\",(L3893=\"строительство\")*3+(L3893=\"реконструкция\")*2+(L3893=\"капремонт\")*1,0)*10","v":0},null,{"$f":"IF(P3893=\"коммунальная инфраструктура\",(L3893=\"строительство\")*4+(L3893=\"реконструкция\")*3+(L3893=\"капремонт\")*2,0)*10","v":0}]
[null,null,5,{"$f":"IF(AND(D3901<>\"\",G3906<>\"\"),D3901,\"\")","v":""},{"$f":"IF(AND(E3901<>\"\",G3906<>\"\"),E3901,\"\")","v":""},null,null,null,null,null,null,null,null,null,null,null,null,null,{"$f":"IF(Q3906>=2020,R3906-Q3906+1,\"\")","v":""},null,{"$f":"IF(Q3906>=2020,S3906*T3906,\"\")","v":""},null,null,null,null,null,null,null,null,null,null,null,null,{"$f":"SUM(AI3906:AL3906)","v":0},null,null,null,null,{"$f":"SUM(AN3906:AQ3906)","v":0},null,null,null,null,{"$f":"SUM(AS3906:AV3906)","v":0},null,null,null,null,null,null,{"$f":"SUM(AH3906,AM3906,AR3906)","v":0},{"$f":"SUM(AL3906,AQ3906,AV3906)","v":0},{"$f":"IF(AY3906=0,0,AZ3906/AY3906)","v":0},{"$f":"IF((AY3906+AX3906)=0,0,AX3906/(AX3906+AY3906))","v":0},null,null,null,null,null,null,null,null,null,null,null,null,null,null,null,null,null,null,null,null,null,null,null,null,null,null,null,null,null,null,null,null,null,null,null,null,null,null,null,null,null,{"$f":"((L3906=\"создание\")*7+(L3906=\"расширение\")*7 +(L3906=\"внедрение\")*7+(L3906=\"строительство\")*4+(L3906=\"реконструкция\")*3+(L3906=\"капремонт\")*2 +(L3906=\"приобретение\")*1+(L3906=\"установка\")*1)*10","v":0},null,{"$f":"IF(P3906=\"коммунальная инфраструктура\",(L3906=\"строительство\")*3+(L3906=\"реконструкция\")*2+(L3906=\"капремонт\")*1,0)*10","v":0},null,{"$f":"IF(P3906=\"коммунальная инфраструктура\",(L3906=\"строительство\")*4+(L3906=\"реконструкция\")*3+(L3906=\"капремонт\")*2,0)*10","v":0}]
[null,null,5,{"$f":"IF(AND(D3923<>\"\",G3928<>\"\"),D3923,\"\")","v":""},{"$f":"IF(AND(E3923<>\"\",G3928<>\"\"),E3923,\"\")","v":""},null,null,null,null,null,null,null,null,null,null,null,null,null,{"$f":"IF(Q3928>=2020,R3928-Q3928+1,\"\")","v":""},null,{"$f":"IF(Q3928>=2020,S3928*T3928,\"\")","v":""},null,null,null,null,null,null,null,null,null,null,null,null,{"$f":"SUM(AI3928:AL3928)","v":0},null,null,null,null,{"$f":"SUM(AN3928:AQ3928)","v":0},null,null,null,null,{"$f":"SUM(AS3928:AV3928)","v":0},null,null,null,null,null,null,{"$f":"SUM(AH3928,AM3928,AR3928)","v":0},{"$f":"SUM(AL3928,AQ3928,AV3928)","v":0},{"$f":"IF(AY3928=0,0,AZ3928/AY3928)","v":0},{"$f":"IF((AY3928+AX3928)=0,0,AX3928/(AX3928+AY3928))","v":0},null,null,null,null,null,null,null,null,null,null,null,null,null,null,null,null,null,null,null,null,null,null,null,null,null,null,null,null,null,null,null,null,null,null,null,null,null,null,null,null,null,{"$f":"((L3928=\"создание\")*7+(L3928=\"расширение\")*7 +(L3928=\"внедрение\")*7+(L3928=\"строительство\")*4+(L3928=\"реконструкция\")*3+(L3928=\"капремонт\")*2 +(L3928=\"приобретение\")*1+(L3928=\"установка\")*1)*10","v":0},null,{"$f":"IF(P3928=\"коммунальная инфраструктура\",(L3928=\"строительство\")*3+(L3928=\"реконструкция\")*2+(L3928=\"капремонт\")*1,0)*10","v":0},null,{"$f":"IF(P3928=\"коммунальная инфраструктура\",(L3928=\"строительство\")*4+(L3928=\"реконструкция\")*3+(L3928=\"капремонт\")*2,0)*10","v":0}]
[180,null,{"$f":"COUNTA(G3946:G3966)","v":0},null,null,null,null,null,null,null,null,null,null,null,null,null,{"$f":"MIN(Q3946:Q3966)","v":0},{"$f":"MAX(R3946:R3966)","v":0},{"$f":"MAX(S3946:S3966)","v":0},null,{"$f":"MAX(U3946:U3966)","v":0},null,null,null,null,null,{"$f":"IF(COUNTIF(AA3946:AA3966,\"НЕТ\")>0,\"ПД!\",\"ок\")","v":"ок"},null,{"$f":"IF(COUNTIF(AC3946:AC3966,\"НЕТ\")>0,\"ДОСМ!\",\"ок\")","v":"ок"},null,{"$f":"IF(COUNTIF(AE3946:AE3966,\"НЕТ\")>0,\"ФОИВ!\",\"ок\")","v":"ок"},{"$f":"IF(COUNTIF(AF3946:AF3966,\"НЕТ\")>0,\"ФОИВ!\",\"ок\")","v":"ок"},null,{"$f":"SUM(AH3946:AH3966)","v":0},{"$f":"SUM(AI3946:AI3966)","v":0},{"$f":"SUM(AJ3946:AJ3966)","v":0},{"$f":"SUM(AK3946:AK3966)","v":0},{"$f":"SUM(AL3946:AL3966)","v":0},{"$f":"SUM(AM3946:AM3966)","v":0},{"$f":"SUM(AN3946:AN3966)","v":0},{"$f":"SUM(AO3946:AO3966)","v":0},{"$f":"SUM(AP3946:AP3966)","v":0},{"$f":"SUM(AQ3946:AQ3966)","v":0},{"$f":"SUM(AR3946:AR3966)","v":0},{"$f":"SUM(AS3946:AS3966)","v":0},{"$f":"SUM(AT3946:AT3966)","v":0},{"$f":"SUM(AU3946:AU3966)","v":0},{"$f":"SUM(AV3946:AV3966)","v":0},{"$f":"SUM(AW3946:AW3966)","v":0},{"$f":"SUM(AX3946:AX3966)","v":0},{"$f":"SUM(AH3945,AM3945,AR3945)","v":0},{"$f":"AL3945+AQ3945+AV3945","v":0},{"$f":"IF(AY3945=0,0,AZ3945/AY3945)","v":0},{"$f":"IF((AY3945+AX3945)=0,0,AX3945/(AX3945+AY3945))","v":0},null,null,{"$f":"IFERROR(BD3945/BC3945,0)","v":0},null,null,{"$f":"IFERROR(BG3945/BF3945,0)","v":0},null,null,{"$f":"IFERROR(BJ3945/BI3945,0)","v":0},null,null,null,{"$f":"(SUM(BL3945:BN3945)>0)*1+(SUM(BL3945:BN3945)>=10)*1+(SUM(BL3945:BN3945)>=50)*1+(SUM(BL3945:BN3945)>=100)*1+(SUM(BL3945:BN3945)>=200)*1+(SUM(BL3945:BN3945)>=300)*1","v":0},{"$f":"IFERROR(SUM(BL3945:BN3945)/BC3945,0)","v":0},null,null,{"$f":"IFERROR(BQ3945/BR3945,0)","v":0},{"$f":"IF(BA3945<0.01,0,IF(BA3945>=0.1,10,ROUNDDOWN(BA3945/0.01,0)))","v":0},8,{"$f":"BT3945*BU3945","v":0},{"$f":"IF(BB3945<0.01,0,IF(BB3945>=0.1,10,ROUNDDOWN(BB3945/0.01,0)))","v":0},8,{"$f":"BW3945*BX3945","v":0},{"$f":"IF(U3945<=1,9,IF(U3945<=2,6,IF(U3945<=3,3,0)))*(C3945>0)","v":0},6,{"$f":"BZ3945*CA3945","v":0},{"$f":"IF(BH3945<0.51,0,10)","v":0},7,{"$f":"CC3945*CD3945","v":0},{"$f":"IF(BE3945<0.1,0,IF(BE3945>=0.9,10,ROUNDDOWN(BE3945/0.1,0)))","v":0},10,{"$f":"CF3945*CG3945","v":0},{"$f":"IF(BK3945<0.1,0,IF(BK3945>=0.6,10,ROUNDDOWN(BK3945/0.1,0)))","v":0},8,{"$f":"CI3945*CJ3945","v":0},{"$f":"IF(BP3945<0.05,0,IF(BP3945>=0.1,10,1))","v":0},10,{"$f":"CL3945*CM3945","v":0},{"$f":"IF(BS3945<0.1,0,IF(BS3945>=0.8,10,ROUNDDOWN(BS3945/0.1,0)))","v":0},10,{"$f":"CP3945*CO3945","v":0},{"$f":"ROUND(IF(C3945=0,0,SUM(CR3946:CR3966)/C3945),1)","v":0},{"$f":"((SUM(BL3945:BN3945)>=1)*1+(SUM(BL3945:BN3945)>=11)*1+(SUM(BL3945:BN3945)>=51)*3+(SUM(BL3945:BN3945)>=101)*2+(SUM(BL3945:BN3945)>=201)*2+(SUM(BL3945:BN3945)>=301)*4)*10","v":0},{"$f":"IFERROR(ROUND(SUM(CT3946:CT3966)/COUNTIF(P3946:P3966,\"коммунальная инфраструктура\"),1),0)","v":0},{"$f":"CS3945+CT3945","v":0},{"$f":"IFERROR(ROUND(SUM(CV3946:CV3966)/COUNTIF(P3946:P3966,\"коммунальная инфраструктура\"),1),0)","v":0},{"$f":"SUM(BV3945,BY3945,CB3945,CE3945,CH3945,CK3945,CN3945,CQ3945,CR3945,CU3945,CV3945)","v":0},{"$f":"VLOOKUP(D3945,РегионыФО,2,0)","v":{"$error":"#N/A"}}]
[null,null,11,{"$f":"IF(AND(D3945<>\"\",G3956<>\"\"),D3945,\"\")","v":""},{"$f":"IF(AND(E3945<>\"\",G3956<>\"\"),E3945,\"\")","v":""},null,null,null,null,null,null,null,null,null,null,null,null,null,{"$f":"IF(Q3956>=2020,R3956-Q3956+1,\"\")","v":""},null,{"$f":"IF(Q3956>=2020,S3956*T3956,\"\")","v":""},null,null,null,null,null,null,null,null,null,null,null,null,{"$f":"SUM(AI3956:AL3956)","v":0},null,null,null,null,{"$f":"SUM(AN3956:AQ3956)","v":0},null,null,null,null,{"$f":"SUM(AS3956:AV3956)","v":0},null,null,null,null,null,null,{"$f":"SUM(AH3956,AM3956,AR3956)","v":0},{"$f":"SUM(AL3956,AQ3956,AV3956)","v":0},{"$f":"IF(AY3956=0,0,AZ3956/AY3956)","v":0},{"$f":"IF((AY3956+AX3956)=0,0,AX3956/(AX3956+AY3956))","v":0},null,null,null,null,null,null,null,null,null,null,null,null,null,null,null,null,null,null,null,null,null,null,null,null,null,null,null,null,null,null,null,null,null,null,null,null,null,null,null,null,null,{"$f":"((L3956=\"создание\")*7+(L3956=\"расширение\")*7 +(L3956=\"внедрение\")*7+(L3956=\"строительство\")*4+(L3956=\"реконструкция\")*3+(L3956=\"капремонт\")*2 +(L3956=\"приобретение\")*1+(L3956=\"установка\")*1)*10","v":0},null,{"$f":"IF(P3956=\"коммунальная инфраструктура\",(L3956=\"строительство\")*3+(L3956=\"реконструкция\")*2+(L3956=\"капремонт\")*1,0)*10","v":0},null,{"$f":"IF(P3956=\"коммунальная инфраструктура\",(L3956=\"строительство\")*4+(L3956=\"реконструкция\")*3+(L3956=\"капремонт\")*2,0)*10","v":0}]
[null,null,13,{"$f":"IF(AND(D3967<>\"\",G3980<>\"\"),D3967,\"\")","v":""},{"$f":"IF(AND(E3967<>\"\",G3980<>\"\"),E3967,\"\")","v":""},null,null,null,null,null,null,null,null,null,null,null,null,null,{"$f":"IF(Q3980>=2020,R3980-Q3980+1,\"\")","v":""},null,{"$f":"IF(Q3980>=2020,S3980*T3980,\"\")","v":""},null,null,null,null,null,null,null,null,null,null,null,null,{"$f":"SUM(AI3980:AL3980)","v":0},null,null,null,null,{"$f":"SUM(AN3980:AQ3980)","v":0},null,null,null,null,{"$f":"SUM(AS3980:AV3980)","v":0},null,null,null,null,null,null,{"$f":"SUM(AH3980,AM3980,AR3980)","v":0},{"$f":"SUM(AL3980,AQ3980,AV3980)","v":0},{"$f":"IF(AY3980=0,0,AZ3980/AY3980)","v":0},{"$f":"IF((AY3980+AX3980)=0,0,AX3980/(AX3980+AY3980))","v":0},null,null,null,null,null,null,null,null,null,null,null,null,null,null,null,null,null,null,null,null,null,null,null,null,null,null,null,null,null,null,null,null,null,null,null,null,null,null,null,null,null,{"$f":"((L3980=\"создание\")*7+(L3980=\"расширение\")*7 +(L3980=\"внедрение\")*7+(L3980=\"строительство\")*4+(L3980=\"реконструкция\")*3+(L3980=\"капремонт\")*2 +(L3980=\"приобретение\")*1+(L3980=\"установка\")*1)*10","v":0},null,{"$f":"IF(P3980=\"коммунальная инфраструктура\",(L3980=\"строительство\")*3+(L3980=\"реконструкция\")*2+(L3980=\"капремонт\")*1,0)*10","v":0},null,{"$f":"IF(P3980=\"коммунальная инфраструктура\",(L3980=\"строительство\")*4+(L3980=\"реконструкция\")*3+(L3980=\"капремонт\")*2,0)*10","v":0}]
[null,null,1,{"$f":"IF(AND(D3989<>\"\",G3990<>\"\"),D3989,\"\")","v":""},{"$f":"IF(AND(E3989<>\"\",G3990<>\"\"),E3989,\"\")","v":""},null,null,null,null,null,null,null,null,null,null,null,null,null,{"$f":"IF(Q3990>=2020,R3990-Q3990+1,\"\")","v":""},null,{"$f":"IF(Q3990>=2020,ROUNDUP(S3990*T3990,0),\"\")","v":""},null,null,null,null,null,null,null,null,null,null,null,null,{"$f":"SUM(AI3990:AL3990)","v":0},null,null,null,null,{"$f":"SUM(AN3990:AQ3990)","v":0},null,null,null,null,{"$f":"SUM(AS3990:AV3990)","v":0},null,null,null,null,null,null,{"$f":"SUM(AH3990,AM3990,AR3990)","v":0},{"$f":"SUM(AL3990,AQ3990,AV3990)","v":0},{"$f":"IF(AY3990=0,0,AZ3990/AY3990)","v":0},{"$f":"IF((AY3990+AX3990)=0,0,AX3990/(AX3990+AY3990))","v":0},null,null,null,null,null,null,null,null,null,null,null,null,null,null,null,null,null,null,null,null,null,null,null,null,null,null,null,null,null,null,null,null,null,null,null,null,null,null,null,null,null,{"$f":"((L3990=\"создание\")*7+(L3990=\"расширение\")*7 +(L3990=\"внедрение\")*7+(L3990=\"строительство\")*4+(L3990=\"реконструкция\")*3+(L3990=\"капремонт\")*2 +(L3990=\"приобретение\")*1+(L3990=\"установка\")*1)*10","v":0},null,{"$f":"IF(P3990=\"коммунальная инфраструктура\",(L3990=\"строительство\")*3+(L3990=\"реконструкция\")*2+(L3990=\"капремонт\")*1,0)*10","v":0},null,{"$f":"IF(P3990=\"коммунальная инфраструктура\",(L3990=\"строительство\")*4+(L3990=\"реконструкция\")*3+(L3990=\"капремонт\")*2,0)*10","v":0}]
[null,null,4,{"$f":"IF(AND(D4011<>\"\",G4015<>\"\"),D4011,\"\")","v":""},{"$f":"IF(AND(E4011<>\"\",G4015<>\"\"),E4011,\"\")","v":""},null,null,null,null,null,null,null,null,null,null,null,null,null,{"$f":"IF(Q4015>=2020,R4015-Q4015+1,\"\")","v":""},null,{"$f":"IF(Q4015>=2020,S4015*T4015,\"\")","v":""},null,null,null,null,null,null,null,null,null,null,null,null,{"$f":"SUM(AI4015:AL4015)","v":0},null,null,null,null,{"$f":"SUM(AN4015:AQ4015)","v":0},null,null,null,null,{"$f":"SUM(AS4015:AV4015)","v":0},null,null,null,null,null,null,{"$f":"SUM(AH4015,AM4015,AR4015)","v":0},{"$f":"SUM(AL4015,AQ4015,AV4015)","v":0},{"$f":"IF(AY4015=0,0,AZ4015/AY4015)","v":0},{"$f":"IF((AY4015+AX4015)=0,0,AX4015/(AX4015+AY4015))","v":0},null,null,null,null,null,null,null,null,null,null,null,null,null,null,null,null,null,null,null,null,null,null,null,null,null,null,null,null,null,null,null,null,null,null,null,null,null,null,null,null,null,{"$f":"((L4015=\"создание\")*7+(L4015=\"расширение\")*7 +(L4015=\"внедрение\")*7+(L4015=\"строительство\")*4+(L4015=\"реконструкция\")*3+(L4015=\"капремонт\")*2 +(L4015=\"приобретение\")*1+(L4015=\"установка\")*1)*10","v":0},null,{"$f":"IF(P4015=\"коммунальная инфраструктура\",(L4015=\"строительство\")*3+(L4015=\"реконструкция\")*2+(L4015=\"капремонт\")*1,0)*10","v":0},null,{"$f":"IF(P4015=\"коммунальная инфраструктура\",(L4015=\"строительство\")*4+(L4015=\"реконструкция\")*3+(L4015=\"капремонт\")*2,0)*10","v":0}]
[null,null,"…",{"$f":"IF(AND(D4011<>\"\",G4032<>\"\"),D4011,\"\")","v":""},{"$f":"IF(AND(E4011<>\"\",G4032<>\"\"),E4011,\"\")","v":""},null,null,null,null,null,null,null,null,null,null,null,null,null,{"$f":"IF(Q4032>=2020,R4032-Q4032+1,\"\")","v":""},null,{"$f":"IF(Q4032>=2020,S4032*T4032,\"\")","v":""},null,null,null,null,null,null,null,null,null,null,null,null,{"$f":"SUM(AI4032:AL4032)","v":0},null,null,null,null,{"$f":"SUM(AN4032:AQ4032)","v":0},null,null,null,null,{"$f":"SUM(AS4032:AV4032)","v":0},null,null,null,null,null,null,{"$f":"SUM(AH4032,AM4032,AR4032)","v":0},{"$f":"SUM(AL4032,AQ4032,AV4032)","v":0},{"$f":"IF(AY4032=0,0,AZ4032/AY4032)","v":0},{"$f":"IF((AY4032+AX4032)=0,0,AX4032/(AX4032+AY4032))","v":0},null,null,null,null,null,null,null,null,null,null,null,null,null,null,null,null,null,null,null,null,null,null,null,null,null,null,null,null,null,null,null,null,null,null,null,null,null,null,null,null,null,{"$f":"((L4032=\"создание\")*7+(L4032=\"расширение\")*7 +(L4032=\"внедрение\")*7+(L4032=\"строительство\")*4+(L4032=\"реконструкция\")*3+(L4032=\"капремонт\")*2 +(L4032=\"приобретение\")*1+(L4032=\"установка\")*1)*10","v":0},null,{"$f":"IF(P4032=\"коммунальная инфраструктура\",(L4032=\"строительство\")*3+(L4032=\"реконструкция\")*2+(L4032=\"капремонт\")*1,0)*10","v":0},null,{"$f":"IF(P4032=\"коммунальная инфраструктура\",(L4032=\"строительство\")*4+(L4032=\"реконструкция\")*3+(L4032=\"капремонт\")*2,0)*10","v":0}]
[null,null,7,{"$f":"IF(AND(D4033<>\"\",G4040<>\"\"),D4033,\"\")","v":""},{"$f":"IF(AND(E4033<>\"\",G4040<>\"\"),E4033,\"\")","v":""},null,null,null,null,null,null,null,null,null,null,null,null,null,{"$f":"IF(Q4040>=2020,R4040-Q4040+1,\"\")","v":""},null,{"$f":"IF(Q4040>=2020,S4040*T4040,\"\")","v":""},null,null,null,null,null,null,null,null,null,null,null,null,{"$f":"SUM(AI4040:AL4040)","v":0},null,null,null,null,{"$f":"SUM(AN4040:AQ4040)","v":0},null,null,null,null,{"$f":"SUM(AS4040:AV4040)","v":0},null,null,null,null,null,null,{"$f":"SUM(AH4040,AM4040,AR4040)","v":0},{"$f":"SUM(AL4040,AQ4040,AV4040)","v":0},{"$f":"IF(AY4040=0,0,AZ4040/AY4040)","v":0},{"$f":"IF((AY4040+AX4040)=0,0,AX4040/(AX4040+AY4040))","v":0},null,null,null,null,null,null,null,null,null,null,null,null,null,null,null,null,null,null,null,null,null,null,null,null,null,null,null,null,null,null,null,null,null,null,null,null,null,null,null,null,null,{"$f":"((L4040=\"создание\")*7+(L4040=\"расширение\")*7 +(L4040=\"внедрение\")*7+(L4040=\"строительство\")*4+(L4040=\"реконструкция\")*3+(L4040=\"капремонт\")*2 +(L4040=\"приобретение\")*1+(L4040=\"установка\")*1)*10","v":0},null,{"$f":"IF(P4040=\"коммунальная инфраструктура\",(L4040=\"строительство\")*3+(L4040=\"реконструкция\")*2+(L4040=\"капремонт\")*1,0)*10","v":0},null,{"$f":"IF(P4040=\"коммунальная инфраструктура\",(L4040=\"строительство\")*4+(L4040=\"реконструкция\")*3+(L4040=\"капремонт\")*2,0)*10","v":0}]
[null,null,18,{"$f":"IF(AND(D4033<>\"\",G4051<>\"\"),D4033,\"\")","v":""},{"$f":"IF(AND(E4033<>\"\",G4051<>\"\"),E4033,\"\")","v":""},null,null,null,null,null,null,null,null,null,null,null,null,null,{"$f":"IF(Q4051>=2020,R4051-Q4051+1,\"\")","v":""},null,{"$f":"IF(Q4051>=2020,S4051*T4051,\"\")","v":""},null,null,null,null,null,null,null,null,null,null,null,null,{"$f":"SUM(AI4051:AL4051)","v":0},null,null,null,null,{"$f":"SUM(AN4051:AQ4051)","v":0},null,null,null,null,{"$f":"SUM(AS4051:AV4051)","v":0},null,null,null,null,null,null,{"$f":"SUM(AH4051,AM4051,AR4051)","v":0},{"$f":"SUM(AL4051,AQ4051,AV4051)","v":0},{"$f":"IF(AY4051=0,0,AZ4051/AY4051)","v":0},{"$f":"IF((AY4051+AX4051)=0,0,AX4051/(AX4051+AY4051))","v":0},null,null,null,null,null,null,null,null,null,null,null,null,null,null,null,null,null,null,null,null,null,null,null,null,null,null,null,null,null,null,null,null,null,null,null,null,null,null,null,null,null,{"$f":"((L4051=\"создание\")*7+(L4051=\"расширение\")*7 +(L4051=\"внедрение\")*7+(L4051=\"строительство\")*4+(L4051=\"реконструкция\")*3+(L4051=\"капремонт\")*2 +(L4051=\"приобретение\")*1+(L4051=\"установка\")*1)*10","v":0},null,{"$f":"IF(P4051=\"коммунальная инфраструктура\",(L4051=\"строительство\")*3+(L4051=\"реконструкция\")*2+(L4051=\"капремонт\")*1,0)*10","v":0},null,{"$f":"IF(P4051=\"коммунальная инфраструктура\",(L4051=\"строительство\")*4+(L4051=\"реконструкция\")*3+(L4051=\"капремонт\")*2,0)*10","v":0}]
[null,null,13,{"$f":"IF(AND(D4055<>\"\",G4068<>\"\"),D4055,\"\")","v":""},{"$f":"IF(AND(E4055<>\"\",G4068<>\"\"),E4055,\"\")","v":""},null,null,null,null,null,null,null,null,null,null,null,null,null,{"$f":"IF(Q4068>=2020,R4068-Q4068+1,\"\")","v":""},null,{"$f":"IF(Q4068>=2020,S4068*T4068,\"\")","v":""},null,null,null,null,null,null,null,null,null,null,null,null,{"$f":"SUM(AI4068:AL4068)","v":0},null,null,null,null,{"$f":"SUM(AN4068:AQ4068)","v":0},null,null,null,null,{"$f":"SUM(AS4068:AV4068)","v":0},null,null,null,null,null,null,{"$f":"SUM(AH4068,AM4068,AR4068)","v":0},{"$f":"SUM(AL4068,AQ4068,AV4068)","v":0},{"$f":"IF(AY4068=0,0,AZ4068/AY4068)","v":0},{"$f":"IF((AY4068+AX4068)=0,0,AX4068/(AX4068+AY4068))","v":0},null,null,null,null,null,null,null,null,null,null,null,null,null,null,null,null,null,null,null,null,null,null,null,null,null,null,null,null,null,null,null,null,null,null,null,null,null,null,null,null,null,{"$f":"((L4068=\"создание\")*7+(L4068=\"расширение\")*7 +(L4068=\"внедрение\")*7+(L4068=\"строительство\")*4+(L4068=\"реконструкция\")*3+(L4068=\"капремонт\")*2 +(L4068=\"приобретение\")*1+(L4068=\"установка\")*1)*10","v":0},null,{"$f":"IF(P4068=\"коммунальная инфраструктура\",(L4068=\"строительство\")*3+(L4068=\"реконструкция\")*2+(L4068=\"капремонт\")*1,0)*10","v":0},null,{"$f":"IF(P4068=\"коммунальная инфраструктура\",(L4068=\"строительство\")*4+(L4068=\"реконструкция\")*3+(L4068=\"капремонт\")*2,0)*10","v":0}]
[null,null,13,{"$f":"IF(AND(D4077<>\"\",G4090<>\"\"),D4077,\"\")","v":""},{"$f":"IF(AND(E4077<>\"\",G4090<>\"\"),E4077,\"\")","v":""},null,null,null,null,null,null,null,null,null,null,null,null,null,{"$f":"IF(Q4090>=2020,R4090-Q4090+1,\"\")","v":""},null,{"$f":"IF(Q4090>=2020,S4090*T4090,\"\")","v":""},null,null,null,null,null,null,null,null,null,null,null,null,{"$f":"SUM(AI4090:AL4090)","v":0},null,null,null,null,{"$f":"SUM(AN4090:AQ4090)","v":0},null,null,null,null,{"$f":"SUM(AS4090:AV4090)","v":0},null,null,null,null,null,null,{"$f":"SUM(AH4090,AM4090,AR4090)","v":0},{"$f":"SUM(AL4090,AQ4090,AV4090)","v":0},{"$f":"IF(AY4090=0,0,AZ4090/AY4090)","v":0},{"$f":"IF((AY4090+AX4090)=0,0,AX4090/(AX4090+AY4090))","v":0},null,null,null,null,null,null,null,null,null,null,null,null,null,null,null,null,null,null,null,null,null,null,null,null,null,null,null,null,null,null,null,null,null,null,null,null,null,null,null,null,null,{"$f":"((L4090=\"создание\")*7+(L4090=\"расширение\")*7 +(L4090=\"внедрение\")*7+(L4090=\"строительство\")*4+(L4090=\"реконструкция\")*3+(L4090=\"капремонт\")*2 +(L4090=\"приобретение\")*1+(L4090=\"установка\")*1)*10","v":0},null,{"$f":"IF(P4090=\"коммунальная инфраструктура\",(L4090=\"строительство\")*3+(L4090=\"реконструкция\")*2+(L4090=\"капремонт\")*1,0)*10","v":0},null,{"$f":"IF(P4090=\"коммунальная инфраструктура\",(L4090=\"строительство\")*4+(L4090=\"реконструкция\")*3+(L4090=\"капремонт\")*2,0)*10","v":0}]
[null,null,4,{"$f":"IF(AND(D4099<>\"\",G4103<>\"\"),D4099,\"\")","v":""},{"$f":"IF(AND(E4099<>\"\",G4103<>\"\"),E4099,\"\")","v":""},null,null,null,null,null,null,null,null,null,null,null,null,null,{"$f":"IF(Q4103>=2020,R4103-Q4103+1,\"\")","v":""},null,{"$f":"IF(Q4103>=2020,S4103*T4103,\"\")","v":""},null,null,null,null,null,null,null,null,null,null,null,null,{"$f":"SUM(AI4103:AL4103)","v":0},null,null,null,null,{"$f":"SUM(AN4103:AQ4103)","v":0},null,null,null,null,{"$f":"SUM(AS4103:AV4103)","v":0},null,null,null,null,null,null,{"$f":"SUM(AH4103,AM4103,AR4103)","v":0},{"$f":"SUM(AL4103,AQ4103,AV4103)","v":0},{"$f":"IF(AY4103=0,0,AZ4103/AY4103)","v":0},{"$f":"IF((AY4103+AX4103)=0,0,AX4103/(AX4103+AY4103))","v":0},null,null,null,null,null,null,null,null,null,null,null,null,null,null,null,null,null,null,null,null,null,null,null,null,null,null,null,null,null,null,null,null,null,null,null,null,null,null,null,null,null,{"$f":"((L4103=\"создание\")*7+(L4103=\"расширение\")*7 +(L4103=\"внедрение\")*7+(L4103=\"строительство\")*4+(L4103=\"реконструкция\")*3+(L4103=\"капремонт\")*2 +(L4103=\"приобретение\")*1+(L4103=\"установка\")*1)*10","v":0},null,{"$f":"IF(P4103=\"коммунальная инфраструктура\",(L4103=\"строительство\")*3+(L4103=\"реконструкция\")*2+(L4103=\"капремонт\")*1,0)*10","v":0},null,{"$f":"IF(P4103=\"коммунальная инфраструктура\",(L4103=\"строительство\")*4+(L4103=\"реконструкция\")*3+(L4103=\"капремонт\")*2,0)*10","v":0}]
[null,null,3,{"$f":"IF(AND(D4121<>\"\",G4124<>\"\"),D4121,\"\")","v":""},{"$f":"IF(AND(E4121<>\"\",G4124<>\"\"),E4121,\"\")","v":""},null,null,null,null,null,null,null,null,null,null,null,null,null,{"$f":"IF(Q4124>=2020,R4124-Q4124+1,\"\")","v":""},null,{"$f":"IF(Q4124>=2020,S4124*T4124,\"\")","v":""},null,null,null,null,null,null,null,null,null,null,null,null,{"$f":"SUM(AI4124:AL4124)","v":0},null,null,null,null,{"$f":"SUM(AN4124:AQ4124)","v":0},null,null,null,null,{"$f":"SUM(AS4124:AV4124)","v":0},null,null,null,null,null,null,{"$f":"SUM(AH4124,AM4124,AR4124)","v":0},{"$f":"SUM(AL4124,AQ4124,AV4124)","v":0},{"$f":"IF(AY4124=0,0,AZ4124/AY4124)","v":0},{"$f":"IF((AY4124+AX4124)=0,0,AX4124/(AX4124+AY4124))","v":0},null,null,null,null,null,null,null,null,null,null,null,null,null,null,null,null,null,null,null,null,null,null,null,null,null,null,null,null,null,null,null,null,null,null,null,null,null,null,null,null,null,{"$f":"((L4124=\"создание\")*7+(L4124=\"расширение\")*7 +(L4124=\"внедрение\")*7+(L4124=\"строительство\")*4+(L4124=\"реконструкция\")*3+(L4124=\"капремонт\")*2 +(L4124=\"приобретение\")*1+(L4124=\"установка\")*1)*10","v":0},null,{"$f":"IF(P4124=\"коммунальная инфраструктура\",(L4124=\"строительство\")*3+(L4124=\"реконструкция\")*2+(L4124=\"капремонт\")*1,0)*10","v":0},null,{"$f":"IF(P4124=\"коммунальная инфраструктура\",(L4124=\"строительство\")*4+(L4124=\"реконструкция\")*3+(L4124=\"капремонт\")*2,0)*10","v":0}]
[null,null,17,{"$f":"IF(AND(D4121<>\"\",G4138<>\"\"),D4121,\"\")","v":""},{"$f":"IF(AND(E4121<>\"\",G4138<>\"\"),E4121,\"\")","v":""},null,null,null,null,null,null,null,null,null,null,null,null,null,{"$f":"IF(Q4138>=2020,R4138-Q4138+1,\"\")","v":""},null,{"$f":"IF(Q4138>=2020,S4138*T4138,\"\")","v":""},null,null,null,null,null,null,null,null,null,null,null,null,{"$f":"SUM(AI4138:AL4138)","v":0},null,null,null,null,{"$f":"SUM(AN4138:AQ4138)","v":0},null,null,null,null,{"$f":"SUM(AS4138:AV4138)","v":0},null,null,null,null,null,null,{"$f":"SUM(AH4138,AM4138,AR4138)","v":0},{"$f":"SUM(AL4138,AQ4138,AV4138)","v":0},{"$f":"IF(AY4138=0,0,AZ4138/AY4138)","v":0},{"$f":"IF((AY4138+AX4138)=0,0,AX4138/(AX4138+AY4138))","v":0},null,null,null,null,null,null,null,null,null,null,null,null,null,null,null,null,null,null,null,null,null,null,null,null,null,null,null,null,null,null,null,null,null,null,null,null,null,null,null,null,null,{"$f":"((L4138=\"создание\")*7+(L4138=\"расширение\")*7 +(L4138=\"внедрение\")*7+(L4138=\"строительство\")*4+(L4138=\"реконструкция\")*3+(L4138=\"капремонт\")*2 +(L4138=\"приобретение\")*1+(L4138=\"установка\")*1)*10","v":0},null,{"$f":"IF(P4138=\"коммунальная инфраструктура\",(L4138=\"строительство\")*3+(L4138=\"реконструкция\")*2+(L4138=\"капремонт\")*1,0)*10","v":0},null,{"$f":"IF(P4138=\"коммунальная инфраструктура\",(L4138=\"строительство\")*4+(L4138=\"реконструкция\")*3+(L4138=\"капремонт\")*2,0)*10","v":0}]
[null,null,12,{"$f":"IF(AND(D4143<>\"\",G4155<>\"\"),D4143,\"\")","v":""},{"$f":"IF(AND(E4143<>\"\",G4155<>\"\"),E4143,\"\")","v":""},null,null,null,null,null,null,null,null,null,null,null,null,null,{"$f":"IF(Q4155>=2020,R4155-Q4155+1,\"\")","v":""},null,{"$f":"IF(Q4155>=2020,S4155*T4155,\"\")","v":""},null,null,null,null,null,null,null,null,null,null,null,null,{"$f":"SUM(AI4155:AL4155)","v":0},null,null,null,null,{"$f":"SUM(AN4155:AQ4155)","v":0},null,null,null,null,{"$f":"SUM(AS4155:AV4155)","v":0},null,null,null,null,null,null,{"$f":"SUM(AH4155,AM4155,AR4155)","v":0},{"$f":"SUM(AL4155,AQ4155,AV4155)","v":0},{"$f":"IF(AY4155=0,0,AZ4155/AY4155)","v":0},{"$f":"IF((AY4155+AX4155)=0,0,AX4155/(AX4155+AY4155))","v":0},null,null,null,null,null,null,null,null,null,null,null,null,null,null,null,null,null,null,null,null,null,null,null,null,null,null,null,null,null,null,null,null,null,null,null,null,null,null,null,null,null,{"$f":"((L4155=\"создание\")*7+(L4155=\"расширение\")*7 +(L4155=\"внедрение\")*7+(L4155=\"строительство\")*4+(L4155=\"реконструкция\")*3+(L4155=\"капремонт\")*2 +(L4155=\"приобретение\")*1+(L4155=\"установка\")*1)*10","v":0},null,{"$f":"IF(P4155=\"коммунальная инфраструктура\",(L4155=\"строительство\")*3+(L4155=\"реконструкция\")*2+(L4155=\"капремонт\")*1,0)*10","v":0},null,{"$f":"IF(P4155=\"коммунальная инфраструктура\",(L4155=\"строительство\")*4+(L4155=\"реконструкция\")*3+(L4155=\"капремонт\")*2,0)*10","v":0}]
[null,null,9,{"$f":"IF(AND(D4165<>\"\",G4174<>\"\"),D4165,\"\")","v":""},{"$f":"IF(AND(E4165<>\"\",G4174<>\"\"),E4165,\"\")","v":""},null,null,null,null,null,null,null,null,null,null,null,null,null,{"$f":"IF(Q4174>=2020,R4174-Q4174+1,\"\")","v":""},null,{"$f":"IF(Q4174>=2020,S4174*T4174,\"\")","v":""},null,null,null,null,null,null,null,null,null,null,null,null,{"$f":"SUM(AI4174:AL4174)","v":0},null,null,null,null,{"$f":"SUM(AN4174:AQ4174)","v":0},null,null,null,null,{"$f":"SUM(AS4174:AV4174)","v":0},null,null,null,null,null,null,{"$f":"SUM(AH4174,AM4174,AR4174)","v":0},{"$f":"SUM(AL4174,AQ4174,AV4174)","v":0},{"$f":"IF(AY4174=0,0,AZ4174/AY4174)","v":0},{"$f":"IF((AY4174+AX4174)=0,0,AX4174/(AX4174+AY4174))","v":0},null,null,null,null,null,null,null,null,null,null,null,null,null,null,null,null,null,null,null,null,null,null,null,null,null,null,null,null,null,null,null,null,null,null,null,null,null,null,null,null,null,{"$f":"((L4174=\"создание\")*7+(L4174=\"расширение\")*7 +(L4174=\"внедрение\")*7+(L4174=\"строительство\")*4+(L4174=\"реконструкция\")*3+(L4174=\"капремонт\")*2 +(L4174=\"приобретение\")*1+(L4174=\"установка\")*1)*10","v":0},null,{"$f":"IF(P4174=\"коммунальная инфраструктура\",(L4174=\"строительство\")*3+(L4174=\"реконструкция\")*2+(L4174=\"капремонт\")*1,0)*10","v":0},null,{"$f":"IF(P4174=\"коммунальная инфраструктура\",(L4174=\"строительство\")*4+(L4174=\"реконструкция\")*3+(L4174=\"капремонт\")*2,0)*10","v":0}]
[null,null,3,{"$f":"IF(AND(D4187<>\"\",G4190<>\"\"),D4187,\"\")","v":""},{"$f":"IF(AND(E4187<>\"\",G4190<>\"\"),E4187,\"\")","v":""},null,null,null,null,null,null,null,null,null,null,null,null,null,{"$f":"IF(Q4190>=2020,R4190-Q4190+1,\"\")","v":""},null,{"$f":"IF(Q4190>=2020,S4190*T4190,\"\")","v":""},null,null,null,null,null,null,null,null,null,null,null,null,{"$f":"SUM(AI4190:AL4190)","v":0},null,null,null,null,{"$f":"SUM(AN4190:AQ4190)","v":0},null,null,null,null,{"$f":"SUM(AS4190:AV4190)","v":0},null,null,null,null,null,null,{"$f":"SUM(AH4190,AM4190,AR4190)","v":0},{"$f":"SUM(AL4190,AQ4190,AV4190)","v":0},{"$f":"IF(AY4190=0,0,AZ4190/AY4190)","v":0},{"$f":"IF((AY4190+AX4190)=0,0,AX4190/(AX4190+AY4190))","v":0},null,null,null,null,null,null,null,null,null,null,null,null,null,null,null,null,null,null,null,null,null,null,null,null,null,null,null,null,null,null,null,null,null,null,null,null,null,null,null,null,null,{"$f":"((L4190=\"создание\")*7+(L4190=\"расширение\")*7 +(L4190=\"внедрение\")*7+(L4190=\"строительство\")*4+(L4190=\"реконструкция\")*3+(L4190=\"капремонт\")*2 +(L4190=\"приобретение\")*1+(L4190=\"установка\")*1)*10","v":0},null,{"$f":"IF(P4190=\"коммунальная инфраструктура\",(L4190=\"строительство\")*3+(L4190=\"реконструкция\")*2+(L4190=\"капремонт\")*1,0)*10","v":0},null,{"$f":"IF(P4190=\"коммунальная инфраструктура\",(L4190=\"строительство\")*4+(L4190=\"реконструкция\")*3+(L4190=\"капремонт\")*2,0)*10","v":0}]
[null,null,20,{"$f":"IF(AND(D4187<>\"\",G4207<>\"\"),D4187,\"\")","v":""},{"$f":"IF(AND(E4187<>\"\",G4207<>\"\"),E4187,\"\")","v":""},null,null,null,null,null,null,null,null,null,null,null,null,null,{"$f":"IF(Q4207>=2020,R4207-Q4207+1,\"\")","v":""},null,{"$f":"IF(Q4207>=2020,S4207*T4207,\"\")","v":""},null,null,null,null,null,null,null,null,null,null,null,null,{"$f":"SUM(AI4207:AL4207)","v":0},null,null,null,null,{"$f":"SUM(AN4207:AQ4207)","v":0},null,null,null,null,{"$f":"SUM(AS4207:AV4207)","v":0},null,null,null,null,null,null,{"$f":"SUM(AH4207,AM4207,AR4207)","v":0},{"$f":"SUM(AL4207,AQ4207,AV4207)","v":0},{"$f":"IF(AY4207=0,0,AZ4207/AY4207)","v":0},{"$f":"IF((AY4207+AX4207)=0,0,AX4207/(AX4207+AY4207))","v":0},null,null,null,null,null,null,null,null,null,null,null,null,null,null,null,null,null,null,null,null,null,null,null,null,null,null,null,null,null,null,null,null,null,null,null,null,null,null,null,null,null,{"$f":"((L4207=\"создание\")*7+(L4207=\"расширение\")*7 +(L4207=\"внедрение\")*7+(L4207=\"строительство\")*4+(L4207=\"реконструкция\")*3+(L4207=\"капремонт\")*2 +(L4207=\"приобретение\")*1+(L4207=\"установка\")*1)*10","v":0},null,{"$f":"IF(P4207=\"коммунальная инфраструктура\",(L4207=\"строительство\")*3+(L4207=\"реконструкция\")*2+(L4207=\"капремонт\")*1,0)*10","v":0},null,{"$f":"IF(P4207=\"коммунальная инфраструктура\",(L4207=\"строительство\")*4+(L4207=\"реконструкция\")*3+(L4207=\"капремонт\")*2,0)*10","v":0}]
[null,null,15,{"$f":"IF(AND(D4209<>\"\",G4224<>\"\"),D4209,\"\")","v":""},{"$f":"IF(AND(E4209<>\"\",G4224<>\"\"),E4209,\"\")","v":""},null,null,null,null,null,null,null,null,null,null,null,null,null,{"$f":"IF(Q4224>=2020,R4224-Q4224+1,\"\")","v":""},null,{"$f":"IF(Q4224>=2020,S4224*T4224,\"\")","v":""},null,null,null,null,null,null,null,null,null,null,null,null,{"$f":"SUM(AI4224:AL4224)","v":0},null,null,null,null,{"$f":"SUM(AN4224:AQ4224)","v":0},null,null,null,null,{"$f":"SUM(AS4224:AV4224)","v":0},null,null,null,null,null,null,{"$f":"SUM(AH4224,AM4224,AR4224)","v":0},{"$f":"SUM(AL4224,AQ4224,AV4224)","v":0},{"$f":"IF(AY4224=0,0,AZ4224/AY4224)","v":0},{"$f":"IF((AY4224+AX4224)=0,0,AX4224/(AX4224+AY4224))","v":0},null,null,null,null,null,null,null,null,null,null,null,null,null,null,null,null,null,null,null,null,null,null,null,null,null,null,null,null,null,null,null,null,null,null,null,null,null,null,null,null,null,{"$f":"((L4224=\"создание\")*7+(L4224=\"расширение\")*7 +(L4224=\"внедрение\")*7+(L4224=\"строительство\")*4+(L4224=\"реконструкция\")*3+(L4224=\"капремонт\")*2 +(L4224=\"приобретение\")*1+(L4224=\"установка\")*1)*10","v":0},null,{"$f":"IF(P4224=\"коммунальная инфраструктура\",(L4224=\"строительство\")*3+(L4224=\"реконструкция\")*2+(L4224=\"капремонт\")*1,0)*10","v":0},null,{"$f":"IF(P4224=\"коммунальная инфраструктура\",(L4224=\"строительство\")*4+(L4224=\"реконструкция\")*3+(L4224=\"капремонт\")*2,0)*10","v":0}]
[null,null,11,{"$f":"IF(AND(D4231<>\"\",G4242<>\"\"),D4231,\"\")","v":""},{"$f":"IF(AND(E4231<>\"\",G4242<>\"\"),E4231,\"\")","v":""},null,null,null,null,null,null,null,null,null,null,null,null,null,{"$f":"IF(Q4242>=2020,R4242-Q4242+1,\"\")","v":""},null,{"$f":"IF(Q4242>=2020,S4242*T4242,\"\")","v":""},null,null,null,null,null,null,null,null,null,null,null,null,{"$f":"SUM(AI4242:AL4242)","v":0},null,null,null,null,{"$f":"SUM(AN4242:AQ4242)","v":0},null,null,null,null,{"$f":"SUM(AS4242:AV4242)","v":0},null,null,null,null,null,null,{"$f":"SUM(AH4242,AM4242,AR4242)","v":0},{"$f":"SUM(AL4242,AQ4242,AV4242)","v":0},{"$f":"IF(AY4242=0,0,AZ4242/AY4242)","v":0},{"$f":"IF((AY4242+AX4242)=0,0,AX4242/(AX4242+AY4242))","v":0},null,null,null,null,null,null,null,null,null,null,null,null,null,null,null,null,null,null,null,null,null,null,null,null,null,null,null,null,null,null,null,null,null,null,null,null,null,null,null,null,null,{"$f":"((L4242=\"создание\")*7+(L4242=\"расширение\")*7 +(L4242=\"внедрение\")*7+(L4242=\"строительство\")*4+(L4242=\"реконструкция\")*3+(L4242=\"капремонт\")*2 +(L4242=\"приобретение\")*1+(L4242=\"установка\")*1)*10","v":0},null,{"$f":"IF(P4242=\"коммунальная инфраструктура\",(L4242=\"строительство\")*3+(L4242=\"реконструкция\")*2+(L4242=\"капремонт\")*1,0)*10","v":0},null,{"$f":"IF(P4242=\"коммунальная инфраструктура\",(L4242=\"строительство\")*4+(L4242=\"реконструкция\")*3+(L4242=\"капремонт\")*2,0)*10","v":0}]
[null,null,5,{"$f":"IF(AND(D4253<>\"\",G4258<>\"\"),D4253,\"\")","v":""},{"$f":"IF(AND(E4253<>\"\",G4258<>\"\"),E4253,\"\")","v":""},null,null,null,null,null,null,null,null,null,null,null,null,null,{"$f":"IF(Q4258>=2020,R4258-Q4258+1,\"\")","v":""},null,{"$f":"IF(Q4258>=2020,S4258*T4258,\"\")","v":""},null,null,null,null,null,null,null,null,null,null,null,null,{"$f":"SUM(AI4258:AL4258)","v":0},null,null,null,null,{"$f":"SUM(AN4258:AQ4258)","v":0},null,null,null,null,{"$f":"SUM(AS4258:AV4258)","v":0},null,null,null,null,null,null,{"$f":"SUM(AH4258,AM4258,AR4258)","v":0},{"$f":"SUM(AL4258,AQ4258,AV4258)","v":0},{"$f":"IF(AY4258=0,0,AZ4258/AY4258)","v":0},{"$f":"IF((AY4258+AX4258)=0,0,AX4258/(AX4258+AY4258))","v":0},null,null,null,null,null,null,null,null,null,null,null,null,null,null,null,null,null,null,null,null,null,null,null,null,null,null,null,null,null,null,null,null,null,null,null,null,null,null,null,null,null,{"$f":"((L4258=\"создание\")*7+(L4258=\"расширение\")*7 +(L4258=\"внедрение\")*7+(L4258=\"строительство\")*4+(L4258=\"реконструкция\")*3+(L4258=\"капремонт\")*2 +(L4258=\"приобретение\")*1+(L4258=\"установка\")*1)*10","v":0},null,{"$f":"IF(P4258=\"коммунальная инфраструктура\",(L4258=\"строительство\")*3+(L4258=\"реконструкция\")*2+(L4258=\"капремонт\")*1,0)*10","v":0},null,{"$f":"IF(P4258=\"коммунальная инфраструктура\",(L4258=\"строительство\")*4+(L4258=\"реконструкция\")*3+(L4258=\"капремонт\")*2,0)*10","v":0}]
[null,null,2,{"$f":"IF(AND(D4275<>\"\",G4277<>\"\"),D4275,\"\")","v":""},{"$f":"IF(AND(E4275<>\"\",G4277<>\"\"),E4275,\"\")","v":""},null,null,null,null,null,null,null,null,null,null,null,null,null,{"$f":"IF(Q4277>=2020,R4277-Q4277+1,\"\")","v":""},null,{"$f":"IF(Q4277>=2020,S4277*T4277,\"\")","v":""},null,null,null,null,null,null,null,null,null,null,null,null,{"$f":"SUM(AI4277:AL4277)","v":0},null,null,null,null,{"$f":"SUM(AN4277:AQ4277)","v":0},null,null,null,null,{"$f":"SUM(AS4277:AV4277)","v":0},null,null,null,null,null,null,{"$f":"SUM(AH4277,AM4277,AR4277)","v":0},{"$f":"SUM(AL4277,AQ4277,AV4277)","v":0},{"$f":"IF(AY4277=0,0,AZ4277/AY4277)","v":0},{"$f":"IF((AY4277+AX4277)=0,0,AX4277/(AX4277+AY4277))","v":0},null,null,null,null,null,null,null,null,null,null,null,null,null,null,null,null,null,null,null,null,null,null,null,null,null,null,null,null,null,null,null,null,null,null,null,null,null,null,null,null,null,{"$f":"((L4277=\"создание\")*7+(L4277=\"расширение\")*7 +(L4277=\"внедрение\")*7+(L4277=\"строительство\")*4+(L4277=\"реконструкция\")*3+(L4277=\"капремонт\")*2 +(L4277=\"приобретение\")*1+(L4277=\"установка\")*1)*10","v":0},null,{"$f":"IF(P4277=\"коммунальная инфраструктура\",(L4277=\"строительство\")*3+(L4277=\"реконструкция\")*2+(L4277=\"капремонт\")*1,0)*10","v":0},null,{"$f":"IF(P4277=\"коммунальная инфраструктура\",(L4277=\"строительство\")*4+(L4277=\"реконструкция\")*3+(L4277=\"капремонт\")*2,0)*10","v":0}]
[null,null,19,{"$f":"IF(AND(D4275<>\"\",G4294<>\"\"),D4275,\"\")","v":""},{"$f":"IF(AND(E4275<>\"\",G4294<>\"\"),E4275,\"\")","v":""},null,null,null,null,null,null,null,null,null,null,null,null,null,{"$f":"IF(Q4294>=2020,R4294-Q4294+1,\"\")","v":""},null,{"$f":"IF(Q4294>=2020,S4294*T4294,\"\")","v":""},null,null,null,null,null,null,null,null,null,null,null,null,{"$f":"SUM(AI4294:AL4294)","v":0},null,null,null,null,{"$f":"SUM(AN4294:AQ4294)","v":0},null,null,null,null,{"$f":"SUM(AS4294:AV4294)","v":0},null,null,null,null,null,null,{"$f":"SUM(AH4294,AM4294,AR4294)","v":0},{"$f":"SUM(AL4294,AQ4294,AV4294)","v":0},{"$f":"IF(AY4294=0,0,AZ4294/AY4294)","v":0},{"$f":"IF((AY4294+AX4294)=0,0,AX4294/(AX4294+AY4294))","v":0},null,null,null,null,null,null,null,null,null,null,null,null,null,null,null,null,null,null,null,null,null,null,null,null,null,null,null,null,null,null,null,null,null,null,null,null,null,null,null,null,null,{"$f":"((L4294=\"создание\")*7+(L4294=\"расширение\")*7 +(L4294=\"внедрение\")*7+(L4294=\"строительство\")*4+(L4294=\"реконструкция\")*3+(L4294=\"капремонт\")*2 +(L4294=\"приобретение\")*1+(L4294=\"установка\")*1)*10","v":0},null,{"$f":"IF(P4294=\"коммунальная инфраструктура\",(L4294=\"строительство\")*3+(L4294=\"реконструкция\")*2+(L4294=\"капремонт\")*1,0)*10","v":0},null,{"$f":"IF(P4294=\"коммунальная инфраструктура\",(L4294=\"строительство\")*4+(L4294=\"реконструкция\")*3+(L4294=\"капремонт\")*2,0)*10","v":0}]
[null,null,11,{"$f":"IF(AND(D4297<>\"\",G4308<>\"\"),D4297,\"\")","v":""},{"$f":"IF(AND(E4297<>\"\",G4308<>\"\"),E4297,\"\")","v":""},null,null,null,null,null,null,null,null,null,null,null,null,null,{"$f":"IF(Q4308>=2020,R4308-Q4308+1,\"\")","v":""},null,{"$f":"IF(Q4308>=2020,S4308*T4308,\"\")","v":""},null,null,null,null,null,null,null,null,null,null,null,null,{"$f":"SUM(AI4308:AL4308)","v":0},null,null,null,null,{"$f":"SUM(AN4308:AQ4308)","v":0},null,null,null,null,{"$f":"SUM(AS4308:AV4308)","v":0},null,null,null,null,null,null,{"$f":"SUM(AH4308,AM4308,AR4308)","v":0},{"$f":"SUM(AL4308,AQ4308,AV4308)","v":0},{"$f":"IF(AY4308=0,0,AZ4308/AY4308)","v":0},{"$f":"IF((AY4308+AX4308)=0,0,AX4308/(AX4308+AY4308))","v":0},null,null,null,null,null,null,null,null,null,null,null,null,null,null,null,null,null,null,null,null,null,null,null,null,null,null,null,null,null,null,null,null,null,null,null,null,null,null,null,null,null,{"$f":"((L4308=\"создание\")*7+(L4308=\"расширение\")*7 +(L4308=\"внедрение\")*7+(L4308=\"строительство\")*4+(L4308=\"реконструкция\")*3+(L4308=\"капремонт\")*2 +(L4308=\"приобретение\")*1+(L4308=\"установка\")*1)*10","v":0},null,{"$f":"IF(P4308=\"коммунальная инфраструктура\",(L4308=\"строительство\")*3+(L4308=\"реконструкция\")*2+(L4308=\"капремонт\")*1,0)*10","v":0},null,{"$f":"IF(P4308=\"коммунальная инфраструктура\",(L4308=\"строительство\")*4+(L4308=\"реконструкция\")*3+(L4308=\"капремонт\")*2,0)*10","v":0}]
[null,null,16,{"$f":"IF(AND(D4297<>\"\",G4313<>\"\"),D4297,\"\")","v":""},{"$f":"IF(AND(E4297<>\"\",G4313<>\"\"),E4297,\"\")","v":""},null,null,null,null,null,null,null,null,null,null,null,null,null,{"$f":"IF(Q4313>=2020,R4313-Q4313+1,\"\")","v":""},null,{"$f":"IF(Q4313>=2020,S4313*T4313,\"\")","v":""},null,null,null,null,null,null,null,null,null,null,null,null,{"$f":"SUM(AI4313:AL4313)","v":0},null,null,null,null,{"$f":"SUM(AN4313:AQ4313)","v":0},null,null,null,null,{"$f":"SUM(AS4313:AV4313)","v":0},null,null,null,null,null,null,{"$f":"SUM(AH4313,AM4313,AR4313)","v":0},{"$f":"SUM(AL4313,AQ4313,AV4313)","v":0},{"$f":"IF(AY4313=0,0,AZ4313/AY4313)","v":0},{"$f":"IF((AY4313+AX4313)=0,0,AX4313/(AX4313+AY4313))","v":0},null,null,null,null,null,null,null,null,null,null,null,null,null,null,null,null,null,null,null,null,null,null,null,null,null,null,null,null,null,null,null,null,null,null,null,null,null,null,null,null,null,{"$f":"((L4313=\"создание\")*7+(L4313=\"расширение\")*7 +(L4313=\"внедрение\")*7+(L4313=\"строительство\")*4+(L4313=\"реконструкция\")*3+(L4313=\"капремонт\")*2 +(L4313=\"приобретение\")*1+(L4313=\"установка\")*1)*10","v":0},null,{"$f":"IF(P4313=\"коммунальная инфраструктура\",(L4313=\"строительство\")*3+(L4313=\"реконструкция\")*2+(L4313=\"капремонт\")*1,0)*10","v":0},null,{"$f":"IF(P4313=\"коммунальная инфраструктура\",(L4313=\"строительство\")*4+(L4313=\"реконструкция\")*3+(L4313=\"капремонт\")*2,0)*10","v":0}]
[null,null,1,{"$f":"IF(AND(D4341<>\"\",G4342<>\"\"),D4341,\"\")","v":""},{"$f":"IF(AND(E4341<>\"\",G4342<>\"\"),E4341,\"\")","v":""},null,null,null,null,null,null,null,null,null,null,null,null,null,{"$f":"IF(Q4342>=2020,R4342-Q4342+1,\"\")","v":""},null,{"$f":"IF(Q4342>=2020,ROUNDUP(S4342*T4342,0),\"\")","v":""},null,null,null,null,null,null,null,null,null,null,null,null,{"$f":"SUM(AI4342:AL4342)","v":0},null,null,null,null,{"$f":"SUM(AN4342:AQ4342)","v":0},null,null,null,null,{"$f":"SUM(AS4342:AV4342)","v":0},null,null,null,null,null,null,{"$f":"SUM(AH4342,AM4342,AR4342)","v":0},{"$f":"SUM(AL4342,AQ4342,AV4342)","v":0},{"$f":"IF(AY4342=0,0,AZ4342/AY4342)","v":0},{"$f":"IF((AY4342+AX4342)=0,0,AX4342/(AX4342+AY4342))","v":0},null,null,null,null,null,null,null,null,null,null,null,null,null,null,null,null,null,null,null,null,null,null,null,null,null,null,null,null,null,null,null,null,null,null,null,null,null,null,null,null,null,{"$f":"((L4342=\"создание\")*7+(L4342=\"расширение\")*7 +(L4342=\"внедрение\")*7+(L4342=\"строительство\")*4+(L4342=\"реконструкция\")*3+(L4342=\"капремонт\")*2 +(L4342=\"приобретение\")*1+(L4342=\"установка\")*1)*10","v":0},null,{"$f":"IF(P4342=\"коммунальная инфраструктура\",(L4342=\"строительство\")*3+(L4342=\"реконструкция\")*2+(L4342=\"капремонт\")*1,0)*10","v":0},null,{"$f":"IF(P4342=\"коммунальная инфраструктура\",(L4342=\"строительство\")*4+(L4342=\"реконструкция\")*3+(L4342=\"капремонт\")*2,0)*10","v":0}]
[null,null,4,{"$f":"IF(AND(D4341<>\"\",G4345<>\"\"),D4341,\"\")","v":""},{"$f":"IF(AND(E4341<>\"\",G4345<>\"\"),E4341,\"\")","v":""},null,null,null,null,null,null,null,null,null,null,null,null,null,{"$f":"IF(Q4345>=2020,R4345-Q4345+1,\"\")","v":""},null,{"$f":"IF(Q4345>=2020,S4345*T4345,\"\")","v":""},null,null,null,null,null,null,null,null,null,null,null,null,{"$f":"SUM(AI4345:AL4345)","v":0},null,null,null,null,{"$f":"SUM(AN4345:AQ4345)","v":0},null,null,null,null,{"$f":"SUM(AS4345:AV4345)","v":0},null,null,null,null,null,null,{"$f":"SUM(AH4345,AM4345,AR4345)","v":0},{"$f":"SUM(AL4345,AQ4345,AV4345)","v":0},{"$f":"IF(AY4345=0,0,AZ4345/AY4345)","v":0},{"$f":"IF((AY4345+AX4345)=0,0,AX4345/(AX4345+AY4345))","v":0},null,null,null,null,null,null,null,null,null,null,null,null,null,null,null,null,null,null,null,null,null,null,null,null,null,null,null,null,null,null,null,null,null,null,null,null,null,null,null,null,null,{"$f":"((L4345=\"создание\")*7+(L4345=\"расширение\")*7 +(L4345=\"внедрение\")*7+(L4345=\"строительство\")*4+(L4345=\"реконструкция\")*3+(L4345=\"капремонт\")*2 +(L4345=\"приобретение\")*1+(L4345=\"установка\")*1)*10","v":0},null,{"$f":"IF(P4345=\"коммунальная инфраструктура\",(L4345=\"строительство\")*3+(L4345=\"реконструкция\")*2+(L4345=\"капремонт\")*1,0)*10","v":0},null,{"$f":"IF(P4345=\"коммунальная инфраструктура\",(L4345=\"строительство\")*4+(L4345=\"реконструкция\")*3+(L4345=\"капремонт\")*2,0)*10","v":0}]
[null,null,5,{"$f":"IF(AND(D4341<>\"\",G4346<>\"\"),D4341,\"\")","v":""},{"$f":"IF(AND(E4341<>\"\",G4346<>\"\"),E4341,\"\")","v":""},null,null,null,null,null,null,null,null,null,null,null,null,null,{"$f":"IF(Q4346>=2020,R4346-Q4346+1,\"\")","v":""},null,{"$f":"IF(Q4346>=2020,S4346*T4346,\"\")","v":""},null,null,null,null,null,null,null,null,null,null,null,null,{"$f":"SUM(AI4346:AL4346)","v":0},null,null,null,null,{"$f":"SUM(AN4346:AQ4346)","v":0},null,null,null,null,{"$f":"SUM(AS4346:AV4346)","v":0},null,null,null,null,null,null,{"$f":"SUM(AH4346,AM4346,AR4346)","v":0},{"$f":"SUM(AL4346,AQ4346,AV4346)","v":0},{"$f":"IF(AY4346=0,0,AZ4346/AY4346)","v":0},{"$f":"IF((AY4346+AX4346)=0,0,AX4346/(AX4346+AY4346))","v":0},null,null,null,null,null,null,null,null,null,null,null,null,null,null,null,null,null,null,null,null,null,null,null,null,null,null,null,null,null,null,null,null,null,null,null,null,null,null,null,null,null,{"$f":"((L4346=\"создание\")*7+(L4346=\"расширение\")*7 +(L4346=\"внедрение\")*7+(L4346=\"строительство\")*4+(L4346=\"реконструкция\")*3+(L4346=\"капремонт\")*2 +(L4346=\"приобретение\")*1+(L4346=\"установка\")*1)*10","v":0},null,{"$f":"IF(P4346=\"коммунальная инфраструктура\",(L4346=\"строительство\")*3+(L4346=\"реконструкция\")*2+(L4346=\"капремонт\")*1,0)*10","v":0},null,{"$f":"IF(P4346=\"коммунальная инфраструктура\",(L4346=\"строительство\")*4+(L4346=\"реконструкция\")*3+(L4346=\"капремонт\")*2,0)*10","v":0}]
[null,null,6,{"$f":"IF(AND(D4341<>\"\",G4347<>\"\"),D4341,\"\")","v":""},{"$f":"IF(AND(E4341<>\"\",G4347<>\"\"),E4341,\"\")","v":""},null,null,null,null,null,null,null,null,null,null,null,null,null,{"$f":"IF(Q4347>=2020,R4347-Q4347+1,\"\")","v":""},null,{"$f":"IF(Q4347>=2020,S4347*T4347,\"\")","v":""},null,null,null,null,null,null,null,null,null,null,null,null,{"$f":"SUM(AI4347:AL4347)","v":0},null,null,null,null,{"$f":"SUM(AN4347:AQ4347)","v":0},null,null,null,null,{"$f":"SUM(AS4347:AV4347)","v":0},null,null,null,null,null,null,{"$f":"SUM(AH4347,AM4347,AR4347)","v":0},{"$f":"SUM(AL4347,AQ4347,AV4347)","v":0},{"$f":"IF(AY4347=0,0,AZ4347/AY4347)","v":0},{"$f":"IF((AY4347+AX4347)=0,0,AX4347/(AX4347+AY4347))","v":0},null,null,null,null,null,null,null,null,null,null,null,null,null,null,null,null,null,null,null,null,null,null,null,null,null,null,null,null,null,null,null,null,null,null,null,null,null,null,null,null,null,{"$f":"((L4347=\"создание\")*7+(L4347=\"расширение\")*7 +(L4347=\"внедрение\")*7+(L4347=\"строительство\")*4+(L4347=\"реконструкция\")*3+(L4347=\"капремонт\")*2 +(L4347=\"приобретение\")*1+(L4347=\"установка\")*1)*10","v":0},null,{"$f":"IF(P4347=\"коммунальная инфраструктура\",(L4347=\"строительство\")*3+(L4347=\"реконструкция\")*2+(L4347=\"капремонт\")*1,0)*10","v":0},null,{"$f":"IF(P4347=\"коммунальная инфраструктура\",(L4347=\"строительство\")*4+(L4347=\"реконструкция\")*3+(L4347=\"капремонт\")*2,0)*10","v":0}]
[null,null,7,{"$f":"IF(AND(D4341<>\"\",G4348<>\"\"),D4341,\"\")","v":""},{"$f":"IF(AND(E4341<>\"\",G4348<>\"\"),E4341,\"\")","v":""},null,null,null,null,null,null,null,null,null,null,null,null,null,{"$f":"IF(Q4348>=2020,R4348-Q4348+1,\"\")","v":""},null,{"$f":"IF(Q4348>=2020,S4348*T4348,\"\")","v":""},null,null,null,null,null,null,null,null,null,null,null,null,{"$f":"SUM(AI4348:AL4348)","v":0},null,null,null,null,{"$f":"SUM(AN4348:AQ4348)","v":0},null,null,null,null,{"$f":"SUM(AS4348:AV4348)","v":0},null,null,null,null,null,null,{"$f":"SUM(AH4348,AM4348,AR4348)","v":0},{"$f":"SUM(AL4348,AQ4348,AV4348)","v":0},{"$f":"IF(AY4348=0,0,AZ4348/AY4348)","v":0},{"$f":"IF((AY4348+AX4348)=0,0,AX4348/(AX4348+AY4348))","v":0},null,null,null,null,null,null,null,null,null,null,null,null,null,null,null,null,null,null,null,null,null,null,null,null,null,null,null,null,null,null,null,null,null,null,null,null,null,null,null,null,null,{"$f":"((L4348=\"создание\")*7+(L4348=\"расширение\")*7 +(L4348=\"внедрение\")*7+(L4348=\"строительство\")*4+(L4348=\"реконструкция\")*3+(L4348=\"капремонт\")*2 +(L4348=\"приобретение\")*1+(L4348=\"установка\")*1)*10","v":0},null,{"$f":"IF(P4348=\"коммунальная инфраструктура\",(L4348=\"строительство\")*3+(L4348=\"реконструкция\")*2+(L4348=\"капремонт\")*1,0)*10","v":0},null,{"$f":"IF(P4348=\"коммунальная инфраструктура\",(L4348=\"строительство\")*4+(L4348=\"реконструкция\")*3+(L4348=\"капремонт\")*2,0)*10","v":0}]
[null,null,8,{"$f":"IF(AND(D4341<>\"\",G4349<>\"\"),D4341,\"\")","v":""},{"$f":"IF(AND(E4341<>\"\",G4349<>\"\"),E4341,\"\")","v":""},null,null,null,null,null,null,null,null,null,null,null,null,null,{"$f":"IF(Q4349>=2020,R4349-Q4349+1,\"\")","v":""},null,{"$f":"IF(Q4349>=2020,S4349*T4349,\"\")","v":""},null,null,null,null,null,null,null,null,null,null,null,null,{"$f":"SUM(AI4349:AL4349)","v":0},null,null,null,null,{"$f":"SUM(AN4349:AQ4349)","v":0},null,null,null,null,{"$f":"SUM(AS4349:AV4349)","v":0},null,null,null,null,null,null,{"$f":"SUM(AH4349,AM4349,AR4349)","v":0},{"$f":"SUM(AL4349,AQ4349,AV4349)","v":0},{"$f":"IF(AY4349=0,0,AZ4349/AY4349)","v":0},{"$f":"IF((AY4349+AX4349)=0,0,AX4349/(AX4349+AY4349))","v":0},null,null,null,null,null,null,null,null,null,null,null,null,null,null,null,null,null,null,null,null,null,null,null,null,null,null,null,null,null,null,null,null,null,null,null,null,null,null,null,null,null,{"$f":"((L4349=\"создание\")*7+(L4349=\"расширение\")*7 +(L4349=\"внедрение\")*7+(L4349=\"строительство\")*4+(L4349=\"реконструкция\")*3+(L4349=\"капремонт\")*2 +(L4349=\"приобретение\")*1+(L4349=\"установка\")*1)*10","v":0},null,{"$f":"IF(P4349=\"коммунальная инфраструктура\",(L4349=\"строительство\")*3+(L4349=\"реконструкция\")*2+(L4349=\"капремонт\")*1,0)*10","v":0},null,{"$f":"IF(P4349=\"коммунальная инфраструктура\",(L4349=\"строительство\")*4+(L4349=\"реконструкция\")*3+(L4349=\"капремонт\")*2,0)*10","v":0}]
[null,null,9,{"$f":"IF(AND(D4341<>\"\",G4350<>\"\"),D4341,\"\")","v":""},{"$f":"IF(AND(E4341<>\"\",G4350<>\"\"),E4341,\"\")","v":""},null,null,null,null,null,null,null,null,null,null,null,null,null,{"$f":"IF(Q4350>=2020,R4350-Q4350+1,\"\")","v":""},null,{"$f":"IF(Q4350>=2020,S4350*T4350,\"\")","v":""},null,null,null,null,null,null,null,null,null,null,null,null,{"$f":"SUM(AI4350:AL4350)","v":0},null,null,null,null,{"$f":"SUM(AN4350:AQ4350)","v":0},null,null,null,null,{"$f":"SUM(AS4350:AV4350)","v":0},null,null,null,null,null,null,{"$f":"SUM(AH4350,AM4350,AR4350)","v":0},{"$f":"SUM(AL4350,AQ4350,AV4350)","v":0},{"$f":"IF(AY4350=0,0,AZ4350/AY4350)","v":0},{"$f":"IF((AY4350+AX4350)=0,0,AX4350/(AX4350+AY4350))","v":0},null,null,null,null,null,null,null,null,null,null,null,null,null,null,null,null,null,null,null,null,null,null,null,null,null,null,null,null,null,null,null,null,null,null,null,null,null,null,null,null,null,{"$f":"((L4350=\"создание\")*7+(L4350=\"расширение\")*7 +(L4350=\"внедрение\")*7+(L4350=\"строительство\")*4+(L4350=\"реконструкция\")*3+(L4350=\"капремонт\")*2 +(L4350=\"приобретение\")*1+(L4350=\"установка\")*1)*10","v":0},null,{"$f":"IF(P4350=\"коммунальная инфраструктура\",(L4350=\"строительство\")*3+(L4350=\"реконструкция\")*2+(L4350=\"капремонт\")*1,0)*10","v":0},null,{"$f":"IF(P4350=\"коммунальная инфраструктура\",(L4350=\"строительство\")*4+(L4350=\"реконструкция\")*3+(L4350=\"капремонт\")*2,0)*10","v":0}]
[null,null,10,{"$f":"IF(AND(D4341<>\"\",G4351<>\"\"),D4341,\"\")","v":""},{"$f":"IF(AND(E4341<>\"\",G4351<>\"\"),E4341,\"\")","v":""},null,null,null,null,null,null,null,null,null,null,null,null,null,{"$f":"IF(Q4351>=2020,R4351-Q4351+1,\"\")","v":""},null,{"$f":"IF(Q4351>=2020,S4351*T4351,\"\")","v":""},null,null,null,null,null,null,null,null,null,null,null,null,{"$f":"SUM(AI4351:AL4351)","v":0},null,null,null,null,{"$f":"SUM(AN4351:AQ4351)","v":0},null,null,null,null,{"$f":"SUM(AS4351:AV4351)","v":0},null,null,null,null,null,null,{"$f":"SUM(AH4351,AM4351,AR4351)","v":0},{"$f":"SUM(AL4351,AQ4351,AV4351)","v":0},{"$f":"IF(AY4351=0,0,AZ4351/AY4351)","v":0},{"$f":"IF((AY4351+AX4351)=0,0,AX4351/(AX4351+AY4351))","v":0},null,null,null,null,null,null,null,null,null,null,null,null,null,null,null,null,null,null,null,null,null,null,null,null,null,null,null,null,null,null,null,null,null,null,null,null,null,null,null,null,null,{"$f":"((L4351=\"создание\")*7+(L4351=\"расширение\")*7 +(L4351=\"внедрение\")*7+(L4351=\"строительство\")*4+(L4351=\"реконструкция\")*3+(L4351=\"капремонт\")*2 +(L4351=\"приобретение\")*1+(L4351=\"установка\")*1)*10","v":0},null,{"$f":"IF(P4351=\"коммунальная инфраструктура\",(L4351=\"строительство\")*3+(L4351=\"реконструкция\")*2+(L4351=\"капремонт\")*1,0)*10","v":0},null,{"$f":"IF(P4351=\"коммунальная инфраструктура\",(L4351=\"строительство\")*4+(L4351=\"реконструкция\")*3+(L4351=\"капремонт\")*2,0)*10","v":0}]
[null,null,11,{"$f":"IF(AND(D4341<>\"\",G4352<>\"\"),D4341,\"\")","v":""},{"$f":"IF(AND(E4341<>\"\",G4352<>\"\"),E4341,\"\")","v":""},null,null,null,null,null,null,null,null,null,null,null,null,null,{"$f":"IF(Q4352>=2020,R4352-Q4352+1,\"\")","v":""},null,{"$f":"IF(Q4352>=2020,S4352*T4352,\"\")","v":""},null,null,null,null,null,null,null,null,null,null,null,null,{"$f":"SUM(AI4352:AL4352)","v":0},null,null,null,null,{"$f":"SUM(AN4352:AQ4352)","v":0},null,null,null,null,{"$f":"SUM(AS4352:AV4352)","v":0},null,null,null,null,null,null,{"$f":"SUM(AH4352,AM4352,AR4352)","v":0},{"$f":"SUM(AL4352,AQ4352,AV4352)","v":0},{"$f":"IF(AY4352=0,0,AZ4352/AY4352)","v":0},{"$f":"IF((AY4352+AX4352)=0,0,AX4352/(AX4352+AY4352))","v":0},null,null,null,null,null,null,null,null,null,null,null,null,null,null,null,null,null,null,null,null,null,null,null,null,null,null,null,null,null,null,null,null,null,null,null,null,null,null,null,null,null,{"$f":"((L4352=\"создание\")*7+(L4352=\"расширение\")*7 +(L4352=\"внедрение\")*7+(L4352=\"строительство\")*4+(L4352=\"реконструкция\")*3+(L4352=\"капремонт\")*2 +(L4352=\"приобретение\")*1+(L4352=\"установка\")*1)*10","v":0},null,{"$f":"IF(P4352=\"коммунальная инфраструктура\",(L4352=\"строительство\")*3+(L4352=\"реконструкция\")*2+(L4352=\"капремонт\")*1,0)*10","v":0},null,{"$f":"IF(P4352=\"коммунальная инфраструктура\",(L4352=\"строительство\")*4+(L4352=\"реконструкция\")*3+(L4352=\"капремонт\")*2,0)*10","v":0}]
[null,null,12,{"$f":"IF(AND(D4341<>\"\",G4353<>\"\"),D4341,\"\")","v":""},{"$f":"IF(AND(E4341<>\"\",G4353<>\"\"),E4341,\"\")","v":""},null,null,null,null,null,null,null,null,null,null,null,null,null,{"$f":"IF(Q4353>=2020,R4353-Q4353+1,\"\")","v":""},null,{"$f":"IF(Q4353>=2020,S4353*T4353,\"\")","v":""},null,null,null,null,null,null,null,null,null,null,null,null,{"$f":"SUM(AI4353:AL4353)","v":0},null,null,null,null,{"$f":"SUM(AN4353:AQ4353)","v":0},null,null,null,null,{"$f":"SUM(AS4353:AV4353)","v":0},null,null,null,null,null,null,{"$f":"SUM(AH4353,AM4353,AR4353)","v":0},{"$f":"SUM(AL4353,AQ4353,AV4353)","v":0},{"$f":"IF(AY4353=0,0,AZ4353/AY4353)","v":0},{"$f":"IF((AY4353+AX4353)=0,0,AX4353/(AX4353+AY4353))","v":0},null,null,null,null,null,null,null,null,null,null,null,null,null,null,null,null,null,null,null,null,null,null,null,null,null,null,null,null,null,null,null,null,null,null,null,null,null,null,null,null,null,{"$f":"((L4353=\"создание\")*7+(L4353=\"расширение\")*7 +(L4353=\"внедрение\")*7+(L4353=\"строительство\")*4+(L4353=\"реконструкция\")*3+(L4353=\"капремонт\")*2 +(L4353=\"приобретение\")*1+(L4353=\"установка\")*1)*10","v":0},null,{"$f":"IF(P4353=\"коммунальная инфраструктура\",(L4353=\"строительство\")*3+(L4353=\"реконструкция\")*2+(L4353=\"капремонт\")*1,0)*10","v":0},null,{"$f":"IF(P4353=\"коммунальная инфраструктура\",(L4353=\"строительство\")*4+(L4353=\"реконструкция\")*3+(L4353=\"капремонт\")*2,0)*10","v":0}]
[null,null,13,{"$f":"IF(AND(D4341<>\"\",G4354<>\"\"),D4341,\"\")","v":""},{"$f":"IF(AND(E4341<>\"\",G4354<>\"\"),E4341,\"\")","v":""},null,null,null,null,null,null,null,null,null,null,null,null,null,{"$f":"IF(Q4354>=2020,R4354-Q4354+1,\"\")","v":""},null,{"$f":"IF(Q4354>=2020,S4354*T4354,\"\")","v":""},null,null,null,null,null,null,null,null,null,null,null,null,{"$f":"SUM(AI4354:AL4354)","v":0},null,null,null,null,{"$f":"SUM(AN4354:AQ4354)","v":0},null,null,null,null,{"$f":"SUM(AS4354:AV4354)","v":0},null,null,null,null,null,null,{"$f":"SUM(AH4354,AM4354,AR4354)","v":0},{"$f":"SUM(AL4354,AQ4354,AV4354)","v":0},{"$f":"IF(AY4354=0,0,AZ4354/AY4354)","v":0},{"$f":"IF((AY4354+AX4354)=0,0,AX4354/(AX4354+AY4354))","v":0},null,null,null,null,null,null,null,null,null,null,null,null,null,null,null,null,null,null,null,null,null,null,null,null,null,null,null,null,null,null,null,null,null,null,null,null,null,null,null,null,null,{"$f":"((L4354=\"создание\")*7+(L4354=\"расширение\")*7 +(L4354=\"внедрение\")*7+(L4354=\"строительство\")*4+(L4354=\"реконструкция\")*3+(L4354=\"капремонт\")*2 +(L4354=\"приобретение\")*1+(L4354=\"установка\")*1)*10","v":0},null,{"$f":"IF(P4354=\"коммунальная инфраструктура\",(L4354=\"строительство\")*3+(L4354=\"реконструкция\")*2+(L4354=\"капремонт\")*1,0)*10","v":0},null,{"$f":"IF(P4354=\"коммунальная инфраструктура\",(L4354=\"строительство\")*4+(L4354=\"реконструкция\")*3+(L4354=\"капремонт\")*2,0)*10","v":0}]
[null,null,14,{"$f":"IF(AND(D4341<>\"\",G4355<>\"\"),D4341,\"\")","v":""},{"$f":"IF(AND(E4341<>\"\",G4355<>\"\"),E4341,\"\")","v":""},null,null,null,null,null,null,null,null,null,null,null,null,null,{"$f":"IF(Q4355>=2020,R4355-Q4355+1,\"\")","v":""},null,{"$f":"IF(Q4355>=2020,S4355*T4355,\"\")","v":""},null,null,null,null,null,null,null,null,null,null,null,null,{"$f":"SUM(AI4355:AL4355)","v":0},null,null,null,null,{"$f":"SUM(AN4355:AQ4355)","v":0},null,null,null,null,{"$f":"SUM(AS4355:AV4355)","v":0},null,null,null,null,null,null,{"$f":"SUM(AH4355,AM4355,AR4355)","v":0},{"$f":"SUM(AL4355,AQ4355,AV4355)","v":0},{"$f":"IF(AY4355=0,0,AZ4355/AY4355)","v":0},{"$f":"IF((AY4355+AX4355)=0,0,AX4355/(AX4355+AY4355))","v":0},null,null,null,null,null,null,null,null,null,null,null,null,null,null,null,null,null,null,null,null,null,null,null,null,null,null,null,null,null,null,null,null,null,null,null,null,null,null,null,null,null,{"$f":"((L4355=\"создание\")*7+(L4355=\"расширение\")*7 +(L4355=\"внедрение\")*7+(L4355=\"строительство\")*4+(L4355=\"реконструкция\")*3+(L4355=\"капремонт\")*2 +(L4355=\"приобретение\")*1+(L4355=\"установка\")*1)*10","v":0},null,{"$f":"IF(P4355=\"коммунальная инфраструктура\",(L4355=\"строительство\")*3+(L4355=\"реконструкция\")*2+(L4355=\"капремонт\")*1,0)*10","v":0},null,{"$f":"IF(P4355=\"коммунальная инфраструктура\",(L4355=\"строительство\")*4+(L4355=\"реконструкция\")*3+(L4355=\"капремонт\")*2,0)*10","v":0}]
[null,null,15,{"$f":"IF(AND(D4341<>\"\",G4356<>\"\"),D4341,\"\")","v":""},{"$f":"IF(AND(E4341<>\"\",G4356<>\"\"),E4341,\"\")","v":""},null,null,null,null,null,null,null,null,null,null,null,null,null,{"$f":"IF(Q4356>=2020,R4356-Q4356+1,\"\")","v":""},null,{"$f":"IF(Q4356>=2020,S4356*T4356,\"\")","v":""},null,null,null,null,null,null,null,null,null,null,null,null,{"$f":"SUM(AI4356:AL4356)","v":0},null,null,null,null,{"$f":"SUM(AN4356:AQ4356)","v":0},null,null,null,null,{"$f":"SUM(AS4356:AV4356)","v":0},null,null,null,null,null,null,{"$f":"SUM(AH4356,AM4356,AR4356)","v":0},{"$f":"SUM(AL4356,AQ4356,AV4356)","v":0},{"$f":"IF(AY4356=0,0,AZ4356/AY4356)","v":0},{"$f":"IF((AY4356+AX4356)=0,0,AX4356/(AX4356+AY4356))","v":0},null,null,null,null,null,null,null,null,null,null,null,null,null,null,null,null,null,null,null,null,null,null,null,null,null,null,null,null,null,null,null,null,null,null,null,null,null,null,null,null,null,{"$f":"((L4356=\"создание\")*7+(L4356=\"расширение\")*7 +(L4356=\"внедрение\")*7+(L4356=\"строительство\")*4+(L4356=\"реконструкция\")*3+(L4356=\"капремонт\")*2 +(L4356=\"приобретение\")*1+(L4356=\"установка\")*1)*10","v":0},null,{"$f":"IF(P4356=\"коммунальная инфраструктура\",(L4356=\"строительство\")*3+(L4356=\"реконструкция\")*2+(L4356=\"капремонт\")*1,0)*10","v":0},null,{"$f":"IF(P4356=\"коммунальная инфраструктура\",(L4356=\"строительство\")*4+(L4356=\"реконструкция\")*3+(L4356=\"капремонт\")*2,0)*10","v":0}]
[null,null,16,{"$f":"IF(AND(D4341<>\"\",G4357<>\"\"),D4341,\"\")","v":""},{"$f":"IF(AND(E4341<>\"\",G4357<>\"\"),E4341,\"\")","v":""},null,null,null,null,null,null,null,null,null,null,null,null,null,{"$f":"IF(Q4357>=2020,R4357-Q4357+1,\"\")","v":""},null,{"$f":"IF(Q4357>=2020,S4357*T4357,\"\")","v":""},null,null,null,null,null,null,null,null,null,null,null,null,{"$f":"SUM(AI4357:AL4357)","v":0},null,null,null,null,{"$f":"SUM(AN4357:AQ4357)","v":0},null,null,null,null,{"$f":"SUM(AS4357:AV4357)","v":0},null,null,null,null,null,null,{"$f":"SUM(AH4357,AM4357,AR4357)","v":0},{"$f":"SUM(AL4357,AQ4357,AV4357)","v":0},{"$f":"IF(AY4357=0,0,AZ4357/AY4357)","v":0},{"$f":"IF((AY4357+AX4357)=0,0,AX4357/(AX4357+AY4357))","v":0},null,null,null,null,null,null,null,null,null,null,null,null,null,null,null,null,null,null,null,null,null,null,null,null,null,null,null,null,null,null,null,null,null,null,null,null,null,null,null,null,null,{"$f":"((L4357=\"создание\")*7+(L4357=\"расширение\")*7 +(L4357=\"внедрение\")*7+(L4357=\"строительство\")*4+(L4357=\"реконструкция\")*3+(L4357=\"капремонт\")*2 +(L4357=\"приобретение\")*1+(L4357=\"установка\")*1)*10","v":0},null,{"$f":"IF(P4357=\"коммунальная инфраструктура\",(L4357=\"строительство\")*3+(L4357=\"реконструкция\")*2+(L4357=\"капремонт\")*1,0)*10","v":0},null,{"$f":"IF(P4357=\"коммунальная инфраструктура\",(L4357=\"строительство\")*4+(L4357=\"реконструкция\")*3+(L4357=\"капремонт\")*2,0)*10","v":0}]
[null,null,17,{"$f":"IF(AND(D4341<>\"\",G4358<>\"\"),D4341,\"\")","v":""},{"$f":"IF(AND(E4341<>\"\",G4358<>\"\"),E4341,\"\")","v":""},null,null,null,null,null,null,null,null,null,null,null,null,null,{"$f":"IF(Q4358>=2020,R4358-Q4358+1,\"\")","v":""},null,{"$f":"IF(Q4358>=2020,S4358*T4358,\"\")","v":""},null,null,null,null,null,null,null,null,null,null,null,null,{"$f":"SUM(AI4358:AL4358)","v":0},null,null,null,null,{"$f":"SUM(AN4358:AQ4358)","v":0},null,null,null,null,{"$f":"SUM(AS4358:AV4358)","v":0},null,null,null,null,null,null,{"$f":"SUM(AH4358,AM4358,AR4358)","v":0},{"$f":"SUM(AL4358,AQ4358,AV4358)","v":0},{"$f":"IF(AY4358=0,0,AZ4358/AY4358)","v":0},{"$f":"IF((AY4358+AX4358)=0,0,AX4358/(AX4358+AY4358))","v":0},null,null,null,null,null,null,null,null,null,null,null,null,null,null,null,null,null,null,null,null,null,null,null,null,null,null,null,null,null,null,null,null,null,null,null,null,null,null,null,null,null,{"$f":"((L4358=\"создание\")*7+(L4358=\"расширение\")*7 +(L4358=\"внедрение\")*7+(L4358=\"строительство\")*4+(L4358=\"реконструкция\")*3+(L4358=\"капремонт\")*2 +(L4358=\"приобретение\")*1+(L4358=\"установка\")*1)*10","v":0},null,{"$f":"IF(P4358=\"коммунальная инфраструктура\",(L4358=\"строительство\")*3+(L4358=\"реконструкция\")*2+(L4358=\"капремонт\")*1,0)*10","v":0},null,{"$f":"IF(P4358=\"коммунальная инфраструктура\",(L4358=\"строительство\")*4+(L4358=\"реконструкция\")*3+(L4358=\"капремонт\")*2,0)*10","v":0}]
[null,null,18,{"$f":"IF(AND(D4341<>\"\",G4359<>\"\"),D4341,\"\")","v":""},{"$f":"IF(AND(E4341<>\"\",G4359<>\"\"),E4341,\"\")","v":""},null,null,null,null,null,null,null,null,null,null,null,null,null,{"$f":"IF(Q4359>=2020,R4359-Q4359+1,\"\")","v":""},null,{"$f":"IF(Q4359>=2020,S4359*T4359,\"\")","v":""},null,null,null,null,null,null,null,null,null,null,null,null,{"$f":"SUM(AI4359:AL4359)","v":0},null,null,null,null,{"$f":"SUM(AN4359:AQ4359)","v":0},null,null,null,null,{"$f":"SUM(AS4359:AV4359)","v":0},null,null,null,null,null,null,{"$f":"SUM(AH4359,AM4359,AR4359)","v":0},{"$f":"SUM(AL4359,AQ4359,AV4359)","v":0},{"$f":"IF(AY4359=0,0,AZ4359/AY4359)","v":0},{"$f":"IF((AY4359+AX4359)=0,0,AX4359/(AX4359+AY4359))","v":0},null,null,null,null,null,null,null,null,null,null,null,null,null,null,null,null,null,null,null,null,null,null,null,null,null,null,null,null,null,null,null,null,null,null,null,null,null,null,null,null,null,{"$f":"((L4359=\"создание\")*7+(L4359=\"расширение\")*7 +(L4359=\"внедрение\")*7+(L4359=\"строительство\")*4+(L4359=\"реконструкция\")*3+(L4359=\"капремонт\")*2 +(L4359=\"приобретение\")*1+(L4359=\"установка\")*1)*10","v":0},null,{"$f":"IF(P4359=\"коммунальная инфраструктура\",(L4359=\"строительство\")*3+(L4359=\"реконструкция\")*2+(L4359=\"капремонт\")*1,0)*10","v":0},null,{"$f":"IF(P4359=\"коммунальная инфраструктура\",(L4359=\"строительство\")*4+(L4359=\"реконструкция\")*3+(L4359=\"капремонт\")*2,0)*10","v":0}]
[null,null,19,{"$f":"IF(AND(D4341<>\"\",G4360<>\"\"),D4341,\"\")","v":""},{"$f":"IF(AND(E4341<>\"\",G4360<>\"\"),E4341,\"\")","v":""},null,null,null,null,null,null,null,null,null,null,null,null,null,{"$f":"IF(Q4360>=2020,R4360-Q4360+1,\"\")","v":""},null,{"$f":"IF(Q4360>=2020,S4360*T4360,\"\")","v":""},null,null,null,null,null,null,null,null,null,null,null,null,{"$f":"SUM(AI4360:AL4360)","v":0},null,null,null,null,{"$f":"SUM(AN4360:AQ4360)","v":0},null,null,null,null,{"$f":"SUM(AS4360:AV4360)","v":0},null,null,null,null,null,null,{"$f":"SUM(AH4360,AM4360,AR4360)","v":0},{"$f":"SUM(AL4360,AQ4360,AV4360)","v":0},{"$f":"IF(AY4360=0,0,AZ4360/AY4360)","v":0},{"$f":"IF((AY4360+AX4360)=0,0,AX4360/(AX4360+AY4360))","v":0},null,null,null,null,null,null,null,null,null,null,null,null,null,null,null,null,null,null,null,null,null,null,null,null,null,null,null,null,null,null,null,null,null,null,null,null,null,null,null,null,null,{"$f":"((L4360=\"создание\")*7+(L4360=\"расширение\")*7 +(L4360=\"внедрение\")*7+(L4360=\"строительство\")*4+(L4360=\"реконструкция\")*3+(L4360=\"капремонт\")*2 +(L4360=\"приобретение\")*1+(L4360=\"установка\")*1)*10","v":0},null,{"$f":"IF(P4360=\"коммунальная инфраструктура\",(L4360=\"строительство\")*3+(L4360=\"реконструкция\")*2+(L4360=\"капремонт\")*1,0)*10","v":0},null,{"$f":"IF(P4360=\"коммунальная инфраструктура\",(L4360=\"строительство\")*4+(L4360=\"реконструкция\")*3+(L4360=\"капремонт\")*2,0)*10","v":0}]
[null,null,20,{"$f":"IF(AND(D4341<>\"\",G4361<>\"\"),D4341,\"\")","v":""},{"$f":"IF(AND(E4341<>\"\",G4361<>\"\"),E4341,\"\")","v":""},null,null,null,null,null,null,null,null,null,null,null,null,null,{"$f":"IF(Q4361>=2020,R4361-Q4361+1,\"\")","v":""},null,{"$f":"IF(Q4361>=2020,S4361*T4361,\"\")","v":""},null,null,null,null,null,null,null,null,null,null,null,null,{"$f":"SUM(AI4361:AL4361)","v":0},null,null,null,null,{"$f":"SUM(AN4361:AQ4361)","v":0},null,null,null,null,{"$f":"SUM(AS4361:AV4361)","v":0},null,null,null,null,null,null,{"$f":"SUM(AH4361,AM4361,AR4361)","v":0},{"$f":"SUM(AL4361,AQ4361,AV4361)","v":0},{"$f":"IF(AY4361=0,0,AZ4361/AY4361)","v":0},{"$f":"IF((AY4361+AX4361)=0,0,AX4361/(AX4361+AY4361))","v":0},null,null,null,null,null,null,null,null,null,null,null,null,null,null,null,null,null,null,null,null,null,null,null,null,null,null,null,null,null,null,null,null,null,null,null,null,null,null,null,null,null,{"$f":"((L4361=\"создание\")*7+(L4361=\"расширение\")*7 +(L4361=\"внедрение\")*7+(L4361=\"строительство\")*4+(L4361=\"реконструкция\")*3+(L4361=\"капремонт\")*2 +(L4361=\"приобретение\")*1+(L4361=\"установка\")*1)*10","v":0},null,{"$f":"IF(P4361=\"коммунальная инфраструктура\",(L4361=\"строительство\")*3+(L4361=\"реконструкция\")*2+(L4361=\"капремонт\")*1,0)*10","v":0},null,{"$f":"IF(P4361=\"коммунальная инфраструктура\",(L4361=\"строительство\")*4+(L4361=\"реконструкция\")*3+(L4361=\"капремонт\")*2,0)*10","v":0}]
[null,null,"…",{"$f":"IF(AND(D4341<>\"\",G4362<>\"\"),D4341,\"\")","v":""},{"$f":"IF(AND(E4341<>\"\",G4362<>\"\"),E4341,\"\")","v":""},null,null,null,null,null,null,null,null,null,null,null,null,null,{"$f":"IF(Q4362>=2020,R4362-Q4362+1,\"\")","v":""},null,{"$f":"IF(Q4362>=2020,S4362*T4362,\"\")","v":""},null,null,null,null,null,null,null,null,null,null,null,null,{"$f":"SUM(AI4362:AL4362)","v":0},null,null,null,null,{"$f":"SUM(AN4362:AQ4362)","v":0},null,null,null,null,{"$f":"SUM(AS4362:AV4362)","v":0},null,null,null,null,null,null,{"$f":"SUM(AH4362,AM4362,AR4362)","v":0},{"$f":"SUM(AL4362,AQ4362,AV4362)","v":0},{"$f":"IF(AY4362=0,0,AZ4362/AY4362)","v":0},{"$f":"IF((AY4362+AX4362)=0,0,AX4362/(AX4362+AY4362))","v":0},null,null,null,null,null,null,null,null,null,null,null,null,null,null,null,null,null,null,null,null,null,null,null,null,null,null,null,null,null,null,null,null,null,null,null,null,null,null,null,null,null,{"$f":"((L4362=\"создание\")*7+(L4362=\"расширение\")*7 +(L4362=\"внедрение\")*7+(L4362=\"строительство\")*4+(L4362=\"реконструкция\")*3+(L4362=\"капремонт\")*2 +(L4362=\"приобретение\")*1+(L4362=\"установка\")*1)*10","v":0},null,{"$f":"IF(P4362=\"коммунальная инфраструктура\",(L4362=\"строительство\")*3+(L4362=\"реконструкция\")*2+(L4362=\"капремонт\")*1,0)*10","v":0},null,{"$f":"IF(P4362=\"коммунальная инфраструктура\",(L4362=\"строительство\")*4+(L4362=\"реконструкция\")*3+(L4362=\"капремонт\")*2,0)*10","v":0}]
[199,null,{"$f":"COUNTA(G4364:G4384)","v":0},null,null,null,null,null,null,null,null,null,null,null,null,null,{"$f":"MIN(Q4364:Q4384)","v":0},{"$f":"MAX(R4364:R4384)","v":0},{"$f":"MAX(S4364:S4384)","v":0},null,{"$f":"MAX(U4364:U4384)","v":0},null,null,null,null,null,{"$f":"IF(COUNTIF(AA4364:AA4384,\"НЕТ\")>0,\"ПД!\",\"ок\")","v":"ок"},null,{"$f":"IF(COUNTIF(AC4364:AC4384,\"НЕТ\")>0,\"ДОСМ!\",\"ок\")","v":"ок"},null,{"$f":"IF(COUNTIF(AE4364:AE4384,\"НЕТ\")>0,\"ФОИВ!\",\"ок\")","v":"ок"},{"$f":"IF(COUNTIF(AF4364:AF4384,\"НЕТ\")>0,\"ФОИВ!\",\"ок\")","v":"ок"},null,{"$f":"SUM(AH4364:AH4384)","v":0},{"$f":"SUM(AI4364:AI4384)","v":0},{"$f":"SUM(AJ4364:AJ4384)","v":0},{"$f":"SUM(AK4364:AK4384)","v":0},{"$f":"SUM(AL4364:AL4384)","v":0},{"$f":"SUM(AM4364:AM4384)","v":0},{"$f":"SUM(AN4364:AN4384)","v":0},{"$f":"SUM(AO4364:AO4384)","v":0},{"$f":"SUM(AP4364:AP4384)","v":0},{"$f":"SUM(AQ4364:AQ4384)","v":0},{"$f":"SUM(AR4364:AR4384)","v":0},{"$f":"SUM(AS4364:AS4384)","v":0},{"$f":"SUM(AT4364:AT4384)","v":0},{"$f":"SUM(AU4364:AU4384)","v":0},{"$f":"SUM(AV4364:AV4384)","v":0},{"$f":"SUM(AW4364:AW4384)","v":0},{"$f":"SUM(AX4364:AX4384)","v":0},{"$f":"SUM(AH4363,AM4363,AR4363)","v":0},{"$f":"AL4363+AQ4363+AV4363","v":0},{"$f":"IF(AY4363=0,0,AZ4363/AY4363)","v":0},{"$f":"IF((AY4363+AX4363)=0,0,AX4363/(AX4363+AY4363))","v":0},null,null,{"$f":"IFERROR(BD4363/BC4363,0)","v":0},null,null,{"$f":"IFERROR(BG4363/BF4363,0)","v":0},null,null,{"$f":"IFERROR(BJ4363/BI4363,0)","v":0},null,null,null,{"$f":"(SUM(BL4363:BN4363)>0)*1+(SUM(BL4363:BN4363)>=10)*1+(SUM(BL4363:BN4363)>=50)*1+(SUM(BL4363:BN4363)>=100)*1+(SUM(BL4363:BN4363)>=200)*1+(SUM(BL4363:BN4363)>=300)*1","v":0},{"$f":"IFERROR(SUM(BL4363:BN4363)/BC4363,0)","v":0},null,null,{"$f":"IFERROR(BQ4363/BR4363,0)","v":0},{"$f":"IF(BA4363<0.01,0,IF(BA4363>=0.1,10,ROUNDDOWN(BA4363/0.01,0)))","v":0},8,{"$f":"BT4363*BU4363","v":0},{"$f":"IF(BB4363<0.01,0,IF(BB4363>=0.1,10,ROUNDDOWN(BB4363/0.01,0)))","v":0},8,{"$f":"BW4363*BX4363","v":0},{"$f":"IF(U4363<=1,9,IF(U4363<=2,6,IF(U4363<=3,3,0)))*(C4363>0)","v":0},6,{"$f":"BZ4363*CA4363","v":0},{"$f":"IF(BH4363<0.51,0,10)","v":0},7,{"$f":"CC4363*CD4363","v":0},{"$f":"IF(BE4363<0.1,0,IF(BE4363>=0.9,10,ROUNDDOWN(BE4363/0.1,0)))","v":0},10,{"$f":"CF4363*CG4363","v":0},{"$f":"IF(BK4363<0.1,0,IF(BK4363>=0.6,10,ROUNDDOWN(BK4363/0.1,0)))","v":0},8,{"$f":"CI4363*CJ4363","v":0},{"$f":"IF(BP4363<0.05,0,IF(BP4363>=0.1,10,1))","v":0},10,{"$f":"CL4363*CM4363","v":0},{"$f":"IF(BS4363<0.1,0,IF(BS4363>=0.8,10,ROUNDDOWN(BS4363/0.1,0)))","v":0},10,{"$f":"CP4363*CO4363","v":0},{"$f":"ROUND(IF(C4363=0,0,SUM(CR4364:CR4384)/C4363),1)","v":0},{"$f":"((SUM(BL4363:BN4363)>=1)*1+(SUM(BL4363:BN4363)>=11)*1+(SUM(BL4363:BN4363)>=51)*3+(SUM(BL4363:BN4363)>=101)*2+(SUM(BL4363:BN4363)>=201)*2+(SUM(BL4363:BN4363)>=301)*4)*10","v":0},{"$f":"IFERROR(ROUND(SUM(CT4364:CT4384)/COUNTIF(P4364:P4384,\"коммунальная инфраструктура\"),1),0)","v":0},{"$f":"CS4363+CT4363","v":0},{"$f":"IFERROR(ROUND(SUM(CV4364:CV4384)/COUNTIF(P4364:P4384,\"коммунальная инфраструктура\"),1),0)","v":0},{"$f":"SUM(BV4363,BY4363,CB4363,CE4363,CH4363,CK4363,CN4363,CQ4363,CR4363,CU4363,CV4363)","v":0},{"$f":"VLOOKUP(D4363,РегионыФО,2,0)","v":{"$error":"#N/A"}}]
[null,null,1,{"$f":"IF(AND(D4363<>\"\",G4364<>\"\"),D4363,\"\")","v":""},{"$f":"IF(AND(E4363<>\"\",G4364<>\"\"),E4363,\"\")","v":""},null,null,null,null,null,null,null,null,null,null,null,null,null,{"$f":"IF(Q4364>=2020,R4364-Q4364+1,\"\")","v":""},null,{"$f":"IF(Q4364>=2020,ROUNDUP(S4364*T4364,0),\"\")","v":""},null,null,null,null,null,null,null,null,null,null,null,null,{"$f":"SUM(AI4364:AL4364)","v":0},null,null,null,null,{"$f":"SUM(AN4364:AQ4364)","v":0},null,null,null,null,{"$f":"SUM(AS4364:AV4364)","v":0},null,null,null,null,null,null,{"$f":"SUM(AH4364,AM4364,AR4364)","v":0},{"$f":"SUM(AL4364,AQ4364,AV4364)","v":0},{"$f":"IF(AY4364=0,0,AZ4364/AY4364)","v":0},{"$f":"IF((AY4364+AX4364)=0,0,AX4364/(AX4364+AY4364))","v":0},null,null,null,null,null,null,null,null,null,null,null,null,null,null,null,null,null,null,null,null,null,null,null,null,null,null,null,null,null,null,null,null,null,null,null,null,null,null,null,null,null,{"$f":"((L4364=\"создание\")*7+(L4364=\"расширение\")*7 +(L4364=\"внедрение\")*7+(L4364=\"строительство\")*4+(L4364=\"реконструкция\")*3+(L4364=\"капремонт\")*2 +(L4364=\"приобретение\")*1+(L4364=\"установка\")*1)*10","v":0},null,{"$f":"IF(P4364=\"коммунальная инфраструктура\",(L4364=\"строительство\")*3+(L4364=\"реконструкция\")*2+(L4364=\"капремонт\")*1,0)*10","v":0},null,{"$f":"IF(P4364=\"коммунальная инфраструктура\",(L4364=\"строительство\")*4+(L4364=\"реконструкция\")*3+(L4364=\"капремонт\")*2,0)*10","v":0}]
[null,null,2,{"$f":"IF(AND(D4363<>\"\",G4365<>\"\"),D4363,\"\")","v":""},{"$f":"IF(AND(E4363<>\"\",G4365<>\"\"),E4363,\"\")","v":""},null,null,null,null,null,null,null,null,null,null,null,null,null,{"$f":"IF(Q4365>=2020,R4365-Q4365+1,\"\")","v":""},null,{"$f":"IF(Q4365>=2020,S4365*T4365,\"\")","v":""},null,null,null,null,null,null,null,null,null,null,null,null,{"$f":"SUM(AI4365:AL4365)","v":0},null,null,null,null,{"$f":"SUM(AN4365:AQ4365)","v":0},null,null,null,null,{"$f":"SUM(AS4365:AV4365)","v":0},null,null,null,null,null,null,{"$f":"SUM(AH4365,AM4365,AR4365)","v":0},{"$f":"SUM(AL4365,AQ4365,AV4365)","v":0},{"$f":"IF(AY4365=0,0,AZ4365/AY4365)","v":0},{"$f":"IF((AY4365+AX4365)=0,0,AX4365/(AX4365+AY4365))","v":0},null,null,null,null,null,null,null,null,null,null,null,null,null,null,null,null,null,null,null,null,null,null,null,null,null,null,null,null,null,null,null,null,null,null,null,null,null,null,null,null,null,{"$f":"((L4365=\"создание\")*7+(L4365=\"расширение\")*7 +(L4365=\"внедрение\")*7+(L4365=\"строительство\")*4+(L4365=\"реконструкция\")*3+(L4365=\"капремонт\")*2 +(L4365=\"приобретение\")*1+(L4365=\"установка\")*1)*10","v":0},null,{"$f":"IF(P4365=\"коммунальная инфраструктура\",(L4365=\"строительство\")*3+(L4365=\"реконструкция\")*2+(L4365=\"капремонт\")*1,0)*10","v":0},null,{"$f":"IF(P4365=\"коммунальная инфраструктура\",(L4365=\"строительство\")*4+(L4365=\"реконструкция\")*3+(L4365=\"капремонт\")*2,0)*10","v":0}]
[null,null,3,{"$f":"IF(AND(D4363<>\"\",G4366<>\"\"),D4363,\"\")","v":""},{"$f":"IF(AND(E4363<>\"\",G4366<>\"\"),E4363,\"\")","v":""},null,null,null,null,null,null,null,null,null,null,null,null,null,{"$f":"IF(Q4366>=2020,R4366-Q4366+1,\"\")","v":""},null,{"$f":"IF(Q4366>=2020,S4366*T4366,\"\")","v":""},null,null,null,null,null,null,null,null,null,null,null,null,{"$f":"SUM(AI4366:AL4366)","v":0},null,null,null,null,{"$f":"SUM(AN4366:AQ4366)","v":0},null,null,null,null,{"$f":"SUM(AS4366:AV4366)","v":0},null,null,null,null,null,null,{"$f":"SUM(AH4366,AM4366,AR4366)","v":0},{"$f":"SUM(AL4366,AQ4366,AV4366)","v":0},{"$f":"IF(AY4366=0,0,AZ4366/AY4366)","v":0},{"$f":"IF((AY4366+AX4366)=0,0,AX4366/(AX4366+AY4366))","v":0},null,null,null,null,null,null,null,null,null,null,null,null,null,null,null,null,null,null,null,null,null,null,null,null,null,null,null,null,null,null,null,null,null,null,null,null,null,null,null,null,null,{"$f":"((L4366=\"создание\")*7+(L4366=\"расширение\")*7 +(L4366=\"внедрение\")*7+(L4366=\"строительство\")*4+(L4366=\"реконструкция\")*3+(L4366=\"капремонт\")*2 +(L4366=\"приобретение\")*1+(L4366=\"установка\")*1)*10","v":0},null,{"$f":"IF(P4366=\"коммунальная инфраструктура\",(L4366=\"строительство\")*3+(L4366=\"реконструкция\")*2+(L4366=\"капремонт\")*1,0)*10","v":0},null,{"$f":"IF(P4366=\"коммунальная инфраструктура\",(L4366=\"строительство\")*4+(L4366=\"реконструкция\")*3+(L4366=\"капремонт\")*2,0)*10","v":0}]
[null,null,4,{"$f":"IF(AND(D4363<>\"\",G4367<>\"\"),D4363,\"\")","v":""},{"$f":"IF(AND(E4363<>\"\",G4367<>\"\"),E4363,\"\")","v":""},null,null,null,null,null,null,null,null,null,null,null,null,null,{"$f":"IF(Q4367>=2020,R4367-Q4367+1,\"\")","v":""},null,{"$f":"IF(Q4367>=2020,S4367*T4367,\"\")","v":""},null,null,null,null,null,null,null,null,null,null,null,null,{"$f":"SUM(AI4367:AL4367)","v":0},null,null,null,null,{"$f":"SUM(AN4367:AQ4367)","v":0},null,null,null,null,{"$f":"SUM(AS4367:AV4367)","v":0},null,null,null,null,null,null,{"$f":"SUM(AH4367,AM4367,AR4367)","v":0},{"$f":"SUM(AL4367,AQ4367,AV4367)","v":0},{"$f":"IF(AY4367=0,0,AZ4367/AY4367)","v":0},{"$f":"IF((AY4367+AX4367)=0,0,AX4367/(AX4367+AY4367))","v":0},null,null,null,null,null,null,null,null,null,null,null,null,null,null,null,null,null,null,null,null,null,null,null,null,null,null,null,null,null,null,null,null,null,null,null,null,null,null,null,null,null,{"$f":"((L4367=\"создание\")*7+(L4367=\"расширение\")*7 +(L4367=\"внедрение\")*7+(L4367=\"строительство\")*4+(L4367=\"реконструкция\")*3+(L4367=\"капремонт\")*2 +(L4367=\"приобретение\")*1+(L4367=\"установка\")*1)*10","v":0},null,{"$f":"IF(P4367=\"коммунальная инфраструктура\",(L4367=\"строительство\")*3+(L4367=\"реконструкция\")*2+(L4367=\"капремонт\")*1,0)*10","v":0},null,{"$f":"IF(P4367=\"коммунальная инфраструктура\",(L4367=\"строительство\")*4+(L4367=\"реконструкция\")*3+(L4367=\"капремонт\")*2,0)*10","v":0}]
[null,null,5,{"$f":"IF(AND(D4363<>\"\",G4368<>\"\"),D4363,\"\")","v":""},{"$f":"IF(AND(E4363<>\"\",G4368<>\"\"),E4363,\"\")","v":""},null,null,null,null,null,null,null,null,null,null,null,null,null,{"$f":"IF(Q4368>=2020,R4368-Q4368+1,\"\")","v":""},null,{"$f":"IF(Q4368>=2020,S4368*T4368,\"\")","v":""},null,null,null,null,null,null,null,null,null,null,null,null,{"$f":"SUM(AI4368:AL4368)","v":0},null,null,null,null,{"$f":"SUM(AN4368:AQ4368)","v":0},null,null,null,null,{"$f":"SUM(AS4368:AV4368)","v":0},null,null,null,null,null,null,{"$f":"SUM(AH4368,AM4368,AR4368)","v":0},{"$f":"SUM(AL4368,AQ4368,AV4368)","v":0},{"$f":"IF(AY4368=0,0,AZ4368/AY4368)","v":0},{"$f":"IF((AY4368+AX4368)=0,0,AX4368/(AX4368+AY4368))","v":0},null,null,null,null,null,null,null,null,null,null,null,null,null,null,null,null,null,null,null,null,null,null,null,null,null,null,null,null,null,null,null,null,null,null,null,null,null,null,null,null,null,{"$f":"((L4368=\"создание\")*7+(L4368=\"расширение\")*7 +(L4368=\"внедрение\")*7+(L4368=\"строительство\")*4+(L4368=\"реконструкция\")*3+(L4368=\"капремонт\")*2 +(L4368=\"приобретение\")*1+(L4368=\"установка\")*1)*10","v":0},null,{"$f":"IF(P4368=\"коммунальная инфраструктура\",(L4368=\"строительство\")*3+(L4368=\"реконструкция\")*2+(L4368=\"капремонт\")*1,0)*10","v":0},null,{"$f":"IF(P4368=\"коммунальная инфраструктура\",(L4368=\"строительство\")*4+(L4368=\"реконструкция\")*3+(L4368=\"капремонт\")*2,0)*10","v":0}]
[null,null,6,{"$f":"IF(AND(D4363<>\"\",G4369<>\"\"),D4363,\"\")","v":""},{"$f":"IF(AND(E4363<>\"\",G4369<>\"\"),E4363,\"\")","v":""},null,null,null,null,null,null,null,null,null,null,null,null,null,{"$f":"IF(Q4369>=2020,R4369-Q4369+1,\"\")","v":""},null,{"$f":"IF(Q4369>=2020,S4369*T4369,\"\")","v":""},null,null,null,null,null,null,null,null,null,null,null,null,{"$f":"SUM(AI4369:AL4369)","v":0},null,null,null,null,{"$f":"SUM(AN4369:AQ4369)","v":0},null,null,null,null,{"$f":"SUM(AS4369:AV4369)","v":0},null,null,null,null,null,null,{"$f":"SUM(AH4369,AM4369,AR4369)","v":0},{"$f":"SUM(AL4369,AQ4369,AV4369)","v":0},{"$f":"IF(AY4369=0,0,AZ4369/AY4369)","v":0},{"$f":"IF((AY4369+AX4369)=0,0,AX4369/(AX4369+AY4369))","v":0},null,null,null,null,null,null,null,null,null,null,null,null,null,null,null,null,null,null,null,null,null,null,null,null,null,null,null,null,null,null,null,null,null,null,null,null,null,null,null,null,null,{"$f":"((L4369=\"создание\")*7+(L4369=\"расширение\")*7 +(L4369=\"внедрение\")*7+(L4369=\"строительство\")*4+(L4369=\"реконструкция\")*3+(L4369=\"капремонт\")*2 +(L4369=\"приобретение\")*1+(L4369=\"установка\")*1)*10","v":0},null,{"$f":"IF(P4369=\"коммунальная инфраструктура\",(L4369=\"строительство\")*3+(L4369=\"реконструкция\")*2+(L4369=\"капремонт\")*1,0)*10","v":0},null,{"$f":"IF(P4369=\"коммунальная инфраструктура\",(L4369=\"строительство\")*4+(L4369=\"реконструкция\")*3+(L4369=\"капремонт\")*2,0)*10","v":0}]
[null,null,7,{"$f":"IF(AND(D4363<>\"\",G4370<>\"\"),D4363,\"\")","v":""},{"$f":"IF(AND(E4363<>\"\",G4370<>\"\"),E4363,\"\")","v":""},null,null,null,null,null,null,null,null,null,null,null,null,null,{"$f":"IF(Q4370>=2020,R4370-Q4370+1,\"\")","v":""},null,{"$f":"IF(Q4370>=2020,S4370*T4370,\"\")","v":""},null,null,null,null,null,null,null,null,null,null,null,null,{"$f":"SUM(AI4370:AL4370)","v":0},null,null,null,null,{"$f":"SUM(AN4370:AQ4370)","v":0},null,null,null,null,{"$f":"SUM(AS4370:AV4370)","v":0},null,null,null,null,null,null,{"$f":"SUM(AH4370,AM4370,AR4370)","v":0},{"$f":"SUM(AL4370,AQ4370,AV4370)","v":0},{"$f":"IF(AY4370=0,0,AZ4370/AY4370)","v":0},{"$f":"IF((AY4370+AX4370)=0,0,AX4370/(AX4370+AY4370))","v":0},null,null,null,null,null,null,null,null,null,null,null,null,null,null,null,null,null,null,null,null,null,null,null,null,null,null,null,null,null,null,null,null,null,null,null,null,null,null,null,null,null,{"$f":"((L4370=\"создание\")*7+(L4370=\"расширение\")*7 +(L4370=\"внедрение\")*7+(L4370=\"строительство\")*4+(L4370=\"реконструкция\")*3+(L4370=\"капремонт\")*2 +(L4370=\"приобретение\")*1+(L4370=\"установка\")*1)*10","v":0},null,{"$f":"IF(P4370=\"коммунальная инфраструктура\",(L4370=\"строительство\")*3+(L4370=\"реконструкция\")*2+(L4370=\"капремонт\")*1,0)*10","v":0},null,{"$f":"IF(P4370=\"коммунальная инфраструктура\",(L4370=\"строительство\")*4+(L4370=\"реконструкция\")*3+(L4370=\"капремонт\")*2,0)*10","v":0}]
[null,null,8,{"$f":"IF(AND(D4363<>\"\",G4371<>\"\"),D4363,\"\")","v":""},{"$f":"IF(AND(E4363<>\"\",G4371<>\"\"),E4363,\"\")","v":""},null,null,null,null,null,null,null,null,null,null,null,null,null,{"$f":"IF(Q4371>=2020,R4371-Q4371+1,\"\")","v":""},null,{"$f":"IF(Q4371>=2020,S4371*T4371,\"\")","v":""},null,null,null,null,null,null,null,null,null,null,null,null,{"$f":"SUM(AI4371:AL4371)","v":0},null,null,null,null,{"$f":"SUM(AN4371:AQ4371)","v":0},null,null,null,null,{"$f":"SUM(AS4371:AV4371)","v":0},null,null,null,null,null,null,{"$f":"SUM(AH4371,AM4371,AR4371)","v":0},{"$f":"SUM(AL4371,AQ4371,AV4371)","v":0},{"$f":"IF(AY4371=0,0,AZ4371/AY4371)","v":0},{"$f":"IF((AY4371+AX4371)=0,0,AX4371/(AX4371+AY4371))","v":0},null,null,null,null,null,null,null,null,null,null,null,null,null,null,null,null,null,null,null,null,null,null,null,null,null,null,null,null,null,null,null,null,null,null,null,null,null,null,null,null,null,{"$f":"((L4371=\"создание\")*7+(L4371=\"расширение\")*7 +(L4371=\"внедрение\")*7+(L4371=\"строительство\")*4+(L4371=\"реконструкция\")*3+(L4371=\"капремонт\")*2 +(L4371=\"приобретение\")*1+(L4371=\"установка\")*1)*10","v":0},null,{"$f":"IF(P4371=\"коммунальная инфраструктура\",(L4371=\"строительство\")*3+(L4371=\"реконструкция\")*2+(L4371=\"капремонт\")*1,0)*10","v":0},null,{"$f":"IF(P4371=\"коммунальная инфраструктура\",(L4371=\"строительство\")*4+(L4371=\"реконструкция\")*3+(L4371=\"капремонт\")*2,0)*10","v":0}]
[null,null,9,{"$f":"IF(AND(D4363<>\"\",G4372<>\"\"),D4363,\"\")","v":""},{"$f":"IF(AND(E4363<>\"\",G4372<>\"\"),E4363,\"\")","v":""},null,null,null,null,null,null,null,null,null,null,null,null,null,{"$f":"IF(Q4372>=2020,R4372-Q4372+1,\"\")","v":""},null,{"$f":"IF(Q4372>=2020,S4372*T4372,\"\")","v":""},null,null,null,null,null,null,null,null,null,null,null,null,{"$f":"SUM(AI4372:AL4372)","v":0},null,null,null,null,{"$f":"SUM(AN4372:AQ4372)","v":0},null,null,null,null,{"$f":"SUM(AS4372:AV4372)","v":0},null,null,null,null,null,null,{"$f":"SUM(AH4372,AM4372,AR4372)","v":0},{"$f":"SUM(AL4372,AQ4372,AV4372)","v":0},{"$f":"IF(AY4372=0,0,AZ4372/AY4372)","v":0},{"$f":"IF((AY4372+AX4372)=0,0,AX4372/(AX4372+AY4372))","v":0},null,null,null,null,null,null,null,null,null,null,null,null,null,null,null,null,null,null,null,null,null,null,null,null,null,null,null,null,null,null,null,null,null,null,null,null,null,null,null,null,null,{"$f":"((L4372=\"создание\")*7+(L4372=\"расширение\")*7 +(L4372=\"внедрение\")*7+(L4372=\"строительство\")*4+(L4372=\"реконструкция\")*3+(L4372=\"капремонт\")*2 +(L4372=\"приобретение\")*1+(L4372=\"установка\")*1)*10","v":0},null,{"$f":"IF(P4372=\"коммунальная инфраструктура\",(L4372=\"строительство\")*3+(L4372=\"реконструкция\")*2+(L4372=\"капремонт\")*1,0)*10","v":0},null,{"$f":"IF(P4372=\"коммунальная инфраструктура\",(L4372=\"строительство\")*4+(L4372=\"реконструкция\")*3+(L4372=\"капремонт\")*2,0)*10","v":0}]
[null,null,10,{"$f":"IF(AND(D4363<>\"\",G4373<>\"\"),D4363,\"\")","v":""},{"$f":"IF(AND(E4363<>\"\",G4373<>\"\"),E4363,\"\")","v":""},null,null,null,null,null,null,null,null,null,null,null,null,null,{"$f":"IF(Q4373>=2020,R4373-Q4373+1,\"\")","v":""},null,{"$f":"IF(Q4373>=2020,S4373*T4373,\"\")","v":""},null,null,null,null,null,null,null,null,null,null,null,null,{"$f":"SUM(AI4373:AL4373)","v":0},null,null,null,null,{"$f":"SUM(AN4373:AQ4373)","v":0},null,null,null,null,{"$f":"SUM(AS4373:AV4373)","v":0},null,null,null,null,null,null,{"$f":"SUM(AH4373,AM4373,AR4373)","v":0},{"$f":"SUM(AL4373,AQ4373,AV4373)","v":0},{"$f":"IF(AY4373=0,0,AZ4373/AY4373)","v":0},{"$f":"IF((AY4373+AX4373)=0,0,AX4373/(AX4373+AY4373))","v":0},null,null,null,null,null,null,null,null,null,null,null,null,null,null,null,null,null,null,null,null,null,null,null,null,null,null,null,null,null,null,null,null,null,null,null,null,null,null,null,null,null,{"$f":"((L4373=\"создание\")*7+(L4373=\"расширение\")*7 +(L4373=\"внедрение\")*7+(L4373=\"строительство\")*4+(L4373=\"реконструкция\")*3+(L4373=\"капремонт\")*2 +(L4373=\"приобретение\")*1+(L4373=\"установка\")*1)*10","v":0},null,{"$f":"IF(P4373=\"коммунальная инфраструктура\",(L4373=\"строительство\")*3+(L4373=\"реконструкция\")*2+(L4373=\"капремонт\")*1,0)*10","v":0},null,{"$f":"IF(P4373=\"коммунальная инфраструктура\",(L4373=\"строительство\")*4+(L4373=\"реконструкция\")*3+(L4373=\"капремонт\")*2,0)*10","v":0}]
[null,null,11,{"$f":"IF(AND(D4363<>\"\",G4374<>\"\"),D4363,\"\")","v":""},{"$f":"IF(AND(E4363<>\"\",G4374<>\"\"),E4363,\"\")","v":""},null,null,null,null,null,null,null,null,null,null,null,null,null,{"$f":"IF(Q4374>=2020,R4374-Q4374+1,\"\")","v":""},null,{"$f":"IF(Q4374>=2020,S4374*T4374,\"\")","v":""},null,null,null,null,null,null,null,null,null,null,null,null,{"$f":"SUM(AI4374:AL4374)","v":0},null,null,null,null,{"$f":"SUM(AN4374:AQ4374)","v":0},null,null,null,null,{"$f":"SUM(AS4374:AV4374)","v":0},null,null,null,null,null,null,{"$f":"SUM(AH4374,AM4374,AR4374)","v":0},{"$f":"SUM(AL4374,AQ4374,AV4374)","v":0},{"$f":"IF(AY4374=0,0,AZ4374/AY4374)","v":0},{"$f":"IF((AY4374+AX4374)=0,0,AX4374/(AX4374+AY4374))","v":0},null,null,null,null,null,null,null,null,null,null,null,null,null,null,null,null,null,null,null,null,null,null,null,null,null,null,null,null,null,null,null,null,null,null,null,null,null,null,null,null,null,{"$f":"((L4374=\"создание\")*7+(L4374=\"расширение\")*7 +(L4374=\"внедрение\")*7+(L4374=\"строительство\")*4+(L4374=\"реконструкция\")*3+(L4374=\"капремонт\")*2 +(L4374=\"приобретение\")*1+(L4374=\"установка\")*1)*10","v":0},null,{"$f":"IF(P4374=\"коммунальная инфраструктура\",(L4374=\"строительство\")*3+(L4374=\"реконструкция\")*2+(L4374=\"капремонт\")*1,0)*10","v":0},null,{"$f":"IF(P4374=\"коммунальная инфраструктура\",(L4374=\"строительство\")*4+(L4374=\"реконструкция\")*3+(L4374=\"капремонт\")*2,0)*10","v":0}]
[null,null,12,{"$f":"IF(AND(D4363<>\"\",G4375<>\"\"),D4363,\"\")","v":""},{"$f":"IF(AND(E4363<>\"\",G4375<>\"\"),E4363,\"\")","v":""},null,null,null,null,null,null,null,null,null,null,null,null,null,{"$f":"IF(Q4375>=2020,R4375-Q4375+1,\"\")","v":""},null,{"$f":"IF(Q4375>=2020,S4375*T4375,\"\")","v":""},null,null,null,null,null,null,null,null,null,null,null,null,{"$f":"SUM(AI4375:AL4375)","v":0},null,null,null,null,{"$f":"SUM(AN4375:AQ4375)","v":0},null,null,null,null,{"$f":"SUM(AS4375:AV4375)","v":0},null,null,null,null,null,null,{"$f":"SUM(AH4375,AM4375,AR4375)","v":0},{"$f":"SUM(AL4375,AQ4375,AV4375)","v":0},{"$f":"IF(AY4375=0,0,AZ4375/AY4375)","v":0},{"$f":"IF((AY4375+AX4375)=0,0,AX4375/(AX4375+AY4375))","v":0},null,null,null,null,null,null,null,null,null,null,null,null,null,null,null,null,null,null,null,null,null,null,null,null,null,null,null,null,null,null,null,null,null,null,null,null,null,null,null,null,null,{"$f":"((L4375=\"создание\")*7+(L4375=\"расширение\")*7 +(L4375=\"внедрение\")*7+(L4375=\"строительство\")*4+(L4375=\"реконструкция\")*3+(L4375=\"капремонт\")*2 +(L4375=\"приобретение\")*1+(L4375=\"установка\")*1)*10","v":0},null,{"$f":"IF(P4375=\"коммунальная инфраструктура\",(L4375=\"строительство\")*3+(L4375=\"реконструкция\")*2+(L4375=\"капремонт\")*1,0)*10","v":0},null,{"$f":"IF(P4375=\"коммунальная инфраструктура\",(L4375=\"строительство\")*4+(L4375=\"реконструкция\")*3+(L4375=\"капремонт\")*2,0)*10","v":0}]
[null,null,13,{"$f":"IF(AND(D4363<>\"\",G4376<>\"\"),D4363,\"\")","v":""},{"$f":"IF(AND(E4363<>\"\",G4376<>\"\"),E4363,\"\")","v":""},null,null,null,null,null,null,null,null,null,null,null,null,null,{"$f":"IF(Q4376>=2020,R4376-Q4376+1,\"\")","v":""},null,{"$f":"IF(Q4376>=2020,S4376*T4376,\"\")","v":""},null,null,null,null,null,null,null,null,null,null,null,null,{"$f":"SUM(AI4376:AL4376)","v":0},null,null,null,null,{"$f":"SUM(AN4376:AQ4376)","v":0},null,null,null,null,{"$f":"SUM(AS4376:AV4376)","v":0},null,null,null,null,null,null,{"$f":"SUM(AH4376,AM4376,AR4376)","v":0},{"$f":"SUM(AL4376,AQ4376,AV4376)","v":0},{"$f":"IF(AY4376=0,0,AZ4376/AY4376)","v":0},{"$f":"IF((AY4376+AX4376)=0,0,AX4376/(AX4376+AY4376))","v":0},null,null,null,null,null,null,null,null,null,null,null,null,null,null,null,null,null,null,null,null,null,null,null,null,null,null,null,null,null,null,null,null,null,null,null,null,null,null,null,null,null,{"$f":"((L4376=\"создание\")*7+(L4376=\"расширение\")*7 +(L4376=\"внедрение\")*7+(L4376=\"строительство\")*4+(L4376=\"реконструкция\")*3+(L4376=\"капремонт\")*2 +(L4376=\"приобретение\")*1+(L4376=\"установка\")*1)*10","v":0},null,{"$f":"IF(P4376=\"коммунальная инфраструктура\",(L4376=\"строительство\")*3+(L4376=\"реконструкция\")*2+(L4376=\"капремонт\")*1,0)*10","v":0},null,{"$f":"IF(P4376=\"коммунальная инфраструктура\",(L4376=\"строительство\")*4+(L4376=\"реконструкция\")*3+(L4376=\"капремонт\")*2,0)*10","v":0}]
[null,null,14,{"$f":"IF(AND(D4363<>\"\",G4377<>\"\"),D4363,\"\")","v":""},{"$f":"IF(AND(E4363<>\"\",G4377<>\"\"),E4363,\"\")","v":""},null,null,null,null,null,null,null,null,null,null,null,null,null,{"$f":"IF(Q4377>=2020,R4377-Q4377+1,\"\")","v":""},null,{"$f":"IF(Q4377>=2020,S4377*T4377,\"\")","v":""},null,null,null,null,null,null,null,null,null,null,null,null,{"$f":"SUM(AI4377:AL4377)","v":0},null,null,null,null,{"$f":"SUM(AN4377:AQ4377)","v":0},null,null,null,null,{"$f":"SUM(AS4377:AV4377)","v":0},null,null,null,null,null,null,{"$f":"SUM(AH4377,AM4377,AR4377)","v":0},{"$f":"SUM(AL4377,AQ4377,AV4377)","v":0},{"$f":"IF(AY4377=0,0,AZ4377/AY4377)","v":0},{"$f":"IF((AY4377+AX4377)=0,0,AX4377/(AX4377+AY4377))","v":0},null,null,null,null,null,null,null,null,null,null,null,null,null,null,null,null,null,null,null,null,null,null,null,null,null,null,null,null,null,null,null,null,null,null,null,null,null,null,null,null,null,{"$f":"((L4377=\"создание\")*7+(L4377=\"расширение\")*7 +(L4377=\"внедрение\")*7+(L4377=\"строительство\")*4+(L4377=\"реконструкция\")*3+(L4377=\"капремонт\")*2 +(L4377=\"приобретение\")*1+(L4377=\"установка\")*1)*10","v":0},null,{"$f":"IF(P4377=\"коммунальная инфраструктура\",(L4377=\"строительство\")*3+(L4377=\"реконструкция\")*2+(L4377=\"капремонт\")*1,0)*10","v":0},null,{"$f":"IF(P4377=\"коммунальная инфраструктура\",(L4377=\"строительство\")*4+(L4377=\"реконструкция\")*3+(L4377=\"капремонт\")*2,0)*10","v":0}]
[null,null,15,{"$f":"IF(AND(D4363<>\"\",G4378<>\"\"),D4363,\"\")","v":""},{"$f":"IF(AND(E4363<>\"\",G4378<>\"\"),E4363,\"\")","v":""},null,null,null,null,null,null,null,null,null,null,null,null,null,{"$f":"IF(Q4378>=2020,R4378-Q4378+1,\"\")","v":""},null,{"$f":"IF(Q4378>=2020,S4378*T4378,\"\")","v":""},null,null,null,null,null,null,null,null,null,null,null,null,{"$f":"SUM(AI4378:AL4378)","v":0},null,null,null,null,{"$f":"SUM(AN4378:AQ4378)","v":0},null,null,null,null,{"$f":"SUM(AS4378:AV4378)","v":0},null,null,null,null,null,null,{"$f":"SUM(AH4378,AM4378,AR4378)","v":0},{"$f":"SUM(AL4378,AQ4378,AV4378)","v":0},{"$f":"IF(AY4378=0,0,AZ4378/AY4378)","v":0},{"$f":"IF((AY4378+AX4378)=0,0,AX4378/(AX4378+AY4378))","v":0},null,null,null,null,null,null,null,null,null,null,null,null,null,null,null,null,null,null,null,null,null,null,null,null,null,null,null,null,null,null,null,null,null,null,null,null,null,null,null,null,null,{"$f":"((L4378=\"создание\")*7+(L4378=\"расширение\")*7 +(L4378=\"внедрение\")*7+(L4378=\"строительство\")*4+(L4378=\"реконструкция\")*3+(L4378=\"капремонт\")*2 +(L4378=\"приобретение\")*1+(L4378=\"установка\")*1)*10","v":0},null,{"$f":"IF(P4378=\"коммунальная инфраструктура\",(L4378=\"строительство\")*3+(L4378=\"реконструкция\")*2+(L4378=\"капремонт\")*1,0)*10","v":0},null,{"$f":"IF(P4378=\"коммунальная инфраструктура\",(L4378=\"строительство\")*4+(L4378=\"реконструкция\")*3+(L4378=\"капремонт\")*2,0)*10","v":0}]
[null,null,16,{"$f":"IF(AND(D4363<>\"\",G4379<>\"\"),D4363,\"\")","v":""},{"$f":"IF(AND(E4363<>\"\",G4379<>\"\"),E4363,\"\")","v":""},null,null,null,null,null,null,null,null,null,null,null,null,null,{"$f":"IF(Q4379>=2020,R4379-Q4379+1,\"\")","v":""},null,{"$f":"IF(Q4379>=2020,S4379*T4379,\"\")","v":""},null,null,null,null,null,null,null,null,null,null,null,null,{"$f":"SUM(AI4379:AL4379)","v":0},null,null,null,null,{"$f":"SUM(AN4379:AQ4379)","v":0},null,null,null,null,{"$f":"SUM(AS4379:AV4379)","v":0},null,null,null,null,null,null,{"$f":"SUM(AH4379,AM4379,AR4379)","v":0},{"$f":"SUM(AL4379,AQ4379,AV4379)","v":0},{"$f":"IF(AY4379=0,0,AZ4379/AY4379)","v":0},{"$f":"IF((AY4379+AX4379)=0,0,AX4379/(AX4379+AY4379))","v":0},null,null,null,null,null,null,null,null,null,null,null,null,null,null,null,null,null,null,null,null,null,null,null,null,null,null,null,null,null,null,null,null,null,null,null,null,null,null,null,null,null,{"$f":"((L4379=\"создание\")*7+(L4379=\"расширение\")*7 +(L4379=\"внедрение\")*7+(L4379=\"строительство\")*4+(L4379=\"реконструкция\")*3+(L4379=\"капремонт\")*2 +(L4379=\"приобретение\")*1+(L4379=\"установка\")*1)*10","v":0},null,{"$f":"IF(P4379=\"коммунальная инфраструктура\",(L4379=\"строительство\")*3+(L4379=\"реконструкция\")*2+(L4379=\"капремонт\")*1,0)*10","v":0},null,{"$f":"IF(P4379=\"коммунальная инфраструктура\",(L4379=\"строительство\")*4+(L4379=\"реконструкция\")*3+(L4379=\"капремонт\")*2,0)*10","v":0}]
[null,null,17,{"$f":"IF(AND(D4363<>\"\",G4380<>\"\"),D4363,\"\")","v":""},{"$f":"IF(AND(E4363<>\"\",G4380<>\"\"),E4363,\"\")","v":""},null,null,null,null,null,null,null,null,null,null,null,null,null,{"$f":"IF(Q4380>=2020,R4380-Q4380+1,\"\")","v":""},null,{"$f":"IF(Q4380>=2020,S4380*T4380,\"\")","v":""},null,null,null,null,null,null,null,null,null,null,null,null,{"$f":"SUM(AI4380:AL4380)","v":0},null,null,null,null,{"$f":"SUM(AN4380:AQ4380)","v":0},null,null,null,null,{"$f":"SUM(AS4380:AV4380)","v":0},null,null,null,null,null,null,{"$f":"SUM(AH4380,AM4380,AR4380)","v":0},{"$f":"SUM(AL4380,AQ4380,AV4380)","v":0},{"$f":"IF(AY4380=0,0,AZ4380/AY4380)","v":0},{"$f":"IF((AY4380+AX4380)=0,0,AX4380/(AX4380+AY4380))","v":0},null,null,null,null,null,null,null,null,null,null,null,null,null,null,null,null,null,null,null,null,null,null,null,null,null,null,null,null,null,null,null,null,null,null,null,null,null,null,null,null,null,{"$f":"((L4380=\"создание\")*7+(L4380=\"расширение\")*7 +(L4380=\"внедрение\")*7+(L4380=\"строительство\")*4+(L4380=\"реконструкция\")*3+(L4380=\"капремонт\")*2 +(L4380=\"приобретение\")*1+(L4380=\"установка\")*1)*10","v":0},null,{"$f":"IF(P4380=\"коммунальная инфраструктура\",(L4380=\"строительство\")*3+(L4380=\"реконструкция\")*2+(L4380=\"капремонт\")*1,0)*10","v":0},null,{"$f":"IF(P4380=\"коммунальная инфраструктура\",(L4380=\"строительство\")*4+(L4380=\"реконструкция\")*3+(L4380=\"капремонт\")*2,0)*10","v":0}]
[null,null,18,{"$f":"IF(AND(D4363<>\"\",G4381<>\"\"),D4363,\"\")","v":""},{"$f":"IF(AND(E4363<>\"\",G4381<>\"\"),E4363,\"\")","v":""},null,null,null,null,null,null,null,null,null,null,null,null,null,{"$f":"IF(Q4381>=2020,R4381-Q4381+1,\"\")","v":""},null,{"$f":"IF(Q4381>=2020,S4381*T4381,\"\")","v":""},null,null,null,null,null,null,null,null,null,null,null,null,{"$f":"SUM(AI4381:AL4381)","v":0},null,null,null,null,{"$f":"SUM(AN4381:AQ4381)","v":0},null,null,null,null,{"$f":"SUM(AS4381:AV4381)","v":0},null,null,null,null,null,null,{"$f":"SUM(AH4381,AM4381,AR4381)","v":0},{"$f":"SUM(AL4381,AQ4381,AV4381)","v":0},{"$f":"IF(AY4381=0,0,AZ4381/AY4381)","v":0},{"$f":"IF((AY4381+AX4381)=0,0,AX4381/(AX4381+AY4381))","v":0},null,null,null,null,null,null,null,null,null,null,null,null,null,null,null,null,null,null,null,null,null,null,null,null,null,null,null,null,null,null,null,null,null,null,null,null,null,null,null,null,null,{"$f":"((L4381=\"создание\")*7+(L4381=\"расширение\")*7 +(L4381=\"внедрение\")*7+(L4381=\"строительство\")*4+(L4381=\"реконструкция\")*3+(L4381=\"капремонт\")*2 +(L4381=\"приобретение\")*1+(L4381=\"установка\")*1)*10","v":0},null,{"$f":"IF(P4381=\"коммунальная инфраструктура\",(L4381=\"строительство\")*3+(L4381=\"реконструкция\")*2+(L4381=\"капремонт\")*1,0)*10","v":0},null,{"$f":"IF(P4381=\"коммунальная инфраструктура\",(L4381=\"строительство\")*4+(L4381=\"реконструкция\")*3+(L4381=\"капремонт\")*2,0)*10","v":0}]
[null,null,19,{"$f":"IF(AND(D4363<>\"\",G4382<>\"\"),D4363,\"\")","v":""},{"$f":"IF(AND(E4363<>\"\",G4382<>\"\"),E4363,\"\")","v":""},null,null,null,null,null,null,null,null,null,null,null,null,null,{"$f":"IF(Q4382>=2020,R4382-Q4382+1,\"\")","v":""},null,{"$f":"IF(Q4382>=2020,S4382*T4382,\"\")","v":""},null,null,null,null,null,null,null,null,null,null,null,null,{"$f":"SUM(AI4382:AL4382)","v":0},null,null,null,null,{"$f":"SUM(AN4382:AQ4382)","v":0},null,null,null,null,{"$f":"SUM(AS4382:AV4382)","v":0},null,null,null,null,null,null,{"$f":"SUM(AH4382,AM4382,AR4382)","v":0},{"$f":"SUM(AL4382,AQ4382,AV4382)","v":0},{"$f":"IF(AY4382=0,0,AZ4382/AY4382)","v":0},{"$f":"IF((AY4382+AX4382)=0,0,AX4382/(AX4382+AY4382))","v":0},null,null,null,null,null,null,null,null,null,null,null,null,null,null,null,null,null,null,null,null,null,null,null,null,null,null,null,null,null,null,null,null,null,null,null,null,null,null,null,null,null,{"$f":"((L4382=\"создание\")*7+(L4382=\"расширение\")*7 +(L4382=\"внедрение\")*7+(L4382=\"строительство\")*4+(L4382=\"реконструкция\")*3+(L4382=\"капремонт\")*2 +(L4382=\"приобретение\")*1+(L4382=\"установка\")*1)*10","v":0},null,{"$f":"IF(P4382=\"коммунальная инфраструктура\",(L4382=\"строительство\")*3+(L4382=\"реконструкция\")*2+(L4382=\"капремонт\")*1,0)*10","v":0},null,{"$f":"IF(P4382=\"коммунальная инфраструктура\",(L4382=\"строительство\")*4+(L4382=\"реконструкция\")*3+(L4382=\"капремонт\")*2,0)*10","v":0}]
[null,null,20,{"$f":"IF(AND(D4363<>\"\",G4383<>\"\"),D4363,\"\")","v":""},{"$f":"IF(AND(E4363<>\"\",G4383<>\"\"),E4363,\"\")","v":""},null,null,null,null,null,null,null,null,null,null,null,null,null,{"$f":"IF(Q4383>=2020,R4383-Q4383+1,\"\")","v":""},null,{"$f":"IF(Q4383>=2020,S4383*T4383,\"\")","v":""},null,null,null,null,null,null,null,null,null,null,null,null,{"$f":"SUM(AI4383:AL4383)","v":0},null,null,null,null,{"$f":"SUM(AN4383:AQ4383)","v":0},null,null,null,null,{"$f":"SUM(AS4383:AV4383)","v":0},null,null,null,null,null,null,{"$f":"SUM(AH4383,AM4383,AR4383)","v":0},{"$f":"SUM(AL4383,AQ4383,AV4383)","v":0},{"$f":"IF(AY4383=0,0,AZ4383/AY4383)","v":0},{"$f":"IF((AY4383+AX4383)=0,0,AX4383/(AX4383+AY4383))","v":0},null,null,null,null,null,null,null,null,null,null,null,null,null,null,null,null,null,null,null,null,null,null,null,null,null,null,null,null,null,null,null,null,null,null,null,null,null,null,null,null,null,{"$f":"((L4383=\"создание\")*7+(L4383=\"расширение\")*7 +(L4383=\"внедрение\")*7+(L4383=\"строительство\")*4+(L4383=\"реконструкция\")*3+(L4383=\"капремонт\")*2 +(L4383=\"приобретение\")*1+(L4383=\"установка\")*1)*10","v":0},null,{"$f":"IF(P4383=\"коммунальная инфраструктура\",(L4383=\"строительство\")*3+(L4383=\"реконструкция\")*2+(L4383=\"капремонт\")*1,0)*10","v":0},null,{"$f":"IF(P4383=\"коммунальная инфраструктура\",(L4383=\"строительство\")*4+(L4383=\"реконструкция\")*3+(L4383=\"капремонт\")*2,0)*10","v":0}]
[null,null,"…",{"$f":"IF(AND(D4363<>\"\",G4384<>\"\"),D4363,\"\")","v":""},{"$f":"IF(AND(E4363<>\"\",G4384<>\"\"),E4363,\"\")","v":""},null,null,null,null,null,null,null,null,null,null,null,null,null,{"$f":"IF(Q4384>=2020,R4384-Q4384+1,\"\")","v":""},null,{"$f":"IF(Q4384>=2020,S4384*T4384,\"\")","v":""},null,null,null,null,null,null,null,null,null,null,null,null,{"$f":"SUM(AI4384:AL4384)","v":0},null,null,null,null,{"$f":"SUM(AN4384:AQ4384)","v":0},null,null,null,null,{"$f":"SUM(AS4384:AV4384)","v":0},null,null,null,null,null,null,{"$f":"SUM(AH4384,AM4384,AR4384)","v":0},{"$f":"SUM(AL4384,AQ4384,AV4384)","v":0},{"$f":"IF(AY4384=0,0,AZ4384/AY4384)","v":0},{"$f":"IF((AY4384+AX4384)=0,0,AX4384/(AX4384+AY4384))","v":0},null,null,null,null,null,null,null,null,null,null,null,null,null,null,null,null,null,null,null,null,null,null,null,null,null,null,null,null,null,null,null,null,null,null,null,null,null,null,null,null,null,{"$f":"((L4384=\"создание\")*7+(L4384=\"расширение\")*7 +(L4384=\"внедрение\")*7+(L4384=\"строительство\")*4+(L4384=\"реконструкция\")*3+(L4384=\"капремонт\")*2 +(L4384=\"приобретение\")*1+(L4384=\"установка\")*1)*10","v":0},null,{"$f":"IF(P4384=\"коммунальная инфраструктура\",(L4384=\"строительство\")*3+(L4384=\"реконструкция\")*2+(L4384=\"капремонт\")*1,0)*10","v":0},null,{"$f":"IF(P4384=\"коммунальная инфраструктура\",(L4384=\"строительство\")*4+(L4384=\"реконструкция\")*3+(L4384=\"капремонт\")*2,0)*10","v":0}]
[200,null,{"$f":"COUNTA(G4386:G4406)","v":0},null,null,null,null,null,null,null,null,null,null,null,null,null,{"$f":"MIN(Q4386:Q4406)","v":0},{"$f":"MAX(R4386:R4406)","v":0},{"$f":"MAX(S4386:S4406)","v":0},null,{"$f":"MAX(U4386:U4406)","v":0},null,null,null,null,null,{"$f":"IF(COUNTIF(AA4386:AA4406,\"НЕТ\")>0,\"ПД!\",\"ок\")","v":"ок"},null,{"$f":"IF(COUNTIF(AC4386:AC4406,\"НЕТ\")>0,\"ДОСМ!\",\"ок\")","v":"ок"},null,{"$f":"IF(COUNTIF(AE4386:AE4406,\"НЕТ\")>0,\"ФОИВ!\",\"ок\")","v":"ок"},{"$f":"IF(COUNTIF(AF4386:AF4406,\"НЕТ\")>0,\"ФОИВ!\",\"ок\")","v":"ок"},null,{"$f":"SUM(AH4386:AH4406)","v":0},{"$f":"SUM(AI4386:AI4406)","v":0},{"$f":"SUM(AJ4386:AJ4406)","v":0},{"$f":"SUM(AK4386:AK4406)","v":0},{"$f":"SUM(AL4386:AL4406)","v":0},{"$f":"SUM(AM4386:AM4406)","v":0},{"$f":"SUM(AN4386:AN4406)","v":0},{"$f":"SUM(AO4386:AO4406)","v":0},{"$f":"SUM(AP4386:AP4406)","v":0},{"$f":"SUM(AQ4386:AQ4406)","v":0},{"$f":"SUM(AR4386:AR4406)","v":0},{"$f":"SUM(AS4386:AS4406)","v":0},{"$f":"SUM(AT4386:AT4406)","v":0},{"$f":"SUM(AU4386:AU4406)","v":0},{"$f":"SUM(AV4386:AV4406)","v":0},{"$f":"SUM(AW4386:AW4406)","v":0},{"$f":"SUM(AX4386:AX4406)","v":0},{"$f":"SUM(AH4385,AM4385,AR4385)","v":0},{"$f":"AL4385+AQ4385+AV4385","v":0},{"$f":"IF(AY4385=0,0,AZ4385/AY4385)","v":0},{"$f":"IF((AY4385+AX4385)=0,0,AX4385/(AX4385+AY4385))","v":0},null,null,{"$f":"IFERROR(BD4385/BC4385,0)","v":0},null,null,{"$f":"IFERROR(BG4385/BF4385,0)","v":0},null,null,{"$f":"IFERROR(BJ4385/BI4385,0)","v":0},null,null,null,{"$f":"(SUM(BL4385:BN4385)>0)*1+(SUM(BL4385:BN4385)>=10)*1+(SUM(BL4385:BN4385)>=50)*1+(SUM(BL4385:BN4385)>=100)*1+(SUM(BL4385:BN4385)>=200)*1+(SUM(BL4385:BN4385)>=300)*1","v":0},{"$f":"IFERROR(SUM(BL4385:BN4385)/BC4385,0)","v":0},null,null,{"$f":"IFERROR(BQ4385/BR4385,0)","v":0},{"$f":"IF(BA4385<0.01,0,IF(BA4385>=0.1,10,ROUNDDOWN(BA4385/0.01,0)))","v":0},8,{"$f":"BT4385*BU4385","v":0},{"$f":"IF(BB4385<0.01,0,IF(BB4385>=0.1,10,ROUNDDOWN(BB4385/0.01,0)))","v":0},8,{"$f":"BW4385*BX4385","v":0},{"$f":"IF(U4385<=1,9,IF(U4385<=2,6,IF(U4385<=3,3,0)))*(C4385>0)","v":0},6,{"$f":"BZ4385*CA4385","v":0},{"$f":"IF(BH4385<0.51,0,10)","v":0},7,{"$f":"CC4385*CD4385","v":0},{"$f":"IF(BE4385<0.1,0,IF(BE4385>=0.9,10,ROUNDDOWN(BE4385/0.1,0)))","v":0},10,{"$f":"CF4385*CG4385","v":0},{"$f":"IF(BK4385<0.1,0,IF(BK4385>=0.6,10,ROUNDDOWN(BK4385/0.1,0)))","v":0},8,{"$f":"CI4385*CJ4385","v":0},{"$f":"IF(BP4385<0.05,0,IF(BP4385>=0.1,10,1))","v":0},10,{"$f":"CL4385*CM4385","v":0},{"$f":"IF(BS4385<0.1,0,IF(BS4385>=0.8,10,ROUNDDOWN(BS4385/0.1,0)))","v":0},10,{"$f":"CP4385*CO4385","v":0},{"$f":"ROUND(IF(C4385=0,0,SUM(CR4386:CR4406)/C4385),1)","v":0},{"$f":"((SUM(BL4385:BN4385)>=1)*1+(SUM(BL4385:BN4385)>=11)*1+(SUM(BL4385:BN4385)>=51)*3+(SUM(BL4385:BN4385)>=101)*2+(SUM(BL4385:BN4385)>=201)*2+(SUM(BL4385:BN4385)>=301)*4)*10","v":0},{"$f":"IFERROR(ROUND(SUM(CT4386:CT4406)/COUNTIF(P4386:P4406,\"коммунальная инфраструктура\"),1),0)","v":0},{"$f":"CS4385+CT4385","v":0},{"$f":"IFERROR(ROUND(SUM(CV4386:CV4406)/COUNTIF(P4386:P4406,\"коммунальная инфраструктура\"),1),0)","v":0},{"$f":"SUM(BV4385,BY4385,CB4385,CE4385,CH4385,CK4385,CN4385,CQ4385,CR4385,CU4385,CV4385)","v":0},{"$f":"VLOOKUP(D4385,РегионыФО,2,0)","v":{"$error":"#N/A"}}]
[null,null,1,{"$f":"IF(AND(D4385<>\"\",G4386<>\"\"),D4385,\"\")","v":""},{"$f":"IF(AND(E4385<>\"\",G4386<>\"\"),E4385,\"\")","v":""},null,null,null,null,null,null,null,null,null,null,null,null,null,{"$f":"IF(Q4386>=2020,R4386-Q4386+1,\"\")","v":""},null,{"$f":"IF(Q4386>=2020,ROUNDUP(S4386*T4386,0),\"\")","v":""},null,null,null,null,null,null,null,null,null,null,null,null,{"$f":"SUM(AI4386:AL4386)","v":0},null,null,null,null,{"$f":"SUM(AN4386:AQ4386)","v":0},null,null,null,null,{"$f":"SUM(AS4386:AV4386)","v":0},null,null,null,null,null,null,{"$f":"SUM(AH4386,AM4386,AR4386)","v":0},{"$f":"SUM(AL4386,AQ4386,AV4386)","v":0},{"$f":"IF(AY4386=0,0,AZ4386/AY4386)","v":0},{"$f":"IF((AY4386+AX4386)=0,0,AX4386/(AX4386+AY4386))","v":0},null,null,null,null,null,null,null,null,null,null,null,null,null,null,null,null,null,null,null,null,null,null,null,null,null,null,null,null,null,null,null,null,null,null,null,null,null,null,null,null,null,{"$f":"((L4386=\"создание\")*7+(L4386=\"расширение\")*7 +(L4386=\"внедрение\")*7+(L4386=\"строительство\")*4+(L4386=\"реконструкция\")*3+(L4386=\"капремонт\")*2 +(L4386=\"приобретение\")*1+(L4386=\"установка\")*1)*10","v":0},null,{"$f":"IF(P4386=\"коммунальная инфраструктура\",(L4386=\"строительство\")*3+(L4386=\"реконструкция\")*2+(L4386=\"капремонт\")*1,0)*10","v":0},null,{"$f":"IF(P4386=\"коммунальная инфраструктура\",(L4386=\"строительство\")*4+(L4386=\"реконструкция\")*3+(L4386=\"капремонт\")*2,0)*10","v":0}]
[null,null,2,{"$f":"IF(AND(D4385<>\"\",G4387<>\"\"),D4385,\"\")","v":""},{"$f":"IF(AND(E4385<>\"\",G4387<>\"\"),E4385,\"\")","v":""},null,null,null,null,null,null,null,null,null,null,null,null,null,{"$f":"IF(Q4387>=2020,R4387-Q4387+1,\"\")","v":""},null,{"$f":"IF(Q4387>=2020,S4387*T4387,\"\")","v":""},null,null,null,null,null,null,null,null,null,null,null,null,{"$f":"SUM(AI4387:AL4387)","v":0},null,null,null,null,{"$f":"SUM(AN4387:AQ4387)","v":0},null,null,null,null,{"$f":"SUM(AS4387:AV4387)","v":0},null,null,null,null,null,null,{"$f":"SUM(AH4387,AM4387,AR4387)","v":0},{"$f":"SUM(AL4387,AQ4387,AV4387)","v":0},{"$f":"IF(AY4387=0,0,AZ4387/AY4387)","v":0},{"$f":"IF((AY4387+AX4387)=0,0,AX4387/(AX4387+AY4387))","v":0},null,null,null,null,null,null,null,null,null,null,null,null,null,null,null,null,null,null,null,null,null,null,null,null,null,null,null,null,null,null,null,null,null,null,null,null,null,null,null,null,null,{"$f":"((L4387=\"создание\")*7+(L4387=\"расширение\")*7 +(L4387=\"внедрение\")*7+(L4387=\"строительство\")*4+(L4387=\"реконструкция\")*3+(L4387=\"капремонт\")*2 +(L4387=\"приобретение\")*1+(L4387=\"установка\")*1)*10","v":0},null,{"$f":"IF(P4387=\"коммунальная инфраструктура\",(L4387=\"строительство\")*3+(L4387=\"реконструкция\")*2+(L4387=\"капремонт\")*1,0)*10","v":0},null,{"$f":"IF(P4387=\"коммунальная инфраструктура\",(L4387=\"строительство\")*4+(L4387=\"реконструкция\")*3+(L4387=\"капремонт\")*2,0)*10","v":0}]
[null,null,3,{"$f":"IF(AND(D4385<>\"\",G4388<>\"\"),D4385,\"\")","v":""},{"$f":"IF(AND(E4385<>\"\",G4388<>\"\"),E4385,\"\")","v":""},null,null,null,null,null,null,null,null,null,null,null,null,null,{"$f":"IF(Q4388>=2020,R4388-Q4388+1,\"\")","v":""},null,{"$f":"IF(Q4388>=2020,S4388*T4388,\"\")","v":""},null,null,null,null,null,null,null,null,null,null,null,null,{"$f":"SUM(AI4388:AL4388)","v":0},null,null,null,null,{"$f":"SUM(AN4388:AQ4388)","v":0},null,null,null,null,{"$f":"SUM(AS4388:AV4388)","v":0},null,null,null,null,null,null,{"$f":"SUM(AH4388,AM4388,AR4388)","v":0},{"$f":"SUM(AL4388,AQ4388,AV4388)","v":0},{"$f":"IF(AY4388=0,0,AZ4388/AY4388)","v":0},{"$f":"IF((AY4388+AX4388)=0,0,AX4388/(AX4388+AY4388))","v":0},null,null,null,null,null,null,null,null,null,null,null,null,null,null,null,null,null,null,null,null,null,null,null,null,null,null,null,null,null,null,null,null,null,null,null,null,null,null,null,null,null,{"$f":"((L4388=\"создание\")*7+(L4388=\"расширение\")*7 +(L4388=\"внедрение\")*7+(L4388=\"строительство\")*4+(L4388=\"реконструкция\")*3+(L4388=\"капремонт\")*2 +(L4388=\"приобретение\")*1+(L4388=\"установка\")*1)*10","v":0},null,{"$f":"IF(P4388=\"коммунальная инфраструктура\",(L4388=\"строительство\")*3+(L4388=\"реконструкция\")*2+(L4388=\"капремонт\")*1,0)*10","v":0},null,{"$f":"IF(P4388=\"коммунальная инфраструктура\",(L4388=\"строительство\")*4+(L4388=\"реконструкция\")*3+(L4388=\"капремонт\")*2,0)*10","v":0}]
[null,null,4,{"$f":"IF(AND(D4385<>\"\",G4389<>\"\"),D4385,\"\")","v":""},{"$f":"IF(AND(E4385<>\"\",G4389<>\"\"),E4385,\"\")","v":""},null,null,null,null,null,null,null,null,null,null,null,null,null,{"$f":"IF(Q4389>=2020,R4389-Q4389+1,\"\")","v":""},null,{"$f":"IF(Q4389>=2020,S4389*T4389,\"\")","v":""},null,null,null,null,null,null,null,null,null,null,null,null,{"$f":"SUM(AI4389:AL4389)","v":0},null,null,null,null,{"$f":"SUM(AN4389:AQ4389)","v":0},null,null,null,null,{"$f":"SUM(AS4389:AV4389)","v":0},null,null,null,null,null,null,{"$f":"SUM(AH4389,AM4389,AR4389)","v":0},{"$f":"SUM(AL4389,AQ4389,AV4389)","v":0},{"$f":"IF(AY4389=0,0,AZ4389/AY4389)","v":0},{"$f":"IF((AY4389+AX4389)=0,0,AX4389/(AX4389+AY4389))","v":0},null,null,null,null,null,null,null,null,null,null,null,null,null,null,null,null,null,null,null,null,null,null,null,null,null,null,null,null,null,null,null,null,null,null,null,null,null,null,null,null,null,{"$f":"((L4389=\"создание\")*7+(L4389=\"расширение\")*7 +(L4389=\"внедрение\")*7+(L4389=\"строительство\")*4+(L4389=\"реконструкция\")*3+(L4389=\"капремонт\")*2 +(L4389=\"приобретение\")*1+(L4389=\"установка\")*1)*10","v":0},null,{"$f":"IF(P4389=\"коммунальная инфраструктура\",(L4389=\"строительство\")*3+(L4389=\"реконструкция\")*2+(L4389=\"капремонт\")*1,0)*10","v":0},null,{"$f":"IF(P4389=\"коммунальная инфраструктура\",(L4389=\"строительство\")*4+(L4389=\"реконструкция\")*3+(L4389=\"капремонт\")*2,0)*10","v":0}]
[null,null,5,{"$f":"IF(AND(D4385<>\"\",G4390<>\"\"),D4385,\"\")","v":""},{"$f":"IF(AND(E4385<>\"\",G4390<>\"\"),E4385,\"\")","v":""},null,null,null,null,null,null,null,null,null,null,null,null,null,{"$f":"IF(Q4390>=2020,R4390-Q4390+1,\"\")","v":""},null,{"$f":"IF(Q4390>=2020,S4390*T4390,\"\")","v":""},null,null,null,null,null,null,null,null,null,null,null,null,{"$f":"SUM(AI4390:AL4390)","v":0},null,null,null,null,{"$f":"SUM(AN4390:AQ4390)","v":0},null,null,null,null,{"$f":"SUM(AS4390:AV4390)","v":0},null,null,null,null,null,null,{"$f":"SUM(AH4390,AM4390,AR4390)","v":0},{"$f":"SUM(AL4390,AQ4390,AV4390)","v":0},{"$f":"IF(AY4390=0,0,AZ4390/AY4390)","v":0},{"$f":"IF((AY4390+AX4390)=0,0,AX4390/(AX4390+AY4390))","v":0},null,null,null,null,null,null,null,null,null,null,null,null,null,null,null,null,null,null,null,null,null,null,null,null,null,null,null,null,null,null,null,null,null,null,null,null,null,null,null,null,null,{"$f":"((L4390=\"создание\")*7+(L4390=\"расширение\")*7 +(L4390=\"внедрение\")*7+(L4390=\"строительство\")*4+(L4390=\"реконструкция\")*3+(L4390=\"капремонт\")*2 +(L4390=\"приобретение\")*1+(L4390=\"установка\")*1)*10","v":0},null,{"$f":"IF(P4390=\"коммунальная инфраструктура\",(L4390=\"строительство\")*3+(L4390=\"реконструкция\")*2+(L4390=\"капремонт\")*1,0)*10","v":0},null,{"$f":"IF(P4390=\"коммунальная инфраструктура\",(L4390=\"строительство\")*4+(L4390=\"реконструкция\")*3+(L4390=\"капремонт\")*2,0)*10","v":0}]
[null,null,6,{"$f":"IF(AND(D4385<>\"\",G4391<>\"\"),D4385,\"\")","v":""},{"$f":"IF(AND(E4385<>\"\",G4391<>\"\"),E4385,\"\")","v":""},null,null,null,null,null,null,null,null,null,null,null,null,null,{"$f":"IF(Q4391>=2020,R4391-Q4391+1,\"\")","v":""},null,{"$f":"IF(Q4391>=2020,S4391*T4391,\"\")","v":""},null,null,null,null,null,null,null,null,null,null,null,null,{"$f":"SUM(AI4391:AL4391)","v":0},null,null,null,null,{"$f":"SUM(AN4391:AQ4391)","v":0},null,null,null,null,{"$f":"SUM(AS4391:AV4391)","v":0},null,null,null,null,null,null,{"$f":"SUM(AH4391,AM4391,AR4391)","v":0},{"$f":"SUM(AL4391,AQ4391,AV4391)","v":0},{"$f":"IF(AY4391=0,0,AZ4391/AY4391)","v":0},{"$f":"IF((AY4391+AX4391)=0,0,AX4391/(AX4391+AY4391))","v":0},null,null,null,null,null,null,null,null,null,null,null,null,null,null,null,null,null,null,null,null,null,null,null,null,null,null,null,null,null,null,null,null,null,null,null,null,null,null,null,null,null,{"$f":"((L4391=\"создание\")*7+(L4391=\"расширение\")*7 +(L4391=\"внедрение\")*7+(L4391=\"строительство\")*4+(L4391=\"реконструкция\")*3+(L4391=\"капремонт\")*2 +(L4391=\"приобретение\")*1+(L4391=\"установка\")*1)*10","v":0},null,{"$f":"IF(P4391=\"коммунальная инфраструктура\",(L4391=\"строительство\")*3+(L4391=\"реконструкция\")*2+(L4391=\"капремонт\")*1,0)*10","v":0},null,{"$f":"IF(P4391=\"коммунальная инфраструктура\",(L4391=\"строительство\")*4+(L4391=\"реконструкция\")*3+(L4391=\"капремонт\")*2,0)*10","v":0}]
[null,null,7,{"$f":"IF(AND(D4385<>\"\",G4392<>\"\"),D4385,\"\")","v":""},{"$f":"IF(AND(E4385<>\"\",G4392<>\"\"),E4385,\"\")","v":""},null,null,null,null,null,null,null,null,null,null,null,null,null,{"$f":"IF(Q4392>=2020,R4392-Q4392+1,\"\")","v":""},null,{"$f":"IF(Q4392>=2020,S4392*T4392,\"\")","v":""},null,null,null,null,null,null,null,null,null,null,null,null,{"$f":"SUM(AI4392:AL4392)","v":0},null,null,null,null,{"$f":"SUM(AN4392:AQ4392)","v":0},null,null,null,null,{"$f":"SUM(AS4392:AV4392)","v":0},null,null,null,null,null,null,{"$f":"SUM(AH4392,AM4392,AR4392)","v":0},{"$f":"SUM(AL4392,AQ4392,AV4392)","v":0},{"$f":"IF(AY4392=0,0,AZ4392/AY4392)","v":0},{"$f":"IF((AY4392+AX4392)=0,0,AX4392/(AX4392+AY4392))","v":0},null,null,null,null,null,null,null,null,null,null,null,null,null,null,null,null,null,null,null,null,null,null,null,null,null,null,null,null,null,null,null,null,null,null,null,null,null,null,null,null,null,{"$f":"((L4392=\"создание\")*7+(L4392=\"расширение\")*7 +(L4392=\"внедрение\")*7+(L4392=\"строительство\")*4+(L4392=\"реконструкция\")*3+(L4392=\"капремонт\")*2 +(L4392=\"приобретение\")*1+(L4392=\"установка\")*1)*10","v":0},null,{"$f":"IF(P4392=\"коммунальная инфраструктура\",(L4392=\"строительство\")*3+(L4392=\"реконструкция\")*2+(L4392=\"капремонт\")*1,0)*10","v":0},null,{"$f":"IF(P4392=\"коммунальная инфраструктура\",(L4392=\"строительство\")*4+(L4392=\"реконструкция\")*3+(L4392=\"капремонт\")*2,0)*10","v":0}]
[null,null,8,{"$f":"IF(AND(D4385<>\"\",G4393<>\"\"),D4385,\"\")","v":""},{"$f":"IF(AND(E4385<>\"\",G4393<>\"\"),E4385,\"\")","v":""},null,null,null,null,null,null,null,null,null,null,null,null,null,{"$f":"IF(Q4393>=2020,R4393-Q4393+1,\"\")","v":""},null,{"$f":"IF(Q4393>=2020,S4393*T4393,\"\")","v":""},null,null,null,null,null,null,null,null,null,null,null,null,{"$f":"SUM(AI4393:AL4393)","v":0},null,null,null,null,{"$f":"SUM(AN4393:AQ4393)","v":0},null,null,null,null,{"$f":"SUM(AS4393:AV4393)","v":0},null,null,null,null,null,null,{"$f":"SUM(AH4393,AM4393,AR4393)","v":0},{"$f":"SUM(AL4393,AQ4393,AV4393)","v":0},{"$f":"IF(AY4393=0,0,AZ4393/AY4393)","v":0},{"$f":"IF((AY4393+AX4393)=0,0,AX4393/(AX4393+AY4393))","v":0},null,null,null,null,null,null,null,null,null,null,null,null,null,null,null,null,null,null,null,null,null,null,null,null,null,null,null,null,null,null,null,null,null,null,null,null,null,null,null,null,null,{"$f":"((L4393=\"создание\")*7+(L4393=\"расширение\")*7 +(L4393=\"внедрение\")*7+(L4393=\"строительство\")*4+(L4393=\"реконструкция\")*3+(L4393=\"капремонт\")*2 +(L4393=\"приобретение\")*1+(L4393=\"установка\")*1)*10","v":0},null,{"$f":"IF(P4393=\"коммунальная инфраструктура\",(L4393=\"строительство\")*3+(L4393=\"реконструкция\")*2+(L4393=\"капремонт\")*1,0)*10","v":0},null,{"$f":"IF(P4393=\"коммунальная инфраструктура\",(L4393=\"строительство\")*4+(L4393=\"реконструкция\")*3+(L4393=\"капремонт\")*2,0)*10","v":0}]
[null,null,9,{"$f":"IF(AND(D4385<>\"\",G4394<>\"\"),D4385,\"\")","v":""},{"$f":"IF(AND(E4385<>\"\",G4394<>\"\"),E4385,\"\")","v":""},null,null,null,null,null,null,null,null,null,null,null,null,null,{"$f":"IF(Q4394>=2020,R4394-Q4394+1,\"\")","v":""},null,{"$f":"IF(Q4394>=2020,S4394*T4394,\"\")","v":""},null,null,null,null,null,null,null,null,null,null,null,null,{"$f":"SUM(AI4394:AL4394)","v":0},null,null,null,null,{"$f":"SUM(AN4394:AQ4394)","v":0},null,null,null,null,{"$f":"SUM(AS4394:AV4394)","v":0},null,null,null,null,null,null,{"$f":"SUM(AH4394,AM4394,AR4394)","v":0},{"$f":"SUM(AL4394,AQ4394,AV4394)","v":0},{"$f":"IF(AY4394=0,0,AZ4394/AY4394)","v":0},{"$f":"IF((AY4394+AX4394)=0,0,AX4394/(AX4394+AY4394))","v":0},null,null,null,null,null,null,null,null,null,null,null,null,null,null,null,null,null,null,null,null,null,null,null,null,null,null,null,null,null,null,null,null,null,null,null,null,null,null,null,null,null,{"$f":"((L4394=\"создание\")*7+(L4394=\"расширение\")*7 +(L4394=\"внедрение\")*7+(L4394=\"строительство\")*4+(L4394=\"реконструкция\")*3+(L4394=\"капремонт\")*2 +(L4394=\"приобретение\")*1+(L4394=\"установка\")*1)*10","v":0},null,{"$f":"IF(P4394=\"коммунальная инфраструктура\",(L4394=\"строительство\")*3+(L4394=\"реконструкция\")*2+(L4394=\"капремонт\")*1,0)*10","v":0},null,{"$f":"IF(P4394=\"коммунальная инфраструктура\",(L4394=\"строительство\")*4+(L4394=\"реконструкция\")*3+(L4394=\"капремонт\")*2,0)*10","v":0}]
[null,null,10,{"$f":"IF(AND(D4385<>\"\",G4395<>\"\"),D4385,\"\")","v":""},{"$f":"IF(AND(E4385<>\"\",G4395<>\"\"),E4385,\"\")","v":""},null,null,null,null,null,null,null,null,null,null,null,null,null,{"$f":"IF(Q4395>=2020,R4395-Q4395+1,\"\")","v":""},null,{"$f":"IF(Q4395>=2020,S4395*T4395,\"\")","v":""},null,null,null,null,null,null,null,null,null,null,null,null,{"$f":"SUM(AI4395:AL4395)","v":0},null,null,null,null,{"$f":"SUM(AN4395:AQ4395)","v":0},null,null,null,null,{"$f":"SUM(AS4395:AV4395)","v":0},null,null,null,null,null,null,{"$f":"SUM(AH4395,AM4395,AR4395)","v":0},{"$f":"SUM(AL4395,AQ4395,AV4395)","v":0},{"$f":"IF(AY4395=0,0,AZ4395/AY4395)","v":0},{"$f":"IF((AY4395+AX4395)=0,0,AX4395/(AX4395+AY4395))","v":0},null,null,null,null,null,null,null,null,null,null,null,null,null,null,null,null,null,null,null,null,null,null,null,null,null,null,null,null,null,null,null,null,null,null,null,null,null,null,null,null,null,{"$f":"((L4395=\"создание\")*7+(L4395=\"расширение\")*7 +(L4395=\"внедрение\")*7+(L4395=\"строительство\")*4+(L4395=\"реконструкция\")*3+(L4395=\"капремонт\")*2 +(L4395=\"приобретение\")*1+(L4395=\"установка\")*1)*10","v":0},null,{"$f":"IF(P4395=\"коммунальная инфраструктура\",(L4395=\"строительство\")*3+(L4395=\"реконструкция\")*2+(L4395=\"капремонт\")*1,0)*10","v":0},null,{"$f":"IF(P4395=\"коммунальная инфраструктура\",(L4395=\"строительство\")*4+(L4395=\"реконструкция\")*3+(L4395=\"капремонт\")*2,0)*10","v":0}]
[null,null,11,{"$f":"IF(AND(D4385<>\"\",G4396<>\"\"),D4385,\"\")","v":""},{"$f":"IF(AND(E4385<>\"\",G4396<>\"\"),E4385,\"\")","v":""},null,null,null,null,null,null,null,null,null,null,null,null,null,{"$f":"IF(Q4396>=2020,R4396-Q4396+1,\"\")","v":""},null,{"$f":"IF(Q4396>=2020,S4396*T4396,\"\")","v":""},null,null,null,null,null,null,null,null,null,null,null,null,{"$f":"SUM(AI4396:AL4396)","v":0},null,null,null,null,{"$f":"SUM(AN4396:AQ4396)","v":0},null,null,null,null,{"$f":"SUM(AS4396:AV4396)","v":0},null,null,null,null,null,null,{"$f":"SUM(AH4396,AM4396,AR4396)","v":0},{"$f":"SUM(AL4396,AQ4396,AV4396)","v":0},{"$f":"IF(AY4396=0,0,AZ4396/AY4396)","v":0},{"$f":"IF((AY4396+AX4396)=0,0,AX4396/(AX4396+AY4396))","v":0},null,null,null,null,null,null,null,null,null,null,null,null,null,null,null,null,null,null,null,null,null,null,null,null,null,null,null,null,null,null,null,null,null,null,null,null,null,null,null,null,null,{"$f":"((L4396=\"создание\")*7+(L4396=\"расширение\")*7 +(L4396=\"внедрение\")*7+(L4396=\"строительство\")*4+(L4396=\"реконструкция\")*3+(L4396=\"капремонт\")*2 +(L4396=\"приобретение\")*1+(L4396=\"установка\")*1)*10","v":0},null,{"$f":"IF(P4396=\"коммунальная инфраструктура\",(L4396=\"строительство\")*3+(L4396=\"реконструкция\")*2+(L4396=\"капремонт\")*1,0)*10","v":0},null,{"$f":"IF(P4396=\"коммунальная инфраструктура\",(L4396=\"строительство\")*4+(L4396=\"реконструкция\")*3+(L4396=\"капремонт\")*2,0)*10","v":0}]
[null,null,12,{"$f":"IF(AND(D4385<>\"\",G4397<>\"\"),D4385,\"\")","v":""},{"$f":"IF(AND(E4385<>\"\",G4397<>\"\"),E4385,\"\")","v":""},null,null,null,null,null,null,null,null,null,null,null,null,null,{"$f":"IF(Q4397>=2020,R4397-Q4397+1,\"\")","v":""},null,{"$f":"IF(Q4397>=2020,S4397*T4397,\"\")","v":""},null,null,null,null,null,null,null,null,null,null,null,null,{"$f":"SUM(AI4397:AL4397)","v":0},null,null,null,null,{"$f":"SUM(AN4397:AQ4397)","v":0},null,null,null,null,{"$f":"SUM(AS4397:AV4397)","v":0},null,null,null,null,null,null,{"$f":"SUM(AH4397,AM4397,AR4397)","v":0},{"$f":"SUM(AL4397,AQ4397,AV4397)","v":0},{"$f":"IF(AY4397=0,0,AZ4397/AY4397)","v":0},{"$f":"IF((AY4397+AX4397)=0,0,AX4397/(AX4397+AY4397))","v":0},null,null,null,null,null,null,null,null,null,null,null,null,null,null,null,null,null,null,null,null,null,null,null,null,null,null,null,null,null,null,null,null,null,null,null,null,null,null,null,null,null,{"$f":"((L4397=\"создание\")*7+(L4397=\"расширение\")*7 +(L4397=\"внедрение\")*7+(L4397=\"строительство\")*4+(L4397=\"реконструкция\")*3+(L4397=\"капремонт\")*2 +(L4397=\"приобретение\")*1+(L4397=\"установка\")*1)*10","v":0},null,{"$f":"IF(P4397=\"коммунальная инфраструктура\",(L4397=\"строительство\")*3+(L4397=\"реконструкция\")*2+(L4397=\"капремонт\")*1,0)*10","v":0},null,{"$f":"IF(P4397=\"коммунальная инфраструктура\",(L4397=\"строительство\")*4+(L4397=\"реконструкция\")*3+(L4397=\"капремонт\")*2,0)*10","v":0}]
[null,null,13,{"$f":"IF(AND(D4385<>\"\",G4398<>\"\"),D4385,\"\")","v":""},{"$f":"IF(AND(E4385<>\"\",G4398<>\"\"),E4385,\"\")","v":""},null,null,null,null,null,null,null,null,null,null,null,null,null,{"$f":"IF(Q4398>=2020,R4398-Q4398+1,\"\")","v":""},null,{"$f":"IF(Q4398>=2020,S4398*T4398,\"\")","v":""},null,null,null,null,null,null,null,null,null,null,null,null,{"$f":"SUM(AI4398:AL4398)","v":0},null,null,null,null,{"$f":"SUM(AN4398:AQ4398)","v":0},null,null,null,null,{"$f":"SUM(AS4398:AV4398)","v":0},null,null,null,null,null,null,{"$f":"SUM(AH4398,AM4398,AR4398)","v":0},{"$f":"SUM(AL4398,AQ4398,AV4398)","v":0},{"$f":"IF(AY4398=0,0,AZ4398/AY4398)","v":0},{"$f":"IF((AY4398+AX4398)=0,0,AX4398/(AX4398+AY4398))","v":0},null,null,null,null,null,null,null,null,null,null,null,null,null,null,null,null,null,null,null,null,null,null,null,null,null,null,null,null,null,null,null,null,null,null,null,null,null,null,null,null,null,{"$f":"((L4398=\"создание\")*7+(L4398=\"расширение\")*7 +(L4398=\"внедрение\")*7+(L4398=\"строительство\")*4+(L4398=\"реконструкция\")*3+(L4398=\"капремонт\")*2 +(L4398=\"приобретение\")*1+(L4398=\"установка\")*1)*10","v":0},null,{"$f":"IF(P4398=\"коммунальная инфраструктура\",(L4398=\"строительство\")*3+(L4398=\"реконструкция\")*2+(L4398=\"капремонт\")*1,0)*10","v":0},null,{"$f":"IF(P4398=\"коммунальная инфраструктура\",(L4398=\"строительство\")*4+(L4398=\"реконструкция\")*3+(L4398=\"капремонт\")*2,0)*10","v":0}]
[null,null,14,{"$f":"IF(AND(D4385<>\"\",G4399<>\"\"),D4385,\"\")","v":""},{"$f":"IF(AND(E4385<>\"\",G4399<>\"\"),E4385,\"\")","v":""},null,null,null,null,null,null,null,null,null,null,null,null,null,{"$f":"IF(Q4399>=2020,R4399-Q4399+1,\"\")","v":""},null,{"$f":"IF(Q4399>=2020,S4399*T4399,\"\")","v":""},null,null,null,null,null,null,null,null,null,null,null,null,{"$f":"SUM(AI4399:AL4399)","v":0},null,null,null,null,{"$f":"SUM(AN4399:AQ4399)","v":0},null,null,null,null,{"$f":"SUM(AS4399:AV4399)","v":0},null,null,null,null,null,null,{"$f":"SUM(AH4399,AM4399,AR4399)","v":0},{"$f":"SUM(AL4399,AQ4399,AV4399)","v":0},{"$f":"IF(AY4399=0,0,AZ4399/AY4399)","v":0},{"$f":"IF((AY4399+AX4399)=0,0,AX4399/(AX4399+AY4399))","v":0},null,null,null,null,null,null,null,null,null,null,null,null,null,null,null,null,null,null,null,null,null,null,null,null,null,null,null,null,null,null,null,null,null,null,null,null,null,null,null,null,null,{"$f":"((L4399=\"создание\")*7+(L4399=\"расширение\")*7 +(L4399=\"внедрение\")*7+(L4399=\"строительство\")*4+(L4399=\"реконструкция\")*3+(L4399=\"капремонт\")*2 +(L4399=\"приобретение\")*1+(L4399=\"установка\")*1)*10","v":0},null,{"$f":"IF(P4399=\"коммунальная инфраструктура\",(L4399=\"строительство\")*3+(L4399=\"реконструкция\")*2+(L4399=\"капремонт\")*1,0)*10","v":0},null,{"$f":"IF(P4399=\"коммунальная инфраструктура\",(L4399=\"строительство\")*4+(L4399=\"реконструкция\")*3+(L4399=\"капремонт\")*2,0)*10","v":0}]
[null,null,15,{"$f":"IF(AND(D4385<>\"\",G4400<>\"\"),D4385,\"\")","v":""},{"$f":"IF(AND(E4385<>\"\",G4400<>\"\"),E4385,\"\")","v":""},null,null,null,null,null,null,null,null,null,null,null,null,null,{"$f":"IF(Q4400>=2020,R4400-Q4400+1,\"\")","v":""},null,{"$f":"IF(Q4400>=2020,S4400*T4400,\"\")","v":""},null,null,null,null,null,null,null,null,null,null,null,null,{"$f":"SUM(AI4400:AL4400)","v":0},null,null,null,null,{"$f":"SUM(AN4400:AQ4400)","v":0},null,null,null,null,{"$f":"SUM(AS4400:AV4400)","v":0},null,null,null,null,null,null,{"$f":"SUM(AH4400,AM4400,AR4400)","v":0},{"$f":"SUM(AL4400,AQ4400,AV4400)","v":0},{"$f":"IF(AY4400=0,0,AZ4400/AY4400)","v":0},{"$f":"IF((AY4400+AX4400)=0,0,AX4400/(AX4400+AY4400))","v":0},null,null,null,null,null,null,null,null,null,null,null,null,null,null,null,null,null,null,null,null,null,null,null,null,null,null,null,null,null,null,null,null,null,null,null,null,null,null,null,null,null,{"$f":"((L4400=\"создание\")*7+(L4400=\"расширение\")*7 +(L4400=\"внедрение\")*7+(L4400=\"строительство\")*4+(L4400=\"реконструкция\")*3+(L4400=\"капремонт\")*2 +(L4400=\"приобретение\")*1+(L4400=\"установка\")*1)*10","v":0},null,{"$f":"IF(P4400=\"коммунальная инфраструктура\",(L4400=\"строительство\")*3+(L4400=\"реконструкция\")*2+(L4400=\"капремонт\")*1,0)*10","v":0},null,{"$f":"IF(P4400=\"коммунальная инфраструктура\",(L4400=\"строительство\")*4+(L4400=\"реконструкция\")*3+(L4400=\"капремонт\")*2,0)*10","v":0}]
[null,null,16,{"$f":"IF(AND(D4385<>\"\",G4401<>\"\"),D4385,\"\")","v":""},{"$f":"IF(AND(E4385<>\"\",G4401<>\"\"),E4385,\"\")","v":""},null,null,null,null,null,null,null,null,null,null,null,null,null,{"$f":"IF(Q4401>=2020,R4401-Q4401+1,\"\")","v":""},null,{"$f":"IF(Q4401>=2020,S4401*T4401,\"\")","v":""},null,null,null,null,null,null,null,null,null,null,null,null,{"$f":"SUM(AI4401:AL4401)","v":0},null,null,null,null,{"$f":"SUM(AN4401:AQ4401)","v":0},null,null,null,null,{"$f":"SUM(AS4401:AV4401)","v":0},null,null,null,null,null,null,{"$f":"SUM(AH4401,AM4401,AR4401)","v":0},{"$f":"SUM(AL4401,AQ4401,AV4401)","v":0},{"$f":"IF(AY4401=0,0,AZ4401/AY4401)","v":0},{"$f":"IF((AY4401+AX4401)=0,0,AX4401/(AX4401+AY4401))","v":0},null,null,null,null,null,null,null,null,null,null,null,null,null,null,null,null,null,null,null,null,null,null,null,null,null,null,null,null,null,null,null,null,null,null,null,null,null,null,null,null,null,{"$f":"((L4401=\"создание\")*7+(L4401=\"расширение\")*7 +(L4401=\"внедрение\")*7+(L4401=\"строительство\")*4+(L4401=\"реконструкция\")*3+(L4401=\"капремонт\")*2 +(L4401=\"приобретение\")*1+(L4401=\"установка\")*1)*10","v":0},null,{"$f":"IF(P4401=\"коммунальная инфраструктура\",(L4401=\"строительство\")*3+(L4401=\"реконструкция\")*2+(L4401=\"капремонт\")*1,0)*10","v":0},null,{"$f":"IF(P4401=\"коммунальная инфраструктура\",(L4401=\"строительство\")*4+(L4401=\"реконструкция\")*3+(L4401=\"капремонт\")*2,0)*10","v":0}]
[null,null,17,{"$f":"IF(AND(D4385<>\"\",G4402<>\"\"),D4385,\"\")","v":""},{"$f":"IF(AND(E4385<>\"\",G4402<>\"\"),E4385,\"\")","v":""},null,null,null,null,null,null,null,null,null,null,null,null,null,{"$f":"IF(Q4402>=2020,R4402-Q4402+1,\"\")","v":""},null,{"$f":"IF(Q4402>=2020,S4402*T4402,\"\")","v":""},null,null,null,null,null,null,null,null,null,null,null,null,{"$f":"SUM(AI4402:AL4402)","v":0},null,null,null,null,{"$f":"SUM(AN4402:AQ4402)","v":0},null,null,null,null,{"$f":"SUM(AS4402:AV4402)","v":0},null,null,null,null,null,null,{"$f":"SUM(AH4402,AM4402,AR4402)","v":0},{"$f":"SUM(AL4402,AQ4402,AV4402)","v":0},{"$f":"IF(AY4402=0,0,AZ4402/AY4402)","v":0},{"$f":"IF((AY4402+AX4402)=0,0,AX4402/(AX4402+AY4402))","v":0},null,null,null,null,null,null,null,null,null,null,null,null,null,null,null,null,null,null,null,null,null,null,null,null,null,null,null,null,null,null,null,null,null,null,null,null,null,null,null,null,null,{"$f":"((L4402=\"создание\")*7+(L4402=\"расширение\")*7 +(L4402=\"внедрение\")*7+(L4402=\"строительство\")*4+(L4402=\"реконструкция\")*3+(L4402=\"капремонт\")*2 +(L4402=\"приобретение\")*1+(L4402=\"установка\")*1)*10","v":0},null,{"$f":"IF(P4402=\"коммунальная инфраструктура\",(L4402=\"строительство\")*3+(L4402=\"реконструкция\")*2+(L4402=\"капремонт\")*1,0)*10","v":0},null,{"$f":"IF(P4402=\"коммунальная инфраструктура\",(L4402=\"строительство\")*4+(L4402=\"реконструкция\")*3+(L4402=\"капремонт\")*2,0)*10","v":0}]
[null,null,18,{"$f":"IF(AND(D4385<>\"\",G4403<>\"\"),D4385,\"\")","v":""},{"$f":"IF(AND(E4385<>\"\",G4403<>\"\"),E4385,\"\")","v":""},null,null,null,null,null,null,null,null,null,null,null,null,null,{"$f":"IF(Q4403>=2020,R4403-Q4403+1,\"\")","v":""},null,{"$f":"IF(Q4403>=2020,S4403*T4403,\"\")","v":""},null,null,null,null,null,null,null,null,null,null,null,null,{"$f":"SUM(AI4403:AL4403)","v":0},null,null,null,null,{"$f":"SUM(AN4403:AQ4403)","v":0},null,null,null,null,{"$f":"SUM(AS4403:AV4403)","v":0},null,null,null,null,null,null,{"$f":"SUM(AH4403,AM4403,AR4403)","v":0},{"$f":"SUM(AL4403,AQ4403,AV4403)","v":0},{"$f":"IF(AY4403=0,0,AZ4403/AY4403)","v":0},{"$f":"IF((AY4403+AX4403)=0,0,AX4403/(AX4403+AY4403))","v":0},null,null,null,null,null,null,null,null,null,null,null,null,null,null,null,null,null,null,null,null,null,null,null,null,null,null,null,null,null,null,null,null,null,null,null,null,null,null,null,null,null,{"$f":"((L4403=\"создание\")*7+(L4403=\"расширение\")*7 +(L4403=\"внедрение\")*7+(L4403=\"строительство\")*4+(L4403=\"реконструкция\")*3+(L4403=\"капремонт\")*2 +(L4403=\"приобретение\")*1+(L4403=\"установка\")*1)*10","v":0},null,{"$f":"IF(P4403=\"коммунальная инфраструктура\",(L4403=\"строительство\")*3+(L4403=\"реконструкция\")*2+(L4403=\"капремонт\")*1,0)*10","v":0},null,{"$f":"IF(P4403=\"коммунальная инфраструктура\",(L4403=\"строительство\")*4+(L4403=\"реконструкция\")*3+(L4403=\"капремонт\")*2,0)*10","v":0}]
[null,null,19,{"$f":"IF(AND(D4385<>\"\",G4404<>\"\"),D4385,\"\")","v":""},{"$f":"IF(AND(E4385<>\"\",G4404<>\"\"),E4385,\"\")","v":""},null,null,null,null,null,null,null,null,null,null,null,null,null,{"$f":"IF(Q4404>=2020,R4404-Q4404+1,\"\")","v":""},null,{"$f":"IF(Q4404>=2020,S4404*T4404,\"\")","v":""},null,null,null,null,null,null,null,null,null,null,null,null,{"$f":"SUM(AI4404:AL4404)","v":0},null,null,null,null,{"$f":"SUM(AN4404:AQ4404)","v":0},null,null,null,null,{"$f":"SUM(AS4404:AV4404)","v":0},null,null,null,null,null,null,{"$f":"SUM(AH4404,AM4404,AR4404)","v":0},{"$f":"SUM(AL4404,AQ4404,AV4404)","v":0},{"$f":"IF(AY4404=0,0,AZ4404/AY4404)","v":0},{"$f":"IF((AY4404+AX4404)=0,0,AX4404/(AX4404+AY4404))","v":0},null,null,null,null,null,null,null,null,null,null,null,null,null,null,null,null,null,null,null,null,null,null,null,null,null,null,null,null,null,null,null,null,null,null,null,null,null,null,null,null,null,{"$f":"((L4404=\"создание\")*7+(L4404=\"расширение\")*7 +(L4404=\"внедрение\")*7+(L4404=\"строительство\")*4+(L4404=\"реконструкция\")*3+(L4404=\"капремонт\")*2 +(L4404=\"приобретение\")*1+(L4404=\"установка\")*1)*10","v":0},null,{"$f":"IF(P4404=\"коммунальная инфраструктура\",(L4404=\"строительство\")*3+(L4404=\"реконструкция\")*2+(L4404=\"капремонт\")*1,0)*10","v":0},null,{"$f":"IF(P4404=\"коммунальная инфраструктура\",(L4404=\"строительство\")*4+(L4404=\"реконструкция\")*3+(L4404=\"капремонт\")*2,0)*10","v":0}]
[null,null,20,{"$f":"IF(AND(D4385<>\"\",G4405<>\"\"),D4385,\"\")","v":""},{"$f":"IF(AND(E4385<>\"\",G4405<>\"\"),E4385,\"\")","v":""},null,null,null,null,null,null,null,null,null,null,null,null,null,{"$f":"IF(Q4405>=2020,R4405-Q4405+1,\"\")","v":""},null,{"$f":"IF(Q4405>=2020,S4405*T4405,\"\")","v":""},null,null,null,null,null,null,null,null,null,null,null,null,{"$f":"SUM(AI4405:AL4405)","v":0},null,null,null,null,{"$f":"SUM(AN4405:AQ4405)","v":0},null,null,null,null,{"$f":"SUM(AS4405:AV4405)","v":0},null,null,null,null,null,null,{"$f":"SUM(AH4405,AM4405,AR4405)","v":0},{"$f":"SUM(AL4405,AQ4405,AV4405)","v":0},{"$f":"IF(AY4405=0,0,AZ4405/AY4405)","v":0},{"$f":"IF((AY4405+AX4405)=0,0,AX4405/(AX4405+AY4405))","v":0},null,null,null,null,null,null,null,null,null,null,null,null,null,null,null,null,null,null,null,null,null,null,null,null,null,null,null,null,null,null,null,null,null,null,null,null,null,null,null,null,null,{"$f":"((L4405=\"создание\")*7+(L4405=\"расширение\")*7 +(L4405=\"внедрение\")*7+(L4405=\"строительство\")*4+(L4405=\"реконструкция\")*3+(L4405=\"капремонт\")*2 +(L4405=\"приобретение\")*1+(L4405=\"установка\")*1)*10","v":0},null,{"$f":"IF(P4405=\"коммунальная инфраструктура\",(L4405=\"строительство\")*3+(L4405=\"реконструкция\")*2+(L4405=\"капремонт\")*1,0)*10","v":0},null,{"$f":"IF(P4405=\"коммунальная инфраструктура\",(L4405=\"строительство\")*4+(L4405=\"реконструкция\")*3+(L4405=\"капремонт\")*2,0)*10","v":0}]
[null,null,"…",{"$f":"IF(AND(D4385<>\"\",G4406<>\"\"),D4385,\"\")","v":""},{"$f":"IF(AND(E4385<>\"\",G4406<>\"\"),E4385,\"\")","v":""},null,null,null,null,null,null,null,null,null,null,null,null,null,{"$f":"IF(Q4406>=2020,R4406-Q4406+1,\"\")","v":""},null,{"$f":"IF(Q4406>=2020,S4406*T4406,\"\")","v":""},null,null,null,null,null,null,null,null,null,null,null,null,{"$f":"SUM(AI4406:AL4406)","v":0},null,null,null,null,{"$f":"SUM(AN4406:AQ4406)","v":0},null,null,null,null,{"$f":"SUM(AS4406:AV4406)","v":0},null,null,null,null,null,null,{"$f":"SUM(AH4406,AM4406,AR4406)","v":0},{"$f":"SUM(AL4406,AQ4406,AV4406)","v":0},{"$f":"IF(AY4406=0,0,AZ4406/AY4406)","v":0},{"$f":"IF((AY4406+AX4406)=0,0,AX4406/(AX4406+AY4406))","v":0},null,null,null,null,null,null,null,null,null,null,null,null,null,null,null,null,null,null,null,null,null,null,null,null,null,null,null,null,null,null,null,null,null,null,null,null,null,null,null,null,null,{"$f":"((L4406=\"создание\")*7+(L4406=\"расширение\")*7 +(L4406=\"внедрение\")*7+(L4406=\"строительство\")*4+(L4406=\"реконструкция\")*3+(L4406=\"капремонт\")*2 +(L4406=\"приобретение\")*1+(L4406=\"установка\")*1)*10","v":0},null,{"$f":"IF(P4406=\"коммунальная инфраструктура\",(L4406=\"строительство\")*3+(L4406=\"реконструкция\")*2+(L4406=\"капремонт\")*1,0)*10","v":0},null,{"$f":"IF(P4406=\"коммунальная инфраструктура\",(L4406=\"строительство\")*4+(L4406=\"реконструкция\")*3+(L4406=\"капремонт\")*2,0)*10","v":0}]

{"sheet":"Ошибки","index":2,"n_rows":1,"n_cols":6,"rows_kept":1,"cut":false,"hidden":false,"merged":[]}
["Тип","Номер П","Номер М","Столбец","Ячейка","Ошибки ввода данных"]

{"sheet":"Ошибки подгрузки","index":3,"n_rows":1,"n_cols":7,"rows_kept":1,"cut":false,"hidden":false,"merged":[]}
["Тип","Номер П","Номер М","Столбец","Ячейка","Ошибка подгрузки данных из старого файла","Значение"]

{"sheet":"Списки","index":4,"n_rows":86,"n_cols":10,"rows_kept":86,"cut":false,"hidden":true,"merged":[]}
["Список8","Список10","Список11","Список12","Список14","Список16","Список19","Регионы","ФО","ДАНЕТ"]
["создание","образование",2020,2020,0.5,"требуется","не требуется","Алтайский край","СФО","ДА"]
["расширение","здравоохранение",2021,2021,1,"не требуется","требуется актуализация","Амурская область","ДФО","НЕТ"]
["строительство","культура",2022,2022,null,null,null,"Архангельская область","СЗФО"]
["реконструкция","физкультура и спорт",2023,2023,null,null,null,"Астраханская область","ЮФО"]
["капремонт","соц.политика",2024,2024,null,null,null,"Белгородская область","ЦФО"]
["приобретение","коммунальная инфраструктура",2025,2025,null,null,null,"Брянская область","ЦФО"]
["установка","транспортная инфраструктура",null,null,null,null,null,"Владимирская область","ЦФО"]
[null,"производство",null,null,null,null,null,"Волгоградская область","ЮФО"]
[null,null,null,null,null,null,null,"Вологодская область","СЗФО"]
[null,null,null,null,null,null,null,"Воронежская область","ЦФО"]
[null,null,null,null,null,null,null,"г. Москва","ЦФО"]
[null,null,null,null,null,null,null,"г. Санкт-Петербург","СЗФО"]
[null,null,null,null,null,null,null,"г. Севастополь","ЮФО"]
[null,null,null,null,null,null,null,"Еврейская автономная область","ДФО"]
[null,null,null,null,null,null,null,"Забайкальский край","СФО"]
[null,null,null,null,null,null,null,"Ивановская область","ЦФО"]
[null,null,null,null,null,null,null,"Иркутская область","СФО"]
[null,null,null,null,null,null,null,"Кабардино-Балкарская Республика","СКФО"]
[null,null,null,null,null,null,null,"Калининградская область","СЗФО"]
[null,null,null,null,null,null,null,"Калужская область","ЦФО"]
[null,null,null,null,null,null,null,"Камчатский край","ДФО"]
[null,null,null,null,null,null,null,"Карачаево-Черкесская Республика","СКФО"]
[null,null,null,null,null,null,null,"Кемеровская область","СФО"]
[null,null,null,null,null,null,null,"Кировская область","ПФО"]
[null,null,null,null,null,null,null,"Костромская область","ЦФО"]
[null,null,null,null,null,null,null,"Краснодарский край","ЮФО"]
[null,null,null,null,null,null,null,"Красноярский край","СФО"]
[null,null,null,null,null,null,null,"Курганская область","УФО"]
[null,null,null,null,null,null,null,"Курская область","ЦФО"]
[null,null,null,null,null,null,null,"Ленинградская область","СЗФО"]
[null,null,null,null,null,null,null,"Липецкая область","ЦФО"]
[null,null,null,null,null,null,null,"Магаданская область","ДФО"]
[null,null,null,null,null,null,null,"Московская область","ЦФО"]
[null,null,null,null,null,null,null,"Мурманская область","СЗФО"]
[null,null,null,null,null,null,null,"Ненецкий автономный округ","СЗФО"]
[null,null,null,null,null,null,null,"Нижегородская область","ПФО"]
[null,null,null,null,null,null,null,"Новгородская область","СЗФО"]
[null,null,null,null,null,null,null,"Новосибирская область","СФО"]
[null,null,null,null,null,null,null,"Омская область","СФО"]
[null,null,null,null,null,null,null,"Оренбургская область","ПФО"]
[null,null,null,null,null,null,null,"Орловская область","ЦФО"]
[null,null,null,null,null,null,null,"Пензенская область","ПФО"]
[null,null,null,null,null,null,null,"Пермский край","ПФО"]
[null,null,null,null,null,null,null,"Приморский край","ДФО"]
[null,null,null,null,null,null,null,"Псковская область","СЗФО"]
[null,null,null,null,null,null,null,"Республика Адыгея","ЮФО"]
[null,null,null,null,null,null,null,"Республика Алтай","СФО"]
[null,null,null,null,null,null,null,"Республика Башкортостан","ПФО"]
[null,null,null,null,null,null,null,"Республика Бурятия","СФО"]
[null,null,null,null,null,null,null,"Республика Дагестан","СКФО"]
[null,null,null,null,null,null,null,"Республика Ингушетия","СКФО"]
[null,null,null,null,null,null,null,"Республика Калмыкия","ЮФО"]
[null,null,null,null,null,null,null,"Республика Карелия","СЗФО"]
[null,null,null,null,null,null,null,"Республика Коми","СЗФО"]
[null,null,null,null,null,null,null,"Республика Крым","ЮФО"]
[null,null,null,null,null,null,null,"Республика Марий Эл","ПФО"]
[null,null,null,null,null,null,null,"Республика Мордовия","ПФО"]
[null,null,null,null,null,null,null,"Республика Саха (Якутия)","ДФО"]
[null,null,null,null,null,null,null,"Республика Северная Осетия — Алания","СКФО"]
[null,null,null,null,null,null,null,"Республика Татарстан","ПФО"]
[null,null,null,null,null,null,null,"Республика Тыва","СФО"]
[null,null,null,null,null,null,null,"Республика Хакасия","СФО"]
[null,null,null,null,null,null,null,"Ростовская область","ЮФО"]
[null,null,null,null,null,null,null,"Рязанская область","ЦФО"]
[null,null,null,null,null,null,null,"Самарская область","ПФО"]
[null,null,null,null,null,null,null,"Саратовская область","ПФО"]
[null,null,null,null,null,null,null,"Сахалинская область","ДФО"]
[null,null,null,null,null,null,null,"Свердловская область","УФО"]
[null,null,null,null,null,null,null,"Смоленская область","ЦФО"]
[null,null,null,null,null,null,null,"Ставропольский край","СКФО"]
[null,null,null,null,null,null,null,"Тамбовская область","ЦФО"]
[null,null,null,null,null,null,null,"Тверская область","ЦФО"]
[null,null,null,null,null,null,null,"Томская область","СФО"]
[null,null,null,null,null,null,null,"Тульская область","ЦФО"]
[null,null,null,null,null,null,null,"Тюменская область","УФО"]
[null,null,null,null,null,null,null,"Удмуртская Республика","ПФО"]
[null,null,null,null,null,null,null,"Ульяновская область","ПФО"]
[null,null,null,null,null,null,null,"Хабаровский край","ДФО"]
[null,null,null,null,null,null,null,"Ханты-Мансийский автономный округ - Югра","УФО"]
[null,null,null,null,null,null,null,"Челябинская область","УФО"]
[null,null,null,null,null,null,null,"Чеченская Республика","СКФО"]
[null,null,null,null,null,null,null,"Чувашская Республика","ПФО"]
[null,null,null,null,null,null,null,"Чукотский автономный округ","ДФО"]
[null,null,null,null,null,null,null,"Ямало-Ненецкий автономный округ","УФО"]
[null,null,null,null,null,null,null,"Ярославская область","ЦФО"]